Workbook

Sheet 총괄
A1: 연도별 대기오염도 변화 추이(1989 ~ 현재)
A3: 구분 | B3: SO₂ | C3: NO₂ | D3: O₃ | E3: CO | F3: PM10 | G3: PM2.5
B4: (아황산가스) | C4: (이산화질소) | D4: (오존) | E4: (일산화탄소) | F4: (미세먼지) | G4: (미세먼지)
A5: 환경기준 | B5: 0.02ppm이하 | C5: 0.03ppm이하 | D5: 0.06ppm이하 | E5: 9ppm이하 | F5: 50㎍/㎥이하 | G5: 15㎍/㎥이하
A6: 1989 | B6: 0.051 | C6: 0.031 | D6: 0.011 | E6: 3.4
A7: 1990 | B7: 0.041 | C7: 0.025 | D7: 0.01 | E7: 2.6
A8: 1991 | B8: 0.03 | C8: 0.039 | D8: 0.012 | E8: 2.7
A9: 1992 | B9: 0.033 | C9: 0.04 | D9: 0.012 | E9: 2.5
A10: 1993 | B10: 0.034 | C10: 0.031 | D10: 0.012 | E10: 1.9
A11: 1994 | B11: 0.025 | C11: 0.038 | D11: 0.011 | E11: 1.8
A12: 1995 | B12: 0.018 | C12: 0.035 | D12: 0.011 | E12: 1.7
A13: 1996 | B13: 0.012 | C13: 0.033 | D13: 0.012 | E13: 1.6 | F13: 90
A14: 1997 | B14: 0.014 | C14: 0.029 | D14: 0.014 | E14: 1.2 | F14: 79
A15: 1998 | B15: 0.008 | C15: 0.028 | D15: 0.017 | E15: 1.5 | F15: 64
A16: 1999 | B16: 0.012 | C16: 0.037 | D16: 0.017 | E16: 1.5 | F16: 59
A17: 2000 | B17: 0.007 | C17: 0.033 | D17: 0.016 | E17: 1.4 | F17: 64
A18: 2001 | B18: 0.006 | C18: 0.032 | D18: 0.017 | E18: 1.1 | F18: 84
A19: 2002 | B19: 0.005 | C19: 0.03 | D19: 0.017 | E19: 0.9 | F19: 78
A20: 2003 | B20: 0.005 | C20: 0.036 | D20: 0.017 | E20: 1 | F20: 62
A21: 2004 | B21: 0.005 | C21: 0.036 | D21: 0.018 | E21: 0.8 | F21: 72
A22: 2005 | B22: 0.005 | C22: 0.033 | D22: 0.017 | E22: 0.7 | F22: 67
A23: 2006 | B23: 0.006 | C23: 0.037 | D23: 0.02 | E23: 0.7 | F23: 64
A24: 2007 | B24: 0.007 | C24: 0.035 | D24: 0.018 | E24: 0.7 | F24: 64
... A27: 2010 | B27: 0.005 | C27: 0.033 | D27: 0.018 | E27: 0.5 | F27: 54
A28: 2011 | B28: 0.004 | C28: 0.035 | D28: 0.02 | E28: 0.6 | F28: 50 | G28: 25
A29: 2012 | B29: 0.005 | C29: 0.033 | D29: 0.021 | E29: 0.6 | F29: 44 | G29: 25
A30: 2013 | B30: 0.005 | C30: 0.036 | D30: 0.021 | E30: 0.6 | F30: 48 | G30: 27
A31: 2014 | B31: 0.005 | C31: 0.037 | D31: 0.022 | E31: 0.6 | F31: 51 | G31: 25
A32: 2015 | B32: 0.005 | C32: 0.036 | D32: 0.021 | E32: 0.6 | F32: 51 | G32: 21
A33: 2016 | B33: 0.004 | C33: 0.034 | D33: 0.022 | E33: 0.6 | F33: 46 | G33: 24
A34: 2017 | B34: 0.004 | C34: 0.033 | D34: 0.022 | E34: 0.6 | F34: 46 | G34: 27
A35: 2018 | B35: 0.004 | C35: 0.031 | D35: 0.023 | E35: 0.517 | F35: 42 | G35: 24
A36: 2018 | B36: 0.003 | C36: 0.03 | D36: 0.024 | E36: 0.575 | F36: 43 | G36: 23
A37: 2020 | B37: ='2020총괄'!B18 -> 0.0024166667 | C37: ='2020총괄'!C18 -> 0.024916667 | D37: ='2020총괄'!D18 -> 0.025166667 | E37: ='2020총괄'!E18 -> 0.54166667 | F37: ='2020총괄'!F18 -> 36.666667 | G37: ='2020총괄'!G18 -> 19.75
A38: 1월 | B38: ='2020총괄'!B6 -> 0.003 | C38: ='2020총괄'!C6 -> 0.035 | D38: ='2020총괄'!D6 -> 0.013 | E38: ='2020총괄'!E6 -> 0.8 | F38: ='2020총괄'!F6 -> 44 | G38: ='2020총괄'!G6 -> 28
A39: 2월 | B39: ='2020총괄'!B7 -> 0.003 | C39: ='2020총괄'!C7 -> 0.032 | D39: ='2020총괄'!D7 -> 0.017 | E39: ='2020총괄'!E7 -> 0.6 | F39: ='2020총괄'!F7 -> 43 | G39: ='2020총괄'!G7 -> 28
A40: 3월 | B40: ='2020총괄'!B8 -> 0.002 | C40: ='2020총괄'!C8 -> 0.029 | D40: ='2020총괄'!D8 -> 0.027 | E40: ='2020총괄'!E8 -> 0.5 | F40: ='2020총괄'!F8 -> 47 | G40: ='2020총괄'!G8 -> 25
A41: 4월 | B41: ='2020총괄'!B9 -> 0.002 | C41: ='2020총괄'!C9 -> 0.022 | D41: ='2020총괄'!D9 -> 0.038 | E41: ='2020총괄'!E9 -> 0.5 | F41: ='2020총괄'!F9 -> 46 | G41: ='2020총괄'!G9 -> 20
A42: 5월 | B42: ='2020총괄'!B10 -> 0.002 | C42: ='2020총괄'!C10 -> 0.021 | D42: ='2020총괄'!D10 -> 0.035 | E42: ='2020총괄'!E10 -> 0.5 | F42: ='2020총괄'!F10 -> 36 | G42: ='2020총괄'!G10 -> 17
A43: 6월 | B43: ='2020총괄'!B11 -> 0.002 | C43: ='2020총괄'!C11 -> 0.021 | D43: ='2020총괄'!D11 -> 0.047 | E43: ='2020총괄'!E11 -> 0.5 | F43: ='2020총괄'!F11 -> 42 | G43: ='2020총괄'!G11 -> 20
A44: 7월 | B44: ='2020총괄'!B12 -> 0.002 | C44: ='2020총괄'!C12 -> 0.016 | D44: ='2020총괄'!D12 -> 0.03 | E44: ='2020총괄'!E12 -> 0.5 | F44: ='2020총괄'!F12 -> 23 | G44: ='2020총괄'!G12 -> 12
A45: 8월 | B45: ='2020총괄'!B13 -> 0.002 | C45: ='2020총괄'!C13 -> 0.013 | D45: ='2020총괄'!D13 -> 0.02 | E45: ='2020총괄'!E13 -> 0.4 | F45: ='2020총괄'!F13 -> 25 | G45: ='2020총괄'!G13 -> 13
A46: 9월 | B46: ='2020총괄'!B14 -> 0.002 | C46: ='2020총괄'!C14 -> 0.016 | D46: ='2020총괄'!D14 -> 0.027 | E46: ='2020총괄'!E14 -> 0.5 | F46: ='2020총괄'!F14 -> 21 | G46: ='2020총괄'!G14 -> 10
A47: 10월 | B47: ='2020총괄'!B15 -> 0.003 | C47: ='2020총괄'!C15 -> 0.028 | D47: ='2020총괄'!D15 -> 0.02 | E47: ='2020총괄'!E15 -> 0.5 | F47: ='2020총괄'!F15 -> 35 | G47: ='2020총괄'!G15 -> 16
A48: 11월 | B48: ='2020총괄'!B16 -> 0.003 | C48: ='2020총괄'!C16 -> 0.033 | D48: ='2020총괄'!D16 -> 0.014 | E48: ='2020총괄'!E16 -> 0.6 | F48: ='2020총괄'!F16 -> 41 | G48: ='2020총괄'!G16 -> 22
A49: 12월 | B49: ='2020총괄'!B17 -> 0.003 | C49: ='2020총괄'!C17 -> 0.033 | D49: ='2020총괄'!D17 -> 0.014 | E49: ='2020총괄'!E17 -> 0.6 | F49: ='2020총괄'!F17 -> 37 | G49: ='2020총괄'!G17 -> 26
A50: 2021 | B50: ='2021총괄'!B18 -> 0.0023333333 | C50: ='2021총괄'!C18 -> 0.022916667 | D50: ='2021총괄'!D18 -> 0.027666667 | E50: ='2021총괄'!E18 -> 0.51666667 | F50: ='2021총괄'!F18 -> 38.916667 | G50: ='2021총괄'!G18 -> 18.333333
A51: 1월 | B51: ='2021총괄'!B6 -> 0.003 | C51: ='2021총괄'!C6 -> 0.029 | D51: ='2021총괄'!D6 -> 0.015 | E51: ='2021총괄'!E6 -> 0.6 | F51: ='2021총괄'!F6 -> 39 | G51: ='2021총괄'!G6 -> 20
A52: 2월 | B52: ='2021총괄'!B7 -> 0.003 | C52: ='2021총괄'!C7 -> 0.03 | D52: ='2021총괄'!D7 -> 0.023 | E52: ='2021총괄'!E7 -> 0.6 | F52: ='2021총괄'!F7 -> 49 | G52: ='2021총괄'!G7 -> 29
A53: 3월 | B53: 0.003 | C53: 0.031 | D53: 0.026 | E53: 0.6 | F53: 67 | G53: 30
A54: 4월 | B54: 0.002 | C54: 0.022 | D54: 0.038 | E54: 0.5 | F54: 43 | G54: 16
A55: 5월 | B55: 0.002 | C55: 0.019 | D55: 0.036 | E55: 0.4 | F55: 64 | G55: 17
A56: 6월 | B56: 0.002 | C56: 0.017 | D56: 0.042 | E56: 0.5 | F56: 34 | G56: 18
A57: 7월 | B57: 0.002 | C57: 0.014 | D57: 0.036 | E57: 0.4 | F57: 24 | G57: 13
A58: 8월 | B58: 0.002 | C58: 0.014 | D58: 0.033 | E58: 0.5 | F58: 22 | G58: 11
A59: 9월 | B59: 0.002 | C59: 0.013 | D59: 0.031 | E59: 0.4 | F59: 15 | G59: 6
A60: 10월 | B60: 0.002 | C60: 0.023 | D60: 0.022 | E60: 0.5 | F60: 28 | G60: 12
A61: 11월 | B61: 0.002 | C61: 0.032 | D61: 0.018 | E61: 0.6 | F61: 44 | G61: 25
A62: 12월 | B62: 0.003 | C62: 0.031 | D62: 0.014 | E62: 0.6 | F62: 38 | G62: 23
A63: 2022 | B63: ='2022총괄'!B18 -> 0.0019166667 | C63: ='2022총괄'!C18 -> 0.021166667 | D63: ='2022총괄'!D18 -> 0.028833333 | E63: ='2022총괄'!E18 -> 0.474 | F63: ='2022총괄'!F18 -> 32.833333 | G63: ='2022총괄'!G18 -> 17.583333
A64: 1월 | B64: 0.003 | C64: 0.034 | D64: 0.014 | E64: 0.6 | F64: 43 | G64: 29
A65: 2월 | B65: 0.002 | C65: 0.027 | D65: 0.026 | E65: 0.5 | F65: 41 | G65: 26
A66: 3월 | B66: 0.002 | C66: 0.026 | D66: 0.028 | E66: 0.5 | F66: 45 | G66: 23
A67: 4월 | B67: 0.002 | C67: 0.019 | D67: 0.042 | E67: 0.4 | F67: 44 | G67: 20
A68: 5월 | B68: 0.002 | C68: 0.016 | D68: 0.046 | E68: 0.4 | F68: 33 | G68: 15
A69: 6월 | B69: 0.001 | C69: 0.013 | D69: 0.038 | E69: 0.388 | F69: 22 | G69: 11
A70: 7월 | B70: 0.002 | C70: 0.013 | D70: 0.037 | E70: 0.5 | F70: 24 | G70: 13
A71: 8월 | B71: 0.002 | C71: 0.012 | D71: 0.031 | E71: 0.5 | F71: 20 | G71: 9
A72: 9월 | B72: 0.001 | C72: 0.015 | D72: 0.031 | E72: 0.4 | F72: 21 | G72: 10
A73: 10월 | B73: 0.002 | C73: 0.021 | D73: 0.022 | E73: 0.5 | F73: 26 | G73: 14
A74: 11월 | B74: 0.002 | C74: 0.029 | D74: 0.017 | E74: 0.5 | F74: 39 | G74: 22
A75: 12월 | B75: 0.002 | C75: 0.029 | D75: 0.014 | E75: 0.5 | F75: 36 | G75: 19
A76: 2023 | B76: ='[1]2023총괄'!B18 -> 0.0017925926 | C76: ='[1]2023총괄'!C18 -> 0.018722222 | D76: ='[1]2023총괄'!D18 -> 0.033585185 | E76: ='[1]2023총괄'!E18 -> 0.48425926 | F76: ='[1]2023총괄'!F18 -> 40 | G76: ='[1]2023총괄'!G18 -> 18.814815
A77: 1월 | B77: 0.002 | C77: 0.03 | D77: 0.017 | E77: 0.6 | F77: 47 | G77: 26
A78: 2월 | B78: 0.002 | C78: 0.033 | D78: 0.022 | E78: 0.6 | F78: 47 | G78: 31
A79: 3월 | B79: 0.002 | C79: 0.028 | D79: 0.035 | E79: 0.5 | F79: 70 | G79: 29
A80: 4월 | B80: 0.002 | C80: 0.016 | D80: 0.04 | E80: 0.4 | F80: 63 | G80: 19
A81: 5월 | B81: 0.0017 | C81: 0.015216667 | D81: 0.041533333 | E81: 0.42333333 | F81: 37.333333 | G81: 15.5
A82: 6월 | B82: 0.0015666667 | C82: 0.013016667 | D82: 0.047983333 | E82: 0.44333333 | F82: 27.833333 | G82: 14.166667
A83: 7월 | B83: 0.0015666667 | C83: 0.0099333333 | D83: 0.035783333 | E83: 0.465 | F83: 25.333333 | G83: 13.333333
A84: 8월 | B84: 0.0016333333 | C84: 0.010683333 | D84: 0.033633333 | E84: 0.46833333 | F84: 21.666667 | G84: 11.5
A85: 9월 | B85: 0.0016666667 | C85: 0.01265 | D85: 0.029333333 | E85: 0.45833333 | F85: 20.833333 | G85: 9.8333333
A86: 10월 | B86: 0.0017 | C86: 0.0203 | D86: 0.0239 | E86: 0.47 | F86: 26 | G86: 13
A87: 11월 | B87: 0.0019 | C87: 0.0212 | D87: 0.0227 | E87: 0.45 | F87: 29 | G87: 15
A88: 12월 | B88: 0.0019 | C88: 0.0251 | D88: 0.0184 | E88: 0.5 | F88: 36 | G88: 21
A89: 2024 | B89: ='2024총괄'!B18 -> 0.0016333333 | C89: ='2024총괄'!C18 -> 0.017016667 | D89: ='2024총괄'!D18 -> 0.030916667 | E89: ='2024총괄'!E18 -> 0.43416667 | F89: ='2024총괄'!F18 -> 30.333333 | G89: ='2024총괄'!G18 -> 15.25
A90: 1월 | B90: 0.002 | C90: 0.025 | D90: 0.028 | E90: 0.5 | F90: 35 | G90: 24
A91: 2월 | B91: 0.001 | C91: 0.02 | D91: 0.024 | E91: 0.5 | F91: 32 | G91: 22
A92: 3월 | B92: 0.002 | C92: 0.018 | D92: 0.046 | E92: 0.4 | F92: 48 | G92: 20
A93: 4월 | B93: 0.002 | C93: 0.018 | D93: 0.042 | E93: 0.4 | F93: 49 | G93: 18
A94: 5월 | B94: 0.002 | C94: 0.013 | D94: 0.044 | E94: 0.4 | F94: 29 | G94: 13
A95: 6월 | B95: 0.002 | C95: 0.022 | D95: 0.045 | E95: 0.4 | F95: 31 | G95: 15
A96: 7월 | B96: 0.001 | C96: 0.009 | D96: 0.032 | E96: 0.4 | F96: 20 | G96: 9
A97: 8월 | B97: 0.002 | C97: 0.011 | D97: 0.038 | E97: 0.5 | F97: 24 | G97: 13
A98: 9월 | B98: 0.002 | C98: 0.011 | D98: 0.03 | E98: 0.4 | F98: 17 | G98: 8
A99: 10월 | B99: 0.0015 | C99: 0.0172 | D99: 0.0209 | E99: 0.42 | F99: 21 | G99: 10
A100: 11월 | B100: 0.0018 | C100: 0.0234 | D100: 0.0178 | E100: 0.45 | F100: 27 | G100: 14
A101: 12월 | B101: 0.0023 | C101: 0.0248 | D101: 0.0163 | E101: 0.47 | F101: 32 | G101: 17
A102: 2025 | B102: ='2025총괄'!B18 -> 0.0018625 | C102: ='2025총괄'!C18 -> 0.0156375 | D102: ='2025총괄'!D18 -> 0.029359722 | E102: ='2025총괄'!E18 -> 0.43555556 | F102: ='2025총괄'!F18 -> 30.847222 | G102: ='2025총괄'!G18 -> 15.458333
A103: 1월 | B103: 0.0022 | C103: 0.0257 | D103: 0.018 | E103: 0.5 | F103: 40 | G103: 23
...

Sheet 월별 변화 추이 비교
A1: 이산화질소(NO2) 월별 변화 추이 | P1: 미세먼지(PM10) 월별 변화 추이
A2: 구분 | B2: 1월 | C2: 2월 | D2: 3월 | E2: 4월 | F2: 5월 | G2: 6월 | H2: 7월 | I2: 8월 | J2: 9월 | K2: 10월 | L2: 11월 | M2: 12월 | N2: 평균 | P2: 구분 | Q2: 1월 | R2: 2월 | S2: 3월 | T2: 4월 | U2: 5월 | V2: 6월 | W2: 7월 | X2: 8월 | Y2: 9월 | Z2: 10월 | AA2: 11월 | AB2: 12월 | AC2: 평균
A3: 2017년 | B3: 0.041 | C3: 0.039 | D3: 0.043 | E3: 0.033 | F3: 0.031 | G3: 0.027 | H3: 0.022 | I3: 0.021 | J3: 0.027 | K3: 0.029 | L3: 0.037 | M3: 0.038 | N3: =AVERAGE(B3:M3) -> 0.032333333 | P3: 2017년 | Q3: 53 | R3: 47 | S3: 60 | T3: 56 | U3: 62 | V3: 42 | W3: 37 | X3: 26 | Y3: 37 | Z3: 31 | AA3: 44 | AB3: 48 | AC3: =AVERAGE(Q3:AB3) -> 45.25
A4: 2018년 | B4: 0.04 | C4: 0.039 | D4: 0.034 | E4: 0.03 | F4: 0.026 | G4: 0.026 | H4: 0.02 | I4: 0.019 | J4: 0.03 | K4: 0.031 | L4: 0.043 | M4: 0.039 | N4: =AVERAGE(B4:M4) -> 0.031416667 | P4: 2018년 | Q4: 52 | R4: 54 | S4: 50 | T4: 54 | U4: 44 | V4: 38 | W4: 29 | X4: 28 | Y4: 32 | Z4: 32 | AA4: 56 | AB4: 46 | AC4: =AVERAGE(Q4:AB4) -> 42.916667
A5: 2019년 | B5: 0.044 | C5: 0.04 | D5: 0.036 | E5: 0.029 | F5: 0.029 | G5: 0.022 | H5: 0.018 | I5: 0.02 | J5: 0.02 | K5: 0.025 | L5: 0.035 | M5: 0.036 | N5: =AVERAGE(B5:M5) -> 0.0295 | P5: 2019년 | Q5: 67 | R5: 57 | S5: 67 | T5: 40 | U5: 51 | V5: 30 | W5: 29 | X5: 30 | Y5: 24 | Z5: 33 | AA5: 42 | AB5: 43 | AC5: =AVERAGE(Q5:AB5) -> 42.75
A6: 2020년 | B6: 0.035 | C6: 0.032 | D6: 0.029 | E6: 0.022 | F6: 0.021 | G6: 0.021 | H6: 0.016 | I6: 0.013 | J6: 0.016 | K6: 0.028 | L6: 0.033 | M6: 0.033 | N6: =AVERAGE(B6:M6) -> 0.024916667 | P6: 2020년 | Q6: 44 | R6: 43 | S6: 47 | T6: 46 | U6: 36 | V6: 42 | W6: 23 | X6: 25 | Y6: 21 | Z6: 35 | AA6: 41 | AB6: 37 | AC6: =AVERAGE(Q6:AB6) -> 36.666667
A7: 2021년 | B7: 0.029 | C7: 0.03 | D7: 0.031 | E7: 0.022 | F7: 0.019 | G7: 0.017 | H7: 0.014 | I7: 0.014 | J7: 0.013 | K7: 0.023 | L7: 0.032 | M7: 0.031 | N7: =AVERAGE(B7:M7) -> 0.022916667 | P7: 2021년 | Q7: 39 | R7: 49 | S7: 67 | T7: 43 | U7: 64 | V7: 34 | W7: 24 | X7: 22 | Y7: 15 | Z7: 28 | AA7: 44 | AB7: 38 | AC7: =AVERAGE(Q7:AB7) -> 38.916667
A8: 2022년 | B8: 0.034 | C8: 0.027 | D8: 0.026 | E8: 0.019 | F8: 0.016 | G8: 0.013 | H8: 0.013 | I8: 0.012 | J8: 0.015 | K8: 0.021 | L8: 0.029 | M8: 0.029 | N8: =AVERAGE(B8:M8) -> 0.021166667 | P8: 2022년 | Q8: 43 | R8: 41 | S8: 45 | T8: 44 | U8: 33 | V8: 22 | W8: 24 | X8: 20 | Y8: 21 | Z8: 26 | AA8: 39 | AB8: 36 | AC8: =AVERAGE(Q8:AB8) -> 32.833333
A9: 2023년 | B9: 0.03 | C9: 0.033 | D9: 0.028 | E9: 0.016 | F9: ='2023총괄'!C8 -> 0.028 | G9: ='2023총괄'!C9 -> 0.016 | H9: ='2023총괄'!C10 -> 0.015216667 | I9: ='2023총괄'!C11 -> 0.013016667 | J9: ='2023총괄'!C12 -> 0.0099333333 | K9: 0.0203 | L9: 0.0212 | M9: 0.0251 | N9: =AVERAGE(B9:M9) -> 0.021313889 | P9: 2023년 | Q9: 47 | R9: 47 | S9: 70 | T9: 63 | U9: ='2023총괄'!F8 -> 70 | V9: ='2023총괄'!F9 -> 63 | W9: ='2023총괄'!F10 -> 37.333333 | X9: ='2023총괄'!F11 -> 27.833333 | Y9: ='2023총괄'!F12 -> 25.333333 | Z9: 26 | AA9: 29 | AB9: 36 | AC9: =AVERAGE(Q9:AB9) -> 45.125
A10: 2024년 | B10: 0.0254 | C10: 0.0202 | D10: 0.0176 | E10: 0.0179 | F10: 0.0134 | G10: 0.022 | H10: 0.0087 | I10: 0.0106 | J10: 0.0111 | K10: 0.017 | L10: 0.023 | M10: 0.025 | N10: =AVERAGE(B10:M10) -> 0.017658333 | P10: 2024년 | Q10: 35 | R10: 32 | S10: 48 | T10: 49 | U10: 29 | V10: 30.5 | W10: 20 | X10: 24 | Y10: 17 | Z10: 21 | AA10: 27 | AB10: 32 | AC10: =AVERAGE(Q10:AB10) -> 30.375
A11: 2025년 | B11: 0.026 | C11: 0.022 | D11: 0.019 | E11: 0.0164 | F11: 0.0126 | G11: 0.0112 | H11: 0.0091 | I11: 0.0089 | J11: 0.0107 | K11: 0.0115 | L11: 0.0204 | M11: 0.0198 | N11: =AVERAGE(B11:M11) -> 0.015633333 | P11: 2025년 | Q11: 40 | R11: 35 | S11: 53 | T11: 41 | U11: 31 | V11: 28 | W11: 22 | X11: 20 | Y11: 18 | Z11: 16 | AA11: 37 | AB11: 30 | AC11: =AVERAGE(Q11:AB11) -> 30.916667
A12: 2026년 | B12: 0.018483333 | C12: 0.020116667 | D12: 0.018116667 | N12: =AVERAGE(B12:M12) -> 0.018905556 | P12: 2026년 | Q12: 34.166667 | R12: 46.333333 | S12: 40.5 | AC12: =AVERAGE(Q12:AB12) -> 40.333333
A33: 오존(O3) 월별 변화 추이 | P33: 미세먼지(PM2.5) 월별 변화 추이
A34: 구분 | B34: 1월 | C34: 2월 | D34: 3월 | E34: 4월 | F34: 5월 | G34: 6월 | H34: 7월 | I34: 8월 | J34: 9월 | K34: 10월 | L34: 11월 | M34: 12월 | N34: 평균 | P34: 구분 | Q34: 1월 | R34: 2월 | S34: 3월 | T34: 4월 | U34: 5월 | V34: 6월 | W34: 7월 | X34: 8월 | Y34: 9월 | Z34: 10월 | AA34: 11월 | AB34: 12월 | AC34: 평균
A35: 2017년 | B35: 0.012 | C35: 0.016 | D35: 0.022 | E35: 0.032 | F35: 0.035 | G35: 0.037 | H35: 0.024 | I35: 0.02 | J35: 0.024 | K35: 0.016 | L35: 0.013 | M35: 0.011 | N35: =AVERAGE(B35:M35) -> 0.021833333 | P35: 2017년 | Q35: 30 | R35: 26 | S35: 35 | T35: 26 | U35: 26 | V35: 26 | W35: 26 | X35: 15 | Y35: 23 | Z35: 18 | AA35: 18 | AB35: 34 | AC35: =AVERAGE(Q35:AB35) -> 25.25
A36: 2018년 | B36: 0.012 | C36: 0.018 | D36: 0.027 | E36: 0.034 | F36: 0.036 | G36: 0.038 | H36: 0.026 | I36: 0.028 | J36: 0.023 | K36: 0.016 | L36: 0.01 | M36: 0.011 | N36: =AVERAGE(B36:M36) -> 0.02325 | P36: 2018년 | Q36: 35 | R36: 31 | S36: 35 | T36: 25 | U36: 21 | V36: 23 | W36: 17 | X36: 15 | Y36: 10 | Z36: 17 | AA36: 32 | AB36: 26 | AC36: =AVERAGE(Q36:AB36) -> 23.916667
A37: 2019년 | B37: 0.011 | C37: 0.017 | D37: 0.028 | E37: 0.03 | F37: 0.045 | G37: 0.04 | H37: 0.032 | I37: 0.029 | J37: 0.021 | K37: 0.018 | L37: 0.011 | M37: 0.01 | N37: =AVERAGE(B37:M37) -> 0.024333333 | P37: 2019년 | Q37: 38 | R37: 34 | S37: 42 | T37: 16 | U37: 24 | V37: 17 | W37: 17 | X37: 15 | Y37: 11 | Z37: 14 | AA37: 20 | AB37: 29 | AC37: =AVERAGE(Q37:AB37) -> 23.083333
A38: 2020년 | B38: 0.013 | C38: 0.017 | D38: 0.027 | E38: 0.038 | F38: 0.035 | G38: 0.047 | H38: 0.03 | I38: 0.02 | J38: 0.027 | K38: 0.02 | L38: 0.014 | M38: 0.014 | N38: =AVERAGE(B38:M38) -> 0.025166667 | P38: 2020년 | Q38: 28 | R38: 28 | S38: 25 | T38: 20 | U38: 17 | V38: 20 | W38: 12 | X38: 13 | Y38: 10 | Z38: 16 | AA38: 22 | AB38: 26 | AC38: =AVERAGE(Q38:AB38) -> 19.75
A39: 2021년 | B39: 0.015 | C39: 0.023 | D39: 0.026 | E39: 0.038 | F39: 0.036 | G39: 0.042 | H39: 0.036 | I39: 0.033 | J39: 0.031 | K39: 0.022 | L39: 0.017 | M39: 0.013 | N39: =AVERAGE(B39:M39) -> 0.027666667 | P39: 2021년 | Q39: 20 | R39: 29 | S39: 30 | T39: 16 | U39: 17 | V39: 18 | W39: 13 | X39: 11 | Y39: 6 | Z39: 12 | AA39: 25 | AB39: 23 | AC39: =AVERAGE(Q39:AB39) -> 18.333333
A40: 2022년 | B40: 0.014 | C40: 0.026 | D40: 0.028 | E40: 0.042 | F40: 0.046 | G40: 0.038 | H40: 0.037 | I40: 0.031 | J40: 0.031 | K40: 0.022 | L40: 0.017 | M40: 0.014 | N40: =AVERAGE(B40:M40) -> 0.028833333 | P40: 2022년 | Q40: 29 | R40: 26 | S40: 23 | T40: 20 | U40: 15 | V40: 11 | W40: 13 | X40: 9 | Y40: 10 | Z40: 14 | AA40: 22 | AB40: 19 | AC40: =AVERAGE(Q40:AB40) -> 17.583333
A41: 2023년 | B41: 0.017 | C41: 0.022 | D41: 0.035 | E41: 0.04 | F41: ='2023총괄'!D8 -> 0.035 | G41: ='2023총괄'!D9 -> 0.04 | H41: ='2023총괄'!D10 -> 0.041533333 | I41: ='2023총괄'!D11 -> 0.047983333 | J41: ='2023총괄'!D12 -> 0.035783333 | K41: 0.0239 | L41: 0.0227 | M41: 0.0184 | N41: =AVERAGE(B41:M41) -> 0.031608333 | P41: 2023년 | Q41: 26 | R41: 31 | S41: 29 | T41: 19 | U41: ='2023총괄'!G8 -> 29 | V41: ='2023총괄'!G9 -> 19 | W41: ='2023총괄'!G10 -> 15.5 | X41: ='2023총괄'!G11 -> 14.166667 | Y41: ='2023총괄'!G12 -> 13.333333 | Z41: 13 | AA41: 15 | AB41: 21 | AC41: =AVERAGE(Q41:AB41) -> 20.416667
A42: 2024년 | B42: 0.0177 | C42: 0.0238 | D42: 0.0.46 | E42: 0.0422 | F42: 0.0437 | G42: 0.0448 | H42: 0.0323 | I42: 0.0381 | J42: 0.0297 | K42: 0.021 | L42: 0.018 | M42: 0.016 | N42: =AVERAGE(B42:M42) -> 0.029754545 | P42: 2024년 | Q42: 24 | R42: 22 | S42: 20 | T42: 18 | U42: 13 | V42: 14.5 | W42: 9 | X42: 13 | Y42: 8 | Z42: 10 | AA42: 14 | AB42: 17 | AC42: =AVERAGE(Q42:AB42) -> 15.208333
A43: 2025년 | B43: 0.018 | C43: 0.025 | D43: 0.036 | E43: 0.0411 | F43: 0.0409 | G43: 0.0436 | H43: 0.0347 | I43: 0.0291 | J43: 0.0263 | K43: 0.0219 | L43: 0.0205 | M43: 0.0152 | N43: =AVERAGE(B43:M43) -> 0.029358333 | P43: 2025년 | Q43: 23 | R43: 17 | S43: 26 | T43: 18 | U43: 15 | V43: 15 | W43: 11 | X43: 10 | Y43: 7 | Z43: 7 | AA43: 19 | AB43: 18 | AC43: =AVERAGE(Q43:AB43) -> 15.5
A44: 2026년 | B44: 0.020083333 | C44: 0.026583333 | D44: 0.036116667 | N44: =AVERAGE(B44:M44) -> 0.027594444 | P44: 2026년 | Q44: 19.166667 | R44: 26.5 | S44: 27.333333 | AC44: =AVERAGE(Q44:AB44) -> 24.333333
A65: 아황산가스(SO2) 월별 변화 추이 | P65: 일산화탄소(CO) 월별 변화 추이
A66: 구분 | B66: 1월 | C66: 2월 | D66: 3월 | E66: 4월 | F66: 5월 | G66: 6월 | H66: 7월 | I66: 8월 | J66: 9월 | K66: 10월 | L66: 11월 | M66: 12월 | N66: 평균 | P66: 구분 | Q66: 1월 | R66: 2월 | S66: 3월 | T66: 4월 | U66: 5월 | V66: 6월 | W66: 7월 | X66: 8월 | Y66: 9월 | Z66: 10월 | AA66: 11월 | AB66: 12월 | AC66: 평균
A67: 2017년 | B67: 0.005 | C67: 0.005 | D67: 0.005 | E67: 0.004 | F67: 0.004 | G67: 0.004 | H67: 0.003 | I67: 0.003 | J67: 0.004 | K67: 0.003 | L67: 0.004 | M67: 0.005 | N67: =AVERAGE(B67:M67) -> 0.0040833333 | P67: 2017년 | Q67: 0.8 | R67: 0.7 | S67: 0.6 | T67: 0.5 | U67: 0.5 | V67: 0.5 | W67: 0.5 | X67: 0.4 | Y67: 0.5 | Z67: 0.5 | AA67: 0.6 | AB67: 0.7 | AC67: =AVERAGE(Q67:AB67) -> 0.56666667
A68: 2018년 | B68: 0.005 | C68: 0.005 | D68: 0.004 | E68: 0.004 | F68: 0.003 | G68: 0.003 | H68: 0.003 | I68: 0.003 | J68: 0.003 | K68: 0.003 | L68: 0.004 | M68: 0.004 | N68: =AVERAGE(B68:M68) -> 0.0036666667 | P68: 2018년 | Q68: 0.8 | R68: 0.7 | S68: 0.6 | T68: 0.5 | U68: 0.5 | V68: 0.5 | W68: 0.5 | X68: 0.4 | Y68: 0.5 | Z68: 0.5 | AA68: 0.6 | AB68: 0.7 | AC68: =AVERAGE(Q68:AB68) -> 0.56666667
A69: 2019년 | B69: 0.005 | C69: 0.004 | D69: 0.004 | E69: 0.003 | F69: 0.004 | G69: 0.003 | H69: 0.003 | I69: 0.003 | J69: 0.002 | K69: 0.002 | L69: 0.003 | M69: 0.003 | N69: =AVERAGE(B69:M69) -> 0.00325 | P69: 2019년 | Q69: 0.7 | R69: 0.7 | S69: 0.6 | T69: 0.5 | U69: 0.5 | V69: 0.5 | W69: 0.5 | X69: 0.6 | Y69: 0.5 | Z69: 0.5 | AA69: 0.6 | AB69: 0.7 | AC69: =AVERAGE(Q69:AB69) -> 0.575
A70: 2020년 | B70: 0.003 | C70: 0.003 | D70: 0.002 | E70: 0.002 | F70: 0.002 | G70: 0.002 | H70: 0.002 | I70: 0.002 | J70: 0.002 | K70: 0.003 | L70: 0.003 | M70: 0.003 | N70: =AVERAGE(B70:M70) -> 0.0024166667 | P70: 2020년 | Q70: 0.8 | R70: 0.6 | S70: 0.5 | T70: 0.5 | U70: 0.5 | V70: 0.5 | W70: 0.5 | X70: 0.4 | Y70: 0.5 | Z70: 0.5 | AA70: 0.6 | AB70: 0.6 | AC70: =AVERAGE(Q70:AB70) -> 0.54166667
A71: 2021년 | B71: 0.003 | C71: 0.003 | D71: 0.003 | E71: 0.002 | F71: 0.002 | G71: 0.002 | H71: 0.002 | I71: 0.002 | J71: 0.002 | K71: 0.002 | L71: 0.002 | M71: 0.003 | N71: =AVERAGE(B71:M71) -> 0.0023333333 | P71: 2021년 | Q71: 0.6 | R71: 0.6 | S71: 0.6 | T71: 0.5 | U71: 0.4 | V71: 0.5 | W71: 0.4 | X71: 0.5 | Y71: 0.4 | Z71: 0.5 | AA71: 0.6 | AB71: 0.6 | AC71: =AVERAGE(Q71:AB71) -> 0.51666667
A72: 2022년 | B72: 0.003 | C72: 0.002 | D72: 0.002 | E72: 0.002 | F72: 0.002 | G72: 0.001 | H72: 0.002 | I72: 0.002 | J72: 0.001 | K72: 0.002 | L72: 0.002 | M72: 0.002 | N72: =AVERAGE(B72:M72) -> 0.0019166667 | P72: 2022년 | Q72: 0.6 | R72: 0.5 | S72: 0.5 | T72: 0.4 | U72: 0.4 | V72: 0.4 | W72: 0.5 | X72: 0.5 | Y72: 0.4 | Z72: 0.5 | AA72: 0.5 | AB72: 0.5 | AC72: =AVERAGE(Q72:AB72) -> 0.475
A73: 2023년 | B73: 0.002 | C73: 0.002 | D73: 0.002 | E73: 0.002 | F73: ='2022총괄'!B8 -> 0.002 | G73: ='2023총괄'!B9 -> 0.002 | H73: ='2023총괄'!B10 -> 0.0017 | I73: ='2023총괄'!B11 -> 0.0015666667 | J73: ='2023총괄'!B12 -> 0.0015666667 | K73: 0.0017 | L73: 0.0019 | M73: 0.0019 | N73: =AVERAGE(B73:M73) -> 0.0018611111 | P73: 2023년 | Q73: 0.6 | R73: 0.6 | S73: 0.5 | T73: 0.4 | U73: ='2023총괄'!E8 -> 0.5 | V73: ='2023총괄'!E9 -> 0.4 | W73: ='2023총괄'!E10 -> 0.42333333 | X73: ='2023총괄'!E11 -> 0.44333333 | Y73: ='2023총괄'!E12 -> 0.465 | Z73: 0.47 | AA73: 0.45 | AB73: 0.5 | AC73: =AVERAGE(Q73:AB73) -> 0.47930556
A74: 2024년 | B74: 0.0018 | C74: 0.0013 | D74: 0.0015 | E74: 0.0017 | F74: 0.0015 | G74: 0.0017 | H74: 0.0014 | I74: 0.0016 | J74: 0.0015 | K74: 0.002 | L74: 0.002 | M74: 0.002 | N74: =AVERAGE(B74:M74) -> 0.0016666667 | P74: 2024년 | Q74: 0.51 | R74: 0.47 | S74: 0.39 | T74: 0.44 | U74: 0.38 | V74: 0.41 | W74: 0.41 | X74: 0.46 | Y74: 0.4 | Z74: 0.4 | AA74: 0.5 | AB74: 0.5 | AC74: =AVERAGE(Q74:AB74) -> 0.43916667
A75: 2025년 | B75: 0.002 | C75: 0.002 | D75: 0.002 | E75: 0.0019 | F75: 0.0017 | G75: 0.0017 | H75: 0.0017 | I75: 0.0019 | J75: 0.0016 | K75: 0.0016 | L75: 0.0019 | M75: 0.002 | N75: =AVERAGE(B75:M75) -> 0.0018333333 | P75: 2025년 | Q75: 0.5 | R75: 0.5 | S75: 0.5 | T75: 0.44 | U75: 0.43 | V75: 0.44 | W75: 0.41 | X75: 0.4 | Y75: 0.39 | Z75: 0.38 | AA75: 0.44 | AB75: 0.47 | AC75: =AVERAGE(Q75:AB75) -> 0.44166667
A76: 2026년 | B76: 0.0022333333 | C76: 0.0020833333 | D76: 0.0019333333 | N76: =AVERAGE(B76:M76) -> 0.0020833333 | P76: 2026년 | Q76: 0.47166667 | R76: 0.47666667 | S76: 0.45666667 | AC76: =AVERAGE(Q76:AB76) -> 0.46833333

Sheet 2026총괄
A1: 2026년 대기오염도 현황
A2: 1. 생활환경
A3: 구분 | B3: SO₂ | C3: NO₂ | D3: O₃ | E3: CO | F3: PM10 | G3: PM2.5
B4: (아황산가스) | C4: (이산화질소) | D4: (오존) | E4: (일산화탄소) | F4: (미세먼지) | G4: (초미세먼지)
A5: 환경기준 | B5: 0.02ppm이하 | C5: 0.03ppm이하 | D5: 0.06ppm이하 | E5: 9ppm이하 | F5: 50㎍/㎥이하 | G5: 15㎍/㎥이하
A6: 1월 | B6: 0.0022333333 | C6: 0.018483333 | D6: 0.020083333 | E6: 0.47166667 | F6: 34.166667 | G6: 19.166667
A7: 2월 | B7: 0.0020833333 | C7: 0.020116667 | D7: 0.026583333 | E7: 0.47666667 | F7: 46.333333 | G7: 26.5
A8: 3월 | B8: 0.0019333333 | C8: 0.018116667 | D8: 0.036116667 | E8: 0.45666667 | F8: 40.5 | G8: 27.333333
A9: 4월
A10: 5월
A11: 6월
A12: 7월
A13: 8월
A14: 9월
A15: 10월
A16: 11월
A17: 12월
A18: 평균 | B18: =AVERAGE(B6:B17) -> 0.0020833333 | C18: =AVERAGE(C6:C17) -> 0.018905556 | D18: =AVERAGE(D6:D17) -> 0.027594444 | E18: =AVERAGE(E6:E17) -> 0.46833333 | F18: =AVERAGE(F6:F17) -> 40.333333 | G18: =AVERAGE(G6:G17) -> 24.333333
A20: 2. 도로변
A21: 월별 | B21: SO2 | C21: NO2 | D21: O3 | E21: CO | F21: PM-10 | G21: PM2.5
B22: (ppm) | C22: (ppm) | D22: (ppm) | E22: (ppm) | F22: (㎍/㎥) | G22: (㎍/㎥)
A23: 1월 | B23: 0.0028722222 | C23: 0.021797222 | D23: 0.018330556 | E23: 0.565 | F23: 35.5 | G23: 18.194444
A24: 2월 | B24: 0.0025805556 | C24: 0.024319444 | D24: 0.023197222 | E24: 0.585 | F24: 45.5 | G24: 25.083333
A25: 3월 | B25: 0.0024222222 | C25: 0.023169444 | D25: 0.032252778 | E25: 0.54 | F25: 44 | G25: 26.888889
A26: 4월
A27: 5월
A28: 6월
A29: 7월
A30: 8월
A31: 9월
A32: 10월
A33: 11월
A34: 12월
A35: 평균 | B35: =AVERAGE(B23:B34) -> 0.002625 | C35: =AVERAGE(C23:C34) -> 0.02309537 | D35: =AVERAGE(D23:D34) -> 0.024593519 | E35: =AVERAGE(E23:E34) -> 0.56333333 | F35: =AVERAGE(F23:F34) -> 41.666667 | G35: =AVERAGE(G23:G34) -> 23.388889

Sheet 2025총괄
A1: 2025년 대기오염도 현황
A2: 1. 생활환경
A3: 구분 | B3: SO₂ | C3: NO₂ | D3: O₃ | E3: CO | F3: PM10 | G3: PM2.5
B4: (아황산가스) | C4: (이산화질소) | D4: (오존) | E4: (일산화탄소) | F4: (미세먼지) | G4: (초미세먼지)
A5: 환경기준 | B5: 0.02ppm이하 | C5: 0.03ppm이하 | D5: 0.06ppm이하 | E5: 9ppm이하 | F5: 50㎍/㎥이하 | G5: 15㎍/㎥이하
A6: 1월 | B6: 0.0022 | C6: 0.0257 | D6: 0.018 | E6: 0.5 | F6: 40 | G6: 23
A7: 2월 | B7: 0.0022 | C7: 0.0219 | D7: 0.0253 | E7: 0.45 | F7: 35 | G7: 17
A8: 3월 | B8: 0.002 | C8: 0.0194 | D8: 0.0357 | E8: 0.47 | F8: 53 | G8: 26
A9: 4월 | B9: 0.0018666667 | C9: 0.016416667 | D9: 0.0411 | E9: 0.445 | F9: 40.5 | G9: 18
A10: 5월 | B10: 0.00165 | C10: 0.012616667 | D10: 0.040933333 | E10: 0.43166667 | F10: 30.666667 | G10: 15
A11: 6월 | B11: 0.0017333333 | C11: 0.011216667 | D11: 0.043583333 | E11: 0.44 | F11: 28 | G11: 14.5
A12: 7월 | B12: 0.0017 | C12: 0.0091 | D12: 0.0347 | E12: 0.41 | F12: 22 | G12: 11
A13: 8월 | B13: 0.0019 | C13: 0.0089 | D13: 0.0291 | E13: 0.4 | F13: 20 | G13: 10
A14: 9월 | B14: 0.0016 | C14: 0.0107 | D14: 0.0263 | E14: 0.39 | F14: 18 | G14: 7
A15: 10월 | B15: 0.0016 | C15: 0.0115 | D15: 0.0219 | E15: 0.38 | F15: 16 | G15: 7
A16: 11월 | B16: 0.0019 | C16: 0.0204 | D16: 0.0205 | E16: 0.44 | F16: 37 | G16: 19
A17: 12월 | B17: 0.002 | C17: 0.0198 | D17: 0.0152 | E17: 0.47 | F17: 30 | G17: 18
A18: 평균 | B18: =AVERAGE(B6:B17) -> 0.0018625 | C18: =AVERAGE(C6:C17) -> 0.0156375 | D18: =AVERAGE(D6:D17) -> 0.029359722 | E18: =AVERAGE(E6:E17) -> 0.43555556 | F18: =AVERAGE(F6:F17) -> 30.847222 | G18: =AVERAGE(G6:G17) -> 15.458333
A20: 2. 도로변
A21: 월별 | B21: SO2 | C21: NO2 | D21: O3 | E21: CO | F21: PM-10 | G21: PM2.5
B22: (ppm) | C22: (ppm) | D22: (ppm) | E22: (ppm) | F22: (㎍/㎥) | G22: (㎍/㎥)
A23: 1월 | B23: 0.0036 | C23: 0.0365 | D23: 0.0111 | E23: 0.66 | F23: 40 | G23: 25
A24: 2월 | B24: 0.0037 | C24: 0.0327 | D24: 0.0174 | E24: 0.58 | F24: 36 | G24: 19
A25: 3월 | B25: 0.0031 | C25: 0.0338 | D25: 0.026 | E25: 0.55 | F25: 54 | G25: 28
A26: 4월 | B26: 0.0022777778 | C26: 0.021852778 | D26: 0.039783333 | E26: 0.455 | F26: 42.5 | G26: 17.5
A27: 5월 | B27: 0.001925 | C27: 0.017902778 | D27: 0.039522222 | E27: 0.405 | F27: 33 | G27: 14.333333
A28: 6월 | B28: 0.0019722222 | C28: 0.015702778 | D28: 0.042047222 | E28: 0.455 | F28: 30.5 | G28: 14.083333
A29: 7월 | B29: 0.0018 | C29: 0.0213 | D29: 0.024 | E29: 0.44 | F29: 24 | G29: 11
A30: 8월 | B30: 0.0017 | C30: 0.0195 | D30: 0.0199 | E30: 0.43 | F30: 22 | G30: 9
A31: 9월 | B31: 0.0014 | C31: 0.0236 | D31: 0.0165 | E31: 0.49 | F31: 20 | G31: 7
A32: 10월 | B32: 0.0017 | C32: 0.0231 | D32: 0.0137 | E32: 0.49 | F32: 18 | G32: 7
A33: 11월 | B33: 0.0024 | C33: 0.0313 | D33: 0.014 | E33: 0.57 | F33: 38 | G33: 20
A34: 12월 | B34: 0.0032 | C34: 0.0284 | D34: 0.0111 | E34: 0.59 | F34: 32 | G34: 18
A35: 평균 | B35: =AVERAGE(B23:B34) -> 0.0023979167 | C35: =AVERAGE(C23:C34) -> 0.025471528 | D35: =AVERAGE(D23:D34) -> 0.022921065 | E35: =AVERAGE(E23:E34) -> 0.50958333 | F35: =AVERAGE(F23:F34) -> 32.5 | G35: =AVERAGE(G23:G34) -> 15.826389

Sheet 2024총괄
A1: 2024년 대기오염도 현황
A2: 1. 생활환경
A3: 구분 | B3: SO₂ | C3: NO₂ | D3: O₃ | E3: CO | F3: PM10 | G3: PM2.5
B4: (아황산가스) | C4: (이산화질소) | D4: (오존) | E4: (일산화탄소) | F4: (미세먼지) | G4: (초미세먼지)
A5: 환경기준 | B5: 0.02ppm이하 | C5: 0.03ppm이하 | D5: 0.06ppm이하 | E5: 9ppm이하 | F5: 50㎍/㎥이하 | G5: 15㎍/㎥이하
A6: 1월 | B6: 0.0018 | C6: 0.0254 | D6: 0.0177 | E6: 0.51 | F6: 35 | G6: 24
A7: 2월 | B7: 0.0013 | C7: 0.0202 | D7: 0.0238 | E7: 0.47 | F7: 32 | G7: 22
A8: 3월 | B8: 0.0015 | C8: 0.0176 | D8: 0.0346 | E8: 0.39 | F8: 48 | G8: 20
A9: 4월 | B9: 0.0017 | C9: 0.0179 | D9: 0.0422 | E9: 0.44 | F9: 49 | G9: 18
A10: 5월 | B10: 0.0015 | C10: 0.0134 | D10: 0.0437 | E10: 0.38 | F10: 29 | G10: 13
A11: 6월 | B11: 0.0017 | C11: 0.0139 | D11: 0.0539 | E11: 0.41 | F11: 30 | G11: 15
A12: 7월 | B12: 0.0014 | C12: 0.0087 | D12: 0.0323 | E12: 0.41 | F12: 20 | G12: 9
A13: 8월 | B13: 0.0016 | C13: 0.0106 | D13: 0.0381 | E13: 0.46 | F13: 24 | G13: 13
A14: 9월 | B14: 0.0015 | C14: 0.0111 | D14: 0.0297 | E14: 0.4 | F14: 17 | G14: 8
A15: 10월 | B15: 0.0015 | C15: 0.0172 | D15: 0.0209 | E15: 0.42 | F15: 21 | G15: 10
A16: 11월 | B16: 0.0018 | C16: 0.0234 | D16: 0.0178 | E16: 0.45 | F16: 27 | G16: 14
A17: 12월 | B17: 0.0023 | C17: 0.0248 | D17: 0.0163 | E17: 0.47 | F17: 32 | G17: 17
A18: 평균 | B18: =AVERAGE(B6:B17) -> 0.0016333333 | C18: =AVERAGE(C6:C17) -> 0.017016667 | D18: =AVERAGE(D6:D17) -> 0.030916667 | E18: =AVERAGE(E6:E17) -> 0.43416667 | F18: =AVERAGE(F6:F17) -> 30.333333 | G18: =AVERAGE(G6:G17) -> 15.25
A20: 2. 도로변
A21: 월별 | B21: SO2 | C21: NO2 | D21: O3 | E21: CO | F21: PM-10 | G21: PM2.5
B22: (ppm) | C22: (ppm) | D22: (ppm) | E22: (ppm) | F22: (㎍/㎥) | G22: (㎍/㎥)
A23: 1월 | B23: 0.0034 | C23: 0.0354 | D23: 0.0102 | E23: 0.76 | F23: 38 | G23: 24
A24: 2월 | B24: 0.0024 | C24: 0.0344 | D24: 0.0129 | E24: 0.66 | F24: 36 | G24: 22
A25: 3월 | B25: 0.0025 | C25: 0.0318 | D25: 0.0218 | E25: 0.55 | F25: 53 | G25: 19
A26: 4월 | B26: 0.002 | C26: 0.0342 | D26: 0.0254 | E26: 0.55 | F26: 53 | G26: 18
A27: 5월 | B27: 0.0015 | C27: 0.0289 | D27: 0.0273 | E27: 0.44 | F27: 31 | G27: 12
A28: 6월 | B28: 0.0017 | C28: 0.0301 | D28: 0.0357 | E28: 0.41 | F28: 31 | G28: 14
A29: 7월 | B29: 0.0015 | C29: 0.0195 | D29: 0.0203 | E29: 0.43 | F29: 22 | G29: 9
A30: 8월 | B30: 0.0017 | C30: 0.0243 | D30: 0.0239 | E30: 0.48 | F30: 25 | G30: 12
A31: 9월 | B31: 0.0016 | C31: 0.0241 | D31: 0.0175 | E31: 0.48 | F31: 18 | G31: 8
A32: 10월 | B32: 0.0021 | C32: 0.0304 | D32: 0.0109 | E32: 0.52 | F32: 22 | G32: 10
A33: 11월 | B33: 0.0021 | C33: 0.0304 | D33: 0.0109 | E33: 0.52 | F33: 22 | G33: 10
A34: 12월 | B34: 0.0043 | C34: 0.0322 | D34: 0.0084 | E34: 0.66 | F34: 34 | G34: 18
A35: 평균 | B35: =AVERAGE(B23:B34) -> 0.0022333333 | C35: =AVERAGE(C23:C34) -> 0.029641667 | D35: =AVERAGE(D23:D34) -> 0.018766667 | E35: =AVERAGE(E23:E34) -> 0.53833333 | F35: =AVERAGE(F23:F34) -> 32.083333 | G35: =AVERAGE(G23:G34) -> 14.666667

Sheet 2023총괄
A1: 2023년 대기오염도 현황
A2: 1. 생활환경
A3: 구분 | B3: SO₂ | C3: NO₂ | D3: O₃ | E3: CO | F3: PM10 | G3: PM2.5
B4: (아황산가스) | C4: (이산화질소) | D4: (오존) | E4: (일산화탄소) | F4: (미세먼지) | G4: (초미세먼지)
A5: 환경기준 | B5: 0.02ppm이하 | C5: 0.03ppm이하 | D5: 0.06ppm이하 | E5: 9ppm이하 | F5: 50㎍/㎥이하 | G5: 15㎍/㎥이하
A6: 1월 | B6: 0.002 | C6: 0.03 | D6: 0.017 | E6: 0.6 | F6: 47 | G6: 26
A7: 2월 | B7: 0.002 | C7: 0.033 | D7: 0.022 | E7: 0.6 | F7: 47 | G7: 31
A8: 3월 | B8: 0.002 | C8: 0.028 | D8: 0.035 | E8: 0.5 | F8: 70 | G8: 29
A9: 4월 | B9: 0.002 | C9: 0.016 | D9: 0.04 | E9: 0.4 | F9: 63 | G9: 19
A10: 5월 | B10: 0.0017 | C10: 0.015216667 | D10: 0.041533333 | E10: 0.42333333 | F10: 37.333333 | G10: 15.5
A11: 6월 | B11: 0.0015666667 | C11: 0.013016667 | D11: 0.047983333 | E11: 0.44333333 | F11: 27.833333 | G11: 14.166667
A12: 7월 | B12: 0.0015666667 | C12: 0.0099333333 | D12: 0.035783333 | E12: 0.465 | F12: 25.333333 | G12: 13.333333
A13: 8월 | B13: 0.0016333333 | C13: 0.010683333 | D13: 0.033633333 | E13: 0.46833333 | F13: 21.666667 | G13: 11.5
A14: 9월 | B14: 0.0016666667 | C14: 0.01265 | D14: 0.029333333 | E14: 0.45833333 | F14: 20.833333 | G14: 9.8333333
A15: 10월 | B15: 0.0017 | C15: 0.0203 | D15: 0.0239 | E15: 0.47 | F15: 26 | G15: 13
A16: 11월 | B16: 0.0019 | C16: 0.0212 | D16: 0.0227 | E16: 0.45 | F16: 29 | G16: 15
A17: 12월 | B17: 0.0019 | C17: 0.0251 | D17: 0.0184 | E17: 0.5 | F17: 36 | G17: 21
A18: 평균 | B18: =AVERAGE(B6:B17) -> 0.0018027778 | C18: =AVERAGE(C6:C17) -> 0.019591667 | D18: =AVERAGE(D6:D17) -> 0.030605556 | E18: =AVERAGE(E6:E17) -> 0.48152778 | F18: =AVERAGE(F6:F17) -> 37.583333 | G18: =AVERAGE(G6:G17) -> 18.194444
A20: 2. 도로변
A21: 월별 | B21: SO2 | C21: NO2 | D21: O3 | E21: CO | F21: PM-10 | G21: PM2.5
B22: (ppm) | C22: (ppm) | D22: (ppm) | E22: (ppm) | F22: (㎍/㎥) | G22: (㎍/㎥)
A23: 1월 | B23: 0.003 | C23: 0.039 | D23: 0.01 | E23: 0.7 | F23: 50 | G23: 27
A24: 2월 | B24: 0.003 | C24: 0.04 | D24: 0.013 | E24: 0.7 | F24: 50 | G24: 32
A25: 3월 | B25: 0.003 | C25: 0.041 | D25: 0.02 | E25: 0.6 | F25: 72 | G25: 28
A26: 4월 | B26: 0.001 | C26: 0.031 | D26: 0.024 | E26: 0.5 | F26: 65 | G26: 18
A27: 5월 | B27: 0.00155 | C27: 0.03225 | D27: 0.0259 | E27: 0.44 | F27: 40 | G27: 15
A28: 6월 | B28: 0.0013 | C28: 0.02925 | D28: 0.0337 | E28: 0.445 | F28: 30.5 | G28: 13
A29: 7월 | B29: 0.0018 | C29: 0.024 | D29: 0.0215 | E29: 0.47 | F29: 28.5 | G29: 12
A30: 8월 | B30: 0.00185 | C30: 0.02475 | D30: 0.0194 | E30: 0.495 | F30: 24 | G30: 10.5
A31: 9월 | B31: 0.0019 | C31: 0.0262 | D31: 0.01555 | E31: 0.49 | F31: 24 | G31: 9.5
A32: 10월 | B32: 0.0018 | C32: 0.0321 | D32: 0.0125 | E32: 0.52 | F32: 28 | G32: 13
A33: 11월 | B33: 0.0029 | C33: 0.0322 | D33: 0.0131 | E33: 0.56 | F33: 32 | G33: 16
A34: 12월 | B34: 0.0033 | C34: 0.0367 | D34: 0.0096 | E34: 0.71 | F34: 38 | G34: 20
A35: 평균 | B35: =AVERAGE(B23:B34) -> 0.0022 | C35: =AVERAGE(C23:C34) -> 0.032370833 | D35: =AVERAGE(D23:D34) -> 0.0181875 | E35: =AVERAGE(E23:E34) -> 0.5525 | F35: =AVERAGE(F23:F34) -> 40.166667 | G35: =AVERAGE(G23:G34) -> 17.833333

Sheet 2022총괄
A1: 2022년 대기오염도 현황
A2: 1. 생활환경
A3: 구분 | B3: SO₂ | C3: NO₂ | D3: O₃ | E3: CO | F3: PM10 | G3: PM2.5
B4: (아황산가스) | C4: (이산화질소) | D4: (오존) | E4: (일산화탄소) | F4: (미세먼지) | G4: (초미세먼지)
A5: 환경기준 | B5: 0.02ppm이하 | C5: 0.03ppm이하 | D5: 0.06ppm이하 | E5: 9ppm이하 | F5: 50㎍/㎥이하 | G5: 15㎍/㎥이하
A6: 1월 | B6: 0.003 | C6: 0.034 | D6: 0.014 | E6: 0.6 | F6: 43 | G6: 29
A7: 2월 | B7: 0.002 | C7: 0.027 | D7: 0.026 | E7: 0.5 | F7: 41 | G7: 26
A8: 3월 | B8: 0.002 | C8: 0.026 | D8: 0.028 | E8: 0.5 | F8: 45 | G8: 23
A9: 4월 | B9: 0.002 | C9: 0.019 | D9: 0.042 | E9: 0.4 | F9: 44 | G9: 20
A10: 5월 | B10: 0.002 | C10: 0.016 | D10: 0.046 | E10: 0.4 | F10: 33 | G10: 15
A11: 6월 | B11: 0.001 | C11: 0.013 | D11: 0.038 | E11: 0.388 | F11: 22 | G11: 11
A12: 7월 | B12: 0.002 | C12: 0.013 | D12: 0.037 | E12: 0.5 | F12: 24 | G12: 13
A13: 8월 | B13: 0.002 | C13: 0.012 | D13: 0.031 | E13: 0.5 | F13: 20 | G13: 9
A14: 9월 | B14: 0.001 | C14: 0.015 | D14: 0.031 | E14: 0.4 | F14: 21 | G14: 10
A15: 10월 | B15: 0.002 | C15: 0.021 | D15: 0.022 | E15: 0.5 | F15: 26 | G15: 14
A16: 11월 | B16: 0.002 | C16: 0.029 | D16: 0.017 | E16: 0.5 | F16: 39 | G16: 22
A17: 12월 | B17: 0.002 | C17: 0.029 | D17: 0.014 | E17: 0.5 | F17: 36 | G17: 19
A18: 평균 | B18: =AVERAGE(B6:B17) -> 0.0019166667 | C18: =AVERAGE(C6:C17) -> 0.021166667 | D18: =AVERAGE(D6:D17) -> 0.028833333 | E18: =AVERAGE(E6:E17) -> 0.474 | F18: =AVERAGE(F6:F17) -> 32.833333 | G18: =AVERAGE(G6:G17) -> 17.583333
A20: 2. 도로변
A21: 월별 | B21: SO2 | C21: NO2 | D21: O3 | E21: CO | F21: PM-10 | G21: PM2.5
B22: (ppm) | C22: (ppm) | D22: (ppm) | E22: (ppm) | F22: (㎍/㎥) | G22: (㎍/㎥)
A23: 1월 | B23: 0.004 | C23: 0.043 | D23: 0.008 | E23: 0.8 | F23: 47 | G23: 31
A24: 2월 | B24: 0.003 | C24: 0.038 | D24: 0.016 | E24: 0.7 | F24: 44 | G24: 27
A25: 3월 | B25: 0.002 | C25: 0.038 | D25: 0.017 | E25: 0.6 | F25: 48 | G25: 23
A26: 4월 | B26: 0.002 | C26: 0.035 | D26: 0.026 | E26: 0.4 | F26: 47 | G26: 20
A27: 5월 | B27: 0.002 | C27: 0.031 | D27: 0.029 | E27: 0.4 | F27: 35 | G27: 16
A28: 6월 | B28: 0.002 | C28: 0.026 | D28: 0.023 | E28: 0.4 | F28: 25 | G28: 11
A29: 7월 | B29: 0.002 | C29: 0.025 | D29: 0.021 | E29: 0.5 | F29: 28 | G29: 13
A30: 8월 | B30: 0.002 | C30: 0.023 | D30: 0.015 | E30: 0.4 | F30: 23 | G30: 9
A31: 9월 | B31: 0.002 | C31: 0.029 | D31: 0.014 | E31: 0.5 | F31: 24 | G31: 11
A32: 10월 | B32: 0.002 | C32: 0.032 | D32: 0.01 | E32: 0.5 | F32: 29 | G32: 15
A33: 11월 | B33: 0.003 | C33: 0.039 | D33: 0.008 | E33: 0.6 | F33: 43 | G33: 23
A34: 12월 | B34: 0.003 | C34: 0.038 | D34: 0.009 | E34: 0.6 | F34: 39 | G34: 19
A35: 평균 | B35: =AVERAGE(B23:B34) -> 0.0024166667 | C35: =AVERAGE(C23:C34) -> 0.033083333 | D35: =AVERAGE(D23:D34) -> 0.016333333 | E35: =AVERAGE(E23:E34) -> 0.53333333 | F35: =AVERAGE(F23:F34) -> 36 | G35: =AVERAGE(G23:G34) -> 18.166667

Sheet 2021총괄
A1: 2021년 대기오염도 현황
A2: 1. 생활환경
A3: 구분 | B3: SO₂ | C3: NO₂ | D3: O₃ | E3: CO | F3: PM10 | G3: PM2.5
B4: (아황산가스) | C4: (이산화질소) | D4: (오존) | E4: (일산화탄소) | F4: (미세먼지) | G4: (초미세먼지)
A5: 환경기준 | B5: 0.02ppm이하 | C5: 0.03ppm이하 | D5: 0.06ppm이하 | E5: 9ppm이하 | F5: 50㎍/㎥이하 | G5: 15㎍/㎥이하
A6: 1월 | B6: 0.003 | C6: 0.029 | D6: 0.015 | E6: 0.6 | F6: 39 | G6: 20
A7: 2월 | B7: 0.003 | C7: 0.03 | D7: 0.023 | E7: 0.6 | F7: 49 | G7: 29
A8: 3월 | B8: 0.003 | C8: 0.031 | D8: 0.026 | E8: 0.6 | F8: 67 | G8: 30
A9: 4월 | B9: 0.002 | C9: 0.022 | D9: 0.038 | E9: 0.5 | F9: 43 | G9: 16
A10: 5월 | B10: 0.002 | C10: 0.019 | D10: 0.036 | E10: 0.4 | F10: 64 | G10: 17
A11: 6월 | B11: 0.002 | C11: 0.017 | D11: 0.042 | E11: 0.5 | F11: 34 | G11: 18
A12: 7월 | B12: 0.002 | C12: 0.014 | D12: 0.036 | E12: 0.4 | F12: 24 | G12: 13
A13: 8월 | B13: 0.002 | C13: 0.014 | D13: 0.033 | E13: 0.5 | F13: 22 | G13: 11
A14: 9월 | B14: 0.002 | C14: 0.013 | D14: 0.031 | E14: 0.4 | F14: 15 | G14: 6
A15: 10월 | B15: 0.002 | C15: 0.023 | D15: 0.022 | E15: 0.5 | F15: 28 | G15: 12
A16: 11월 | B16: 0.002 | C16: 0.032 | D16: 0.017 | E16: 0.6 | F16: 44 | G16: 25
A17: 12월 | B17: 0.003 | C17: 0.031 | D17: 0.013 | E17: 0.6 | F17: 38 | G17: 23
A18: 평균 | B18: =AVERAGE(B6:B17) -> 0.0023333333 | C18: =AVERAGE(C6:C17) -> 0.022916667 | D18: =AVERAGE(D6:D17) -> 0.027666667 | E18: =AVERAGE(E6:E17) -> 0.51666667 | F18: =AVERAGE(F6:F17) -> 38.916667 | G18: =AVERAGE(G6:G17) -> 18.333333
A20: 2. 도로변
A21: 월별 | B21: SO2 | C21: NO2 | D21: O3 | E21: CO | F21: PM-10 | G21: PM2.5
B22: (ppm) | C22: (ppm) | D22: (ppm) | E22: (ppm) | F22: (㎍/㎥) | G22: (㎍/㎥)
A23: 1월 | B23: 0.005 | C23: 0.038 | D23: 0.011 | E23: 0.8 | F23: 41 | G23: 21
A24: 2월 | B24: 0.005 | C24: 0.036 | D24: 0.016 | E24: 0.8 | F24: 50 | G24: 29
A25: 3월 | B25: 0.004 | C25: 0.042 | D25: 0.019 | E25: 0.7 | F25: 67 | G25: 30
A26: 4월 | B26: 0.003 | C26: 0.039 | D26: 0.028 | E26: 0.5 | F26: 45 | G26: 17
A27: 5월 | B27: 0.002 | C27: 0.033 | D27: 0.026 | E27: 0.5 | F27: 63 | G27: 20
A28: 6월 | B28: 0.002 | C28: 0.033 | D28: 0.029 | E28: 0.5 | F28: 37 | G28: 20
A29: 7월 | B29: 0.002 | C29: 0.029 | D29: 0.024 | E29: 0.5 | F29: 26 | G29: 15
A30: 8월 | B30: 0.001 | C30: 0.017 | D30: 0.018 | E30: 0.5 | F30: 25 | G30: 12
A31: 9월 | B31: 0.002 | C31: 0.017 | D31: 0.016 | E31: 0.5 | F31: 18 | G31: 7
A32: 10월 | B32: 0.003 | C32: 0.031 | D32: 0.011 | E32: 0.6 | F32: 31 | G32: 14
A33: 11월 | B33: 0.003 | C33: 0.039 | D33: 0.009 | E33: 0.7 | F33: 48 | G33: 28
A34: 12월 | B34: 0.004 | C34: 0.037 | D34: 0.008 | E34: 0.8 | F34: 44 | G34: 24
A35: 평균 | B35: =AVERAGE(B23:B34) -> 0.003 | C35: =AVERAGE(C23:C34) -> 0.032583333 | D35: =AVERAGE(D23:D34) -> 0.017916667 | E35: =AVERAGE(E23:E34) -> 0.61666667 | F35: =AVERAGE(F23:F34) -> 41.25 | G35: =AVERAGE(G23:G34) -> 19.75

Sheet 2020총괄
A1: 2020년 대기오염도 현황
A2: 1. 생활환경
A3: 구분 | B3: SO₂ | C3: NO₂ | D3: O₃ | E3: CO | F3: PM10 | G3: PM2.5
B4: (아황산가스) | C4: (이산화질소) | D4: (오존) | E4: (일산화탄소) | F4: (미세먼지) | G4: (초미세먼지)
A5: 환경기준 | B5: 0.02ppm이하 | C5: 0.03ppm이하 | D5: 0.06ppm이하 | E5: 9ppm이하 | F5: 50㎍/㎥이하 | G5: 15㎍/㎥이하
A6: 1월 | B6: 0.003 | C6: 0.035 | D6: 0.013 | E6: 0.8 | F6: 44 | G6: 28
A7: 2월 | B7: 0.003 | C7: 0.032 | D7: 0.017 | E7: 0.6 | F7: 43 | G7: 28
A8: 3월 | B8: 0.002 | C8: 0.029 | D8: 0.027 | E8: 0.5 | F8: 47 | G8: 25
A9: 4월 | B9: 0.002 | C9: 0.022 | D9: 0.038 | E9: 0.5 | F9: 46 | G9: 20
A10: 5월 | B10: 0.002 | C10: 0.021 | D10: 0.035 | E10: 0.5 | F10: 36 | G10: 17
A11: 6월 | B11: 0.002 | C11: 0.021 | D11: 0.047 | E11: 0.5 | F11: 42 | G11: 20
A12: 7월 | B12: 0.002 | C12: 0.016 | D12: 0.03 | E12: 0.5 | F12: 23 | G12: 12
A13: 8월 | B13: 0.002 | C13: 0.013 | D13: 0.02 | E13: 0.4 | F13: 25 | G13: 13
A14: 9월 | B14: 0.002 | C14: 0.016 | D14: 0.027 | E14: 0.5 | F14: 21 | G14: 10
A15: 10월 | B15: 0.003 | C15: 0.028 | D15: 0.02 | E15: 0.5 | F15: 35 | G15: 16
A16: 11월 | B16: 0.003 | C16: 0.033 | D16: 0.014 | E16: 0.6 | F16: 41 | G16: 22
A17: 12월 | B17: 0.003 | C17: 0.033 | D17: 0.014 | E17: 0.6 | F17: 37 | G17: 26
A18: 평균 | B18: =AVERAGE(B6:B17) -> 0.0024166667 | C18: =AVERAGE(C6:C17) -> 0.024916667 | D18: =AVERAGE(D6:D17) -> 0.025166667 | E18: =AVERAGE(E6:E17) -> 0.54166667 | F18: =AVERAGE(F6:F17) -> 36.666667 | G18: =AVERAGE(G6:G17) -> 19.75
A20: 2. 도로변
A21: 월별 | B21: SO2 | C21: NO2 | D21: O3 | E21: CO | F21: PM-10 | G21: PM2.5
B22: (ppm) | C22: (ppm) | D22: (ppm) | E22: (ppm) | F22: (㎍/㎥) | G22: (㎍/㎥)
A23: 1월 | B23: 0.004 | C23: 0.048 | D23: 0.008 | E23: 0.9 | F23: 49 | G23: 29
A24: 2월 | B24: 0.004 | C24: 0.044 | D24: 0.012 | E24: 0.8 | F24: 46 | G24: 28
A25: 3월 | B25: 0.004 | C25: 0.042 | D25: 0.019 | E25: 0.7 | F25: 47 | G25: 24
A26: 4월 | B26: 0.003 | C26: 0.037 | D26: 0.027 | E26: 0.6 | F26: 47 | G26: 20
A27: 5월 | B27: 0.002 | C27: 0.034 | D27: 0.025 | E27: 0.6 | F27: 39 | G27: 18
A28: 6월 | B28: 0.003 | C28: 0.036 | D28: 0.034 | E28: 0.6 | F28: 43 | G28: 22
A29: 7월 | B29: 0.002 | C29: 0.027 | D29: 0.022 | E29: 0.6 | F29: 27 | G29: 14
A30: 8월 | B30: 0.003 | C30: 0.017 | D30: 0.015 | E30: 0.6 | F30: 27 | G30: 14
A31: 9월 | B31: 0.003 | C31: 0.03 | D31: 0.019 | E31: 0.6 | F31: 24 | G31: 12
A32: 10월 | B32: 0.003 | C32: 0.04 | D32: 0.013 | E32: 0.7 | F32: 37 | G32: 18
A33: 11월 | B33: 0.004 | C33: 0.043 | D33: 0.01 | E33: 0.7 | F33: 45 | G33: 23
A34: 12월 | B34: 0.005 | C34: 0.042 | D34: 0.01 | E34: 0.8 | F34: 44 | G34: 26
A35: 평균 | B35: =AVERAGE(B23:B34) -> 0.0033333333 | C35: =AVERAGE(C23:C34) -> 0.036666667 | D35: =AVERAGE(D23:D34) -> 0.017833333 | E35: =AVERAGE(E23:E34) -> 0.68333333 | F35: =AVERAGE(F23:F34) -> 39.583333 | G35: =AVERAGE(G23:G34) -> 20.666667

Sheet SO2
A1: 2026년 SO2 월별 대기오염도 현황
A2: 환경기준 - 연간평균치 0.02ppm이하
A3: 월별 | B3: 생활환경 | I3: 도로변
B4: 단대동 | C4: 정자동 | D4: 수내동 | E4: 복정동 | F4: 운중동 | G4: 상대원동 | H4: 평균 | I4: 성남대로 | J4: 대왕판교로 | K4: 평균
A5: 1월 | B5: 0.0019 | C5: 0.0021 | D5: 0.002 | E5: 0.0022 | F5: 0.0024 | G5: 0.0028 | H5: =AVERAGE(B5:G5) -> 0.0022333333 | I5: 0.0031 | J5: 0.0045 | K5: =AVERAGE(E5:J5) -> 0.0028722222
A6: 2월 | B6: 0.0018 | C6: 0.0021 | D6: 0.0019 | E6: 0.002 | F6: 0.0021 | G6: 0.0026 | H6: =AVERAGE(B6:G6) -> 0.0020833333 | I6: 0.0027 | J6: 0.004 | K6: =AVERAGE(E6:J6) -> 0.0025805556
A7: 3월 | B7: 0.0017 | C7: 0.0018 | D7: 0.0018 | E7: 0.002 | F7: 0.002 | G7: 0.0023 | H7: =AVERAGE(B7:G7) -> 0.0019333333 | I7: 0.0029 | J7: 0.0034 | K7: =AVERAGE(E7:J7) -> 0.0024222222
A8: 4월 | H8: =AVERAGE(B8:G8) -> #DIV/0! | K8: =AVERAGE(E8:J8) -> #DIV/0!
A9: 5월 | H9: =AVERAGE(B9:G9) -> #DIV/0! | K9: =AVERAGE(E9:J9) -> #DIV/0!
A10: 6월 | H10: =AVERAGE(B10:G10) -> #DIV/0! | K10: =AVERAGE(E10:J10) -> #DIV/0!
A11: 7월 | H11: =AVERAGE(B11:G11) -> #DIV/0! | K11: =AVERAGE(E11:J11) -> #DIV/0!
A12: 8월 | H12: =AVERAGE(B12:G12) -> #DIV/0! | K12: =AVERAGE(E12:J12) -> #DIV/0!
A13: 9월 | H13: =AVERAGE(B13:G13) -> #DIV/0! | K13: =AVERAGE(E13:J13) -> #DIV/0!
A14: 10월 | H14: =AVERAGE(B14:G14) -> #DIV/0! | K14: =AVERAGE(E14:J14) -> #DIV/0!
A15: 11월 | H15: =AVERAGE(B15:G15) -> #DIV/0! | K15: =AVERAGE(E15:J15) -> #DIV/0!
A16: 12월 | H16: =AVERAGE(B16:G16) -> #DIV/0! | K16: =AVERAGE(E16:J16) -> #DIV/0!
A17: 평균 | B17: =AVERAGE(B5:B16) -> 0.0018 | C17: =AVERAGE(C5:C16) -> 0.002 | D17: =AVERAGE(D5:D16) -> 0.0019 | E17: =AVERAGE(E5:E16) -> 0.0020666667 | F17: =AVERAGE(F5:F16) -> 0.0021666667 | G17: =AVERAGE(G5:G16) -> 0.0025666667 | H17: =AVERAGE(B17:G17) -> 0.0020833333 | I17: =AVERAGE(I5:I16) -> 0.0029 | J17: =AVERAGE(J5:J16) -> 0.0039666667 | K17: =AVERAGE(I17:J17) -> 0.0034333333

Sheet NO2
A1: 2026년 NO2 월별 대기오염도 현황
A2: 환경기준 - 연간평균치 0.03ppm이하
A3: 월별 | B3: 생활환경 | I3: 도로변
B4: 단대동 | C4: 정자동 | D4: 수내동 | E4: 복정동 | F4: 운중동 | G4: 상대원동 | H4: 평균 | I4: 성남대로 | J4: 대왕판교로 | K4: 평균
A5: 1월 | B5: 0.0166 | C5: 0.0175 | D5: 0.0192 | E5: 0.0176 | F5: 0.0183 | G5: 0.0217 | H5: =AVERAGE(B5:G5) -> 0.018483333 | I5: 0.0286 | J5: 0.0261 | K5: =AVERAGE(E5:J5) -> 0.021797222
A6: 2월 | B6: 0.0168 | C6: 0.0191 | D6: 0.022 | E6: 0.0186 | F6: 0.0213 | G6: 0.0229 | H6: =AVERAGE(B6:G6) -> 0.020116667 | I6: 0.0335 | J6: 0.0295 | K6: =AVERAGE(E6:J6) -> 0.024319444
A7: 3월 | B7: 0.0133 | C7: 0.018 | D7: 0.0194 | E7: 0.0169 | F7: 0.0201 | G7: 0.021 | H7: =AVERAGE(B7:G7) -> 0.018116667 | I7: 0.0328 | J7: 0.0301 | K7: =AVERAGE(E7:J7) -> 0.023169444
A8: 4월 | H8: =AVERAGE(B8:G8) -> #DIV/0! | K8: =AVERAGE(E8:J8) -> #DIV/0!
A9: 5월 | H9: =AVERAGE(B9:G9) -> #DIV/0! | K9: =AVERAGE(E9:J9) -> #DIV/0!
A10: 6월 | H10: =AVERAGE(B10:G10) -> #DIV/0! | K10: =AVERAGE(E10:J10) -> #DIV/0!
A11: 7월 | H11: =AVERAGE(B11:G11) -> #DIV/0! | K11: =AVERAGE(E11:J11) -> #DIV/0!
A12: 8월 | H12: =AVERAGE(B12:G12) -> #DIV/0! | K12: =AVERAGE(E12:J12) -> #DIV/0!
A13: 9월 | H13: =AVERAGE(B13:G13) -> #DIV/0! | K13: =AVERAGE(E13:J13) -> #DIV/0!
A14: 10월 | H14: =AVERAGE(B14:G14) -> #DIV/0! | K14: =AVERAGE(E14:J14) -> #DIV/0!
A15: 11월 | H15: =AVERAGE(B15:G15) -> #DIV/0! | K15: =AVERAGE(E15:J15) -> #DIV/0!
A16: 12월 | H16: =AVERAGE(B16:G16) -> #DIV/0! | K16: =AVERAGE(E16:J16) -> #DIV/0!
A17: 평균 | B17: =AVERAGE(B5:B16) -> 0.015566667 | C17: =AVERAGE(C5:C16) -> 0.0182 | D17: =AVERAGE(D5:D16) -> 0.0202 | E17: =AVERAGE(E5:E16) -> 0.0177 | F17: =AVERAGE(F5:F16) -> 0.0199 | G17: =AVERAGE(G5:G16) -> 0.021866667 | H17: =AVERAGE(B17:G17) -> 0.018905556 | I17: =AVERAGE(I5:I16) -> 0.031633333 | J17: =AVERAGE(J5:J16) -> 0.028566667 | K17: =AVERAGE(I17:J17) -> 0.0301

Sheet O3
A1: 2026년 O3 월별 대기오염도 현황
A2: 환경기준 - 8시간 평균치 0.06ppm이하
A3: 월별 | B3: 생활환경 | I3: 도로변
B4: 단대동 | C4: 정자동 | D4: 수내동 | E4: 복정동 | F4: 운중동 | G4: 상대원동 | H4: 평균 | I4: 성남대로 | J4: 대왕판교로 | K4: 평균
A5: 1월 | B5: 0.0212 | C5: 0.0198 | D5: 0.0189 | E5: 0.0191 | F5: 0.0204 | G5: 0.0211 | H5: =AVERAGE(B5:G5) -> 0.020083333 | I5: 0.0149 | J5: 0.0144 | K5: =AVERAGE(E5:J5) -> 0.018330556
A6: 2월 | B6: 0.032 | C6: 0.0253 | D6: 0.0254 | E6: 0.0246 | F6: 0.024 | G6: 0.0282 | H6: =AVERAGE(B6:G6) -> 0.026583333 | I6: 0.0181 | J6: 0.0177 | K6: =AVERAGE(E6:J6) -> 0.023197222
A7: 3월 | B7: 0.0401 | C7: 0.0359 | D7: 0.0354 | E7: 0.0325 | F7: 0.0367 | G7: 0.0361 | H7: =AVERAGE(B7:G7) -> 0.036116667 | I7: 0.0263 | J7: 0.0258 | K7: =AVERAGE(E7:J7) -> 0.032252778
A8: 4월 | H8: =AVERAGE(B8:G8) -> #DIV/0! | K8: =AVERAGE(E8:J8) -> #DIV/0!
A9: 5월 | H9: =AVERAGE(B9:G9) -> #DIV/0! | K9: =AVERAGE(E9:J9) -> #DIV/0!
A10: 6월 | H10: =AVERAGE(B10:G10) -> #DIV/0! | K10: =AVERAGE(E10:J10) -> #DIV/0!
A11: 7월 | H11: =AVERAGE(B11:G11) -> #DIV/0! | K11: =AVERAGE(E11:J11) -> #DIV/0!
A12: 8월 | H12: =AVERAGE(B12:G12) -> #DIV/0! | K12: =AVERAGE(E12:J12) -> #DIV/0!
A13: 9월 | H13: =AVERAGE(B13:G13) -> #DIV/0! | K13: =AVERAGE(E13:J13) -> #DIV/0!
A14: 10월 | H14: =AVERAGE(B14:G14) -> #DIV/0! | K14: =AVERAGE(E14:J14) -> #DIV/0!
A15: 11월 | H15: =AVERAGE(B15:G15) -> #DIV/0! | K15: =AVERAGE(E15:J15) -> #DIV/0!
A16: 12월 | H16: =AVERAGE(B16:G16) -> #DIV/0! | K16: =AVERAGE(E16:J16) -> #DIV/0!
A17: 평균 | B17: =AVERAGE(B5:B16) -> 0.0311 | C17: =AVERAGE(C5:C16) -> 0.027 | D17: =AVERAGE(D5:D16) -> 0.026566667 | E17: =AVERAGE(E5:E16) -> 0.0254 | F17: =AVERAGE(F5:F16) -> 0.027033333 | G17: =AVERAGE(G5:G16) -> 0.028466667 | H17: =AVERAGE(B17:G17) -> 0.027594444 | I17: =AVERAGE(I5:I16) -> 0.019766667 | J17: =AVERAGE(J5:J16) -> 0.0193 | K17: =AVERAGE(I17:J17) -> 0.019533333

Sheet CO
A1: 2026년 CO 월별 대기오염도 현황
A2: 환경기준 - 8시간 평균치 9ppm이하
A3: 월별 | B3: 생활환경 | I3: 도로변
B4: 단대동 | C4: 정자동 | D4: 수내동 | E4: 복정동 | F4: 운중동 | G4: 상대원동 | H4: 평균 | I4: 성남대로 | J4: 대왕판교로 | K4: 평균
A5: 1월 | B5: 0.5 | C5: 0.48 | D5: 0.46 | E5: 0.46 | F5: 0.43 | G5: 0.5 | H5: =AVERAGE(B5:G5) -> 0.47166667 | I5: 0.57 | J5: 0.56 | K5: =AVERAGE(I5:J5) -> 0.565
A6: 2월 | B6: 0.44 | C6: 0.5 | D6: 0.46 | E6: 0.45 | F6: 0.46 | G6: 0.55 | H6: =AVERAGE(B6:G6) -> 0.47666667 | I6: 0.57 | J6: 0.6 | K6: =AVERAGE(I6:J6) -> 0.585
A7: 3월 | B7: 0.38 | C7: 0.49 | D7: 0.4 | E7: 0.44 | F7: 0.51 | G7: 0.52 | H7: =AVERAGE(B7:G7) -> 0.45666667 | I7: 0.53 | J7: 0.55 | K7: =AVERAGE(I7:J7) -> 0.54
A8: 4월 | H8: =AVERAGE(B8:G8) -> #DIV/0! | K8: =AVERAGE(I8:J8) -> #DIV/0!
A9: 5월 | H9: =AVERAGE(B9:G9) -> #DIV/0! | K9: =AVERAGE(I9:J9) -> #DIV/0!
A10: 6월 | H10: =AVERAGE(B10:G10) -> #DIV/0! | K10: =AVERAGE(I10:J10) -> #DIV/0!
A11: 7월 | H11: =AVERAGE(B11:G11) -> #DIV/0! | K11: =AVERAGE(I11:J11) -> #DIV/0!
A12: 8월 | H12: =AVERAGE(B12:G12) -> #DIV/0! | K12: =AVERAGE(I12:J12) -> #DIV/0!
A13: 9월 | H13: =AVERAGE(B13:G13) -> #DIV/0! | K13: =AVERAGE(I13:J13) -> #DIV/0!
A14: 10월 | H14: =AVERAGE(B14:G14) -> #DIV/0! | K14: =AVERAGE(I14:J14) -> #DIV/0!
A15: 11월 | H15: =AVERAGE(B15:G15) -> #DIV/0! | K15: =AVERAGE(I15:J15) -> #DIV/0!
A16: 12월 | H16: =AVERAGE(B16:G16) -> #DIV/0! | K16: =AVERAGE(I16:J16) -> #DIV/0!
A17: 평균 | B17: =AVERAGE(B5:B16) -> 0.44 | C17: =AVERAGE(C5:C16) -> 0.49 | D17: =AVERAGE(D5:D16) -> 0.44 | E17: =AVERAGE(E5:E16) -> 0.45 | F17: =AVERAGE(F5:F16) -> 0.46666667 | G17: =AVERAGE(G5:G16) -> 0.52333333 | H17: =AVERAGE(B17:G17) -> 0.46833333 | I17: =AVERAGE(I5:I16) -> 0.55666667 | J17: =AVERAGE(J5:J16) -> 0.57 | K17: =AVERAGE(I17:J17) -> 0.56333333

Sheet PM10
A1: 2026년 PM10 월별 대기오염도 현황
A2: 환경기준 - 연간평균치 50㎍/㎥이하
A3: 월별 | B3: 생활환경 | I3: 도로변
B4: 단대동 | C4: 정자동 | D4: 수내동 | E4: 복정동 | F4: 운중동 | G4: 상대원동 | H4: 평균 | I4: 성남대로 | J4: 대왕판교로 | K4: 평균
A5: 1월 | B5: 32 | C5: 34 | D5: 35 | E5: 31 | F5: 38 | G5: 35 | H5: =AVERAGE(B5:G5) -> 34.166667 | I5: 33 | J5: 38 | K5: =AVERAGE(I5:J5) -> 35.5
A6: 2월 | B6: 43 | C6: 48 | D6: 46 | E6: 43 | F6: 50 | G6: 48 | H6: =AVERAGE(B6:G6) -> 46.333333 | I6: 41 | J6: 50 | K6: =AVERAGE(I6:J6) -> 45.5
A7: 3월 | B7: 38 | C7: 43 | D7: 38 | E7: 37 | F7: 44 | G7: 43 | H7: =AVERAGE(B7:G7) -> 40.5 | I7: 40 | J7: 48 | K7: =AVERAGE(I7:J7) -> 44
A8: 4월 | H8: =AVERAGE(B8:G8) -> #DIV/0! | K8: =AVERAGE(I8:J8) -> #DIV/0!
A9: 5월 | H9: =AVERAGE(B9:G9) -> #DIV/0! | K9: =AVERAGE(I9:J9) -> #DIV/0!
A10: 6월 | H10: =AVERAGE(B10:G10) -> #DIV/0! | K10: =AVERAGE(I10:J10) -> #DIV/0!
A11: 7월 | H11: =AVERAGE(B11:G11) -> #DIV/0! | K11: =AVERAGE(I11:J11) -> #DIV/0!
A12: 8월 | H12: =AVERAGE(B12:G12) -> #DIV/0! | K12: =AVERAGE(I12:J12) -> #DIV/0!
A13: 9월 | H13: =AVERAGE(B13:G13) -> #DIV/0! | K13: =AVERAGE(I13:J13) -> #DIV/0!
A14: 10월 | H14: =AVERAGE(B14:G14) -> #DIV/0! | K14: =AVERAGE(I14:J14) -> #DIV/0!
A15: 11월 | H15: =AVERAGE(B15:G15) -> #DIV/0! | K15: =AVERAGE(I15:J15) -> #DIV/0!
A16: 12월 | H16: =AVERAGE(B16:G16) -> #DIV/0! | K16: =AVERAGE(I16:J16) -> #DIV/0!
A17: 평균 | B17: =AVERAGE(B5:B16) -> 37.666667 | C17: =AVERAGE(C5:C16) -> 41.666667 | D17: =AVERAGE(D5:D16) -> 39.666667 | E17: =AVERAGE(E5:E16) -> 37 | F17: =AVERAGE(F5:F16) -> 44 | G17: =AVERAGE(G5:G16) -> 42 | H17: =AVERAGE(B17:G17) -> 40.333333 | I17: =AVERAGE(I5:I16) -> 38 | J17: =AVERAGE(J5:J16) -> 45.333333 | K17: =AVERAGE(I17:J17) -> 41.666667

Sheet PM2.5
A1: 2026년 PM2.5 월별 대기오염도 현황
A2: 환경기준 - 연간평균치 15㎍/㎥이하
A3: 월별 | B3: 생활환경 | I3: 도로변
B4: 단대동 | C4: 정자동 | D4: 수내동 | E4: 복정동 | F4: 운중동 | G4: 상대원동 | H4: 평균 | I4: 성남대로 | J4: 대왕판교로 | K4: 평균
A5: 1월 | B5: 21 | C5: 18 | D5: 22 | E5: 18 | F5: 17 | G5: 19 | H5: =AVERAGE(B5:G5) -> 19.166667 | I5: 18 | J5: 18 | K5: =AVERAGE(E5:J5) -> 18.194444
A6: 2월 | B6: 29 | C6: 26 | D6: 28 | E6: 26 | F6: 23 | G6: 27 | H6: =AVERAGE(B6:G6) -> 26.5 | I6: 24 | J6: 24 | K6: =AVERAGE(E6:J6) -> 25.083333
A7: 3월 | B7: 29 | C7: 27 | D7: 29 | E7: 27 | F7: 25 | G7: 27 | H7: =AVERAGE(B7:G7) -> 27.333333 | I7: 30 | J7: 25 | K7: =AVERAGE(E7:J7) -> 26.888889
A8: 4월 | H8: =AVERAGE(B8:G8) -> #DIV/0! | K8: =AVERAGE(E8:J8) -> #DIV/0!
A9: 5월 | H9: =AVERAGE(B9:G9) -> #DIV/0! | K9: =AVERAGE(E9:J9) -> #DIV/0!
A10: 6월 | H10: =AVERAGE(B10:G10) -> #DIV/0! | K10: =AVERAGE(E10:J10) -> #DIV/0!
A11: 7월 | H11: =AVERAGE(B11:G11) -> #DIV/0! | K11: =AVERAGE(E11:J11) -> #DIV/0!
A12: 8월 | H12: =AVERAGE(B12:G12) -> #DIV/0! | K12: =AVERAGE(E12:J12) -> #DIV/0!
A13: 9월 | H13: =AVERAGE(B13:G13) -> #DIV/0! | K13: =AVERAGE(E13:J13) -> #DIV/0!
A14: 10월 | H14: =AVERAGE(B14:G14) -> #DIV/0! | K14: =AVERAGE(E14:J14) -> #DIV/0!
A15: 11월 | H15: =AVERAGE(B15:G15) -> #DIV/0! | K15: =AVERAGE(E15:J15) -> #DIV/0!
A16: 12월 | H16: =AVERAGE(B16:G16) -> #DIV/0! | K16: =AVERAGE(E16:J16) -> #DIV/0!
A17: 평균 | B17: =AVERAGE(B5:B16) -> 26.333333 | C17: =AVERAGE(C5:C16) -> 23.666667 | D17: =AVERAGE(D5:D16) -> 26.333333 | E17: =AVERAGE(E5:E16) -> 23.666667 | F17: =AVERAGE(F5:F16) -> 21.666667 | G17: =AVERAGE(G5:G16) -> 24.333333 | H17: =AVERAGE(B17:G17) -> 24.333333 | I17: =AVERAGE(I5:I16) -> 24 | J17: =AVERAGE(J5:J16) -> 22.333333 | K17: =AVERAGE(I17:J17) -> 23.166667

Sheet Sheet1
A1: 성남시 대기오염 추이(O3/ NO2)
A3: 년도 | B3: 1998 | C3: 1999 | D3: 2000 | E3: 2001 | F3: 2002 | G3: 2003 | H3: 2004 | I3: 2005 | J3: 2006 | K3: 2007 | L3: 2008 | M3: 2009 | N3: 2010 | O3: 2011 | P3: 2012 | Q3: 2013 | R3: 2014 | S3: 2015 | T3: 2016 | U3: 2017 | V3: 2018 | W3: 2019 | X3: 2020
A4: NO2 | B4: 0.028 | C4: 0.037 | D4: 0.033 | E4: 0.032 | F4: 0.03 | G4: 0.036 | H4: 0.036 | I4: 0.033 | J4: 0.037 | K4: 0.035 | L4: 0.034 | M4: 0.034 | N4: 0.033 | O4: 0.035 | P4: 0.033 | Q4: 0.036 | R4: 0.037 | S4: 0.036 | T4: 0.036 | U4: 0.036 | V4: ='월별 변화 추이 비교'!N7 -> 0.022916667 | W4: 0.029 | X4: 0.025
A5: O3 | B5: 0.017 | C5: 0.017 | D5: 0.016 | E5: 0.017 | F5: 0.017 | G5: 0.017 | H5: 0.018 | I5: 0.017 | J5: 0.02 | K5: 0.019 | L5: 0.018 | M5: 0.018 | N5: 0.018 | O5: 0.02 | P5: 0.021 | Q5: 0.021 | R5: 0.022 | S5: 0.018 | T5: 0.021 | U5: 0.021 | V5: ='월별 변화 추이 비교'!N39 -> 0.027666667 | W5: 0.025 | X5: 0.025
