Workbook

Sheet 1
A1: 2025. 1월 야간 민원실 운영실적
A2: 구분 | B2: 시간 | C2: 월계/누계 | E2: 여 권 민 원 | K2: 제 증 명 발 급 | AA2: 신 고 민 원
E3: 소계 | G3: 접수 | I3: 교부 | K3: 소계 | M3: 주민등·초본 | O3: 인감증명 | Q3: 본인서명 | S3: 제적등·초본 | U3: 가족관계등록 | W3: 어디서나민원 | Y3: 기타 | AA3: 소계 | AC3: 출생·사망 | AE3: 혼인·이혼 | AG3: 전입신고 | AI3: 주민증 | AK3: 정정.재등록
A4: 합계 | B4: 월계 / 누계 | C4: =C12+C20+C28+C36 -> 453 | E4: =SUM(E6:E11) -> 431 | G4: =SUM(G6:G10) -> 195 | I4: =SUM(I6:I10) -> 236 | K4: =K20+K28+K36 -> 2 | M4: =M20+M28+M36 -> 1 | O4: =O20+O28+O36 -> 1 | Q4: =Q20+Q28+Q36 -> 0 | S4: =S20+S28+S36 -> 0 | U4: =U20+U28+U36 -> 0 | W4: =W20+W28+W36 -> 0 | Y4: =Y20+Y28+Y36 -> 0 | AA4: =AA20+AA28+AA36 -> 20 | AC4: =AC20+AC28+AC36 -> 1 | AE4: =AE20+AE28+AE36 -> 19 | AG4: =AG20+AG28+AG36 -> 0 | AI4: =AI20+AI28+AI36 -> 0 | AK4: =AK20+AK28+AK36 -> 0
D5: =D7+D9+D11 -> 453 | F5: =SUM(F7:F11) -> 431 | H5: =SUM(H7:H11) -> 195 | J5: =SUM(J7:J11) -> 236 | L5: =L21+L29+L37 -> 2 | N5: =N21+N29+N37 -> 1 | P5: =P21+P29+P37 -> 1 | R5: =R21+R29+R37 -> 0 | T5: =T21+T29+T37 -> 0 | V5: =V21+V29+V37 -> 0 | X5: =X21+X29+X37 -> 0 | Z5: =Z21+Z29+Z37 -> 0 | AB5: =AB21+AB29+AB37 -> 20 | AD5: =AD21+AD29+AD37 -> 1 | AF5: =AF21+AF29+AF37 -> 19 | AH5: =AH21+AH29+AH37 -> 0 | AJ5: =AJ21+AJ29+AJ37 -> 0 | AL5: =AL21+AL29+AL37 -> 0
B6: 18시~19시 | C6: =C14+C22+C30+C38 -> 249 | E6: =SUM(G6+I6) -> 242 | G6: =G14 -> 104 | I6: =I14 -> 138 | K6: =K22+K30+K38 -> 2 | M6: =M22+M30+M38 -> 1 | O6: =O22+O30+O38 -> 1 | Q6: =Q22+Q30+Q38 -> 0 | S6: =S22+S30+S38 -> 0 | U6: =U22+U30+U38 -> 0 | W6: =W22+W30+W38 -> 0 | Y6: =Y22+Y30+Y38 -> 0 | AA6: =AA22+AA30+AA38 -> 5 | AC6: =AC22+AC30+AC38 -> 0 | AE6: =AE22+AE30+AE38 -> 5 | AG6: =AG22+AG30+AG38 -> 0 | AI6: =AI22+AI30+AI38 -> 0 | AK6: =AK22+AK30+AK38 -> 0
D7: =D15+D23+D31+D39 -> 249 | F7: =SUM(H7:J7) -> 242 | H7: =H15 -> 104 | J7: =J15 -> 138 | L7: =L23+L31+L39 -> 2 | N7: =N23+N31+N39 -> 1 | P7: =P23+P31+P39 -> 1 | R7: =R23+R31+R39 -> 0 | T7: =T23+T31+T39 -> 0 | V7: =V23+V31+V39 -> 0 | X7: =X23+X31+X39 -> 0 | Z7: =Z23+Z31+Z39 -> 0 | AB7: =AB23+AB31+AB39 -> 5 | AD7: =AD23+AD31+AD39 -> 0 | AF7: =AF23+AF31+AF39 -> 5 | AH7: =AH23+AH31+AH39 -> 0 | AJ7: =AJ23+AJ31+AJ39 -> 0 | AL7: =AL23+AL31+AL39 -> 0
B8: 19시~20시 | C8: =C16+C24+C32+C40 -> 204 | E8: =SUM(G8:I8) -> 189 | G8: =G16 -> 91 | I8: =I16 -> 98 | K8: =K24+K32+K40 -> 0 | M8: =M24+M32+M40 -> 0 | O8: =O24+O32+O40 -> 0 | Q8: =Q24+Q32+Q40 -> 0 | S8: =S24+S32+S40 -> 0 | U8: =U24+U32+U40 -> 0 | W8: =W24+W32+W40 -> 0 | Y8: =Y24+Y32+Y40 -> 0 | AA8: =AA24+AA32+AA40 -> 15 | AC8: =AC24+AC32+AC40 -> 1 | AE8: =AE24+AE32+AE40 -> 14 | AG8: =AG24+AG32+AG40 -> 0 | AI8: =AI24+AI32+AI40 -> 0 | AK8: =AK24+AK32+AK40 -> 0
D9: =D17+D25+D33+D41 -> 204 | F9: =SUM(H9:J9) -> 189 | H9: =H17 -> 91 | J9: =J17 -> 98 | L9: =L25+L33+L41 -> 0 | N9: =N25+N33+N41 -> 0 | P9: =P25+P33+P41 -> 0 | R9: =R25+R33+R41 -> 0 | T9: =T25+T33+T41 -> 0 | V9: =V25+V33+V41 -> 0 | X9: =X25+X33+X41 -> 0 | Z9: =Z25+Z33+Z41 -> 0 | AB9: =AB25+AB33+AB41 -> 15 | AD9: =AD25+AD33+AD41 -> 1 | AF9: =AF25+AF33+AF41 -> 14 | AH9: =AH25+AH33+AH41 -> 0 | AJ9: =AJ25+AJ33+AJ41 -> 0 | AL9: =AL25+AL33+AL41 -> 0
B10: 20시~21시 | C10: =C18+C26+C34+C42 -> 0 | E10: =SUM(G10:I10) -> 0 | G10: =G18 -> 0 | I10: =I18 -> 0 | K10: =K26+K34+K42 -> 0 | M10: =M26+M34+M42 -> 0 | O10: =O26+O34+O42 -> 0 | Q10: =Q26+Q34+Q42 -> 0 | S10: =S26+S34+S42 -> 0 | U10: =U26+U34+U42 -> 0 | W10: =W26+W34+W42 -> 0 | Y10: =Y26+Y34+Y42 -> 0 | AA10: =AA26+AA34+AA42 -> 0 | AC10: =AC26+AC34+AC42 -> 0 | AE10: =AE26+AE34+AE42 -> 0 | AG10: =AG26+AG34+AG42 -> 0 | AI10: =AI26+AI34+AI42 -> 0 | AK10: =AK26+AK34+AK42 -> 0
D11: =D19+D27+D35+D43 -> 0 | F11: =SUM(H11:J11) -> 0 | H11: =H19 -> 0 | J11: =J19 -> 0 | L11: =L27+L35+L43 -> 0 | N11: =N27+N35+N43 -> 0 | P11: =P27+P35+P43 -> 0 | R11: =R27+R35+R43 -> 0 | T11: =T27+T35+T43 -> 0 | V11: =V27+V35+V43 -> 0 | X11: =X27+X35+X43 -> 0 | Z11: =Z27+Z35+Z43 -> 0 | AB11: =AB27+AB35+AB43 -> 0 | AD11: =AD27+AD35+AD43 -> 0 | AF11: =AF27+AF35+AF43 -> 0 | AH11: =AH27+AH35+AH43 -> 0 | AJ11: =AJ27+AJ35+AJ43 -> 0 | AL11: =AL27+AL35+AL43 -> 0
A12: 여권민원실 | B12: 계 | C12: =E12 -> 431 | E12: =SUM(E14:E19) -> 431 | G12: =SUM(G14:G18) -> 195 | I12: =SUM(I14:I18) -> 236
D13: =F13 -> 431 | F13: =SUM(F15:F19) -> 431 | H13: =SUM(H15:H19) -> 195 | J13: =SUM(J15:J19) -> 236
B14: 18시~19시 | C14: =E14 -> 242 | E14: =SUM(G14+I14) -> 242 | G14: 104 | I14: 138
D15: =F15 -> 242 | F15: =SUM(H15:J15) -> 242 | H15: =G14 -> 104 | J15: =I14 -> 138
B16: 19시~20시 | C16: =E16 -> 189 | E16: =SUM(G16:I16) -> 189 | G16: 91 | I16: 98
D17: =F17 -> 189 | F17: =SUM(H17:J17) -> 189 | H17: =G16 -> 91 | J17: =I16 -> 98
B18: 20시~21시 | C18: =E18 -> 0 | E18: =SUM(G18:I18) -> 0 | G18: 0 | I18: 0
D19: =F19 -> 0 | F19: =SUM(H19:J19) -> 0 | H19: =G18 -> 0 | J19: =I18 -> 0
A20: 수정구 | B20: 계 | C20: =SUM(C22:C26) -> 2 | K20: =SUM(M20:Z20) -> 0 | M20: =SUM(M22:M27) -> 0 | O20: =SUM(O22:O27) -> 0 | Q20: =SUM(Q22:Q27) -> 0 | S20: =SUM(S22:S27) -> 0 | U20: =SUM(U22:U27) -> 0 | W20: =SUM(W22:W27) -> 0 | Y20: =SUM(Y22:Y27) -> 0 | AA20: =SUM(AA22:AA27) -> 2 | AC20: =SUM(AC22:AC27) -> 1 | AE20: =SUM(AE22:AE27) -> 1 | AG20: =SUM(AG22:AG27) -> 0 | AI20: =SUM(AI22:AI27) -> 0 | AK20: =SUM(AK22:AK27) -> 0
D21: =SUM(D23:D27) -> 2 | L21: =SUM(N21:Z21) -> 0 | N21: =SUM(N23:N27) -> 0 | P21: =SUM(P23:P27) -> 0 | R21: =SUM(R23:R27) -> 0 | T21: =SUM(T23:T27) -> 0 | V21: =SUM(V23:V27) -> 0 | X21: =SUM(X23:X27) -> 0 | Z21: =SUM(Z23:Z27) -> 0 | AB21: =SUM(AB23:AB27) -> 2 | AD21: =SUM(AD23:AD27) -> 1 | AF21: =SUM(AF23:AF27) -> 1 | AH21: =SUM(AH23:AH27) -> 0 | AJ21: =SUM(AJ23:AJ27) -> 0 | AL21: =SUM(AL23:AL27) -> 0
B22: 18시~19시 | C22: =K22+AA22 -> 0 | K22: =SUM(M22:Z22) -> 0 | M22: 0 | O22: 0 | Q22: 0 | S22: 0 | U22: 0 | W22: 0 | Y22: 0 | AA22: =SUM(AC22:AL22) -> 0 | AC22: 0 | AE22: 0 | AG22: 0 | AI22: 0 | AK22: 0
D23: =L23+AB23 -> 0 | L23: =SUM(N23:Z23) -> 0 | N23: =M22 -> 0 | P23: =O22 -> 0 | R23: =Q22 -> 0 | T23: =S22 -> 0 | V23: =U22 -> 0 | X23: =W22 -> 0 | Z23: =Y22 -> 0 | AB23: =AD23+AF23+AH23+AJ23+AL23 -> 0 | AD23: =AC22 -> 0 | AF23: =AE22 -> 0 | AH23: =AG22 -> 0 | AJ23: =AI22 -> 0 | AL23: =AK22 -> 0
B24: 19시~20시 | C24: =K24+AA24 -> 2 | K24: =SUM(M24:Z24) -> 0 | M24: 0 | O24: 0 | Q24: 0 | S24: 0 | U24: 0 | W24: 0 | Y24: 0 | AA24: =SUM(AC24:AK24) -> 2 | AC24: 1 | AE24: 1 | AG24: 0 | AI24: 0 | AK24: 0
D25: =L25+AB25 -> 2 | L25: =SUM(N25:Z25) -> 0 | N25: =M24 -> 0 | P25: =O24 -> 0 | R25: =Q24 -> 0 | T25: =S24 -> 0 | V25: =U24 -> 0 | X25: =W24 -> 0 | Z25: =Y24 -> 0 | AB25: =AD25+AF25+AH25+AJ25+AL25 -> 2 | AD25: =AC24 -> 1 | AF25: =AE24 -> 1 | AH25: =AG24 -> 0 | AJ25: =AI24 -> 0 | AL25: =AK24 -> 0
B26: 20시~21시 | C26: =K26+AA26 -> 0 | K26: =SUM(M26:Z26) -> 0 | M26: 0 | O26: 0 | Q26: 0 | S26: 0 | U26: 0 | W26: 0 | Y26: 0 | AA26: =SUM(AC26:AL26) -> 0 | AC26: 0 | AE26: 0 | AG26: 0 | AI26: 0 | AK26: 0
D27: =L27+AB26:AB27 -> 0 | L27: =SUM(N27:Z27) -> 0 | N27: =M26 -> 0 | P27: =O26 -> 0 | R27: =Q26 -> 0 | T27: =S26 -> 0 | V27: =U26 -> 0 | X27: =W26 -> 0 | Z27: =Y26 -> 0 | AB27: =AD27+AF27+AH27+AJ27+AL27 -> 0 | AD27: =AC26 -> 0 | AF27: =AE26 -> 0 | AH27: =AG26 -> 0 | AJ27: =AI26 -> 0 | AL27: =AK26 -> 0
A28: 중원구 | B28: 계 | C28: =SUM(C30:C34) -> 7 | K28: =SUM(M28:Z28) -> 2 | M28: =SUM(M30:M35) -> 1 | O28: =SUM(O30:O35) -> 1 | Q28: =SUM(Q30:Q35) -> 0 | S28: =SUM(S30:S35) -> 0 | U28: =SUM(U30:U35) -> 0 | W28: =SUM(W30:W35) -> 0 | Y28: =SUM(Y30:Y35) -> 0 | AA28: =SUM(AA30:AA35) -> 5 | AC28: =SUM(AC30:AC35) -> 0 | AE28: =SUM(AE30:AE35) -> 5 | AG28: =SUM(AG30:AG35) -> 0 | AI28: =SUM(AI30:AI35) -> 0 | AK28: =SUM(AK30:AK35) -> 0
D29: =SUM(D31:D35) -> 7 | L29: =SUM(N29:Z29) -> 2 | N29: =SUM(N31:N35) -> 1 | P29: =SUM(P31:P35) -> 1 | R29: =SUM(R31:R35) -> 0 | T29: =SUM(T31:T35) -> 0 | V29: =SUM(V31:V35) -> 0 | X29: =SUM(X31:X35) -> 0 | Z29: =SUM(Z31:Z35) -> 0 | AB29: =SUM(AB31:AB35) -> 5 | AD29: =SUM(AD31:AD35) -> 0 | AF29: =SUM(AF31:AF35) -> 5 | AH29: =SUM(AH31:AH35) -> 0 | AJ29: =SUM(AJ31:AJ35) -> 0 | AL29: =SUM(AL31:AL35) -> 0
B30: 18시~19시 | C30: =K30+AA30 -> 4 | K30: =SUM(M30:Z30) -> 2 | M30: 1 | O30: 1 | Q30: 0 | S30: 0 | U30: 0 | W30: 0 | Y30: 0 | AA30: =SUM(AC30:AL30) -> 2 | AC30: 0 | AE30: 2 | AG30: 0 | AI30: 0 | AK30: 0
D31: =L31+AB31 -> 4 | L31: =SUM(N31:Z31) -> 2 | N31: =M30 -> 1 | P31: =O30 -> 1 | R31: =Q30 -> 0 | T31: =S30 -> 0 | V31: =U30 -> 0 | X31: =W30 -> 0 | Z31: =Y30 -> 0 | AB31: =AD31+AF31+AH31+AJ31+AL31 -> 2 | AD31: =AC30 -> 0 | AF31: =AE30 -> 2 | AH31: =AG30 -> 0 | AJ31: =AI30 -> 0 | AL31: =AK30 -> 0
B32: 19시~20시 | C32: =K32+AA32 -> 3 | K32: =SUM(M32:Z32) -> 0 | M32: 0 | O32: 0 | Q32: 0 | S32: 0 | U32: 0 | W32: 0 | Y32: 0 | AA32: =SUM(AC32:AK32) -> 3 | AC32: 0 | AE32: 3 | AG32: 0 | AI32: 0 | AK32: 0
D33: =L33+AB33 -> 3 | L33: =SUM(N33:Z33) -> 0 | N33: =M32 -> 0 | P33: =O32 -> 0 | R33: =Q32 -> 0 | T33: =S32 -> 0 | V33: =U32 -> 0 | X33: =W32 -> 0 | Z33: =Y32 -> 0 | AB33: =AD33+AF33+AH33+AJ33+AL33 -> 3 | AD33: =AC32 -> 0 | AF33: =AE32 -> 3 | AH33: =AG32 -> 0 | AJ33: =AI32 -> 0 | AL33: =AK32 -> 0
B34: 20시~21시 | C34: =K34+AA34 -> 0 | K34: =SUM(M34:Z34) -> 0 | M34: 0 | O34: 0 | Q34: 0 | S34: 0 | U34: 0 | W34: 0 | Y34: 0 | AA34: =SUM(AC34:AL34) -> 0 | AC34: 0 | AE34: 0 | AG34: 0 | AI34: 0 | AK34: 0
D35: =L35+AB34:AB35 -> 0 | L35: =SUM(N35:Z35) -> 0 | N35: =M34 -> 0 | P35: =O34 -> 0 | R35: =Q34 -> 0 | T35: =S34 -> 0 | V35: =U34 -> 0 | X35: =W34 -> 0 | Z35: =Y34 -> 0 | AB35: =AD35+AF35+AH35+AJ35+AL35 -> 0 | AD35: =AC34 -> 0 | AF35: =AE34 -> 0 | AH35: =AG34 -> 0 | AJ35: =AI34 -> 0 | AL35: =AK34 -> 0
A36: 분당구 | B36: 계 | C36: =SUM(C38:C42) -> 13 | K36: =SUM(M36:Z36) -> 0 | M36: =SUM(M38:M43) -> 0 | O36: =SUM(O38:O43) -> 0 | Q36: =SUM(Q38:Q43) -> 0 | S36: =SUM(S38:S43) -> 0 | U36: =SUM(U38:U43) -> 0 | W36: =SUM(W38:W43) -> 0 | Y36: =SUM(Y38:Y43) -> 0 | AA36: =SUM(AA38:AA43) -> 13 | AC36: =SUM(AC38:AC43) -> 0 | AE36: =SUM(AE38:AE43) -> 13 | AG36: =SUM(AG38:AG43) -> 0 | AI36: =SUM(AI38:AI43) -> 0 | AK36: =SUM(AK38:AK43) -> 0
D37: =SUM(D39:D43) -> 13 | L37: =SUM(N37:Z37) -> 0 | N37: =SUM(N39:N43) -> 0 | P37: =SUM(P39:P43) -> 0 | R37: =SUM(R39:R43) -> 0 | T37: =SUM(T39:T43) -> 0 | V37: =SUM(V39:V43) -> 0 | X37: =SUM(X39:X43) -> 0 | Z37: =SUM(Z39:Z43) -> 0 | AB37: =SUM(AB39:AB43) -> 13 | AD37: =SUM(AD39:AD43) -> 0 | AF37: =SUM(AF39:AF43) -> 13 | AH37: =SUM(AH39:AH43) -> 0 | AJ37: =SUM(AJ39:AJ43) -> 0 | AL37: =SUM(AL39:AL43) -> 0
B38: 18시~19시 | C38: =K38+AA38 -> 3 | K38: =SUM(M38:Z38) -> 0 | M38: 0 | O38: 0 | Q38: 0 | S38: 0 | U38: 0 | W38: 0 | Y38: 0 | AA38: =SUM(AC38:AL38) -> 3 | AC38: 0 | AE38: 3 | AG38: 0 | AI38: 0 | AK38: 0
D39: =L39+AB39 -> 3 | L39: =SUM(N39:Z39) -> 0 | N39: =M38 -> 0 | P39: =O38 -> 0 | R39: =Q38 -> 0 | T39: =S38 -> 0 | V39: =U38 -> 0 | X39: =W38 -> 0 | Z39: =Y38 -> 0 | AB39: =AD39+AF39+AH39+AJ39+AL39 -> 3 | AD39: =AC38 -> 0 | AF39: =AE38 -> 3 | AH39: =AG38 -> 0 | AJ39: =AI38 -> 0 | AL39: =AK38 -> 0
B40: 19시~20시 | C40: =K40+AA40 -> 10 | K40: =SUM(M40:Z40) -> 0 | M40: 0 | O40: 0 | Q40: 0 | S40: 0 | U40: 0 | W40: 0 | Y40: 0 | AA40: =SUM(AC40:AK40) -> 10 | AC40: 0 | AE40: 10 | AG40: 0 | AI40: 0 | AK40: 0
D41: =L41+AB41 -> 10 | L41: =SUM(N41:Z41) -> 0 | N41: =M40 -> 0 | P41: =O40 -> 0 | R41: =Q40 -> 0 | T41: =S40 -> 0 | V41: =U40 -> 0 | X41: =W40 -> 0 | Z41: =Y40 -> 0 | AB41: =AD41+AF41+AH41+AJ41+AL41 -> 10 | AD41: =AC40 -> 0 | AF41: =AE40 -> 10 | AH41: =AG40 -> 0 | AJ41: =AI40 -> 0 | AL41: =AK40 -> 0
B42: 20시~21시 | C42: =K42+AA42 -> 0 | K42: =SUM(M42:Z42) -> 0 | M42: 0 | O42: 0 | Q42: 0 | S42: 0 | U42: 0 | W42: 0 | Y42: 0 | AA42: =SUM(AC42:AL42) -> 0 | AC42: 0 | AE42: 0 | AG42: 0 | AI42: 0 | AK42: 0
D43: =L43+AB42:AB43 -> 0 | L43: =SUM(N43:Z43) -> 0 | N43: =M42 -> 0 | P43: =O42 -> 0 | R43: =Q42 -> 0 | T43: =S42 -> 0 | V43: =U42 -> 0 | X43: =W42 -> 0 | Z43: =Y42 -> 0 | AB43: =AD43+AF43+AH43+AJ43+AL43 -> 0 | AD43: =AC42 -> 0 | AF43: =AE42 -> 0 | AH43: =AG42 -> 0 | AJ43: =AI42 -> 0 | AL43: =AK42 -> 0
AL44: .

Sheet 2
A1: 2025. 2월 야간 민원실 운영실적
A2: 구분 | B2: 시간 | C2: 월계/누계 | E2: 여 권 민 원 | K2: 제 증 명 발 급 | AA2: 신 고 민 원
E3: 소계 | G3: 접수 | I3: 교부 | K3: 소계 | M3: 주민등·초본 | O3: 인감증명 | Q3: 본인서명 | S3: 제적등·초본 | U3: 가족관계등록 | W3: 어디서나민원 | Y3: 기타 | AA3: 소계 | AC3: 출생·사망 | AE3: 혼인·이혼 | AG3: 전입신고 | AI3: 주민증 | AK3: 정정.재등록
A4: 합계 | B4: 월계 / 누계 | C4: =C12+C20+C28+C36 -> 545 | E4: =SUM(E6:E11) -> 482 | G4: =SUM(G6:G10) -> 229 | I4: =SUM(I6:I10) -> 253 | K4: =K20+K28+K36 -> 42 | M4: =M20+M28+M36 -> 3 | O4: =O20+O28+O36 -> 22 | Q4: =Q20+Q28+Q36 -> 14 | S4: =S20+S28+S36 -> 0 | U4: =U20+U28+U36 -> 3 | W4: =W20+W28+W36 -> 0 | Y4: =Y20+Y28+Y36 -> 0 | AA4: =AA20+AA28+AA36 -> 21 | AC4: =AC20+AC28+AC36 -> 0 | AE4: =AE20+AE28+AE36 -> 21 | AG4: =AG20+AG28+AG36 -> 0 | AI4: =AI20+AI28+AI36 -> 0 | AK4: =AK20+AK28+AK36 -> 0
D5: =D7+D9+D11 -> 998 | F5: =SUM(F7:F11) -> 913 | H5: =SUM(H7:H11) -> 424 | J5: =SUM(J7:J11) -> 489 | L5: =L21+L29+L37 -> 44 | N5: =N21+N29+N37 -> 4 | P5: =P21+P29+P37 -> 23 | R5: =R21+R29+R37 -> 14 | T5: =T21+T29+T37 -> 0 | V5: =V21+V29+V37 -> 3 | X5: =X21+X29+X37 -> 0 | Z5: =Z21+Z29+Z37 -> 0 | AB5: =AB21+AB29+AB37 -> 41 | AD5: =AD21+AD29+AD37 -> 1 | AF5: =AF21+AF29+AF37 -> 40 | AH5: =AH21+AH29+AH37 -> 0 | AJ5: =AJ21+AJ29+AJ37 -> 0 | AL5: =AL21+AL29+AL37 -> 0
B6: 18시~19시 | C6: =C14+C22+C30+C38 -> 352 | E6: =SUM(G6+I6) -> 304 | G6: =G14 -> 136 | I6: =I14 -> 168 | K6: =K22+K30+K38 -> 42 | M6: =M22+M30+M38 -> 3 | O6: =O22+O30+O38 -> 22 | Q6: =Q22+Q30+Q38 -> 14 | S6: =S22+S30+S38 -> 0 | U6: =U22+U30+U38 -> 3 | W6: =W22+W30+W38 -> 0 | Y6: =Y22+Y30+Y38 -> 0 | AA6: =AA22+AA30+AA38 -> 6 | AC6: =AC22+AC30+AC38 -> 0 | AE6: =AE22+AE30+AE38 -> 6 | AG6: =AG22+AG30+AG38 -> 0 | AI6: =AI22+AI30+AI38 -> 0 | AK6: =AK22+AK30+AK38 -> 0
D7: =D15+D23+D31+D39 -> 601 | F7: =SUM(H7:J7) -> 546 | H7: =H15 -> 240 | J7: =J15 -> 306 | L7: =L23+L31+L39 -> 44 | N7: =N23+N31+N39 -> 4 | P7: =P23+P31+P39 -> 23 | R7: =R23+R31+R39 -> 14 | T7: =T23+T31+T39 -> 0 | V7: =V23+V31+V39 -> 3 | X7: =X23+X31+X39 -> 0 | Z7: =Z23+Z31+Z39 -> 0 | AB7: =AB23+AB31+AB39 -> 11 | AD7: =AD23+AD31+AD39 -> 0 | AF7: =AF23+AF31+AF39 -> 11 | AH7: =AH23+AH31+AH39 -> 0 | AJ7: =AJ23+AJ31+AJ39 -> 0 | AL7: =AL23+AL31+AL39 -> 0
B8: 19시~20시 | C8: =C16+C24+C32+C40 -> 193 | E8: =SUM(G8:I8) -> 178 | G8: =G16 -> 93 | I8: =I16 -> 85 | K8: =K24+K32+K40 -> 0 | M8: =M24+M32+M40 -> 0 | O8: =O24+O32+O40 -> 0 | Q8: =Q24+Q32+Q40 -> 0 | S8: =S24+S32+S40 -> 0 | U8: =U24+U32+U40 -> 0 | W8: =W24+W32+W40 -> 0 | Y8: =Y24+Y32+Y40 -> 0 | AA8: =AA24+AA32+AA40 -> 15 | AC8: =AC24+AC32+AC40 -> 0 | AE8: =AE24+AE32+AE40 -> 15 | AG8: =AG24+AG32+AG40 -> 0 | AI8: =AI24+AI32+AI40 -> 0 | AK8: =AK24+AK32+AK40 -> 0
D9: =D17+D25+D33+D41 -> 397 | F9: =SUM(H9:J9) -> 367 | H9: =H17 -> 184 | J9: =J17 -> 183 | L9: =L25+L33+L41 -> 0 | N9: =N25+N33+N41 -> 0 | P9: =P25+P33+P41 -> 0 | R9: =R25+R33+R41 -> 0 | T9: =T25+T33+T41 -> 0 | V9: =V25+V33+V41 -> 0 | X9: =X25+X33+X41 -> 0 | Z9: =Z25+Z33+Z41 -> 0 | AB9: =AB25+AB33+AB41 -> 30 | AD9: =AD25+AD33+AD41 -> 1 | AF9: =AF25+AF33+AF41 -> 29 | AH9: =AH25+AH33+AH41 -> 0 | AJ9: =AJ25+AJ33+AJ41 -> 0 | AL9: =AL25+AL33+AL41 -> 0
B10: 20시~21시 | C10: =C18+C26+C34+C42 -> 0 | E10: =SUM(G10:I10) -> 0 | G10: =G18 -> 0 | I10: =I18 -> 0 | K10: =K26+K34+K42 -> 0 | M10: =M26+M34+M42 -> 0 | O10: =O26+O34+O42 -> 0 | Q10: =Q26+Q34+Q42 -> 0 | S10: =S26+S34+S42 -> 0 | U10: =U26+U34+U42 -> 0 | W10: =W26+W34+W42 -> 0 | Y10: =Y26+Y34+Y42 -> 0 | AA10: =AA26+AA34+AA42 -> 0 | AC10: =AC26+AC34+AC42 -> 0 | AE10: =AE26+AE34+AE42 -> 0 | AG10: =AG26+AG34+AG42 -> 0 | AI10: =AI26+AI34+AI42 -> 0 | AK10: =AK26+AK34+AK42 -> 0
D11: =D19+D27+D35+D43 -> 0 | F11: =SUM(H11:J11) -> 0 | H11: =H19 -> 0 | J11: =J19 -> 0 | L11: =L27+L35+L43 -> 0 | N11: =N27+N35+N43 -> 0 | P11: =P27+P35+P43 -> 0 | R11: =R27+R35+R43 -> 0 | T11: =T27+T35+T43 -> 0 | V11: =V27+V35+V43 -> 0 | X11: =X27+X35+X43 -> 0 | Z11: =Z27+Z35+Z43 -> 0 | AB11: =AB27+AB35+AB43 -> 0 | AD11: =AD27+AD35+AD43 -> 0 | AF11: =AF27+AF35+AF43 -> 0 | AH11: =AH27+AH35+AH43 -> 0 | AJ11: =AJ27+AJ35+AJ43 -> 0 | AL11: =AL27+AL35+AL43 -> 0
A12: 여권민원실 | B12: 계 | C12: =E12 -> 482 | E12: =SUM(E14:E19) -> 482 | G12: =SUM(G14:G18) -> 229 | I12: =SUM(I14:I18) -> 253
D13: =F13 -> 913 | F13: =SUM(F15:F19) -> 913 | H13: =SUM(H15:H19) -> 424 | J13: =SUM(J15:J19) -> 489
B14: 18시~19시 | C14: =E14 -> 304 | E14: =SUM(G14+I14) -> 304 | G14: 136 | I14: 168
D15: =F15 -> 546 | F15: =SUM(H15:J15) -> 546 | H15: =SUM('[1]1'!H15,'2'!G14) -> 240 | J15: =SUM('[1]1'!J15,'2'!I14) -> 306
B16: 19시~20시 | C16: =E16 -> 178 | E16: =SUM(G16:I16) -> 178 | G16: 93 | I16: 85
D17: =F17 -> 367 | F17: =SUM(H17:J17) -> 367 | H17: =SUM('[1]1'!H17,'2'!G16) -> 184 | J17: =SUM('[1]1'!J17,'2'!I16) -> 183
B18: 20시~21시 | C18: =E18 -> 0 | E18: =SUM(G18:I18) -> 0 | G18: 0 | I18: 0
D19: =F19 -> 0 | F19: =SUM(H19:J19) -> 0 | H19: =SUM('[1]1'!H19,'2'!G18) -> 0 | J19: =SUM('[1]1'!J19,'2'!I18) -> 0
A20: 수정구 | B20: 계 | C20: =SUM(C22:C26) -> 41 | K20: =SUM(M20:Z20) -> 38 | M20: =SUM(M22:M27) -> 2 | O20: =SUM(O22:O27) -> 20 | Q20: =SUM(Q22:Q27) -> 14 | S20: =SUM(S22:S27) -> 0 | U20: =SUM(U22:U27) -> 2 | W20: =SUM(W22:W27) -> 0 | Y20: =SUM(Y22:Y27) -> 0 | AA20: =SUM(AA22:AA27) -> 3 | AC20: =SUM(AC22:AC27) -> 0 | AE20: =SUM(AE22:AE27) -> 3 | AG20: =SUM(AG22:AG27) -> 0 | AI20: =SUM(AI22:AI27) -> 0 | AK20: =SUM(AK22:AK27) -> 0
D21: =SUM(D23:D27) -> 43 | L21: =SUM(N21:Z21) -> 38 | N21: =SUM(N23:N27) -> 2 | P21: =SUM(P23:P27) -> 20 | R21: =SUM(R23:R27) -> 14 | T21: =SUM(T23:T27) -> 0 | V21: =SUM(V23:V27) -> 2 | X21: =SUM(X23:X27) -> 0 | Z21: =SUM(Z23:Z27) -> 0 | AB21: =SUM(AB23:AB27) -> 5 | AD21: =SUM(AD23:AD27) -> 1 | AF21: =SUM(AF23:AF27) -> 4 | AH21: =SUM(AH23:AH27) -> 0 | AJ21: =SUM(AJ23:AJ27) -> 0 | AL21: =SUM(AL23:AL27) -> 0
B22: 18시~19시 | C22: =K22+AA22 -> 39 | K22: =SUM(M22:Z22) -> 38 | M22: 2 | O22: 20 | Q22: 14 | S22: 0 | U22: 2 | W22: 0 | Y22: 0 | AA22: =SUM(AC22:AL22) -> 1 | AC22: 0 | AE22: 1 | AG22: 0 | AI22: 0 | AK22: 0
D23: =L23+AB23 -> 39 | L23: =SUM(N23:Z23) -> 38 | N23: =M22 -> 2 | P23: =O22 -> 20 | R23: =Q22 -> 14 | T23: =S22 -> 0 | V23: =U22 -> 2 | X23: =W22 -> 0 | Z23: =Y22 -> 0 | AB23: =AD23+AF23+AH23+AJ23+AL23 -> 1 | AD23: =AC22 -> 0 | AF23: =AE22 -> 1 | AH23: =AG22 -> 0 | AJ23: =AI22 -> 0 | AL23: =AK22 -> 0
B24: 19시~20시 | C24: =K24+AA24 -> 2 | K24: =SUM(M24:Z24) -> 0 | M24: 0 | O24: 0 | Q24: 0 | S24: 0 | U24: 0 | W24: 0 | Y24: 0 | AA24: =SUM(AC24:AK24) -> 2 | AC24: 0 | AE24: 2 | AG24: 0 | AI24: 0 | AK24: 0
D25: =L25+AB25 -> 4 | L25: =SUM(N25:Z25) -> 0 | N25: =M24 -> 0 | P25: =O24 -> 0 | R25: =Q24 -> 0 | T25: =S24 -> 0 | V25: =U24 -> 0 | X25: =W24 -> 0 | Z25: =Y24 -> 0 | AB25: =AD25+AF25+AH25+AJ25+AL25 -> 4 | AD25: 1 | AF25: 3 | AH25: =AG24 -> 0 | AJ25: =AI24 -> 0 | AL25: =AK24 -> 0
B26: 20시~21시 | C26: =K26+AA26 -> 0 | K26: =SUM(M26:Z26) -> 0 | M26: 0 | O26: 0 | Q26: 0 | S26: 0 | U26: 0 | W26: 0 | Y26: 0 | AA26: =SUM(AC26:AL26) -> 0 | AC26: 0 | AE26: 0 | AG26: 0 | AI26: 0 | AK26: 0
D27: =L27+AB26:AB27 -> 0 | L27: =SUM(N27:Z27) -> 0 | N27: =M26 -> 0 | P27: =O26 -> 0 | R27: =Q26 -> 0 | T27: =S26 -> 0 | V27: =U26 -> 0 | X27: =W26 -> 0 | Z27: =Y26 -> 0 | AB27: =AD27+AF27+AH27+AJ27+AL27 -> 0 | AD27: =AC26 -> 0 | AF27: =AE26 -> 0 | AH27: =AG26 -> 0 | AJ27: =AI26 -> 0 | AL27: =AK26 -> 0
A28: 중원구 | B28: 계 | C28: =SUM(C30:C34) -> 10 | K28: =SUM(M28:Z28) -> 4 | M28: =SUM(M30:M35) -> 1 | O28: =SUM(O30:O35) -> 2 | Q28: =SUM(Q30:Q35) -> 0 | S28: =SUM(S30:S35) -> 0 | U28: =SUM(U30:U35) -> 1 | W28: =SUM(W30:W35) -> 0 | Y28: =SUM(Y30:Y35) -> 0 | AA28: =SUM(AA30:AA35) -> 6 | AC28: =SUM(AC30:AC35) -> 0 | AE28: =SUM(AE30:AE35) -> 6 | AG28: =SUM(AG30:AG35) -> 0 | AI28: =SUM(AI30:AI35) -> 0 | AK28: =SUM(AK30:AK35) -> 0
D29: =SUM(D31:D35) -> 17 | L29: =SUM(N29:Z29) -> 6 | N29: =SUM(N31:N35) -> 2 | P29: =SUM(P31:P35) -> 3 | R29: =SUM(R31:R35) -> 0 | T29: =SUM(T31:T35) -> 0 | V29: =SUM(V31:V35) -> 1 | X29: =SUM(X31:X35) -> 0 | Z29: =SUM(Z31:Z35) -> 0 | AB29: =SUM(AB31:AB35) -> 11 | AD29: =SUM(AD31:AD35) -> 0 | AF29: =SUM(AF31:AF35) -> 11 | AH29: =SUM(AH31:AH35) -> 0 | AJ29: =SUM(AJ31:AJ35) -> 0 | AL29: =SUM(AL31:AL35) -> 0
B30: 18시~19시 | C30: =K30+AA30 -> 6 | K30: =SUM(M30:Z30) -> 4 | M30: 1 | O30: 2 | Q30: 0 | S30: 0 | U30: 1 | W30: 0 | Y30: 0 | AA30: =SUM(AC30:AL30) -> 2 | AC30: 0 | AE30: 2 | AG30: 0 | AI30: 0 | AK30: 0
D31: =L31+AB31 -> 10 | L31: =SUM(N31:Z31) -> 6 | N31: =SUM('[2]1'!N31,'[2]2'!M30) -> 2 | P31: =SUM('[2]1'!P31,'[2]2'!O30) -> 3 | R31: =Q30 -> 0 | T31: =S30 -> 0 | V31: =SUM('[2]1'!V31,'[2]2'!U30) -> 1 | X31: =W30 -> 0 | Z31: =Y30 -> 0 | AB31: =AD31+AF31+AH31+AJ31+AL31 -> 4 | AD31: =AC30 -> 0 | AF31: =SUM('[2]1'!AF31,'[2]2'!AE30) -> 4 | AH31: =AG30 -> 0 | AJ31: =AI30 -> 0 | AL31: =AK30 -> 0
B32: 19시~20시 | C32: =K32+AA32 -> 4 | K32: =SUM(M32:Z32) -> 0 | M32: 0 | O32: 0 | Q32: 0 | S32: 0 | U32: 0 | W32: 0 | Y32: 0 | AA32: =SUM(AC32:AK32) -> 4 | AC32: 0 | AE32: 4 | AG32: 0 | AI32: 0 | AK32: 0
D33: =L33+AB33 -> 7 | L33: =SUM(N33:Z33) -> 0 | N33: =M32 -> 0 | P33: =O32 -> 0 | R33: =Q32 -> 0 | T33: =S32 -> 0 | V33: =U32 -> 0 | X33: =W32 -> 0 | Z33: =Y32 -> 0 | AB33: =AD33+AF33+AH33+AJ33+AL33 -> 7 | AD33: =AC32 -> 0 | AF33: =SUM('[2]1'!AF33,'[2]2'!AE32) -> 7 | AH33: =AG32 -> 0 | AJ33: =AI32 -> 0 | AL33: =AK32 -> 0
B34: 20시~21시 | C34: =K34+AA34 -> 0 | K34: =SUM(M34:Z34) -> 0 | M34: 0 | O34: 0 | Q34: 0 | S34: 0 | U34: 0 | W34: 0 | Y34: 0 | AA34: =SUM(AC34:AL34) -> 0 | AC34: 0 | AE34: 0 | AG34: 0 | AI34: 0 | AK34: 0
D35: =L35+AB34:AB35 -> 0 | L35: =SUM(N35:Z35) -> 0 | N35: =M34 -> 0 | P35: =O34 -> 0 | R35: =Q34 -> 0 | T35: =S34 -> 0 | V35: =U34 -> 0 | X35: =W34 -> 0 | Z35: =Y34 -> 0 | AB35: =AD35+AF35+AH35+AJ35+AL35 -> 0 | AD35: =AC34 -> 0 | AF35: 0 | AH35: =AG34 -> 0 | AJ35: =AI34 -> 0 | AL35: =AK34 -> 0
A36: 분당구 | B36: 계 | C36: =SUM(C38:C42) -> 12 | K36: =SUM(M36:Z36) -> 0 | M36: =SUM(M38:M43) -> 0 | O36: =SUM(O38:O43) -> 0 | Q36: =SUM(Q38:Q43) -> 0 | S36: =SUM(S38:S43) -> 0 | U36: =SUM(U38:U43) -> 0 | W36: =SUM(W38:W43) -> 0 | Y36: =SUM(Y38:Y43) -> 0 | AA36: =SUM(AA38:AA43) -> 12 | AC36: =SUM(AC38:AC43) -> 0 | AE36: =SUM(AE38:AE43) -> 12 | AG36: =SUM(AG38:AG43) -> 0 | AI36: =SUM(AI38:AI43) -> 0 | AK36: =SUM(AK38:AK43) -> 0
D37: =SUM(D39:D43) -> 25 | L37: =SUM(N37:Z37) -> 0 | N37: =SUM(N39:N43) -> 0 | P37: =SUM(P39:P43) -> 0 | R37: =SUM(R39:R43) -> 0 | T37: =SUM(T39:T43) -> 0 | V37: =SUM(V39:V43) -> 0 | X37: =SUM(X39:X43) -> 0 | Z37: =SUM(Z39:Z43) -> 0 | AB37: =SUM(AB39:AB43) -> 25 | AD37: =SUM(AD39:AD43) -> 0 | AF37: =SUM(AF39:AF43) -> 25 | AH37: =SUM(AH39:AH43) -> 0 | AJ37: =SUM(AJ39:AJ43) -> 0 | AL37: =SUM(AL39:AL43) -> 0
B38: 18시~19시 | C38: =K38+AA38 -> 3 | K38: =SUM(M38:Z38) -> 0 | M38: 0 | O38: 0 | Q38: 0 | S38: 0 | U38: 0 | W38: 0 | Y38: 0 | AA38: =SUM(AC38:AL38) -> 3 | AC38: 0 | AE38: 3 | AG38: 0 | AI38: 0 | AK38: 0
D39: =L39+AB39 -> 6 | L39: =SUM(N39:Z39) -> 0 | N39: =SUM('[3]1'!N39,'[3]2'!M38) -> 0 | P39: =SUM('[3]1'!P39,'[3]2'!O38) -> 0 | R39: =SUM('[3]1'!R39,'[3]2'!Q38) -> 0 | T39: =SUM('[3]1'!T39,'[3]2'!S38) -> 0 | V39: =SUM('[3]1'!V39,'[3]2'!U38) -> 0 | X39: =SUM('[3]1'!X39,'[3]2'!W38) -> 0 | Z39: =SUM('[3]1'!Z39,'[3]2'!Y38) -> 0 | AB39: =AD39+AF39+AH39+AJ39+AL39 -> 6 | AD39: =SUM('[3]1'!AD39,'[3]2'!AC38) -> 0 | AF39: =SUM('[3]1'!AF39,'[3]2'!AE38) -> 6 | AH39: =SUM('[3]1'!AH39,'[3]2'!AG38) -> 0 | AJ39: =SUM('[3]1'!AJ39,'[3]2'!AI38) -> 0 | AL39: =SUM('[3]1'!AL39,'[3]2'!AK38) -> 0
B40: 19시~20시 | C40: =K40+AA40 -> 9 | K40: =SUM(M40:Z40) -> 0 | M40: 0 | O40: 0 | Q40: 0 | S40: 0 | U40: 0 | W40: 0 | Y40: 0 | AA40: =SUM(AC40:AK40) -> 9 | AC40: 0 | AE40: 9 | AG40: 0 | AI40: 0 | AK40: 0
D41: =L41+AB41 -> 19 | L41: =SUM(N41:Z41) -> 0 | N41: =SUM('[3]1'!N41,'[3]2'!M40) -> 0 | P41: =SUM('[3]1'!P41,'[3]2'!O40) -> 0 | R41: =SUM('[3]1'!R41,'[3]2'!Q40) -> 0 | T41: =SUM('[3]1'!T41,'[3]2'!S40) -> 0 | V41: =SUM('[3]1'!V41,'[3]2'!U40) -> 0 | X41: =SUM('[3]1'!X41,'[3]2'!W40) -> 0 | Z41: =SUM('[3]1'!Z41,'[3]2'!Y40) -> 0 | AB41: =AD41+AF41+AH41+AJ41+AL41 -> 19 | AD41: =SUM('[3]1'!AD41,'[3]2'!AC40) -> 0 | AF41: =SUM('[3]1'!AF41,'[3]2'!AE40) -> 19 | AH41: =SUM('[3]1'!AH41,'[3]2'!AG40) -> 0 | AJ41: =SUM('[3]1'!AJ41,'[3]2'!AI40) -> 0 | AL41: =SUM('[3]1'!AL41,'[3]2'!AK40) -> 0
B42: 20시~21시 | C42: =K42+AA42 -> 0 | K42: =SUM(M42:Z42) -> 0 | M42: 0 | O42: 0 | Q42: 0 | S42: 0 | U42: 0 | W42: 0 | Y42: 0 | AA42: =SUM(AC42:AL42) -> 0 | AC42: 0 | AE42: 0 | AG42: 0 | AI42: 0 | AK42: 0
D43: =L43+AB42:AB43 -> 0 | L43: =SUM(N43:Z43) -> 0 | N43: =SUM('[3]1'!N43,'[3]2'!M42) -> 0 | P43: =SUM('[3]1'!P43,'[3]2'!O42) -> 0 | R43: =SUM('[3]1'!R43,'[3]2'!Q42) -> 0 | T43: =SUM('[3]1'!T43,'[3]2'!S42) -> 0 | V43: =SUM('[3]1'!V43,'[3]2'!U42) -> 0 | X43: =SUM('[3]1'!X43,'[3]2'!W42) -> 0 | Z43: =SUM('[3]1'!Z43,'[3]2'!Y42) -> 0 | AB43: =AD43+AF43+AH43+AJ43+AL43 -> 0 | AD43: =SUM('[3]1'!AD43,'[3]2'!AC42) -> 0 | AF43: =SUM('[3]1'!AF43,'[3]2'!AE42) -> 0 | AH43: =SUM('[3]1'!AH43,'[3]2'!AG42) -> 0 | AJ43: =SUM('[3]1'!AJ43,'[3]2'!AI42) -> 0 | AL43: =SUM('[3]1'!AL43,'[3]2'!AK42) -> 0
AL44: .

Sheet 3
A1: 2025. 3월 야간 민원실 운영실적
A2: 구분 | B2: 시간 | C2: 월계/누계 | E2: 여 권 민 원 | K2: 제 증 명 발 급 | AA2: 신 고 민 원
E3: 소계 | G3: 접수 | I3: 교부 | K3: 소계 | M3: 주민등·초본 | O3: 인감증명 | Q3: 본인서명 | S3: 제적등·초본 | U3: 가족관계등록 | W3: 어디서나민원 | Y3: 기타 | AA3: 소계 | AC3: 출생·사망 | AE3: 혼인·이혼 | AG3: 전입신고 | AI3: 주민증 | AK3: 정정.재등록
A4: 합계 | B4: 월계 / 누계 | C4: =C12+C20+C28+C36 -> 456 | E4: =SUM(E6:E11) -> 437 | G4: =SUM(G6:G10) -> 164 | I4: =SUM(I6:I10) -> 273 | K4: =K20+K28+K36 -> 2 | M4: =M20+M28+M36 -> 0 | O4: =O20+O28+O36 -> 2 | Q4: =Q20+Q28+Q36 -> 0 | S4: =S20+S28+S36 -> 0 | U4: =U20+U28+U36 -> 0 | W4: =W20+W28+W36 -> 0 | Y4: =Y20+Y28+Y36 -> 0 | AA4: =AA20+AA28+AA36 -> 17 | AC4: =AC20+AC28+AC36 -> 0 | AE4: =AE20+AE28+AE36 -> 17 | AG4: =AG20+AG28+AG36 -> 0 | AI4: =AI20+AI28+AI36 -> 0 | AK4: =AK20+AK28+AK36 -> 0
D5: =D7+D9+D11 -> 1454 | F5: =SUM(F7:F11) -> 1350 | H5: =SUM(H7:H11) -> 588 | J5: =SUM(J7:J11) -> 762 | L5: =L21+L29+L37 -> 46 | N5: =N21+N29+N37 -> 4 | P5: =P21+P29+P37 -> 25 | R5: =R21+R29+R37 -> 14 | T5: =T21+T29+T37 -> 0 | V5: =V21+V29+V37 -> 3 | X5: =X21+X29+X37 -> 0 | Z5: =Z21+Z29+Z37 -> 0 | AB5: =AB21+AB29+AB37 -> 58 | AD5: =AD21+AD29+AD37 -> 1 | AF5: =AF21+AF29+AF37 -> 57 | AH5: =AH21+AH29+AH37 -> 0 | AJ5: =AJ21+AJ29+AJ37 -> 0 | AL5: =AL21+AL29+AL37 -> 0
B6: 18시~19시 | C6: =C14+C22+C30+C38 -> 282 | E6: =SUM(G6+I6) -> 278 | G6: =G14 -> 97 | I6: =I14 -> 181 | K6: =K22+K30+K38 -> 0 | M6: =M22+M30+M38 -> 0 | O6: =O22+O30+O38 -> 0 | Q6: =Q22+Q30+Q38 -> 0 | S6: =S22+S30+S38 -> 0 | U6: =U22+U30+U38 -> 0 | W6: =W22+W30+W38 -> 0 | Y6: =Y22+Y30+Y38 -> 0 | AA6: =AA22+AA30+AA38 -> 4 | AC6: =AC22+AC30+AC38 -> 0 | AE6: =AE22+AE30+AE38 -> 4 | AG6: =AG22+AG30+AG38 -> 0 | AI6: =AI22+AI30+AI38 -> 0 | AK6: =AK22+AK30+AK38 -> 0
D7: =D15+D23+D31+D39 -> 883 | F7: =SUM(H7:J7) -> 824 | H7: =H15 -> 337 | J7: =J15 -> 487 | L7: =L23+L31+L39 -> 44 | N7: =N23+N31+N39 -> 4 | P7: =P23+P31+P39 -> 23 | R7: =R23+R31+R39 -> 14 | T7: =T23+T31+T39 -> 0 | V7: =V23+V31+V39 -> 3 | X7: =X23+X31+X39 -> 0 | Z7: =Z23+Z31+Z39 -> 0 | AB7: =AB23+AB31+AB39 -> 15 | AD7: =AD23+AD31+AD39 -> 0 | AF7: =AF23+AF31+AF39 -> 15 | AH7: =AH23+AH31+AH39 -> 0 | AJ7: =AJ23+AJ31+AJ39 -> 0 | AL7: =AL23+AL31+AL39 -> 0
B8: 19시~20시 | C8: =C16+C24+C32+C40 -> 174 | E8: =SUM(G8:I8) -> 159 | G8: =G16 -> 67 | I8: =I16 -> 92 | K8: =K24+K32+K40 -> 2 | M8: =M24+M32+M40 -> 0 | O8: =O24+O32+O40 -> 2 | Q8: =Q24+Q32+Q40 -> 0 | S8: =S24+S32+S40 -> 0 | U8: =U24+U32+U40 -> 0 | W8: =W24+W32+W40 -> 0 | Y8: =Y24+Y32+Y40 -> 0 | AA8: =AA24+AA32+AA40 -> 13 | AC8: =AC24+AC32+AC40 -> 0 | AE8: =AE24+AE32+AE40 -> 13 | AG8: =AG24+AG32+AG40 -> 0 | AI8: =AI24+AI32+AI40 -> 0 | AK8: =AK24+AK32+AK40 -> 0
D9: =D17+D25+D33+D41 -> 571 | F9: =SUM(H9:J9) -> 526 | H9: =H17 -> 251 | J9: =J17 -> 275 | L9: =L25+L33+L41 -> 2 | N9: =N25+N33+N41 -> 0 | P9: =P25+P33+P41 -> 2 | R9: =R25+R33+R41 -> 0 | T9: =T25+T33+T41 -> 0 | V9: =V25+V33+V41 -> 0 | X9: =X25+X33+X41 -> 0 | Z9: =Z25+Z33+Z41 -> 0 | AB9: =AB25+AB33+AB41 -> 43 | AD9: =AD25+AD33+AD41 -> 1 | AF9: =AF25+AF33+AF41 -> 42 | AH9: =AH25+AH33+AH41 -> 0 | AJ9: =AJ25+AJ33+AJ41 -> 0 | AL9: =AL25+AL33+AL41 -> 0
B10: 20시~21시 | C10: =C18+C26+C34+C42 -> 0 | E10: =SUM(G10:I10) -> 0 | G10: =G18 -> 0 | I10: =I18 -> 0 | K10: =K26+K34+K42 -> 0 | M10: =M26+M34+M42 -> 0 | O10: =O26+O34+O42 -> 0 | Q10: =Q26+Q34+Q42 -> 0 | S10: =S26+S34+S42 -> 0 | U10: =U26+U34+U42 -> 0 | W10: =W26+W34+W42 -> 0 | Y10: =Y26+Y34+Y42 -> 0 | AA10: =AA26+AA34+AA42 -> 0 | AC10: =AC26+AC34+AC42 -> 0 | AE10: =AE26+AE34+AE42 -> 0 | AG10: =AG26+AG34+AG42 -> 0 | AI10: =AI26+AI34+AI42 -> 0 | AK10: =AK26+AK34+AK42 -> 0
D11: =D19+D27+D35+D43 -> 0 | F11: =SUM(H11:J11) -> 0 | H11: =H19 -> 0 | J11: =J19 -> 0 | L11: =L27+L35+L43 -> 0 | N11: =N27+N35+N43 -> 0 | P11: =P27+P35+P43 -> 0 | R11: =R27+R35+R43 -> 0 | T11: =T27+T35+T43 -> 0 | V11: =V27+V35+V43 -> 0 | X11: =X27+X35+X43 -> 0 | Z11: =Z27+Z35+Z43 -> 0 | AB11: =AB27+AB35+AB43 -> 0 | AD11: =AD27+AD35+AD43 -> 0 | AF11: =AF27+AF35+AF43 -> 0 | AH11: =AH27+AH35+AH43 -> 0 | AJ11: =AJ27+AJ35+AJ43 -> 0 | AL11: =AL27+AL35+AL43 -> 0
A12: 여권민원실 | B12: 계 | C12: =E12 -> 437 | E12: =SUM(E14:E19) -> 437 | G12: =SUM(G14:G18) -> 164 | I12: =SUM(I14:I18) -> 273
D13: =F13 -> 1350 | F13: =SUM(F15:F19) -> 1350 | H13: =SUM(H15:H19) -> 588 | J13: =SUM(J15:J19) -> 762
B14: 18시~19시 | C14: =E14 -> 278 | E14: =SUM(G14+I14) -> 278 | G14: 97 | I14: 181
D15: =F15 -> 824 | F15: =SUM(H15:J15) -> 824 | H15: 337 | J15: 487
B16: 19시~20시 | C16: =E16 -> 159 | E16: =SUM(G16:I16) -> 159 | G16: 67 | I16: 92
D17: =F17 -> 526 | F17: =SUM(H17:J17) -> 526 | H17: 251 | J17: 275
B18: 20시~21시 | C18: =E18 -> 0 | E18: =SUM(G18:I18) -> 0 | G18: 0 | I18: 0
D19: =F19 -> 0 | F19: =SUM(H19:J19) -> 0 | H19: 0 | J19: 0
A20: 수정구 | B20: 계 | C20: =SUM(C22:C26) -> 3 | K20: =SUM(M20:Z20) -> 0 | M20: =SUM(M22:M27) -> 0 | O20: =SUM(O22:O27) -> 0 | Q20: =SUM(Q22:Q27) -> 0 | S20: =SUM(S22:S27) -> 0 | U20: =SUM(U22:U27) -> 0 | W20: =SUM(W22:W27) -> 0 | Y20: =SUM(Y22:Y27) -> 0 | AA20: =SUM(AA22:AA27) -> 3 | AC20: =SUM(AC22:AC27) -> 0 | AE20: =SUM(AE22:AE27) -> 3 | AG20: =SUM(AG22:AG27) -> 0 | AI20: =SUM(AI22:AI27) -> 0 | AK20: =SUM(AK22:AK27) -> 0
D21: =SUM(D23:D27) -> 46 | L21: =SUM(N21:Z21) -> 38 | N21: =SUM(N23:N27) -> 2 | P21: =SUM(P23:P27) -> 20 | R21: =SUM(R23:R27) -> 14 | T21: =SUM(T23:T27) -> 0 | V21: =SUM(V23:V27) -> 2 | X21: =SUM(X23:X27) -> 0 | Z21: =SUM(Z23:Z27) -> 0 | AB21: =SUM(AB23:AB27) -> 8 | AD21: =SUM(AD23:AD27) -> 1 | AF21: =SUM(AF23:AF27) -> 7 | AH21: =SUM(AH23:AH27) -> 0 | AJ21: =SUM(AJ23:AJ27) -> 0 | AL21: =SUM(AL23:AL27) -> 0
B22: 18시~19시 | C22: =K22+AA22 -> 0 | K22: =SUM(M22:Z22) -> 0 | M22: 0 | O22: 0 | Q22: 0 | S22: 0 | U22: 0 | W22: 0 | Y22: 0 | AA22: =SUM(AC22:AL22) -> 0 | AC22: 0 | AE22: 0 | AG22: 0 | AI22: 0 | AK22: 0
D23: =L23+AB23 -> 39 | L23: =SUM(N23:Z23) -> 38 | N23: 2 | P23: 20 | R23: 14 | T23: 0 | V23: 2 | X23: 0 | Z23: 0 | AB23: =AD23+AF23+AH23+AJ23+AL23 -> 1 | AD23: 0 | AF23: 1 | AH23: 0 | AJ23: 0 | AL23: 0
B24: 19시~20시 | C24: =K24+AA24 -> 3 | K24: =SUM(M24:Z24) -> 0 | M24: 0 | O24: 0 | Q24: 0 | S24: 0 | U24: 0 | W24: 0 | Y24: 0 | AA24: =SUM(AC24:AK24) -> 3 | AC24: 0 | AE24: 3 | AG24: 0 | AI24: 0 | AK24: 0
D25: =L25+AB25 -> 7 | L25: =SUM(N25:Z25) -> 0 | N25: 0 | P25: 0 | R25: 0 | T25: 0 | V25: 0 | X25: 0 | Z25: 0 | AB25: =AD25+AF25+AH25+AJ25+AL25 -> 7 | AD25: 1 | AF25: 6 | AH25: 0 | AJ25: 0 | AL25: 0
B26: 20시~21시 | C26: =K26+AA26 -> 0 | K26: =SUM(M26:Z26) -> 0 | M26: 0 | O26: 0 | Q26: 0 | S26: 0 | U26: 0 | W26: 0 | Y26: 0 | AA26: =SUM(AC26:AL26) -> 0 | AC26: 0 | AE26: 0 | AG26: 0 | AI26: 0 | AK26: 0
D27: =L27+AB26:AB27 -> 0 | L27: =SUM(N27:Z27) -> 0 | N27: 0 | P27: 0 | R27: 0 | T27: 0 | V27: 0 | X27: 0 | Z27: 0 | AB27: =AD27+AF27+AH27+AJ27+AL27 -> 0 | AD27: 0 | AF27: 0 | AH27: 0 | AJ27: 0 | AL27: 0
A28: 중원구 | B28: 계 | C28: =SUM(C30:C34) -> 6 | K28: =SUM(M28:Z28) -> 2 | M28: =SUM(M30:M35) -> 0 | O28: =SUM(O30:O35) -> 2 | Q28: =SUM(Q30:Q35) -> 0 | S28: =SUM(S30:S35) -> 0 | U28: =SUM(U30:U35) -> 0 | W28: =SUM(W30:W35) -> 0 | Y28: =SUM(Y30:Y35) -> 0 | AA28: =SUM(AA30:AA35) -> 4 | AC28: =SUM(AC30:AC35) -> 0 | AE28: =SUM(AE30:AE35) -> 4 | AG28: =SUM(AG30:AG35) -> 0 | AI28: =SUM(AI30:AI35) -> 0 | AK28: =SUM(AK30:AK35) -> 0
D29: =SUM(D31:D35) -> 23 | L29: =SUM(N29:Z29) -> 8 | N29: =SUM(N31:N35) -> 2 | P29: =SUM(P31:P35) -> 5 | R29: =SUM(R31:R35) -> 0 | T29: =SUM(T31:T35) -> 0 | V29: =SUM(V31:V35) -> 1 | X29: =SUM(X31:X35) -> 0 | Z29: =SUM(Z31:Z35) -> 0 | AB29: =SUM(AB31:AB35) -> 15 | AD29: =SUM(AD31:AD35) -> 0 | AF29: =SUM(AF31:AF35) -> 15 | AH29: =SUM(AH31:AH35) -> 0 | AJ29: =SUM(AJ31:AJ35) -> 0 | AL29: =SUM(AL31:AL35) -> 0
B30: 18시~19시 | C30: =K30+AA30 -> 3 | K30: =SUM(M30:Z30) -> 0 | M30: 0 | O30: 0 | Q30: 0 | S30: 0 | U30: 0 | W30: 0 | Y30: 0 | AA30: =SUM(AC30:AL30) -> 3 | AC30: 0 | AE30: 3 | AG30: 0 | AI30: 0 | AK30: 0
D31: =L31+AB31 -> 13 | L31: =SUM(N31:Z31) -> 6 | N31: 2 | P31: 3 | R31: 0 | T31: 0 | V31: 1 | X31: 0 | Z31: 0 | AB31: =AD31+AF31+AH31+AJ31+AL31 -> 7 | AD31: 0 | AF31: 7 | AH31: 0 | AJ31: 0 | AL31: 0
B32: 19시~20시 | C32: =K32+AA32 -> 3 | K32: =SUM(M32:Z32) -> 2 | M32: 0 | O32: 2 | Q32: 0 | S32: 0 | U32: 0 | W32: 0 | Y32: 0 | AA32: =SUM(AC32:AK32) -> 1 | AC32: 0 | AE32: 1 | AG32: 0 | AI32: 0 | AK32: 0
D33: =L33+AB33 -> 10 | L33: =SUM(N33:Z33) -> 2 | N33: 0 | P33: 2 | R33: 0 | T33: 0 | V33: 0 | X33: 0 | Z33: 0 | AB33: =AD33+AF33+AH33+AJ33+AL33 -> 8 | AD33: 0 | AF33: 8 | AH33: 0 | AJ33: 0 | AL33: 0
B34: 20시~21시 | C34: =K34+AA34 -> 0 | K34: =SUM(M34:Z34) -> 0 | M34: 0 | O34: 0 | Q34: 0 | S34: 0 | U34: 0 | W34: 0 | Y34: 0 | AA34: =SUM(AC34:AL34) -> 0 | AC34: 0 | AE34: 0 | AG34: 0 | AI34: 0 | AK34: 0
D35: =L35+AB34:AB35 -> 0 | L35: =SUM(N35:Z35) -> 0 | N35: 0 | P35: 0 | R35: 0 | T35: 0 | V35: 0 | X35: 0 | Z35: 0 | AB35: =AD35+AF35+AH35+AJ35+AL35 -> 0 | AD35: 0 | AF35: 0 | AH35: 0 | AJ35: 0 | AL35: 0
A36: 분당구 | B36: 계 | C36: =SUM(C38:C42) -> 10 | K36: =SUM(M36:Z36) -> 0 | M36: =SUM(M38:M43) -> 0 | O36: =SUM(O38:O43) -> 0 | Q36: =SUM(Q38:Q43) -> 0 | S36: =SUM(S38:S43) -> 0 | U36: =SUM(U38:U43) -> 0 | W36: =SUM(W38:W43) -> 0 | Y36: =SUM(Y38:Y43) -> 0 | AA36: =SUM(AA38:AA43) -> 10 | AC36: =SUM(AC38:AC43) -> 0 | AE36: =SUM(AE38:AE43) -> 10 | AG36: =SUM(AG38:AG43) -> 0 | AI36: =SUM(AI38:AI43) -> 0 | AK36: =SUM(AK38:AK43) -> 0
D37: =SUM(D39:D43) -> 35 | L37: =SUM(N37:Z37) -> 0 | N37: =SUM(N39:N43) -> 0 | P37: =SUM(P39:P43) -> 0 | R37: =SUM(R39:R43) -> 0 | T37: =SUM(T39:T43) -> 0 | V37: =SUM(V39:V43) -> 0 | X37: =SUM(X39:X43) -> 0 | Z37: =SUM(Z39:Z43) -> 0 | AB37: =SUM(AB39:AB43) -> 35 | AD37: =SUM(AD39:AD43) -> 0 | AF37: =SUM(AF39:AF43) -> 35 | AH37: =SUM(AH39:AH43) -> 0 | AJ37: =SUM(AJ39:AJ43) -> 0 | AL37: =SUM(AL39:AL43) -> 0
B38: 18시~19시 | C38: =K38+AA38 -> 1 | K38: =SUM(M38:Z38) -> 0 | M38: 0 | O38: 0 | Q38: 0 | S38: 0 | U38: 0 | W38: 0 | Y38: 0 | AA38: =SUM(AC38:AL38) -> 1 | AC38: 0 | AE38: 1 | AG38: 0 | AI38: 0 | AK38: 0
D39: =L39+AB39 -> 7 | L39: =SUM(N39:Z39) -> 0 | N39: 0 | P39: 0 | R39: 0 | T39: 0 | V39: 0 | X39: 0 | Z39: 0 | AB39: =AD39+AF39+AH39+AJ39+AL39 -> 7 | AD39: 0 | AF39: 7 | AH39: 0 | AJ39: 0 | AL39: 0
B40: 19시~20시 | C40: =K40+AA40 -> 9 | K40: =SUM(M40:Z40) -> 0 | M40: 0 | O40: 0 | Q40: 0 | S40: 0 | U40: 0 | W40: 0 | Y40: 0 | AA40: =SUM(AC40:AK40) -> 9 | AC40: 0 | AE40: 9 | AG40: 0 | AI40: 0 | AK40: 0
D41: =L41+AB41 -> 28 | L41: =SUM(N41:Z41) -> 0 | N41: 0 | P41: 0 | R41: 0 | T41: 0 | V41: 0 | X41: 0 | Z41: 0 | AB41: =AD41+AF41+AH41+AJ41+AL41 -> 28 | AD41: 0 | AF41: 28 | AH41: 0 | AJ41: 0 | AL41: 0
B42: 20시~21시 | C42: =K42+AA42 -> 0 | K42: =SUM(M42:Z42) -> 0 | M42: 0 | O42: 0 | Q42: 0 | S42: 0 | U42: 0 | W42: 0 | Y42: 0 | AA42: =SUM(AC42:AL42) -> 0 | AC42: 0 | AE42: 0 | AG42: 0 | AI42: 0 | AK42: 0
D43: =L43+AB42:AB43 -> 0 | L43: =SUM(N43:Z43) -> 0 | N43: 0 | P43: 0 | R43: 0 | T43: 0 | V43: 0 | X43: 0 | Z43: 0 | AB43: =AD43+AF43+AH43+AJ43+AL43 -> 0 | AD43: 0 | AF43: 0 | AH43: 0 | AJ43: 0 | AL43: 0
AL44: .

Sheet 4
A1: 2025. 4월 야간 민원실 운영실적
A2: 구분 | B2: 시간 | C2: 월계/누계 | E2: 여 권 민 원 | K2: 제 증 명 발 급 | AA2: 신 고 민 원
E3: 소계 | G3: 접수 | I3: 교부 | K3: 소계 | M3: 주민등·초본 | O3: 인감증명 | Q3: 본인서명 | S3: 제적등·초본 | U3: 가족관계등록 | W3: 어디서나민원 | Y3: 기타 | AA3: 소계 | AC3: 출생·사망 | AE3: 혼인·이혼 | AG3: 전입신고 | AI3: 주민증 | AK3: 정정.재등록
A4: 합계 | B4: 월계 / 누계 | C4: =C12+C20+C28+C36 -> 426 | E4: =SUM(E6:E11) -> 403 | G4: =SUM(G6:G10) -> 159 | I4: =SUM(I6:I10) -> 244 | K4: =K20+K28+K36 -> 3 | M4: =M20+M28+M36 -> 0 | O4: =O20+O28+O36 -> 3 | Q4: =Q20+Q28+Q36 -> 0 | S4: =S20+S28+S36 -> 0 | U4: =U20+U28+U36 -> 0 | W4: =W20+W28+W36 -> 0 | Y4: =Y20+Y28+Y36 -> 0 | AA4: =AA20+AA28+AA36 -> 20 | AC4: =AC20+AC28+AC36 -> 0 | AE4: =AE20+AE28+AE36 -> 20 | AG4: =AG20+AG28+AG36 -> 0 | AI4: =AI20+AI28+AI36 -> 0 | AK4: =AK20+AK28+AK36 -> 0
D5: =D7+D9+D11 -> 1880 | F5: =SUM(F7:F11) -> 1753 | H5: =SUM(H7:H11) -> 747 | J5: =SUM(J7:J11) -> 1006 | L5: =L21+L29+L37 -> 49 | N5: =N21+N29+N37 -> 4 | P5: =P21+P29+P37 -> 28 | R5: =R21+R29+R37 -> 14 | T5: =T21+T29+T37 -> 0 | V5: =V21+V29+V37 -> 3 | X5: =X21+X29+X37 -> 0 | Z5: =Z21+Z29+Z37 -> 0 | AB5: =AB21+AB29+AB37 -> 78 | AD5: =AD21+AD29+AD37 -> 1 | AF5: =AF21+AF29+AF37 -> 77 | AH5: =AH21+AH29+AH37 -> 0 | AJ5: =AJ21+AJ29+AJ37 -> 0 | AL5: =AL21+AL29+AL37 -> 0
B6: 18시~19시 | C6: =C14+C22+C30+C38 -> 269 | E6: =SUM(G6+I6) -> 262 | G6: =G14 -> 101 | I6: =I14 -> 161 | K6: =K22+K30+K38 -> 0 | M6: =M22+M30+M38 -> 0 | O6: =O22+O30+O38 -> 0 | Q6: =Q22+Q30+Q38 -> 0 | S6: =S22+S30+S38 -> 0 | U6: =U22+U30+U38 -> 0 | W6: =W22+W30+W38 -> 0 | Y6: =Y22+Y30+Y38 -> 0 | AA6: =AA22+AA30+AA38 -> 7 | AC6: =AC22+AC30+AC38 -> 0 | AE6: =AE22+AE30+AE38 -> 7 | AG6: =AG22+AG30+AG38 -> 0 | AI6: =AI22+AI30+AI38 -> 0 | AK6: =AK22+AK30+AK38 -> 0
D7: =D15+D23+D31+D39 -> 1152 | F7: =SUM(H7:J7) -> 1086 | H7: =H15 -> 438 | J7: =J15 -> 648 | L7: =L23+L31+L39 -> 44 | N7: =N23+N31+N39 -> 4 | P7: =P23+P31+P39 -> 23 | R7: =R23+R31+R39 -> 14 | T7: =T23+T31+T39 -> 0 | V7: =V23+V31+V39 -> 3 | X7: =X23+X31+X39 -> 0 | Z7: =Z23+Z31+Z39 -> 0 | AB7: =AB23+AB31+AB39 -> 22 | AD7: =AD23+AD31+AD39 -> 0 | AF7: =AF23+AF31+AF39 -> 22 | AH7: =AH23+AH31+AH39 -> 0 | AJ7: =AJ23+AJ31+AJ39 -> 0 | AL7: =AL23+AL31+AL39 -> 0
B8: 19시~20시 | C8: =C16+C24+C32+C40 -> 157 | E8: =SUM(G8:I8) -> 141 | G8: =G16 -> 58 | I8: =I16 -> 83 | K8: =K24+K32+K40 -> 3 | M8: =M24+M32+M40 -> 0 | O8: =O24+O32+O40 -> 3 | Q8: =Q24+Q32+Q40 -> 0 | S8: =S24+S32+S40 -> 0 | U8: =U24+U32+U40 -> 0 | W8: =W24+W32+W40 -> 0 | Y8: =Y24+Y32+Y40 -> 0 | AA8: =AA24+AA32+AA40 -> 13 | AC8: =AC24+AC32+AC40 -> 0 | AE8: =AE24+AE32+AE40 -> 13 | AG8: =AG24+AG32+AG40 -> 0 | AI8: =AI24+AI32+AI40 -> 0 | AK8: =AK24+AK32+AK40 -> 0
D9: =D17+D25+D33+D41 -> 728 | F9: =SUM(H9:J9) -> 667 | H9: =H17 -> 309 | J9: =J17 -> 358 | L9: =L25+L33+L41 -> 5 | N9: =N25+N33+N41 -> 0 | P9: =P25+P33+P41 -> 5 | R9: =R25+R33+R41 -> 0 | T9: =T25+T33+T41 -> 0 | V9: =V25+V33+V41 -> 0 | X9: =X25+X33+X41 -> 0 | Z9: =Z25+Z33+Z41 -> 0 | AB9: =AB25+AB33+AB41 -> 56 | AD9: =AD25+AD33+AD41 -> 1 | AF9: =AF25+AF33+AF41 -> 55 | AH9: =AH25+AH33+AH41 -> 0 | AJ9: =AJ25+AJ33+AJ41 -> 0 | AL9: =AL25+AL33+AL41 -> 0
B10: 20시~21시 | C10: =C18+C26+C34+C42 -> 0 | E10: =SUM(G10:I10) -> 0 | G10: =G18 -> 0 | I10: =I18 -> 0 | K10: =K26+K34+K42 -> 0 | M10: =M26+M34+M42 -> 0 | O10: =O26+O34+O42 -> 0 | Q10: =Q26+Q34+Q42 -> 0 | S10: =S26+S34+S42 -> 0 | U10: =U26+U34+U42 -> 0 | W10: =W26+W34+W42 -> 0 | Y10: =Y26+Y34+Y42 -> 0 | AA10: =AA26+AA34+AA42 -> 0 | AC10: =AC26+AC34+AC42 -> 0 | AE10: =AE26+AE34+AE42 -> 0 | AG10: =AG26+AG34+AG42 -> 0 | AI10: =AI26+AI34+AI42 -> 0 | AK10: =AK26+AK34+AK42 -> 0
D11: =D19+D27+D35+D43 -> 0 | F11: =SUM(H11:J11) -> 0 | H11: =H19 -> 0 | J11: =J19 -> 0 | L11: =L27+L35+L43 -> 0 | N11: =N27+N35+N43 -> 0 | P11: =P27+P35+P43 -> 0 | R11: =R27+R35+R43 -> 0 | T11: =T27+T35+T43 -> 0 | V11: =V27+V35+V43 -> 0 | X11: =X27+X35+X43 -> 0 | Z11: =Z27+Z35+Z43 -> 0 | AB11: =AB27+AB35+AB43 -> 0 | AD11: =AD27+AD35+AD43 -> 0 | AF11: =AF27+AF35+AF43 -> 0 | AH11: =AH27+AH35+AH43 -> 0 | AJ11: =AJ27+AJ35+AJ43 -> 0 | AL11: =AL27+AL35+AL43 -> 0
A12: 여권민원실 | B12: 계 | C12: =E12 -> 403 | E12: =SUM(E14:E19) -> 403 | G12: =SUM(G14:G18) -> 159 | I12: =SUM(I14:I18) -> 244
D13: =F13 -> 1753 | F13: =SUM(F15:F19) -> 1753 | H13: =SUM(H15:H19) -> 747 | J13: =SUM(J15:J19) -> 1006
B14: 18시~19시 | C14: =E14 -> 262 | E14: =SUM(G14+I14) -> 262 | G14: 101 | I14: 161
D15: =F15 -> 1086 | F15: =SUM(H15:J15) -> 1086 | H15: =SUM('[4]3'!H15,'[4]4'!G14) -> 438 | J15: =SUM('[4]3'!J15,'[4]4'!I14) -> 648
B16: 19시~20시 | C16: =E16 -> 141 | E16: =SUM(G16:I16) -> 141 | G16: 58 | I16: 83
D17: =F17 -> 667 | F17: =SUM(H17:J17) -> 667 | H17: =SUM('[4]3'!H17,'[4]4'!G16) -> 309 | J17: =SUM('[4]3'!J17,'[4]4'!I16) -> 358
B18: 20시~21시 | C18: =E18 -> 0 | E18: =SUM(G18:I18) -> 0 | G18: 0 | I18: 0
D19: =F19 -> 0 | F19: =SUM(H19:J19) -> 0 | H19: =SUM('[4]3'!H19,'[4]4'!G18) -> 0 | J19: =SUM('[4]3'!J19,'[4]4'!I18) -> 0
A20: 수정구 | B20: 계 | C20: =SUM(C22:C26) -> 5 | K20: =SUM(M20:Z20) -> 2 | M20: =SUM(M22:M27) -> 0 | O20: =SUM(O22:O27) -> 2 | Q20: =SUM(Q22:Q27) -> 0 | S20: =SUM(S22:S27) -> 0 | U20: =SUM(U22:U27) -> 0 | W20: =SUM(W22:W27) -> 0 | Y20: =SUM(Y22:Y27) -> 0 | AA20: =SUM(AA22:AA27) -> 3 | AC20: =SUM(AC22:AC27) -> 0 | AE20: =SUM(AE22:AE27) -> 3 | AG20: =SUM(AG22:AG27) -> 0 | AI20: =SUM(AI22:AI27) -> 0 | AK20: =SUM(AK22:AK27) -> 0
D21: =SUM(D23:D27) -> 51 | L21: =SUM(N21:Z21) -> 40 | N21: =SUM(N23:N27) -> 2 | P21: =SUM(P23:P27) -> 22 | R21: =SUM(R23:R27) -> 14 | T21: =SUM(T23:T27) -> 0 | V21: =SUM(V23:V27) -> 2 | X21: =SUM(X23:X27) -> 0 | Z21: =SUM(Z23:Z27) -> 0 | AB21: =SUM(AB23:AB27) -> 11 | AD21: =SUM(AD23:AD27) -> 1 | AF21: =SUM(AF23:AF27) -> 10 | AH21: =SUM(AH23:AH27) -> 0 | AJ21: =SUM(AJ23:AJ27) -> 0 | AL21: =SUM(AL23:AL27) -> 0
B22: 18시~19시 | C22: =K22+AA22 -> 1 | K22: =SUM(M22:Z22) -> 0 | M22: 0 | O22: 0 | Q22: 0 | S22: 0 | U22: 0 | W22: 0 | Y22: 0 | AA22: =SUM(AC22:AL22) -> 1 | AC22: 0 | AE22: 1 | AG22: 0 | AI22: 0 | AK22: 0
D23: =L23+AB23 -> 40 | L23: =SUM(N23:Z23) -> 38 | N23: 2 | P23: 20 | R23: 14 | T23: 0 | V23: 2 | X23: 0 | Z23: 0 | AB23: =AD23+AF23+AH23+AJ23+AL23 -> 2 | AD23: 0 | AF23: 2 | AH23: 0 | AJ23: 0 | AL23: 0
B24: 19시~20시 | C24: =K24+AA24 -> 4 | K24: =SUM(M24:Z24) -> 2 | M24: 0 | O24: 2 | Q24: 0 | S24: 0 | U24: 0 | W24: 0 | Y24: 0 | AA24: =SUM(AC24:AK24) -> 2 | AC24: 0 | AE24: 2 | AG24: 0 | AI24: 0 | AK24: 0
D25: =L25+AB25 -> 11 | L25: =SUM(N25:Z25) -> 2 | N25: 0 | P25: 2 | R25: 0 | T25: 0 | V25: 0 | X25: 0 | Z25: 0 | AB25: =AD25+AF25+AH25+AJ25+AL25 -> 9 | AD25: 1 | AF25: 8 | AH25: 0 | AJ25: 0 | AL25: 0
B26: 20시~21시 | C26: =K26+AA26 -> 0 | K26: =SUM(M26:Z26) -> 0 | M26: 0 | O26: 0 | Q26: 0 | S26: 0 | U26: 0 | W26: 0 | Y26: 0 | AA26: =SUM(AC26:AL26) -> 0 | AC26: 0 | AE26: 0 | AG26: 0 | AI26: 0 | AK26: 0
D27: =L27+AB26:AB27 -> 0 | L27: =SUM(N27:Z27) -> 0 | N27: 0 | P27: 0 | R27: 0 | T27: 0 | V27: 0 | X27: 0 | Z27: 0 | AB27: =AD27+AF27+AH27+AJ27+AL27 -> 0 | AD27: 0 | AF27: 0 | AH27: 0 | AJ27: 0 | AL27: 0
A28: 중원구 | B28: 계 | C28: =SUM(C30:C34) -> 8 | K28: =SUM(M28:Z28) -> 0 | M28: =SUM(M30:M35) -> 0 | O28: =SUM(O30:O35) -> 0 | Q28: =SUM(Q30:Q35) -> 0 | S28: =SUM(S30:S35) -> 0 | U28: =SUM(U30:U35) -> 0 | W28: =SUM(W30:W35) -> 0 | Y28: =SUM(Y30:Y35) -> 0 | AA28: =SUM(AA30:AA35) -> 8 | AC28: =SUM(AC30:AC35) -> 0 | AE28: =SUM(AE30:AE35) -> 8 | AG28: =SUM(AG30:AG35) -> 0 | AI28: =SUM(AI30:AI35) -> 0 | AK28: =SUM(AK30:AK35) -> 0
D29: =SUM(D31:D35) -> 31 | L29: =SUM(N29:Z29) -> 8 | N29: =SUM(N31:N35) -> 2 | P29: =SUM(P31:P35) -> 5 | R29: =SUM(R31:R35) -> 0 | T29: =SUM(T31:T35) -> 0 | V29: =SUM(V31:V35) -> 1 | X29: =SUM(X31:X35) -> 0 | Z29: =SUM(Z31:Z35) -> 0 | AB29: =SUM(AB31:AB35) -> 23 | AD29: =SUM(AD31:AD35) -> 0 | AF29: =SUM(AF31:AF35) -> 23 | AH29: =SUM(AH31:AH35) -> 0 | AJ29: =SUM(AJ31:AJ35) -> 0 | AL29: =SUM(AL31:AL35) -> 0
B30: 18시~19시 | C30: =K30+AA30 -> 5 | K30: =SUM(M30:Z30) -> 0 | M30: 0 | O30: 0 | Q30: 0 | S30: 0 | U30: 0 | W30: 0 | Y30: 0 | AA30: =SUM(AC30:AL30) -> 5 | AC30: 0 | AE30: 5 | AG30: 0 | AI30: 0 | AK30: 0
D31: =L31+AB31 -> 18 | L31: =SUM(N31:Z31) -> 6 | N31: 2 | P31: 3 | R31: 0 | T31: 0 | V31: 1 | X31: 0 | Z31: 0 | AB31: =AD31+AF31+AH31+AJ31+AL31 -> 12 | AD31: 0 | AF31: 12 | AH31: 0 | AJ31: 0 | AL31: 0
B32: 19시~20시 | C32: =K32+AA32 -> 3 | K32: =SUM(M32:Z32) -> 0 | M32: 0 | O32: 0 | Q32: 0 | S32: 0 | U32: 0 | W32: 0 | Y32: 0 | AA32: =SUM(AC32:AK32) -> 3 | AC32: 0 | AE32: 3 | AG32: 0 | AI32: 0 | AK32: 0
D33: =L33+AB33 -> 13 | L33: =SUM(N33:Z33) -> 2 | N33: 0 | P33: 2 | R33: 0 | T33: 0 | V33: 0 | X33: 0 | Z33: 0 | AB33: =AD33+AF33+AH33+AJ33+AL33 -> 11 | AD33: 0 | AF33: 11 | AH33: 0 | AJ33: 0 | AL33: 0
B34: 20시~21시 | C34: =K34+AA34 -> 0 | K34: =SUM(M34:Z34) -> 0 | M34: 0 | O34: 0 | Q34: 0 | S34: 0 | U34: 0 | W34: 0 | Y34: 0 | AA34: =SUM(AC34:AL34) -> 0 | AC34: 0 | AE34: 0 | AG34: 0 | AI34: 0 | AK34: 0
D35: =L35+AB34:AB35 -> 0 | L35: =SUM(N35:Z35) -> 0 | N35: 0 | P35: 0 | R35: 0 | T35: 0 | V35: 0 | X35: 0 | Z35: 0 | AB35: =AD35+AF35+AH35+AJ35+AL35 -> 0 | AD35: 0 | AF35: 0 | AH35: 0 | AJ35: 0 | AL35: 0
A36: 분당구 | B36: 계 | C36: =SUM(C38:C42) -> 10 | K36: =SUM(M36:Z36) -> 1 | M36: =SUM(M38:M43) -> 0 | O36: =SUM(O38:O43) -> 1 | Q36: =SUM(Q38:Q43) -> 0 | S36: =SUM(S38:S43) -> 0 | U36: =SUM(U38:U43) -> 0 | W36: =SUM(W38:W43) -> 0 | Y36: =SUM(Y38:Y43) -> 0 | AA36: =SUM(AA38:AA43) -> 9 | AC36: =SUM(AC38:AC43) -> 0 | AE36: =SUM(AE38:AE43) -> 9 | AG36: =SUM(AG38:AG43) -> 0 | AI36: =SUM(AI38:AI43) -> 0 | AK36: =SUM(AK38:AK43) -> 0
D37: =SUM(D39:D43) -> 45 | L37: =SUM(N37:Z37) -> 1 | N37: =SUM(N39:N43) -> 0 | P37: =SUM(P39:P43) -> 1 | R37: =SUM(R39:R43) -> 0 | T37: =SUM(T39:T43) -> 0 | V37: =SUM(V39:V43) -> 0 | X37: =SUM(X39:X43) -> 0 | Z37: =SUM(Z39:Z43) -> 0 | AB37: =SUM(AB39:AB43) -> 44 | AD37: =SUM(AD39:AD43) -> 0 | AF37: =SUM(AF39:AF43) -> 44 | AH37: =SUM(AH39:AH43) -> 0 | AJ37: =SUM(AJ39:AJ43) -> 0 | AL37: =SUM(AL39:AL43) -> 0
B38: 18시~19시 | C38: =K38+AA38 -> 1 | K38: =SUM(M38:Z38) -> 0 | M38: 0 | O38: 0 | Q38: 0 | S38: 0 | U38: 0 | W38: 0 | Y38: 0 | AA38: =SUM(AC38:AL38) -> 1 | AC38: 0 | AE38: 1 | AG38: 0 | AI38: 0 | AK38: 0
D39: =L39+AB39 -> 8 | L39: =SUM(N39:Z39) -> 0 | N39: 0 | P39: 0 | R39: 0 | T39: 0 | V39: 0 | X39: 0 | Z39: 0 | AB39: =AD39+AF39+AH39+AJ39+AL39 -> 8 | AD39: 0 | AF39: 8 | AH39: 0 | AJ39: 0 | AL39: 0
B40: 19시~20시 | C40: =K40+AA40 -> 9 | K40: =SUM(M40:Z40) -> 1 | M40: 0 | O40: 1 | Q40: 0 | S40: 0 | U40: 0 | W40: 0 | Y40: 0 | AA40: =SUM(AC40:AK40) -> 8 | AC40: 0 | AE40: 8 | AG40: 0 | AI40: 0 | AK40: 0
D41: =L41+AB41 -> 37 | L41: =SUM(N41:Z41) -> 1 | N41: 0 | P41: 1 | R41: 0 | T41: 0 | V41: 0 | X41: 0 | Z41: 0 | AB41: =AD41+AF41+AH41+AJ41+AL41 -> 36 | AD41: 0 | AF41: 36 | AH41: 0 | AJ41: 0 | AL41: 0
B42: 20시~21시 | C42: =K42+AA42 -> 0 | K42: =SUM(M42:Z42) -> 0 | M42: 0 | O42: 0 | Q42: 0 | S42: 0 | U42: 0 | W42: 0 | Y42: 0 | AA42: =SUM(AC42:AL42) -> 0 | AC42: 0 | AE42: 0 | AG42: 0 | AI42: 0 | AK42: 0
D43: =L43+AB42:AB43 -> 0 | L43: =SUM(N43:Z43) -> 0 | N43: 0 | P43: 0 | R43: 0 | T43: 0 | V43: 0 | X43: 0 | Z43: 0 | AB43: =AD43+AF43+AH43+AJ43+AL43 -> 0 | AD43: 0 | AF43: 0 | AH43: 0 | AJ43: 0 | AL43: 0
AL44: .

Sheet 5
A1: 2025. 5월 야간 민원실 운영실적
A2: 구분 | B2: 시간 | C2: 월계/누계 | E2: 여 권 민 원 | K2: 제 증 명 발 급 | AA2: 신 고 민 원
E3: 소계 | G3: 접수 | I3: 교부 | K3: 소계 | M3: 주민등·초본 | O3: 인감증명 | Q3: 본인서명 | S3: 제적등·초본 | U3: 가족관계등록 | W3: 어디서나민원 | Y3: 기타 | AA3: 소계 | AC3: 출생·사망 | AE3: 혼인·이혼 | AG3: 전입신고 | AI3: 주민증 | AK3: 정정.재등록
A4: 합계 | B4: 월계 / 누계 | C4: =C12+C20+C28+C36 -> 373 | E4: =SUM(E6:E11) -> 354 | G4: =SUM(G6:G10) -> 108 | I4: =SUM(I6:I10) -> 246 | K4: =K20+K28+K36 -> 1 | M4: =M20+M28+M36 -> 0 | O4: =O20+O28+O36 -> 1 | Q4: =Q20+Q28+Q36 -> 0 | S4: =S20+S28+S36 -> 0 | U4: =U20+U28+U36 -> 0 | W4: =W20+W28+W36 -> 0 | Y4: =Y20+Y28+Y36 -> 0 | AA4: =AA20+AA28+AA36 -> 18 | AC4: =AC20+AC28+AC36 -> 0 | AE4: =AE20+AE28+AE36 -> 18 | AG4: =AG20+AG28+AG36 -> 0 | AI4: =AI20+AI28+AI36 -> 0 | AK4: =AK20+AK28+AK36 -> 0
D5: =D7+D9+D11 -> 2253 | F5: =SUM(F7:F11) -> 2107 | H5: =SUM(H7:H11) -> 855 | J5: =SUM(J7:J11) -> 1252 | L5: =L21+L29+L37 -> 50 | N5: =N21+N29+N37 -> 4 | P5: =P21+P29+P37 -> 29 | R5: =R21+R29+R37 -> 14 | T5: =T21+T29+T37 -> 0 | V5: =V21+V29+V37 -> 3 | X5: =X21+X29+X37 -> 0 | Z5: =Z21+Z29+Z37 -> 0 | AB5: =AB21+AB29+AB37 -> 96 | AD5: =AD21+AD29+AD37 -> 1 | AF5: =AF21+AF29+AF37 -> 95 | AH5: =AH21+AH29+AH37 -> 0 | AJ5: =AJ21+AJ29+AJ37 -> 0 | AL5: =AL21+AL29+AL37 -> 0
B6: 18시~19시 | C6: =C14+C22+C30+C38 -> 240 | E6: =SUM(G6+I6) -> 235 | G6: =G14 -> 61 | I6: =I14 -> 174 | K6: =K22+K30+K38 -> 1 | M6: =M22+M30+M38 -> 0 | O6: =O22+O30+O38 -> 1 | Q6: =Q22+Q30+Q38 -> 0 | S6: =S22+S30+S38 -> 0 | U6: =U22+U30+U38 -> 0 | W6: =W22+W30+W38 -> 0 | Y6: =Y22+Y30+Y38 -> 0 | AA6: =AA22+AA30+AA38 -> 4 | AC6: =AC22+AC30+AC38 -> 0 | AE6: =AE22+AE30+AE38 -> 4 | AG6: =AG22+AG30+AG38 -> 0 | AI6: =AI22+AI30+AI38 -> 0 | AK6: =AK22+AK30+AK38 -> 0
D7: =D15+D23+D31+D39 -> 1392 | F7: =SUM(H7:J7) -> 1321 | H7: =H15 -> 499 | J7: =J15 -> 822 | L7: =L23+L31+L39 -> 45 | N7: =N23+N31+N39 -> 4 | P7: =P23+P31+P39 -> 24 | R7: =R23+R31+R39 -> 14 | T7: =T23+T31+T39 -> 0 | V7: =V23+V31+V39 -> 3 | X7: =X23+X31+X39 -> 0 | Z7: =Z23+Z31+Z39 -> 0 | AB7: =AB23+AB31+AB39 -> 26 | AD7: =AD23+AD31+AD39 -> 0 | AF7: =AF23+AF31+AF39 -> 26 | AH7: =AH23+AH31+AH39 -> 0 | AJ7: =AJ23+AJ31+AJ39 -> 0 | AL7: =AL23+AL31+AL39 -> 0
B8: 19시~20시 | C8: =C16+C24+C32+C40 -> 133 | E8: =SUM(G8:I8) -> 119 | G8: =G16 -> 47 | I8: =I16 -> 72 | K8: =K24+K32+K40 -> 0 | M8: =M24+M32+M40 -> 0 | O8: =O24+O32+O40 -> 0 | Q8: =Q24+Q32+Q40 -> 0 | S8: =S24+S32+S40 -> 0 | U8: =U24+U32+U40 -> 0 | W8: =W24+W32+W40 -> 0 | Y8: =Y24+Y32+Y40 -> 0 | AA8: =AA24+AA32+AA40 -> 14 | AC8: =AC24+AC32+AC40 -> 0 | AE8: =AE24+AE32+AE40 -> 14 | AG8: =AG24+AG32+AG40 -> 0 | AI8: =AI24+AI32+AI40 -> 0 | AK8: =AK24+AK32+AK40 -> 0
D9: =D17+D25+D33+D41 -> 861 | F9: =SUM(H9:J9) -> 786 | H9: =H17 -> 356 | J9: =J17 -> 430 | L9: =L25+L33+L41 -> 5 | N9: =N25+N33+N41 -> 0 | P9: =P25+P33+P41 -> 5 | R9: =R25+R33+R41 -> 0 | T9: =T25+T33+T41 -> 0 | V9: =V25+V33+V41 -> 0 | X9: =X25+X33+X41 -> 0 | Z9: =Z25+Z33+Z41 -> 0 | AB9: =AB25+AB33+AB41 -> 70 | AD9: =AD25+AD33+AD41 -> 1 | AF9: =AF25+AF33+AF41 -> 69 | AH9: =AH25+AH33+AH41 -> 0 | AJ9: =AJ25+AJ33+AJ41 -> 0 | AL9: =AL25+AL33+AL41 -> 0
B10: 20시~21시 | C10: =C18+C26+C34+C42 -> 0 | E10: =SUM(G10:I10) -> 0 | G10: =G18 -> 0 | I10: =I18 -> 0 | K10: =K26+K34+K42 -> 0 | M10: =M26+M34+M42 -> 0 | O10: =O26+O34+O42 -> 0 | Q10: =Q26+Q34+Q42 -> 0 | S10: =S26+S34+S42 -> 0 | U10: =U26+U34+U42 -> 0 | W10: =W26+W34+W42 -> 0 | Y10: =Y26+Y34+Y42 -> 0 | AA10: =AA26+AA34+AA42 -> 0 | AC10: =AC26+AC34+AC42 -> 0 | AE10: =AE26+AE34+AE42 -> 0 | AG10: =AG26+AG34+AG42 -> 0 | AI10: =AI26+AI34+AI42 -> 0 | AK10: =AK26+AK34+AK42 -> 0
D11: =D19+D27+D35+D43 -> 0 | F11: =SUM(H11:J11) -> 0 | H11: =H19 -> 0 | J11: =J19 -> 0 | L11: =L27+L35+L43 -> 0 | N11: =N27+N35+N43 -> 0 | P11: =P27+P35+P43 -> 0 | R11: =R27+R35+R43 -> 0 | T11: =T27+T35+T43 -> 0 | V11: =V27+V35+V43 -> 0 | X11: =X27+X35+X43 -> 0 | Z11: =Z27+Z35+Z43 -> 0 | AB11: =AB27+AB35+AB43 -> 0 | AD11: =AD27+AD35+AD43 -> 0 | AF11: =AF27+AF35+AF43 -> 0 | AH11: =AH27+AH35+AH43 -> 0 | AJ11: =AJ27+AJ35+AJ43 -> 0 | AL11: =AL27+AL35+AL43 -> 0
A12: 여권민원실 | B12: 계 | C12: =E12 -> 354 | E12: =SUM(E14:E19) -> 354 | G12: =SUM(G14:G18) -> 108 | I12: =SUM(I14:I18) -> 246
D13: =F13 -> 2107 | F13: =SUM(F15:F19) -> 2107 | H13: =SUM(H15:H19) -> 855 | J13: =SUM(J15:J19) -> 1252
B14: 18시~19시 | C14: =E14 -> 235 | E14: =SUM(G14+I14) -> 235 | G14: 61 | I14: 174
D15: =F15 -> 1321 | F15: =SUM(H15:J15) -> 1321 | H15: =SUM('[4]3'!H15,'[4]4'!G14)+G14 -> 499 | J15: =SUM('[4]3'!J15,'[4]4'!I14)+I14 -> 822
B16: 19시~20시 | C16: =E16 -> 119 | E16: =SUM(G16:I16) -> 119 | G16: 47 | I16: 72
D17: =F17 -> 786 | F17: =SUM(H17:J17) -> 786 | H17: =SUM('[4]3'!H17,'[4]4'!G16)+G16 -> 356 | J17: =SUM('[4]3'!J17,'[4]4'!I16)+I16 -> 430
B18: 20시~21시 | C18: =E18 -> 0 | E18: =SUM(G18:I18) -> 0 | G18: 0 | I18: 0
D19: =F19 -> 0 | F19: =SUM(H19:J19) -> 0 | H19: =SUM('[4]3'!H19,'[4]4'!G18) -> 0 | J19: =SUM('[4]3'!J19,'[4]4'!I18) -> 0
A20: 수정구 | B20: 계 | C20: =SUM(C22:C26) -> 1 | K20: =SUM(M20:Z20) -> 0 | M20: =SUM(M22:M27) -> 0 | O20: =SUM(O22:O27) -> 0 | Q20: =SUM(Q22:Q27) -> 0 | S20: =SUM(S22:S27) -> 0 | U20: =SUM(U22:U27) -> 0 | W20: =SUM(W22:W27) -> 0 | Y20: =SUM(Y22:Y27) -> 0 | AA20: =SUM(AA22:AA27) -> 1 | AC20: =SUM(AC22:AC27) -> 0 | AE20: =SUM(AE22:AE27) -> 1 | AG20: =SUM(AG22:AG27) -> 0 | AI20: =SUM(AI22:AI27) -> 0 | AK20: =SUM(AK22:AK27) -> 0
D21: =SUM(D23:D27) -> 52 | L21: =SUM(N21:Z21) -> 40 | N21: =SUM(N23:N27) -> 2 | P21: =SUM(P23:P27) -> 22 | R21: =SUM(R23:R27) -> 14 | T21: =SUM(T23:T27) -> 0 | V21: =SUM(V23:V27) -> 2 | X21: =SUM(X23:X27) -> 0 | Z21: =SUM(Z23:Z27) -> 0 | AB21: =SUM(AB23:AB27) -> 12 | AD21: =SUM(AD23:AD27) -> 1 | AF21: =SUM(AF23:AF27) -> 11 | AH21: =SUM(AH23:AH27) -> 0 | AJ21: =SUM(AJ23:AJ27) -> 0 | AL21: =SUM(AL23:AL27) -> 0
B22: 18시~19시 | C22: =K22+AA22 -> 0 | K22: =SUM(M22:Z22) -> 0 | M22: 0 | O22: 0 | Q22: 0 | S22: 0 | U22: 0 | W22: 0 | Y22: 0 | AA22: =SUM(AC22:AL22) -> 0 | AC22: 0 | AE22: 0 | AG22: 0 | AI22: 0 | AK22: 0
D23: =L23+AB23 -> 40 | L23: =SUM(N23:Z23) -> 38 | N23: 2 | P23: 20 | R23: 14 | T23: 0 | V23: 2 | X23: =W22 -> 0 | Z23: =Y22 -> 0 | AB23: =AD23+AF23+AH23+AJ23+AL23 -> 2 | AD23: =AC22 -> 0 | AF23: 2 | AH23: =AG22 -> 0 | AJ23: =AI22 -> 0 | AL23: =AK22 -> 0
B24: 19시~20시 | C24: =K24+AA24 -> 1 | K24: =SUM(M24:Z24) -> 0 | M24: 0 | O24: 0 | Q24: 0 | S24: 0 | U24: 0 | W24: 0 | Y24: 0 | AA24: =SUM(AC24:AK24) -> 1 | AC24: 0 | AE24: 1 | AG24: 0 | AI24: 0 | AK24: 0
D25: =L25+AB25 -> 12 | L25: =SUM(N25:Z25) -> 2 | N25: =M24 -> 0 | P25: 2 | R25: =Q24 -> 0 | T25: =S24 -> 0 | V25: =U24 -> 0 | X25: =W24 -> 0 | Z25: =Y24 -> 0 | AB25: =AD25+AF25+AH25+AJ25+AL25 -> 10 | AD25: 1 | AF25: 9 | AH25: =AG24 -> 0 | AJ25: =AI24 -> 0 | AL25: =AK24 -> 0
B26: 20시~21시 | C26: =K26+AA26 -> 0 | K26: =SUM(M26:Z26) -> 0 | M26: 0 | O26: 0 | Q26: 0 | S26: 0 | U26: 0 | W26: 0 | Y26: 0 | AA26: =SUM(AC26:AL26) -> 0 | AC26: 0 | AE26: 0 | AG26: 0 | AI26: 0 | AK26: 0
D27: =L27+AB26:AB27 -> 0 | L27: =SUM(N27:Z27) -> 0 | N27: =M26 -> 0 | P27: =O26 -> 0 | R27: =Q26 -> 0 | T27: =S26 -> 0 | V27: =U26 -> 0 | X27: =W26 -> 0 | Z27: =Y26 -> 0 | AB27: =AD27+AF27+AH27+AJ27+AL27 -> 0 | AD27: =AC26 -> 0 | AF27: =AE26 -> 0 | AH27: =AG26 -> 0 | AJ27: =AI26 -> 0 | AL27: =AK26 -> 0
A28: 중원구 | B28: 계 | C28: =SUM(C30:C34) -> 5 | K28: =SUM(M28:Z28) -> 0 | M28: =SUM(M30:M35) -> 0 | O28: =SUM(O30:O35) -> 0 | Q28: =SUM(Q30:Q35) -> 0 | S28: =SUM(S30:S35) -> 0 | U28: =SUM(U30:U35) -> 0 | W28: =SUM(W30:W35) -> 0 | Y28: =SUM(Y30:Y35) -> 0 | AA28: =SUM(AA30:AA35) -> 5 | AC28: =SUM(AC30:AC35) -> 0 | AE28: =SUM(AE30:AE35) -> 5 | AG28: =SUM(AG30:AG35) -> 0 | AI28: =SUM(AI30:AI35) -> 0 | AK28: =SUM(AK30:AK35) -> 0
D29: =SUM(D31:D35) -> 36 | L29: =SUM(N29:Z29) -> 8 | N29: =SUM(N31:N35) -> 2 | P29: =SUM(P31:P35) -> 5 | R29: =SUM(R31:R35) -> 0 | T29: =SUM(T31:T35) -> 0 | V29: =SUM(V31:V35) -> 1 | X29: =SUM(X31:X35) -> 0 | Z29: =SUM(Z31:Z35) -> 0 | AB29: =SUM(AB31:AB35) -> 28 | AD29: =SUM(AD31:AD35) -> 0 | AF29: =SUM(AF31:AF35) -> 28 | AH29: =SUM(AH31:AH35) -> 0 | AJ29: =SUM(AJ31:AJ35) -> 0 | AL29: =SUM(AL31:AL35) -> 0
B30: 18시~19시 | C30: =K30+AA30 -> 1 | K30: =SUM(M30:Z30) -> 0 | M30: 0 | O30: 0 | Q30: 0 | S30: 0 | U30: 0 | W30: 0 | Y30: 0 | AA30: =SUM(AC30:AL30) -> 1 | AC30: 0 | AE30: 1 | AG30: 0 | AI30: 0 | AK30: 0
D31: =L31+AB31 -> 19 | L31: =SUM(N31:Z31) -> 6 | N31: =SUM('[5]2'!N31,'[5]5'!M30) -> 2 | P31: =SUM('[5]2'!P31,'[5]5'!O30) -> 3 | R31: =Q30 -> 0 | T31: =S30 -> 0 | V31: =SUM('[5]2'!V31,'[5]5'!U30) -> 1 | X31: =W30 -> 0 | Z31: =Y30 -> 0 | AB31: =AD31+AF31+AH31+AJ31+AL31 -> 13 | AD31: =AC30 -> 0 | AF31: =SUM('[5]4'!AF31,'[5]5'!AE30) -> 13 | AH31: =AG30 -> 0 | AJ31: =AI30 -> 0 | AL31: =AK30 -> 0
B32: 19시~20시 | C32: =K32+AA32 -> 4 | K32: =SUM(M32:Z32) -> 0 | M32: 0 | O32: 0 | Q32: 0 | S32: 0 | U32: 0 | W32: 0 | Y32: 0 | AA32: =SUM(AC32:AK32) -> 4 | AC32: 0 | AE32: 4 | AG32: 0 | AI32: 0 | AK32: 0
D33: =L33+AB33 -> 17 | L33: =SUM(N33:Z33) -> 2 | N33: =M32 -> 0 | P33: =SUM('[5]3'!P33,'[5]5'!O32) -> 2 | R33: =Q32 -> 0 | T33: =S32 -> 0 | V33: =U32 -> 0 | X33: =W32 -> 0 | Z33: =Y32 -> 0 | AB33: =AD33+AF33+AH33+AJ33+AL33 -> 15 | AD33: =AC32 -> 0 | AF33: =SUM('[5]4'!AF33,'[5]5'!AE32) -> 15 | AH33: =AG32 -> 0 | AJ33: =AI32 -> 0 | AL33: =AK32 -> 0
B34: 20시~21시 | C34: =K34+AA34 -> 0 | K34: =SUM(M34:Z34) -> 0 | M34: 0 | O34: 0 | Q34: 0 | S34: 0 | U34: 0 | W34: 0 | Y34: 0 | AA34: =SUM(AC34:AL34) -> 0 | AC34: 0 | AE34: 0 | AG34: 0 | AI34: 0 | AK34: 0
D35: =L35+AB34:AB35 -> 0 | L35: =SUM(N35:Z35) -> 0 | N35: =M34 -> 0 | P35: =O34 -> 0 | R35: =Q34 -> 0 | T35: =S34 -> 0 | V35: =U34 -> 0 | X35: =W34 -> 0 | Z35: =Y34 -> 0 | AB35: =AD35+AF35+AH35+AJ35+AL35 -> 0 | AD35: =AC34 -> 0 | AF35: 0 | AH35: =AG34 -> 0 | AJ35: =AI34 -> 0 | AL35: =AK34 -> 0
A36: 분당구 | B36: 계 | C36: =SUM(C38:C42) -> 13 | K36: =SUM(M36:Z36) -> 1 | M36: =SUM(M38:M43) -> 0 | O36: =SUM(O38:O43) -> 1 | Q36: =SUM(Q38:Q43) -> 0 | S36: =SUM(S38:S43) -> 0 | U36: =SUM(U38:U43) -> 0 | W36: =SUM(W38:W43) -> 0 | Y36: =SUM(Y38:Y43) -> 0 | AA36: =SUM(AA38:AA43) -> 12 | AC36: =SUM(AC38:AC43) -> 0 | AE36: =SUM(AE38:AE43) -> 12 | AG36: =SUM(AG38:AG43) -> 0 | AI36: =SUM(AI38:AI43) -> 0 | AK36: =SUM(AK38:AK43) -> 0
D37: =SUM(D39:D43) -> 58 | L37: =SUM(N37:Z37) -> 2 | N37: =SUM(N39:N43) -> 0 | P37: =SUM(P39:P43) -> 2 | R37: =SUM(R39:R43) -> 0 | T37: =SUM(T39:T43) -> 0 | V37: =SUM(V39:V43) -> 0 | X37: =SUM(X39:X43) -> 0 | Z37: =SUM(Z39:Z43) -> 0 | AB37: =SUM(AB39:AB43) -> 56 | AD37: =SUM(AD39:AD43) -> 0 | AF37: =SUM(AF39:AF43) -> 56 | AH37: =SUM(AH39:AH43) -> 0 | AJ37: =SUM(AJ39:AJ43) -> 0 | AL37: =SUM(AL39:AL43) -> 0
B38: 18시~19시 | C38: =K38+AA38 -> 4 | K38: =SUM(M38:Z38) -> 1 | M38: 0 | O38: 1 | Q38: 0 | S38: 0 | U38: 0 | W38: 0 | Y38: 0 | AA38: =SUM(AC38:AL38) -> 3 | AC38: 0 | AE38: 3 | AG38: 0 | AI38: 0 | AK38: 0
D39: =L39+AB39 -> 12 | L39: =SUM(N39:Z39) -> 1 | N39: =SUM('[6]4'!N39,'[6]5'!M38) -> 0 | P39: =SUM('[6]4'!P39,'[6]5'!O38) -> 1 | R39: =SUM('[6]4'!R39,'[6]5'!Q38) -> 0 | T39: =SUM('[6]4'!T39,'[6]5'!S38) -> 0 | V39: =SUM('[6]4'!V39,'[6]5'!U38) -> 0 | X39: =SUM('[6]4'!X39,'[6]5'!W38) -> 0 | Z39: =SUM('[6]4'!Z39,'[6]5'!Y38) -> 0 | AB39: =AD39+AF39+AH39+AJ39+AL39 -> 11 | AD39: =SUM('[6]4'!AD39,'[6]5'!AC38) -> 0 | AF39: =SUM('[6]4'!AF39,'[6]5'!AE38) -> 11 | AH39: =SUM('[6]4'!AH39,'[6]5'!AG38) -> 0 | AJ39: =SUM('[6]4'!AJ39,'[6]5'!AI38) -> 0 | AL39: =SUM('[6]4'!AL39,'[6]5'!AK38) -> 0
B40: 19시~20시 | C40: =K40+AA40 -> 9 | K40: =SUM(M40:Z40) -> 0 | M40: 0 | O40: 0 | Q40: 0 | S40: 0 | U40: 0 | W40: 0 | Y40: 0 | AA40: =SUM(AC40:AK40) -> 9 | AC40: 0 | AE40: 9 | AG40: 0 | AI40: 0 | AK40: 0
D41: =L41+AB41 -> 46 | L41: =SUM(N41:Z41) -> 1 | N41: =SUM('[6]4'!N41,'[6]5'!M40) -> 0 | P41: =SUM('[6]4'!P41,'[6]5'!O40) -> 1 | R41: =SUM('[6]4'!R41,'[6]5'!Q40) -> 0 | T41: =SUM('[6]4'!T41,'[6]5'!S40) -> 0 | V41: =SUM('[6]4'!V41,'[6]5'!U40) -> 0 | X41: =SUM('[6]4'!X41,'[6]5'!W40) -> 0 | Z41: =SUM('[6]4'!Z41,'[6]5'!Y40) -> 0 | AB41: =AD41+AF41+AH41+AJ41+AL41 -> 45 | AD41: =SUM('[6]4'!AD41,'[6]5'!AC40) -> 0 | AF41: =SUM('[6]4'!AF41,'[6]5'!AE40) -> 45 | AH41: =SUM('[6]4'!AH41,'[6]5'!AG40) -> 0 | AJ41: =SUM('[6]4'!AJ41,'[6]5'!AI40) -> 0 | AL41: =SUM('[6]4'!AL41,'[6]5'!AK40) -> 0
B42: 20시~21시 | C42: =K42+AA42 -> 0 | K42: =SUM(M42:Z42) -> 0 | M42: 0 | O42: 0 | Q42: 0 | S42: 0 | U42: 0 | W42: 0 | Y42: 0 | AA42: =SUM(AC42:AL42) -> 0 | AC42: 0 | AE42: 0 | AG42: 0 | AI42: 0 | AK42: 0
D43: =L43+AB43 -> 0 | L43: =SUM(N43:Z43) -> 0 | N43: =SUM('[6]4'!N43,'[6]5'!M42) -> 0 | P43: =SUM('[6]4'!P43,'[6]5'!O42) -> 0 | R43: =SUM('[6]4'!R43,'[6]5'!Q42) -> 0 | T43: =SUM('[6]4'!T43,'[6]5'!S42) -> 0 | V43: =SUM('[6]4'!V43,'[6]5'!U42) -> 0 | X43: =SUM('[6]4'!X43,'[6]5'!W42) -> 0 | Z43: =SUM('[6]4'!Z43,'[6]5'!Y42) -> 0 | AB43: =AD43+AF43+AH43+AJ43+AL43 -> 0 | AD43: =SUM('[6]4'!AD43,'[6]5'!AC42) -> 0 | AF43: =SUM('[6]4'!AF43,'[6]5'!AE42) -> 0 | AH43: =SUM('[6]4'!AH43,'[6]5'!AG42) -> 0 | AJ43: =SUM('[6]4'!AJ43,'[6]5'!AI42) -> 0 | AL43: =SUM('[6]4'!AL43,'[6]5'!AK42) -> 0
AL44: .

Sheet 6
A1: 2025. 6월 야간 민원실 운영실적
A2: 구분 | B2: 시간 | C2: 월계/누계 | E2: 여 권 민 원 | K2: 제 증 명 발 급 | AA2: 신 고 민 원
E3: 소계 | G3: 접수 | I3: 교부 | K3: 소계 | M3: 주민등·초본 | O3: 인감증명 | Q3: 본인서명 | S3: 제적등·초본 | U3: 가족관계등록 | W3: 어디서나민원 | Y3: 기타 | AA3: 소계 | AC3: 출생·사망 | AE3: 혼인·이혼 | AG3: 전입신고 | AI3: 주민증 | AK3: 정정.재등록
A4: 합계 | B4: 월계 / 누계 | C4: =C12+C20+C28+C36 -> 604 | E4: =SUM(E6:E11) -> 582 | G4: =SUM(G6:G10) -> 233 | I4: =SUM(I6:I10) -> 349 | K4: =K20+K28+K36 -> 3 | M4: =M20+M28+M36 -> 0 | O4: =O20+O28+O36 -> 3 | Q4: =Q20+Q28+Q36 -> 0 | S4: =S20+S28+S36 -> 0 | U4: =U20+U28+U36 -> 0 | W4: =W20+W28+W36 -> 0 | Y4: =Y20+Y28+Y36 -> 0 | AA4: =AA20+AA28+AA36 -> 19 | AC4: =AC20+AC28+AC36 -> 0 | AE4: =AE20+AE28+AE36 -> 19 | AG4: =AG20+AG28+AG36 -> 0 | AI4: =AI20+AI28+AI36 -> 0 | AK4: =AK20+AK28+AK36 -> 0
D5: =D7+D9+D11 -> 2857 | F5: =SUM(F7:F11) -> 2689 | H5: =SUM(H7:H11) -> 1088 | J5: =SUM(J7:J11) -> 1601 | L5: =L21+L29+L37 -> 53 | N5: =N21+N29+N37 -> 4 | P5: =P21+P29+P37 -> 32 | R5: =R21+R29+R37 -> 14 | T5: =T21+T29+T37 -> 0 | V5: =V21+V29+V37 -> 3 | X5: =X21+X29+X37 -> 0 | Z5: =Z21+Z29+Z37 -> 0 | AB5: =AB21+AB29+AB37 -> 115 | AD5: =AD21+AD29+AD37 -> 1 | AF5: =AF21+AF29+AF37 -> 114 | AH5: =AH21+AH29+AH37 -> 0 | AJ5: =AJ21+AJ29+AJ37 -> 0 | AL5: =AL21+AL29+AL37 -> 0
B6: 18시~19시 | C6: =C14+C22+C30+C38 -> 355 | E6: =SUM(G6+I6) -> 348 | G6: =G14 -> 137 | I6: =I14 -> 211 | K6: =K22+K30+K38 -> 1 | M6: =M22+M30+M38 -> 0 | O6: =O22+O30+O38 -> 1 | Q6: =Q22+Q30+Q38 -> 0 | S6: =S22+S30+S38 -> 0 | U6: =U22+U30+U38 -> 0 | W6: =W22+W30+W38 -> 0 | Y6: =Y22+Y30+Y38 -> 0 | AA6: =AA22+AA30+AA38 -> 6 | AC6: =AC22+AC30+AC38 -> 0 | AE6: =AE22+AE30+AE38 -> 6 | AG6: =AG22+AG30+AG38 -> 0 | AI6: =AI22+AI30+AI38 -> 0 | AK6: =AK22+AK30+AK38 -> 0
D7: =D15+D23+D31+D39 -> 1747 | F7: =SUM(H7:J7) -> 1669 | H7: =H15 -> 636 | J7: =J15 -> 1033 | L7: =L23+L31+L39 -> 46 | N7: =N23+N31+N39 -> 4 | P7: =P23+P31+P39 -> 25 | R7: =R23+R31+R39 -> 14 | T7: =T23+T31+T39 -> 0 | V7: =V23+V31+V39 -> 3 | X7: =X23+X31+X39 -> 0 | Z7: =Z23+Z31+Z39 -> 0 | AB7: =AB23+AB31+AB39 -> 32 | AD7: =AD23+AD31+AD39 -> 0 | AF7: =AF23+AF31+AF39 -> 32 | AH7: =AH23+AH31+AH39 -> 0 | AJ7: =AJ23+AJ31+AJ39 -> 0 | AL7: =AL23+AL31+AL39 -> 0
B8: 19시~20시 | C8: =C16+C24+C32+C40 -> 249 | E8: =SUM(G8:I8) -> 234 | G8: =G16 -> 96 | I8: =I16 -> 138 | K8: =K24+K32+K40 -> 2 | M8: =M24+M32+M40 -> 0 | O8: =O24+O32+O40 -> 2 | Q8: =Q24+Q32+Q40 -> 0 | S8: =S24+S32+S40 -> 0 | U8: =U24+U32+U40 -> 0 | W8: =W24+W32+W40 -> 0 | Y8: =Y24+Y32+Y40 -> 0 | AA8: =AA24+AA32+AA40 -> 13 | AC8: =AC24+AC32+AC40 -> 0 | AE8: =AE24+AE32+AE40 -> 13 | AG8: =AG24+AG32+AG40 -> 0 | AI8: =AI24+AI32+AI40 -> 0 | AK8: =AK24+AK32+AK40 -> 0
D9: =D17+D25+D33+D41 -> 1110 | F9: =SUM(H9:J9) -> 1020 | H9: =H17 -> 452 | J9: =J17 -> 568 | L9: =L25+L33+L41 -> 7 | N9: =N25+N33+N41 -> 0 | P9: =P25+P33+P41 -> 7 | R9: =R25+R33+R41 -> 0 | T9: =T25+T33+T41 -> 0 | V9: =V25+V33+V41 -> 0 | X9: =X25+X33+X41 -> 0 | Z9: =Z25+Z33+Z41 -> 0 | AB9: =AB25+AB33+AB41 -> 83 | AD9: =AD25+AD33+AD41 -> 1 | AF9: =AF25+AF33+AF41 -> 82 | AH9: =AH25+AH33+AH41 -> 0 | AJ9: =AJ25+AJ33+AJ41 -> 0 | AL9: =AL25+AL33+AL41 -> 0
B10: 20시~21시 | C10: =C18+C26+C34+C42 -> 0 | E10: =SUM(G10:I10) -> 0 | G10: =G18 -> 0 | I10: =I18 -> 0 | K10: =K26+K34+K42 -> 0 | M10: =M26+M34+M42 -> 0 | O10: =O26+O34+O42 -> 0 | Q10: =Q26+Q34+Q42 -> 0 | S10: =S26+S34+S42 -> 0 | U10: =U26+U34+U42 -> 0 | W10: =W26+W34+W42 -> 0 | Y10: =Y26+Y34+Y42 -> 0 | AA10: =AA26+AA34+AA42 -> 0 | AC10: =AC26+AC34+AC42 -> 0 | AE10: =AE26+AE34+AE42 -> 0 | AG10: =AG26+AG34+AG42 -> 0 | AI10: =AI26+AI34+AI42 -> 0 | AK10: =AK26+AK34+AK42 -> 0
D11: =D19+D27+D35+D43 -> 0 | F11: =SUM(H11:J11) -> 0 | H11: =H19 -> 0 | J11: =J19 -> 0 | L11: =L27+L35+L43 -> 0 | N11: =N27+N35+N43 -> 0 | P11: =P27+P35+P43 -> 0 | R11: =R27+R35+R43 -> 0 | T11: =T27+T35+T43 -> 0 | V11: =V27+V35+V43 -> 0 | X11: =X27+X35+X43 -> 0 | Z11: =Z27+Z35+Z43 -> 0 | AB11: =AB27+AB35+AB43 -> 0 | AD11: =AD27+AD35+AD43 -> 0 | AF11: =AF27+AF35+AF43 -> 0 | AH11: =AH27+AH35+AH43 -> 0 | AJ11: =AJ27+AJ35+AJ43 -> 0 | AL11: =AL27+AL35+AL43 -> 0
A12: 여권민원실 | B12: 계 | C12: =E12 -> 582 | E12: =SUM(E14:E19) -> 582 | G12: =SUM(G14:G18) -> 233 | I12: =SUM(I14:I18) -> 349
D13: =F13 -> 2689 | F13: =SUM(F15:F19) -> 2689 | H13: =SUM(H15:H19) -> 1088 | J13: =SUM(J15:J19) -> 1601
B14: 18시~19시 | C14: =E14 -> 348 | E14: =SUM(G14+I14) -> 348 | G14: 137 | I14: 211
D15: =F15 -> 1669 | F15: =SUM(H15:J15) -> 1669 | H15: 636 | J15: 1033
B16: 19시~20시 | C16: =E16 -> 234 | E16: =SUM(G16:I16) -> 234 | G16: 96 | I16: 138
D17: =F17 -> 1020 | F17: =SUM(H17:J17) -> 1020 | H17: 452 | J17: 568
B18: 20시~21시 | C18: =E18 -> 0 | E18: =SUM(G18:I18) -> 0 | G18: 0 | I18: 0
D19: =F19 -> 0 | F19: =SUM(H19:J19) -> 0 | H19: =SUM('[4]3'!H19,'[4]4'!G18) -> 0 | J19: =SUM('[4]3'!J19,'[4]4'!I18) -> 0
A20: 수정구 | B20: 계 | C20: =SUM(C22:C26) -> 2 | K20: =SUM(M20:Z20) -> 0 | M20: =SUM(M22:M27) -> 0 | O20: =SUM(O22:O27) -> 0 | Q20: =SUM(Q22:Q27) -> 0 | S20: =SUM(S22:S27) -> 0 | U20: =SUM(U22:U27) -> 0 | W20: =SUM(W22:W27) -> 0 | Y20: =SUM(Y22:Y27) -> 0 | AA20: =SUM(AA22:AA27) -> 2 | AC20: =SUM(AC22:AC27) -> 0 | AE20: =SUM(AE22:AE27) -> 2 | AG20: =SUM(AG22:AG27) -> 0 | AI20: =SUM(AI22:AI27) -> 0 | AK20: =SUM(AK22:AK27) -> 0
D21: =SUM(D23:D27) -> 54 | L21: =SUM(N21:Z21) -> 40 | N21: =SUM(N23:N27) -> 2 | P21: =SUM(P23:P27) -> 22 | R21: =SUM(R23:R27) -> 14 | T21: =SUM(T23:T27) -> 0 | V21: =SUM(V23:V27) -> 2 | X21: =SUM(X23:X27) -> 0 | Z21: =SUM(Z23:Z27) -> 0 | AB21: =SUM(AB23:AB27) -> 14 | AD21: =SUM(AD23:AD27) -> 1 | AF21: =SUM(AF23:AF27) -> 13 | AH21: =SUM(AH23:AH27) -> 0 | AJ21: =SUM(AJ23:AJ27) -> 0 | AL21: =SUM(AL23:AL27) -> 0
B22: 18시~19시 | C22: =K22+AA22 -> 0 | K22: =SUM(M22:Z22) -> 0 | M22: 0 | O22: 0 | Q22: 0 | S22: 0 | U22: 0 | W22: 0 | Y22: 0 | AA22: =SUM(AC22:AL22) -> 0 | AC22: 0 | AE22: 0 | AG22: 0 | AI22: 0 | AK22: 0
D23: =L23+AB23 -> 40 | L23: =SUM(N23:Z23) -> 38 | N23: 2 | P23: 20 | R23: 14 | T23: 0 | V23: 2 | X23: =W22 -> 0 | Z23: =Y22 -> 0 | AB23: =AD23+AF23+AH23+AJ23+AL23 -> 2 | AD23: =AC22 -> 0 | AF23: 2 | AH23: =AG22 -> 0 | AJ23: =AI22 -> 0 | AL23: =AK22 -> 0
B24: 19시~20시 | C24: =K24+AA24 -> 2 | K24: =SUM(M24:Z24) -> 0 | M24: 0 | O24: 0 | Q24: 0 | S24: 0 | U24: 0 | W24: 0 | Y24: 0 | AA24: =SUM(AC24:AK24) -> 2 | AC24: 0 | AE24: 2 | AG24: 0 | AI24: 0 | AK24: 0
D25: =L25+AB25 -> 14 | L25: =SUM(N25:Z25) -> 2 | N25: =M24 -> 0 | P25: 2 | R25: =Q24 -> 0 | T25: =S24 -> 0 | V25: =U24 -> 0 | X25: =W24 -> 0 | Z25: =Y24 -> 0 | AB25: =AD25+AF25+AH25+AJ25+AL25 -> 12 | AD25: 1 | AF25: 11 | AH25: =AG24 -> 0 | AJ25: =AI24 -> 0 | AL25: =AK24 -> 0
B26: 20시~21시 | C26: =K26+AA26 -> 0 | K26: =SUM(M26:Z26) -> 0 | M26: 0 | O26: 0 | Q26: 0 | S26: 0 | U26: 0 | W26: 0 | Y26: 0 | AA26: =SUM(AC26:AL26) -> 0 | AC26: 0 | AE26: 0 | AG26: 0 | AI26: 0 | AK26: 0
D27: =L27+AB26:AB27 -> 0 | L27: =SUM(N27:Z27) -> 0 | N27: =M26 -> 0 | P27: =O26 -> 0 | R27: =Q26 -> 0 | T27: =S26 -> 0 | V27: =U26 -> 0 | X27: =W26 -> 0 | Z27: =Y26 -> 0 | AB27: =AD27+AF27+AH27+AJ27+AL27 -> 0 | AD27: =AC26 -> 0 | AF27: =AE26 -> 0 | AH27: =AG26 -> 0 | AJ27: =AI26 -> 0 | AL27: =AK26 -> 0
A28: 중원구 | B28: 계 | C28: =SUM(C30:C34) -> 3 | K28: =SUM(M28:Z28) -> 0 | M28: =SUM(M30:M35) -> 0 | O28: =SUM(O30:O35) -> 0 | Q28: =SUM(Q30:Q35) -> 0 | S28: =SUM(S30:S35) -> 0 | U28: =SUM(U30:U35) -> 0 | W28: =SUM(W30:W35) -> 0 | Y28: =SUM(Y30:Y35) -> 0 | AA28: =SUM(AA30:AA35) -> 3 | AC28: =SUM(AC30:AC35) -> 0 | AE28: =SUM(AE30:AE35) -> 3 | AG28: =SUM(AG30:AG35) -> 0 | AI28: =SUM(AI30:AI35) -> 0 | AK28: =SUM(AK30:AK35) -> 0
D29: =SUM(D31:D35) -> 39 | L29: =SUM(N29:Z29) -> 8 | N29: =SUM(N31:N35) -> 2 | P29: =SUM(P31:P35) -> 5 | R29: =SUM(R31:R35) -> 0 | T29: =SUM(T31:T35) -> 0 | V29: =SUM(V31:V35) -> 1 | X29: =SUM(X31:X35) -> 0 | Z29: =SUM(Z31:Z35) -> 0 | AB29: =SUM(AB31:AB35) -> 31 | AD29: =SUM(AD31:AD35) -> 0 | AF29: =SUM(AF31:AF35) -> 31 | AH29: =SUM(AH31:AH35) -> 0 | AJ29: =SUM(AJ31:AJ35) -> 0 | AL29: =SUM(AL31:AL35) -> 0
B30: 18시~19시 | C30: =K30+AA30 -> 0 | K30: =SUM(M30:Z30) -> 0 | M30: 0 | O30: 0 | Q30: 0 | S30: 0 | U30: 0 | W30: 0 | Y30: 0 | AA30: =SUM(AC30:AL30) -> 0 | AC30: 0 | AE30: 0 | AG30: 0 | AI30: 0 | AK30: 0
D31: =L31+AB31 -> 19 | L31: =SUM(N31:Z31) -> 6 | N31: 2 | P31: 3 | R31: 0 | T31: 0 | V31: 1 | X31: 0 | Z31: 0 | AB31: =AD31+AF31+AH31+AJ31+AL31 -> 13 | AD31: 0 | AF31: 13 | AH31: 0 | AJ31: 0 | AL31: 0
B32: 19시~20시 | C32: =K32+AA32 -> 3 | K32: =SUM(M32:Z32) -> 0 | M32: 0 | O32: 0 | Q32: 0 | S32: 0 | U32: 0 | W32: 0 | Y32: 0 | AA32: =SUM(AC32:AK32) -> 3 | AC32: 0 | AE32: 3 | AG32: 0 | AI32: 0 | AK32: 0
D33: =L33+AB33 -> 20 | L33: =SUM(N33:Z33) -> 2 | N33: 0 | P33: 2 | R33: 0 | T33: 0 | V33: 0 | X33: 0 | Z33: 0 | AB33: =AD33+AF33+AH33+AJ33+AL33 -> 18 | AD33: 0 | AF33: 18 | AH33: 0 | AJ33: 0 | AL33: 0
B34: 20시~21시 | C34: =K34+AA34 -> 0 | K34: =SUM(M34:Z34) -> 0 | M34: 0 | O34: 0 | Q34: 0 | S34: 0 | U34: 0 | W34: 0 | Y34: 0 | AA34: =SUM(AC34:AL34) -> 0 | AC34: 0 | AE34: 0 | AG34: 0 | AI34: 0 | AK34: 0
D35: =L35+AB34:AB35 -> 0 | L35: =SUM(N35:Z35) -> 0 | N35: 0 | P35: 0 | R35: 0 | T35: 0 | V35: 0 | X35: 0 | Z35: 0 | AB35: =AD35+AF35+AH35+AJ35+AL35 -> 0 | AD35: 0 | AF35: 0 | AH35: 0 | AJ35: 0 | AL35: 0
A36: 분당구 | B36: 계 | C36: =SUM(C38:C42) -> 17 | K36: =SUM(M36:Z36) -> 3 | M36: =SUM(M38:M43) -> 0 | O36: =SUM(O38:O43) -> 3 | Q36: =SUM(Q38:Q43) -> 0 | S36: =SUM(S38:S43) -> 0 | U36: =SUM(U38:U43) -> 0 | W36: =SUM(W38:W43) -> 0 | Y36: =SUM(Y38:Y43) -> 0 | AA36: =SUM(AA38:AA43) -> 14 | AC36: =SUM(AC38:AC43) -> 0 | AE36: =SUM(AE38:AE43) -> 14 | AG36: =SUM(AG38:AG43) -> 0 | AI36: =SUM(AI38:AI43) -> 0 | AK36: =SUM(AK38:AK43) -> 0
D37: =SUM(D39:D43) -> 75 | L37: =SUM(N37:Z37) -> 5 | N37: =SUM(N39:N43) -> 0 | P37: =SUM(P39:P43) -> 5 | R37: =SUM(R39:R43) -> 0 | T37: =SUM(T39:T43) -> 0 | V37: =SUM(V39:V43) -> 0 | X37: =SUM(X39:X43) -> 0 | Z37: =SUM(Z39:Z43) -> 0 | AB37: =SUM(AB39:AB43) -> 70 | AD37: =SUM(AD39:AD43) -> 0 | AF37: =SUM(AF39:AF43) -> 70 | AH37: =SUM(AH39:AH43) -> 0 | AJ37: =SUM(AJ39:AJ43) -> 0 | AL37: =SUM(AL39:AL43) -> 0
B38: 18시~19시 | C38: =K38+AA38 -> 7 | K38: =SUM(M38:Z38) -> 1 | M38: 0 | O38: 1 | Q38: 0 | S38: 0 | U38: 0 | W38: 0 | Y38: 0 | AA38: =SUM(AC38:AL38) -> 6 | AC38: 0 | AE38: 6 | AG38: 0 | AI38: 0 | AK38: 0
D39: =L39+AB39 -> 19 | L39: =SUM(N39:Z39) -> 2 | N39: 0 | P39: 2 | R39: 0 | T39: 0 | V39: 0 | X39: 0 | Z39: 0 | AB39: =AD39+AF39+AH39+AJ39+AL39 -> 17 | AD39: 0 | AF39: 17 | AH39: 0 | AJ39: 0 | AL39: 0
B40: 19시~20시 | C40: =K40+AA40 -> 10 | K40: =SUM(M40:Z40) -> 2 | M40: 0 | O40: 2 | Q40: 0 | S40: 0 | U40: 0 | W40: 0 | Y40: 0 | AA40: =SUM(AC40:AK40) -> 8 | AC40: 0 | AE40: 8 | AG40: 0 | AI40: 0 | AK40: 0
D41: =L41+AB41 -> 56 | L41: =SUM(N41:Z41) -> 3 | N41: 0 | P41: 3 | R41: 0 | T41: 0 | V41: 0 | X41: 0 | Z41: 0 | AB41: =AD41+AF41+AH41+AJ41+AL41 -> 53 | AD41: 0 | AF41: 53 | AH41: 0 | AJ41: 0 | AL41: 0
B42: 20시~21시 | C42: =K42+AA42 -> 0 | K42: =SUM(M42:Z42) -> 0 | M42: 0 | O42: 0 | Q42: 0 | S42: 0 | U42: 0 | W42: 0 | Y42: 0 | AA42: =SUM(AC42:AL42) -> 0 | AC42: 0 | AE42: 0 | AG42: 0 | AI42: 0 | AK42: 0
D43: =L43+AB43 -> 0 | L43: =SUM(N43:Z43) -> 0 | N43: 0 | P43: 0 | R43: 0 | T43: 0 | V43: 0 | X43: 0 | Z43: 0 | AB43: =AD43+AF43+AH43+AJ43+AL43 -> 0 | AD43: 0 | AF43: 0 | AH43: 0 | AJ43: 0 | AL43: 0
AL44: .

Sheet 7
A1: 2025. 7월 야간 민원실 운영실적
A2: 구분 | B2: 시간 | C2: 월계/누계 | E2: 여 권 민 원 | K2: 제 증 명 발 급 | AA2: 신 고 민 원
E3: 소계 | G3: 접수 | I3: 교부 | K3: 소계 | M3: 주민등·초본 | O3: 인감증명 | Q3: 본인서명 | S3: 제적등·초본 | U3: 가족관계등록 | W3: 어디서나민원 | Y3: 기타 | AA3: 소계 | AC3: 출생·사망 | AE3: 혼인·이혼 | AG3: 전입신고 | AI3: 주민증 | AK3: 정정.재등록
A4: 합계 | B4: 월계 / 누계 | C4: =C12+C20+C28+C36 -> 417 | E4: =SUM(E6:E11) -> 404 | G4: =SUM(G6:G10) -> 178 | I4: =SUM(I6:I10) -> 226 | K4: =K20+K28+K36 -> 1 | M4: =M20+M28+M36 -> 0 | O4: =O20+O28+O36 -> 1 | Q4: =Q20+Q28+Q36 -> 0 | S4: =S20+S28+S36 -> 0 | U4: =U20+U28+U36 -> 0 | W4: =W20+W28+W36 -> 0 | Y4: =Y20+Y28+Y36 -> 0 | AA4: =AA20+AA28+AA36 -> 12 | AC4: =AC20+AC28+AC36 -> 0 | AE4: =AE20+AE28+AE36 -> 12 | AG4: =AG20+AG28+AG36 -> 0 | AI4: =AI20+AI28+AI36 -> 0 | AK4: =AK20+AK28+AK36 -> 0
D5: =D7+D9+D11 -> 3274 | F5: =SUM(F7:F11) -> 3093 | H5: =SUM(H7:H11) -> 1266 | J5: =SUM(J7:J11) -> 1827 | L5: =L21+L29+L37 -> 54 | N5: =N21+N29+N37 -> 4 | P5: =P21+P29+P37 -> 33 | R5: =R21+R29+R37 -> 14 | T5: =T21+T29+T37 -> 0 | V5: =V21+V29+V37 -> 3 | X5: =X21+X29+X37 -> 0 | Z5: =Z21+Z29+Z37 -> 0 | AB5: =AB21+AB29+AB37 -> 127 | AD5: =AD21+AD29+AD37 -> 1 | AF5: =AF21+AF29+AF37 -> 126 | AH5: =AH21+AH29+AH37 -> 0 | AJ5: =AJ21+AJ29+AJ37 -> 0 | AL5: =AL21+AL29+AL37 -> 0
B6: 18시~19시 | C6: =C14+C22+C30+C38 -> 230 | E6: =SUM(G6+I6) -> 223 | G6: =G14 -> 92 | I6: =I14 -> 131 | K6: =K22+K30+K38 -> 1 | M6: =M22+M30+M38 -> 0 | O6: =O22+O30+O38 -> 1 | Q6: =Q22+Q30+Q38 -> 0 | S6: =S22+S30+S38 -> 0 | U6: =U22+U30+U38 -> 0 | W6: =W22+W30+W38 -> 0 | Y6: =Y22+Y30+Y38 -> 0 | AA6: =AA22+AA30+AA38 -> 6 | AC6: =AC22+AC30+AC38 -> 0 | AE6: =AE22+AE30+AE38 -> 6 | AG6: =AG22+AG30+AG38 -> 0 | AI6: =AI22+AI30+AI38 -> 0 | AK6: =AK22+AK30+AK38 -> 0
D7: =D15+D23+D31+D39 -> 1977 | F7: =SUM(H7:J7) -> 1892 | H7: =H15 -> 728 | J7: =J15 -> 1164 | L7: =L23+L31+L39 -> 47 | N7: =N23+N31+N39 -> 4 | P7: =P23+P31+P39 -> 26 | R7: =R23+R31+R39 -> 14 | T7: =T23+T31+T39 -> 0 | V7: =V23+V31+V39 -> 3 | X7: =X23+X31+X39 -> 0 | Z7: =Z23+Z31+Z39 -> 0 | AB7: =AB23+AB31+AB39 -> 38 | AD7: =AD23+AD31+AD39 -> 0 | AF7: =AF23+AF31+AF39 -> 38 | AH7: =AH23+AH31+AH39 -> 0 | AJ7: =AJ23+AJ31+AJ39 -> 0 | AL7: =AL23+AL31+AL39 -> 0
B8: 19시~20시 | C8: =C16+C24+C32+C40 -> 187 | E8: =SUM(G8:I8) -> 181 | G8: =G16 -> 86 | I8: =I16 -> 95 | K8: =K24+K32+K40 -> 0 | M8: =M24+M32+M40 -> 0 | O8: =O24+O32+O40 -> 0 | Q8: =Q24+Q32+Q40 -> 0 | S8: =S24+S32+S40 -> 0 | U8: =U24+U32+U40 -> 0 | W8: =W24+W32+W40 -> 0 | Y8: =Y24+Y32+Y40 -> 0 | AA8: =AA24+AA32+AA40 -> 6 | AC8: =AC24+AC32+AC40 -> 0 | AE8: =AE24+AE32+AE40 -> 6 | AG8: =AG24+AG32+AG40 -> 0 | AI8: =AI24+AI32+AI40 -> 0 | AK8: =AK24+AK32+AK40 -> 0
D9: =D17+D25+D33+D41 -> 1297 | F9: =SUM(H9:J9) -> 1201 | H9: =H17 -> 538 | J9: =J17 -> 663 | L9: =L25+L33+L41 -> 7 | N9: =N25+N33+N41 -> 0 | P9: =P25+P33+P41 -> 7 | R9: =R25+R33+R41 -> 0 | T9: =T25+T33+T41 -> 0 | V9: =V25+V33+V41 -> 0 | X9: =X25+X33+X41 -> 0 | Z9: =Z25+Z33+Z41 -> 0 | AB9: =AB25+AB33+AB41 -> 89 | AD9: =AD25+AD33+AD41 -> 1 | AF9: =AF25+AF33+AF41 -> 88 | AH9: =AH25+AH33+AH41 -> 0 | AJ9: =AJ25+AJ33+AJ41 -> 0 | AL9: =AL25+AL33+AL41 -> 0
B10: 20시~21시 | C10: =C18+C26+C34+C42 -> 0 | E10: =SUM(G10:I10) -> 0 | G10: =G18 -> 0 | I10: =I18 -> 0 | K10: =K26+K34+K42 -> 0 | M10: =M26+M34+M42 -> 0 | O10: =O26+O34+O42 -> 0 | Q10: =Q26+Q34+Q42 -> 0 | S10: =S26+S34+S42 -> 0 | U10: =U26+U34+U42 -> 0 | W10: =W26+W34+W42 -> 0 | Y10: =Y26+Y34+Y42 -> 0 | AA10: =AA26+AA34+AA42 -> 0 | AC10: =AC26+AC34+AC42 -> 0 | AE10: =AE26+AE34+AE42 -> 0 | AG10: =AG26+AG34+AG42 -> 0 | AI10: =AI26+AI34+AI42 -> 0 | AK10: =AK26+AK34+AK42 -> 0
D11: =D19+D27+D35+D43 -> 0 | F11: =SUM(H11:J11) -> 0 | H11: =H19 -> 0 | J11: =J19 -> 0 | L11: =L27+L35+L43 -> 0 | N11: =N27+N35+N43 -> 0 | P11: =P27+P35+P43 -> 0 | R11: =R27+R35+R43 -> 0 | T11: =T27+T35+T43 -> 0 | V11: =V27+V35+V43 -> 0 | X11: =X27+X35+X43 -> 0 | Z11: =Z27+Z35+Z43 -> 0 | AB11: =AB27+AB35+AB43 -> 0 | AD11: =AD27+AD35+AD43 -> 0 | AF11: =AF27+AF35+AF43 -> 0 | AH11: =AH27+AH35+AH43 -> 0 | AJ11: =AJ27+AJ35+AJ43 -> 0 | AL11: =AL27+AL35+AL43 -> 0
A12: 여권민원실 | B12: 계 | C12: =E12 -> 404 | E12: =SUM(E14:E19) -> 404 | G12: =SUM(G14:G18) -> 178 | I12: =SUM(I14:I18) -> 226
D13: =F13 -> 3093 | F13: =SUM(F15:F19) -> 3093 | H13: =SUM(H15:H19) -> 1266 | J13: =SUM(J15:J19) -> 1827
B14: 18시~19시 | C14: =E14 -> 223 | E14: =SUM(G14+I14) -> 223 | G14: 92 | I14: 131
D15: =F15 -> 1892 | F15: =SUM(H15:J15) -> 1892 | H15: 728 | J15: 1164
B16: 19시~20시 | C16: =E16 -> 181 | E16: =SUM(G16:I16) -> 181 | G16: 86 | I16: 95
D17: =F17 -> 1201 | F17: =SUM(H17:J17) -> 1201 | H17: 538 | J17: 663
B18: 20시~21시 | C18: =E18 -> 0 | E18: =SUM(G18:I18) -> 0 | G18: 0 | I18: 0
D19: =F19 -> 0 | F19: =SUM(H19:J19) -> 0 | H19: 0 | J19: 0
A20: 수정구 | B20: 계 | C20: =SUM(C22:C26) -> 1 | K20: =SUM(M20:Z20) -> 0 | M20: =SUM(M22:M27) -> 0 | O20: =SUM(O22:O27) -> 0 | Q20: =SUM(Q22:Q27) -> 0 | S20: =SUM(S22:S27) -> 0 | U20: =SUM(U22:U27) -> 0 | W20: =SUM(W22:W27) -> 0 | Y20: =SUM(Y22:Y27) -> 0 | AA20: =SUM(AA22:AA27) -> 1 | AC20: =SUM(AC22:AC27) -> 0 | AE20: =SUM(AE22:AE27) -> 1 | AG20: =SUM(AG22:AG27) -> 0 | AI20: =SUM(AI22:AI27) -> 0 | AK20: =SUM(AK22:AK27) -> 0
D21: =SUM(D23:D27) -> 55 | L21: =SUM(N21:Z21) -> 40 | N21: =SUM(N23:N27) -> 2 | P21: =SUM(P23:P27) -> 22 | R21: =SUM(R23:R27) -> 14 | T21: =SUM(T23:T27) -> 0 | V21: =SUM(V23:V27) -> 2 | X21: =SUM(X23:X27) -> 0 | Z21: =SUM(Z23:Z27) -> 0 | AB21: =SUM(AB23:AB27) -> 15 | AD21: =SUM(AD23:AD27) -> 1 | AF21: =SUM(AF23:AF27) -> 14 | AH21: =SUM(AH23:AH27) -> 0 | AJ21: =SUM(AJ23:AJ27) -> 0 | AL21: =SUM(AL23:AL27) -> 0
B22: 18시~19시 | C22: =K22+AA22 -> 0 | K22: =SUM(M22:Z22) -> 0 | M22: 0 | O22: 0 | Q22: 0 | S22: 0 | U22: 0 | W22: 0 | Y22: 0 | AA22: =SUM(AC22:AL22) -> 0 | AC22: 0 | AE22: 0 | AG22: 0 | AI22: 0 | AK22: 0
D23: =L23+AB23 -> 40 | L23: =SUM(N23:Z23) -> 38 | N23: 2 | P23: 20 | R23: 14 | T23: 0 | V23: 2 | X23: =W22 -> 0 | Z23: =Y22 -> 0 | AB23: =AD23+AF23+AH23+AJ23+AL23 -> 2 | AD23: =AC22 -> 0 | AF23: 2 | AH23: =AG22 -> 0 | AJ23: =AI22 -> 0 | AL23: =AK22 -> 0
B24: 19시~20시 | C24: =K24+AA24 -> 1 | K24: =SUM(M24:Z24) -> 0 | M24: 0 | O24: 0 | Q24: 0 | S24: 0 | U24: 0 | W24: 0 | Y24: 0 | AA24: =SUM(AC24:AK24) -> 1 | AC24: 0 | AE24: 1 | AG24: 0 | AI24: 0 | AK24: 0
D25: =L25+AB25 -> 15 | L25: =SUM(N25:Z25) -> 2 | N25: =M24 -> 0 | P25: 2 | R25: =Q24 -> 0 | T25: =S24 -> 0 | V25: =U24 -> 0 | X25: =W24 -> 0 | Z25: =Y24 -> 0 | AB25: =AD25+AF25+AH25+AJ25+AL25 -> 13 | AD25: 1 | AF25: 12 | AH25: =AG24 -> 0 | AJ25: =AI24 -> 0 | AL25: =AK24 -> 0
B26: 20시~21시 | C26: =K26+AA26 -> 0 | K26: =SUM(M26:Z26) -> 0 | M26: 0 | O26: 0 | Q26: 0 | S26: 0 | U26: 0 | W26: 0 | Y26: 0 | AA26: =SUM(AC26:AL26) -> 0 | AC26: 0 | AE26: 0 | AG26: 0 | AI26: 0 | AK26: 0
D27: =L27+AB26:AB27 -> 0 | L27: =SUM(N27:Z27) -> 0 | N27: =M26 -> 0 | P27: =O26 -> 0 | R27: =Q26 -> 0 | T27: =S26 -> 0 | V27: =U26 -> 0 | X27: =W26 -> 0 | Z27: =Y26 -> 0 | AB27: =AD27+AF27+AH27+AJ27+AL27 -> 0 | AD27: =AC26 -> 0 | AF27: =AE26 -> 0 | AH27: =AG26 -> 0 | AJ27: =AI26 -> 0 | AL27: =AK26 -> 0
A28: 중원구 | B28: 계 | C28: =SUM(C30:C34) -> 1 | K28: =SUM(M28:Z28) -> 1 | M28: =SUM(M30:M35) -> 0 | O28: =SUM(O30:O35) -> 1 | Q28: =SUM(Q30:Q35) -> 0 | S28: =SUM(S30:S35) -> 0 | U28: =SUM(U30:U35) -> 0 | W28: =SUM(W30:W35) -> 0 | Y28: =SUM(Y30:Y35) -> 0 | AA28: =SUM(AA30:AA35) -> 0 | AC28: =SUM(AC30:AC35) -> 0 | AE28: =SUM(AE30:AE35) -> 0 | AG28: =SUM(AG30:AG35) -> 0 | AI28: =SUM(AI30:AI35) -> 0 | AK28: =SUM(AK30:AK35) -> 0
D29: =SUM(D31:D35) -> 40 | L29: =SUM(N29:Z29) -> 9 | N29: =SUM(N31:N35) -> 2 | P29: =SUM(P31:P35) -> 6 | R29: =SUM(R31:R35) -> 0 | T29: =SUM(T31:T35) -> 0 | V29: =SUM(V31:V35) -> 1 | X29: =SUM(X31:X35) -> 0 | Z29: =SUM(Z31:Z35) -> 0 | AB29: =SUM(AB31:AB35) -> 31 | AD29: =SUM(AD31:AD35) -> 0 | AF29: =SUM(AF31:AF35) -> 31 | AH29: =SUM(AH31:AH35) -> 0 | AJ29: =SUM(AJ31:AJ35) -> 0 | AL29: =SUM(AL31:AL35) -> 0
B30: 18시~19시 | C30: =K30+AA30 -> 1 | K30: =SUM(M30:Z30) -> 1 | M30: 0 | O30: 1 | Q30: 0 | S30: 0 | U30: 0 | W30: 0 | Y30: 0 | AA30: 0 | AC30: 0 | AE30: 0 | AG30: 0 | AI30: 0 | AK30: 0
D31: =L31+AB31 -> 20 | L31: =SUM(N31:Z31) -> 7 | N31: 2 | P31: 4 | R31: 0 | T31: 0 | V31: 1 | X31: 0 | Z31: 0 | AB31: 13 | AD31: 0 | AF31: 13 | AH31: 0 | AJ31: 0 | AL31: 0
B32: 19시~20시 | C32: =K32+AA32 -> 0 | K32: =SUM(M32:Z32) -> 0 | M32: 0 | O32: 0 | Q32: 0 | S32: 0 | U32: 0 | W32: 0 | Y32: 0 | AA32: 0 | AC32: 0 | AE32: 0 | AG32: 0 | AI32: 0 | AK32: 0
D33: =L33+AB33 -> 20 | L33: =SUM(N33:Z33) -> 2 | N33: 0 | P33: 2 | R33: 0 | T33: 0 | V33: 0 | X33: 0 | Z33: 0 | AB33: 18 | AD33: 0 | AF33: 18 | AH33: 0 | AJ33: 0 | AL33: 0
B34: 20시~21시 | C34: =K34+AA34 -> 0 | K34: =SUM(M34:Z34) -> 0 | M34: 0 | O34: 0 | Q34: 0 | S34: 0 | U34: 0 | W34: 0 | Y34: 0 | AA34: 0 | AC34: 0 | AE34: 0 | AG34: 0 | AI34: 0 | AK34: 0
D35: =L35+AB34:AB35 -> 0 | L35: =SUM(N35:Z35) -> 0 | N35: 0 | P35: 0 | R35: 0 | T35: 0 | V35: 0 | X35: 0 | Z35: 0 | AB35: 0 | AD35: 0 | AF35: 0 | AH35: 0 | AJ35: 0 | AL35: 0
A36: 분당구 | B36: 계 | C36: =SUM(C38:C42) -> 11 | K36: =SUM(M36:Z36) -> 0 | M36: =SUM(M38:M43) -> 0 | O36: =SUM(O38:O43) -> 0 | Q36: =SUM(Q38:Q43) -> 0 | S36: =SUM(S38:S43) -> 0 | U36: =SUM(U38:U43) -> 0 | W36: =SUM(W38:W43) -> 0 | Y36: =SUM(Y38:Y43) -> 0 | AA36: =SUM(AA38:AA43) -> 11 | AC36: =SUM(AC38:AC43) -> 0 | AE36: =SUM(AE38:AE43) -> 11 | AG36: =SUM(AG38:AG43) -> 0 | AI36: =SUM(AI38:AI43) -> 0 | AK36: =SUM(AK38:AK43) -> 0
D37: =SUM(D39:D43) -> 86 | L37: =SUM(N37:Z37) -> 5 | N37: =SUM(N39:N43) -> 0 | P37: =SUM(P39:P43) -> 5 | R37: =SUM(R39:R43) -> 0 | T37: =SUM(T39:T43) -> 0 | V37: =SUM(V39:V43) -> 0 | X37: =SUM(X39:X43) -> 0 | Z37: =SUM(Z39:Z43) -> 0 | AB37: =SUM(AB39:AB43) -> 81 | AD37: =SUM(AD39:AD43) -> 0 | AF37: =SUM(AF39:AF43) -> 81 | AH37: =SUM(AH39:AH43) -> 0 | AJ37: =SUM(AJ39:AJ43) -> 0 | AL37: =SUM(AL39:AL43) -> 0
B38: 18시~19시 | C38: =K38+AA38 -> 6 | K38: =SUM(M38:Z38) -> 0 | M38: 0 | O38: 0 | Q38: 0 | S38: 0 | U38: 0 | W38: 0 | Y38: 0 | AA38: 6 | AC38: 0 | AE38: 6 | AG38: 0 | AI38: 0 | AK38: 0
D39: =L39+AB39 -> 25 | L39: =SUM(N39:Z39) -> 2 | N39: 0 | P39: 2 | R39: 0 | T39: 0 | V39: 0 | X39: 0 | Z39: 0 | AB39: 23 | AD39: 0 | AF39: 23 | AH39: 0 | AJ39: 0 | AL39: 0
B40: 19시~20시 | C40: =K40+AA40 -> 5 | K40: =SUM(M40:Z40) -> 0 | M40: 0 | O40: 0 | Q40: 0 | S40: 0 | U40: 0 | W40: 0 | Y40: 0 | AA40: 5 | AC40: 0 | AE40: 5 | AG40: 0 | AI40: 0 | AK40: 0
D41: =L41+AB41 -> 61 | L41: =SUM(N41:Z41) -> 3 | N41: 0 | P41: 3 | R41: 0 | T41: 0 | V41: 0 | X41: 0 | Z41: 0 | AB41: 58 | AD41: 0 | AF41: 58 | AH41: 0 | AJ41: 0 | AL41: 0
B42: 20시~21시 | C42: =K42+AA42 -> 0 | K42: =SUM(M42:Z42) -> 0 | M42: 0 | O42: 0 | Q42: 0 | S42: 0 | U42: 0 | W42: 0 | Y42: 0 | AA42: 0 | AC42: 0 | AE42: 0 | AG42: 0 | AI42: 0 | AK42: 0
D43: =L43+AB43 -> 0 | L43: =SUM(N43:Z43) -> 0 | N43: 0 | P43: 0 | R43: 0 | T43: 0 | V43: 0 | X43: 0 | Z43: 0 | AB43: 0 | AD43: 0 | AF43: 0 | AH43: 0 | AJ43: 0 | AL43: 0
AL44: .

Sheet 8
A1: 2025. 8월 야간 민원실 운영실적
A2: 구분 | B2: 시간 | C2: 월계/누계 | E2: 여 권 민 원 | K2: 제 증 명 발 급 | AA2: 신 고 민 원
E3: 소계 | G3: 접수 | I3: 교부 | K3: 소계 | M3: 주민등·초본 | O3: 인감증명 | Q3: 본인서명 | S3: 제적등·초본 | U3: 가족관계등록 | W3: 어디서나민원 | Y3: 기타 | AA3: 소계 | AC3: 출생·사망 | AE3: 혼인·이혼 | AG3: 전입신고 | AI3: 주민증 | AK3: 정정.재등록
A4: 합계 | B4: 월계 / 누계 | C4: =C12+C20+C28+C36 -> 533 | E4: =SUM(E6:E11) -> 504 | G4: =SUM(G6:G10) -> 233 | I4: =SUM(I6:I10) -> 271 | K4: =K20+K28+K36 -> 3 | M4: =M20+M28+M36 -> 0 | O4: =O20+O28+O36 -> 3 | Q4: =Q20+Q28+Q36 -> 0 | S4: =S20+S28+S36 -> 0 | U4: =U20+U28+U36 -> 0 | W4: =W20+W28+W36 -> 0 | Y4: =Y20+Y28+Y36 -> 0 | AA4: =AA20+AA28+AA36 -> 26 | AC4: =AC20+AC28+AC36 -> 0 | AE4: =AE20+AE28+AE36 -> 26 | AG4: =AG20+AG28+AG36 -> 0 | AI4: =AI20+AI28+AI36 -> 0 | AK4: =AK20+AK28+AK36 -> 0
D5: =D7+D9+D11 -> 3804 | F5: =SUM(F7:F11) -> 3597 | H5: =SUM(H7:H11) -> 1499 | J5: =SUM(J7:J11) -> 2098 | L5: =L21+L29+L37 -> 54 | N5: =N21+N29+N37 -> 4 | P5: =P21+P29+P37 -> 33 | R5: =R21+R29+R37 -> 14 | T5: =T21+T29+T37 -> 0 | V5: =V21+V29+V37 -> 3 | X5: =X21+X29+X37 -> 0 | Z5: =Z21+Z29+Z37 -> 0 | AB5: =AB21+AB29+AB37 -> 153 | AD5: =AD21+AD29+AD37 -> 1 | AF5: =AF21+AF29+AF37 -> 152 | AH5: =AH21+AH29+AH37 -> 0 | AJ5: =AJ21+AJ29+AJ37 -> 0 | AL5: =AL21+AL29+AL37 -> 0
B6: 18시~19시 | C6: =C14+C22+C30+C38 -> 307 | E6: =SUM(G6+I6) -> 289 | G6: =G14 -> 117 | I6: =I14 -> 172 | K6: =K22+K30+K38 -> 1 | M6: =M22+M30+M38 -> 0 | O6: =O22+O30+O38 -> 1 | Q6: =Q22+Q30+Q38 -> 0 | S6: =S22+S30+S38 -> 0 | U6: =U22+U30+U38 -> 0 | W6: =W22+W30+W38 -> 0 | Y6: =Y22+Y30+Y38 -> 0 | AA6: =AA22+AA30+AA38 -> 17 | AC6: =AC22+AC30+AC38 -> 0 | AE6: =AE22+AE30+AE38 -> 17 | AG6: =AG22+AG30+AG38 -> 0 | AI6: =AI22+AI30+AI38 -> 0 | AK6: =AK22+AK30+AK38 -> 0
D7: =D15+D23+D31+D39 -> 2283 | F7: =SUM(H7:J7) -> 2181 | H7: =H15 -> 845 | J7: =J15 -> 1336 | L7: =L23+L31+L39 -> 47 | N7: =N23+N31+N39 -> 4 | P7: =P23+P31+P39 -> 26 | R7: =R23+R31+R39 -> 14 | T7: =T23+T31+T39 -> 0 | V7: =V23+V31+V39 -> 3 | X7: =X23+X31+X39 -> 0 | Z7: =Z23+Z31+Z39 -> 0 | AB7: =AB23+AB31+AB39 -> 55 | AD7: =AD23+AD31+AD39 -> 0 | AF7: =AF23+AF31+AF39 -> 55 | AH7: =AH23+AH31+AH39 -> 0 | AJ7: =AJ23+AJ31+AJ39 -> 0 | AL7: =AL23+AL31+AL39 -> 0
B8: 19시~20시 | C8: =C16+C24+C32+C40 -> 226 | E8: =SUM(G8:I8) -> 215 | G8: =G16 -> 116 | I8: =I16 -> 99 | K8: =K24+K32+K40 -> 2 | M8: =M24+M32+M40 -> 0 | O8: =O24+O32+O40 -> 2 | Q8: =Q24+Q32+Q40 -> 0 | S8: =S24+S32+S40 -> 0 | U8: =U24+U32+U40 -> 0 | W8: =W24+W32+W40 -> 0 | Y8: =Y24+Y32+Y40 -> 0 | AA8: =AA24+AA32+AA40 -> 9 | AC8: =AC24+AC32+AC40 -> 0 | AE8: =AE24+AE32+AE40 -> 9 | AG8: =AG24+AG32+AG40 -> 0 | AI8: =AI24+AI32+AI40 -> 0 | AK8: =AK24+AK32+AK40 -> 0
D9: =D17+D25+D33+D41 -> 1521 | F9: =SUM(H9:J9) -> 1416 | H9: =H17 -> 654 | J9: =J17 -> 762 | L9: =L25+L33+L41 -> 7 | N9: =N25+N33+N41 -> 0 | P9: =P25+P33+P41 -> 7 | R9: =R25+R33+R41 -> 0 | T9: =T25+T33+T41 -> 0 | V9: =V25+V33+V41 -> 0 | X9: =X25+X33+X41 -> 0 | Z9: =Z25+Z33+Z41 -> 0 | AB9: =AB25+AB33+AB41 -> 98 | AD9: =AD25+AD33+AD41 -> 1 | AF9: =AF25+AF33+AF41 -> 97 | AH9: =AH25+AH33+AH41 -> 0 | AJ9: =AJ25+AJ33+AJ41 -> 0 | AL9: =AL25+AL33+AL41 -> 0
B10: 20시~21시 | C10: =C18+C26+C34+C42 -> 0 | E10: =SUM(G10:I10) -> 0 | G10: =G18 -> 0 | I10: =I18 -> 0 | K10: =K26+K34+K42 -> 0 | M10: =M26+M34+M42 -> 0 | O10: =O26+O34+O42 -> 0 | Q10: =Q26+Q34+Q42 -> 0 | S10: =S26+S34+S42 -> 0 | U10: =U26+U34+U42 -> 0 | W10: =W26+W34+W42 -> 0 | Y10: =Y26+Y34+Y42 -> 0 | AA10: =AA26+AA34+AA42 -> 0 | AC10: =AC26+AC34+AC42 -> 0 | AE10: =AE26+AE34+AE42 -> 0 | AG10: =AG26+AG34+AG42 -> 0 | AI10: =AI26+AI34+AI42 -> 0 | AK10: =AK26+AK34+AK42 -> 0
D11: =D19+D27+D35+D43 -> 0 | F11: =SUM(H11:J11) -> 0 | H11: =H19 -> 0 | J11: =J19 -> 0 | L11: =L27+L35+L43 -> 0 | N11: =N27+N35+N43 -> 0 | P11: =P27+P35+P43 -> 0 | R11: =R27+R35+R43 -> 0 | T11: =T27+T35+T43 -> 0 | V11: =V27+V35+V43 -> 0 | X11: =X27+X35+X43 -> 0 | Z11: =Z27+Z35+Z43 -> 0 | AB11: =AB27+AB35+AB43 -> 0 | AD11: =AD27+AD35+AD43 -> 0 | AF11: =AF27+AF35+AF43 -> 0 | AH11: =AH27+AH35+AH43 -> 0 | AJ11: =AJ27+AJ35+AJ43 -> 0 | AL11: =AL27+AL35+AL43 -> 0
A12: 여권민원실 | B12: 계 | C12: =E12 -> 504 | E12: =SUM(E14:E19) -> 504 | G12: =SUM(G14:G18) -> 233 | I12: =SUM(I14:I18) -> 271
D13: =F13 -> 3597 | F13: =SUM(F15:F19) -> 3597 | H13: =SUM(H15:H19) -> 1499 | J13: =SUM(J15:J19) -> 2098
B14: 18시~19시 | C14: =E14 -> 289 | E14: =SUM(G14+I14) -> 289 | G14: 117 | I14: 172
D15: =F15 -> 2181 | F15: =SUM(H15:J15) -> 2181 | H15: 845 | J15: 1336
B16: 19시~20시 | C16: =E16 -> 215 | E16: =SUM(G16:I16) -> 215 | G16: 116 | I16: 99
D17: =F17 -> 1416 | F17: =SUM(H17:J17) -> 1416 | H17: 654 | J17: 762
B18: 20시~21시 | C18: =E18 -> 0 | E18: =SUM(G18:I18) -> 0 | G18: 0 | I18: 0
D19: =F19 -> 0 | F19: =SUM(H19:J19) -> 0 | H19: 0 | J19: 0
A20: 수정구 | B20: 계 | C20: =SUM(C22:C26) -> 3 | K20: =SUM(M20:Z20) -> 0 | M20: =SUM(M22:M27) -> 0 | O20: =SUM(O22:O27) -> 0 | Q20: =SUM(Q22:Q27) -> 0 | S20: =SUM(S22:S27) -> 0 | U20: =SUM(U22:U27) -> 0 | W20: =SUM(W22:W27) -> 0 | Y20: =SUM(Y22:Y27) -> 0 | AA20: =SUM(AA22:AA27) -> 3 | AC20: =SUM(AC22:AC27) -> 0 | AE20: =SUM(AE22:AE27) -> 3 | AG20: =SUM(AG22:AG27) -> 0 | AI20: =SUM(AI22:AI27) -> 0 | AK20: =SUM(AK22:AK27) -> 0
D21: =SUM(D23:D27) -> 58 | L21: =SUM(N21:Z21) -> 40 | N21: =SUM(N23:N27) -> 2 | P21: =SUM(P23:P27) -> 22 | R21: =SUM(R23:R27) -> 14 | T21: =SUM(T23:T27) -> 0 | V21: =SUM(V23:V27) -> 2 | X21: =SUM(X23:X27) -> 0 | Z21: =SUM(Z23:Z27) -> 0 | AB21: =SUM(AB23:AB27) -> 18 | AD21: =SUM(AD23:AD27) -> 1 | AF21: =SUM(AF23:AF27) -> 17 | AH21: =SUM(AH23:AH27) -> 0 | AJ21: =SUM(AJ23:AJ27) -> 0 | AL21: =SUM(AL23:AL27) -> 0
B22: 18시~19시 | C22: =K22+AA22 -> 2 | K22: =SUM(M22:Z22) -> 0 | M22: 0 | O22: 0 | Q22: 0 | S22: 0 | U22: 0 | W22: 0 | Y22: 0 | AA22: =SUM(AC22:AK22) -> 2 | AC22: 0 | AE22: 2 | AG22: 0 | AI22: 0 | AK22: 0
D23: =L23+AB23 -> 42 | L23: =SUM(N23:Z23) -> 38 | N23: 2 | P23: 20 | R23: 14 | T23: 0 | V23: 2 | X23: =W22 -> 0 | Z23: =Y22 -> 0 | AB23: =AD23+AF23+AH23+AJ23+AL23 -> 4 | AD23: =AC22 -> 0 | AF23: 4 | AH23: =AG22 -> 0 | AJ23: =AI22 -> 0 | AL23: =AK22 -> 0
B24: 19시~20시 | C24: =K24+AA24 -> 1 | K24: =SUM(M24:Z24) -> 0 | M24: 0 | O24: 0 | Q24: 0 | S24: 0 | U24: 0 | W24: 0 | Y24: 0 | AA24: =SUM(AC24:AK24) -> 1 | AC24: 0 | AE24: 1 | AG24: 0 | AI24: 0 | AK24: 0
D25: =L25+AB25 -> 16 | L25: =SUM(N25:Z25) -> 2 | N25: =M24 -> 0 | P25: 2 | R25: =Q24 -> 0 | T25: =S24 -> 0 | V25: =U24 -> 0 | X25: =W24 -> 0 | Z25: =Y24 -> 0 | AB25: =AD25+AF25+AH25+AJ25+AL25 -> 14 | AD25: 1 | AF25: 13 | AH25: =AG24 -> 0 | AJ25: =AI24 -> 0 | AL25: =AK24 -> 0
B26: 20시~21시 | C26: =K26+AA26 -> 0 | K26: =SUM(M26:Z26) -> 0 | M26: 0 | O26: 0 | Q26: 0 | S26: 0 | U26: 0 | W26: 0 | Y26: 0 | AA26: =SUM(AC26:AK26) -> 0 | AC26: 0 | AE26: 0 | AG26: 0 | AI26: 0 | AK26: 0
D27: =L27+AB26:AB27 -> 0 | L27: =SUM(N27:Z27) -> 0 | N27: =M26 -> 0 | P27: =O26 -> 0 | R27: =Q26 -> 0 | T27: =S26 -> 0 | V27: =U26 -> 0 | X27: =W26 -> 0 | Z27: =Y26 -> 0 | AB27: =AD27+AF27+AH27+AJ27+AL27 -> 0 | AD27: =AC26 -> 0 | AF27: =AE26 -> 0 | AH27: =AG26 -> 0 | AJ27: =AI26 -> 0 | AL27: =AK26 -> 0
A28: 중원구 | B28: 계 | C28: =SUM(C30:C34) -> 7 | K28: =SUM(M28:Z28) -> 0 | M28: =SUM(M30:M35) -> 0 | O28: =SUM(O30:O35) -> 0 | Q28: =SUM(Q30:Q35) -> 0 | S28: =SUM(S30:S35) -> 0 | U28: =SUM(U30:U35) -> 0 | W28: =SUM(W30:W35) -> 0 | Y28: =SUM(Y30:Y35) -> 0 | AA28: =SUM(AA30:AA35) -> 7 | AC28: =SUM(AC30:AC35) -> 0 | AE28: =SUM(AE30:AE35) -> 7 | AG28: =SUM(AG30:AG35) -> 0 | AI28: =SUM(AI30:AI35) -> 0 | AK28: =SUM(AK30:AK35) -> 0
D29: =SUM(D31:D35) -> 47 | L29: =SUM(N29:Z29) -> 9 | N29: =SUM(N31:N35) -> 2 | P29: =SUM(P31:P35) -> 6 | R29: =SUM(R31:R35) -> 0 | T29: =SUM(T31:T35) -> 0 | V29: =SUM(V31:V35) -> 1 | X29: =SUM(X31:X35) -> 0 | Z29: =SUM(Z31:Z35) -> 0 | AB29: =SUM(AB31:AB35) -> 38 | AD29: =SUM(AD31:AD35) -> 0 | AF29: =SUM(AF31:AF35) -> 38 | AH29: =SUM(AH31:AH35) -> 0 | AJ29: =SUM(AJ31:AJ35) -> 0 | AL29: =SUM(AL31:AL35) -> 0
B30: 18시~19시 | C30: =K30+AA30 -> 4 | K30: =SUM(M30:Z30) -> 0 | M30: 0 | O30: 0 | Q30: 0 | S30: 0 | U30: 0 | W30: 0 | Y30: 0 | AA30: 4 | AC30: 0 | AE30: 4 | AG30: 0 | AI30: 0 | AK30: 0
D31: =L31+AB31 -> 24 | L31: =SUM(N31:Z31) -> 7 | N31: 2 | P31: 4 | R31: 0 | T31: 0 | V31: 1 | X31: 0 | Z31: 0 | AB31: 17 | AD31: 0 | AF31: 17 | AH31: 0 | AJ31: 0 | AL31: 0
B32: 19시~20시 | C32: =K32+AA32 -> 3 | K32: =SUM(M32:Z32) -> 0 | M32: 0 | O32: 0 | Q32: 0 | S32: 0 | U32: 0 | W32: 0 | Y32: 0 | AA32: 3 | AC32: 0 | AE32: 3 | AG32: 0 | AI32: 0 | AK32: 0
D33: =L33+AB33 -> 23 | L33: =SUM(N33:Z33) -> 2 | N33: 0 | P33: 2 | R33: 0 | T33: 0 | V33: 0 | X33: 0 | Z33: 0 | AB33: 21 | AD33: 0 | AF33: 21 | AH33: 0 | AJ33: 0 | AL33: 0
B34: 20시~21시 | C34: =K34+AA34 -> 0 | K34: =SUM(M34:Z34) -> 0 | M34: 0 | O34: 0 | Q34: 0 | S34: 0 | U34: 0 | W34: 0 | Y34: 0 | AA34: 0 | AC34: 0 | AE34: 0 | AG34: 0 | AI34: 0 | AK34: 0
D35: =L35+AB34:AB35 -> 0 | L35: =SUM(N35:Z35) -> 0 | N35: 0 | P35: 0 | R35: 0 | T35: 0 | V35: 0 | X35: 0 | Z35: 0 | AB35: 0 | AD35: 0 | AF35: 0 | AH35: 0 | AJ35: 0 | AL35: 0
A36: 분당구 | B36: 계 | C36: =SUM(C38:C42) -> 19 | K36: =SUM(M36:Z36) -> 3 | M36: =SUM(M38:M43) -> 0 | O36: =SUM(O38:O43) -> 3 | Q36: =SUM(Q38:Q43) -> 0 | S36: =SUM(S38:S43) -> 0 | U36: =SUM(U38:U43) -> 0 | W36: =SUM(W38:W43) -> 0 | Y36: =SUM(Y38:Y43) -> 0 | AA36: =SUM(AA38:AA43) -> 16 | AC36: =SUM(AC38:AC43) -> 0 | AE36: =SUM(AE38:AE43) -> 16 | AG36: =SUM(AG38:AG43) -> 0 | AI36: =SUM(AI38:AI43) -> 0 | AK36: =SUM(AK38:AK43) -> 0
D37: =SUM(D39:D43) -> 102 | L37: =SUM(N37:Z37) -> 5 | N37: =SUM(N39:N43) -> 0 | P37: =SUM(P39:P43) -> 5 | R37: =SUM(R39:R43) -> 0 | T37: =SUM(T39:T43) -> 0 | V37: =SUM(V39:V43) -> 0 | X37: =SUM(X39:X43) -> 0 | Z37: =SUM(Z39:Z43) -> 0 | AB37: =SUM(AB39:AB43) -> 97 | AD37: =SUM(AD39:AD43) -> 0 | AF37: =SUM(AF39:AF43) -> 97 | AH37: =SUM(AH39:AH43) -> 0 | AJ37: =SUM(AJ39:AJ43) -> 0 | AL37: =SUM(AL39:AL43) -> 0
B38: 18시~19시 | C38: =K38+AA38 -> 12 | K38: =SUM(M38:Z38) -> 1 | M38: 0 | O38: 1 | Q38: 0 | S38: 0 | U38: 0 | W38: 0 | Y38: 0 | AA38: 11 | AC38: 0 | AE38: 11 | AG38: 0 | AI38: 0 | AK38: 0
D39: =L39+AB39 -> 36 | L39: =SUM(N39:Z39) -> 2 | N39: 0 | P39: 2 | R39: 0 | T39: 0 | V39: 0 | X39: 0 | Z39: 0 | AB39: 34 | AD39: 0 | AF39: 34 | AH39: 0 | AJ39: 0 | AL39: 0
B40: 19시~20시 | C40: =K40+AA40 -> 7 | K40: =SUM(M40:Z40) -> 2 | M40: 0 | O40: 2 | Q40: 0 | S40: 0 | U40: 0 | W40: 0 | Y40: 0 | AA40: 5 | AC40: 0 | AE40: 5 | AG40: 0 | AI40: 0 | AK40: 0
D41: =L41+AB41 -> 66 | L41: =SUM(N41:Z41) -> 3 | N41: 0 | P41: 3 | R41: 0 | T41: 0 | V41: 0 | X41: 0 | Z41: 0 | AB41: 63 | AD41: 0 | AF41: 63 | AH41: 0 | AJ41: 0 | AL41: 0
B42: 20시~21시 | C42: =K42+AA42 -> 0 | K42: =SUM(M42:Z42) -> 0 | M42: 0 | O42: 0 | Q42: 0 | S42: 0 | U42: 0 | W42: 0 | Y42: 0 | AA42: 0 | AC42: 0 | AE42: 0 | AG42: 0 | AI42: 0 | AK42: 0
D43: =L43+AB43 -> 0 | L43: =SUM(N43:Z43) -> 0 | N43: 0 | P43: 0 | R43: 0 | T43: 0 | V43: 0 | X43: 0 | Z43: 0 | AB43: 0 | AD43: 0 | AF43: 0 | AH43: 0 | AJ43: 0 | AL43: 0
AL44: .

Sheet 9
A1: 2025. 9월 야간 민원실 운영실적
A2: 구분 | B2: 시간 | C2: 월계/누계 | E2: 여 권 민 원 | K2: 제 증 명 발 급 | AA2: 신 고 민 원
E3: 소계 | G3: 접수 | I3: 교부 | K3: 소계 | M3: 주민등·초본 | O3: 인감증명 | Q3: 본인서명 | S3: 제적등·초본 | U3: 가족관계등록 | W3: 어디서나민원 | Y3: 기타 | AA3: 소계 | AC3: 출생·사망 | AE3: 혼인·이혼 | AG3: 전입신고 | AI3: 주민증 | AK3: 정정.재등록
A4: 합계 | B4: 월계 / 누계 | C4: =C12+C20+C28+C36 -> 568 | E4: =SUM(E6:E11) -> 558 | G4: =SUM(G6:G10) -> 221 | I4: =SUM(I6:I10) -> 337 | K4: =K20+K28+K36 -> 2 | M4: =M20+M28+M36 -> 0 | O4: =O20+O28+O36 -> 0 | Q4: =Q20+Q28+Q36 -> 2 | S4: =S20+S28+S36 -> 0 | U4: =U20+U28+U36 -> 0 | W4: =W20+W28+W36 -> 0 | Y4: =Y20+Y28+Y36 -> 0 | AA4: =AA20+AA28+AA36 -> 8 | AC4: =AC20+AC28+AC36 -> 0 | AE4: =AE20+AE28+AE36 -> 8 | AG4: =AG20+AG28+AG36 -> 0 | AI4: =AI20+AI28+AI36 -> 0 | AK4: =AK20+AK28+AK36 -> 0
D5: =D7+D9+D11 -> 4372 | F5: =SUM(F7:F11) -> 4155 | H5: =SUM(H7:H11) -> 1720 | J5: =SUM(J7:J11) -> 2435 | L5: =L21+L29+L37 -> 56 | N5: =N21+N29+N37 -> 4 | P5: =P21+P29+P37 -> 33 | R5: =R21+R29+R37 -> 16 | T5: =T21+T29+T37 -> 0 | V5: =V21+V29+V37 -> 3 | X5: =X21+X29+X37 -> 0 | Z5: =Z21+Z29+Z37 -> 0 | AB5: =AB21+AB29+AB37 -> 161 | AD5: =AD21+AD29+AD37 -> 1 | AF5: =AF21+AF29+AF37 -> 160 | AH5: =AH21+AH29+AH37 -> 0 | AJ5: =AJ21+AJ29+AJ37 -> 0 | AL5: =AL21+AL29+AL37 -> 0
B6: 18시~19시 | C6: =C14+C22+C30+C38 -> 328 | E6: =SUM(G6+I6) -> 323 | G6: =G14 -> 128 | I6: =I14 -> 195 | K6: =K22+K30+K38 -> 1 | M6: =M22+M30+M38 -> 0 | O6: =O22+O30+O38 -> 0 | Q6: =Q22+Q30+Q38 -> 1 | S6: =S22+S30+S38 -> 0 | U6: =U22+U30+U38 -> 0 | W6: =W22+W30+W38 -> 0 | Y6: =Y22+Y30+Y38 -> 0 | AA6: =AA22+AA30+AA38 -> 4 | AC6: =AC22+AC30+AC38 -> 0 | AE6: =AE22+AE30+AE38 -> 4 | AG6: =AG22+AG30+AG38 -> 0 | AI6: =AI22+AI30+AI38 -> 0 | AK6: =AK22+AK30+AK38 -> 0
D7: =D15+D23+D31+D39 -> 2611 | F7: =SUM(H7:J7) -> 2504 | H7: =H15 -> 973 | J7: =J15 -> 1531 | L7: =L23+L31+L39 -> 48 | N7: =N23+N31+N39 -> 4 | P7: =P23+P31+P39 -> 26 | R7: =R23+R31+R39 -> 15 | T7: =T23+T31+T39 -> 0 | V7: =V23+V31+V39 -> 3 | X7: =X23+X31+X39 -> 0 | Z7: =Z23+Z31+Z39 -> 0 | AB7: =AB23+AB31+AB39 -> 59 | AD7: =AD23+AD31+AD39 -> 0 | AF7: =AF23+AF31+AF39 -> 59 | AH7: =AH23+AH31+AH39 -> 0 | AJ7: =AJ23+AJ31+AJ39 -> 0 | AL7: =AL23+AL31+AL39 -> 0
B8: 19시~20시 | C8: =C16+C24+C32+C40 -> 240 | E8: =SUM(G8:I8) -> 235 | G8: =G16 -> 93 | I8: =I16 -> 142 | K8: =K24+K32+K40 -> 1 | M8: =M24+M32+M40 -> 0 | O8: =O24+O32+O40 -> 0 | Q8: =Q24+Q32+Q40 -> 1 | S8: =S24+S32+S40 -> 0 | U8: =U24+U32+U40 -> 0 | W8: =W24+W32+W40 -> 0 | Y8: =Y24+Y32+Y40 -> 0 | AA8: =AA24+AA32+AA40 -> 4 | AC8: =AC24+AC32+AC40 -> 0 | AE8: =AE24+AE32+AE40 -> 4 | AG8: =AG24+AG32+AG40 -> 0 | AI8: =AI24+AI32+AI40 -> 0 | AK8: =AK24+AK32+AK40 -> 0
D9: =D17+D25+D33+D41 -> 1761 | F9: =SUM(H9:J9) -> 1651 | H9: =H17 -> 747 | J9: =J17 -> 904 | L9: =L25+L33+L41 -> 8 | N9: =N25+N33+N41 -> 0 | P9: =P25+P33+P41 -> 7 | R9: =R25+R33+R41 -> 1 | T9: =T25+T33+T41 -> 0 | V9: =V25+V33+V41 -> 0 | X9: =X25+X33+X41 -> 0 | Z9: =Z25+Z33+Z41 -> 0 | AB9: =AB25+AB33+AB41 -> 102 | AD9: =AD25+AD33+AD41 -> 1 | AF9: =AF25+AF33+AF41 -> 101 | AH9: =AH25+AH33+AH41 -> 0 | AJ9: =AJ25+AJ33+AJ41 -> 0 | AL9: =AL25+AL33+AL41 -> 0
B10: 20시~21시 | C10: =C18+C26+C34+C42 -> 0 | E10: =SUM(G10:I10) -> 0 | G10: =G18 -> 0 | I10: =I18 -> 0 | K10: =K26+K34+K42 -> 0 | M10: =M26+M34+M42 -> 0 | O10: =O26+O34+O42 -> 0 | Q10: =Q26+Q34+Q42 -> 0 | S10: =S26+S34+S42 -> 0 | U10: =U26+U34+U42 -> 0 | W10: =W26+W34+W42 -> 0 | Y10: =Y26+Y34+Y42 -> 0 | AA10: =AA26+AA34+AA42 -> 0 | AC10: =AC26+AC34+AC42 -> 0 | AE10: =AE26+AE34+AE42 -> 0 | AG10: =AG26+AG34+AG42 -> 0 | AI10: =AI26+AI34+AI42 -> 0 | AK10: =AK26+AK34+AK42 -> 0
D11: =D19+D27+D35+D43 -> 0 | F11: =SUM(H11:J11) -> 0 | H11: =H19 -> 0 | J11: =J19 -> 0 | L11: =L27+L35+L43 -> 0 | N11: =N27+N35+N43 -> 0 | P11: =P27+P35+P43 -> 0 | R11: =R27+R35+R43 -> 0 | T11: =T27+T35+T43 -> 0 | V11: =V27+V35+V43 -> 0 | X11: =X27+X35+X43 -> 0 | Z11: =Z27+Z35+Z43 -> 0 | AB11: =AB27+AB35+AB43 -> 0 | AD11: =AD27+AD35+AD43 -> 0 | AF11: =AF27+AF35+AF43 -> 0 | AH11: =AH27+AH35+AH43 -> 0 | AJ11: =AJ27+AJ35+AJ43 -> 0 | AL11: =AL27+AL35+AL43 -> 0
A12: 여권민원실 | B12: 계 | C12: =E12 -> 558 | E12: =SUM(E14:E19) -> 558 | G12: =SUM(G14:G18) -> 221 | I12: =SUM(I14:I18) -> 337
D13: =F13 -> 4155 | F13: =SUM(F15:F19) -> 4155 | H13: =SUM(H15:H19) -> 1720 | J13: =SUM(J15:J19) -> 2435
B14: 18시~19시 | C14: =E14 -> 323 | E14: =SUM(G14+I14) -> 323 | G14: 128 | I14: 195
D15: =F15 -> 2504 | F15: =SUM(H15:J15) -> 2504 | H15: =SUM('[7]8'!H15,'[7]9'!G14) -> 973 | J15: =SUM('[7]8'!J15,'[7]9'!I14) -> 1531
B16: 19시~20시 | C16: =E16 -> 235 | E16: =SUM(G16:I16) -> 235 | G16: 93 | I16: 142
D17: =F17 -> 1651 | F17: =SUM(H17:J17) -> 1651 | H17: =SUM('[7]8'!H17,'[7]9'!G16) -> 747 | J17: =SUM('[7]8'!J17,'[7]9'!I16) -> 904
B18: 20시~21시 | C18: =E18 -> 0 | E18: =SUM(G18:I18) -> 0 | G18: 0 | I18: 0
D19: =F19 -> 0 | F19: =SUM(H19:J19) -> 0 | H19: =SUM('[7]8'!H19,'[7]9'!G18) -> 0 | J19: =SUM('[7]8'!J19,'[7]9'!I18) -> 0
A20: 수정구 | B20: 계 | C20: =SUM(C22:C26) -> 3 | K20: =SUM(M20:Z20) -> 1 | M20: =SUM(M22:M27) -> 0 | O20: =SUM(O22:O27) -> 0 | Q20: =SUM(Q22:Q27) -> 1 | S20: =SUM(S22:S27) -> 0 | U20: =SUM(U22:U27) -> 0 | W20: =SUM(W22:W27) -> 0 | Y20: =SUM(Y22:Y27) -> 0 | AA20: =SUM(AA22:AA27) -> 2 | AC20: =SUM(AC22:AC27) -> 0 | AE20: =SUM(AE22:AE27) -> 2 | AG20: =SUM(AG22:AG27) -> 0 | AI20: =SUM(AI22:AI27) -> 0 | AK20: =SUM(AK22:AK27) -> 0
D21: =SUM(D23:D27) -> 61 | L21: =SUM(N21:Z21) -> 41 | N21: =SUM(N23:N27) -> 2 | P21: =SUM(P23:P27) -> 22 | R21: =SUM(R23:R27) -> 15 | T21: =SUM(T23:T27) -> 0 | V21: =SUM(V23:V27) -> 2 | X21: =SUM(X23:X27) -> 0 | Z21: =SUM(Z23:Z27) -> 0 | AB21: =SUM(AB23:AB27) -> 20 | AD21: =SUM(AD23:AD27) -> 1 | AF21: =SUM(AF23:AF27) -> 19 | AH21: =SUM(AH23:AH27) -> 0 | AJ21: =SUM(AJ23:AJ27) -> 0 | AL21: =SUM(AL23:AL27) -> 0
B22: 18시~19시 | C22: =K22+AA22 -> 0 | K22: =SUM(M22:Z22) -> 0 | M22: 0 | O22: 0 | Q22: 0 | S22: 0 | U22: 0 | W22: 0 | Y22: 0 | AA22: =SUM(AC22:AL22) -> 0 | AC22: 0 | AE22: 0 | AG22: 0 | AI22: 0 | AK22: 0
D23: =L23+AB23 -> 42 | L23: =SUM(N23:Z23) -> 38 | N23: 2 | P23: 20 | R23: 14 | T23: 0 | V23: 2 | X23: =W22 -> 0 | Z23: =Y22 -> 0 | AB23: =AD23+AF23+AH23+AJ23+AL23 -> 4 | AD23: =AC22 -> 0 | AF23: 4 | AH23: =AG22 -> 0 | AJ23: =AI22 -> 0 | AL23: =AK22 -> 0
B24: 19시~20시 | C24: =K24+AA24 -> 3 | K24: =SUM(M24:Z24) -> 1 | M24: 0 | O24: 0 | Q24: 1 | S24: 0 | U24: 0 | W24: 0 | Y24: 0 | AA24: =SUM(AC24:AK24) -> 2 | AC24: 0 | AE24: 2 | AG24: 0 | AI24: 0 | AK24: 0
D25: =L25+AB25 -> 19 | L25: =SUM(N25:Z25) -> 3 | N25: =M24 -> 0 | P25: 2 | R25: =Q24 -> 1 | T25: =S24 -> 0 | V25: =U24 -> 0 | X25: =W24 -> 0 | Z25: =Y24 -> 0 | AB25: =AD25+AF25+AH25+AJ25+AL25 -> 16 | AD25: 1 | AF25: 15 | AH25: =AG24 -> 0 | AJ25: =AI24 -> 0 | AL25: =AK24 -> 0
B26: 20시~21시 | C26: =K26+AA26 -> 0 | K26: =SUM(M26:Z26) -> 0 | M26: 0 | O26: 0 | Q26: 0 | S26: 0 | U26: 0 | W26: 0 | Y26: 0 | AA26: =SUM(AC26:AL26) -> 0 | AC26: 0 | AE26: 0 | AG26: 0 | AI26: 0 | AK26: 0
D27: =L27+AB26:AB27 -> 0 | L27: =SUM(N27:Z27) -> 0 | N27: =M26 -> 0 | P27: =O26 -> 0 | R27: =Q26 -> 0 | T27: =S26 -> 0 | V27: =U26 -> 0 | X27: =W26 -> 0 | Z27: =Y26 -> 0 | AB27: =AD27+AF27+AH27+AJ27+AL27 -> 0 | AD27: =AC26 -> 0 | AF27: =AE26 -> 0 | AH27: =AG26 -> 0 | AJ27: =AI26 -> 0 | AL27: =AK26 -> 0
A28: 중원구 | B28: 계 | C28: =SUM(C30:C34) -> 2 | K28: =SUM(M28:Z28) -> 0 | M28: =SUM(M30:M35) -> 0 | O28: =SUM(O30:O35) -> 0 | Q28: =SUM(Q30:Q35) -> 0 | S28: =SUM(S30:S35) -> 0 | U28: =SUM(U30:U35) -> 0 | W28: =SUM(W30:W35) -> 0 | Y28: =SUM(Y30:Y35) -> 0 | AA28: =SUM(AA30:AA35) -> 2 | AC28: =SUM(AC30:AC35) -> 0 | AE28: =SUM(AE30:AE35) -> 2 | AG28: =SUM(AG30:AG35) -> 0 | AI28: =SUM(AI30:AI35) -> 0 | AK28: =SUM(AK30:AK35) -> 0
D29: =SUM(D31:D35) -> 49 | L29: =SUM(N29:Z29) -> 9 | N29: =SUM(N31:N35) -> 2 | P29: =SUM(P31:P35) -> 6 | R29: =SUM(R31:R35) -> 0 | T29: =SUM(T31:T35) -> 0 | V29: =SUM(V31:V35) -> 1 | X29: =SUM(X31:X35) -> 0 | Z29: =SUM(Z31:Z35) -> 0 | AB29: =SUM(AB31:AB35) -> 40 | AD29: =SUM(AD31:AD35) -> 0 | AF29: =SUM(AF31:AF35) -> 40 | AH29: =SUM(AH31:AH35) -> 0 | AJ29: =SUM(AJ31:AJ35) -> 0 | AL29: =SUM(AL31:AL35) -> 0
B30: 18시~19시 | C30: =K30+AA30 -> 2 | K30: =SUM(M30:Z30) -> 0 | M30: 0 | O30: 0 | Q30: 0 | S30: 0 | U30: 0 | W30: 0 | Y30: 0 | AA30: =SUM(AC30:AL30) -> 2 | AC30: 0 | AE30: 2 | AG30: 0 | AI30: 0 | AK30: 0
D31: =L31+AB31 -> 26 | L31: =SUM(N31:Z31) -> 7 | N31: =SUM('[8]2'!N31,'[8]9'!M30) -> 2 | P31: 4 | R31: =Q30 -> 0 | T31: =S30 -> 0 | V31: =SUM('[8]2'!V31,'[8]9'!U30) -> 1 | X31: =W30 -> 0 | Z31: =Y30 -> 0 | AB31: =AD31+AF31+AH31+AJ31+AL31 -> 19 | AD31: =AC30 -> 0 | AF31: 19 | AH31: =AG30 -> 0 | AJ31: =AI30 -> 0 | AL31: =AK30 -> 0
B32: 19시~20시 | C32: =K32+AA32 -> 0 | K32: =SUM(M32:Z32) -> 0 | M32: 0 | O32: 0 | Q32: 0 | S32: 0 | U32: 0 | W32: 0 | Y32: 0 | AA32: =SUM(AC32:AK32) -> 0 | AC32: 0 | AE32: 0 | AG32: 0 | AI32: 0 | AK32: 0
D33: =L33+AB33 -> 23 | L33: =SUM(N33:Z33) -> 2 | N33: =M32 -> 0 | P33: =SUM('[8]3'!P33,'[8]9'!O32) -> 2 | R33: =Q32 -> 0 | T33: =S32 -> 0 | V33: =U32 -> 0 | X33: =W32 -> 0 | Z33: =Y32 -> 0 | AB33: =AD33+AF33+AH33+AJ33+AL33 -> 21 | AD33: =AC32 -> 0 | AF33: 21 | AH33: =AG32 -> 0 | AJ33: =AI32 -> 0 | AL33: =AK32 -> 0
B34: 20시~21시 | C34: =K34+AA34 -> 0 | K34: =SUM(M34:Z34) -> 0 | M34: 0 | O34: 0 | Q34: 0 | S34: 0 | U34: 0 | W34: 0 | Y34: 0 | AA34: =SUM(AC34:AL34) -> 0 | AC34: 0 | AE34: 0 | AG34: 0 | AI34: 0 | AK34: 0
D35: =L35+AB34:AB35 -> 0 | L35: =SUM(N35:Z35) -> 0 | N35: =M34 -> 0 | P35: =O34 -> 0 | R35: =Q34 -> 0 | T35: =S34 -> 0 | V35: =U34 -> 0 | X35: =W34 -> 0 | Z35: =Y34 -> 0 | AB35: =AD35+AF35+AH35+AJ35+AL35 -> 0 | AD35: =AC34 -> 0 | AF35: 0 | AH35: =AG34 -> 0 | AJ35: =AI34 -> 0 | AL35: =AK34 -> 0
A36: 분당구 | B36: 계 | C36: =SUM(C38:C42) -> 5 | K36: =SUM(M36:Z36) -> 1 | M36: =SUM(M38:M43) -> 0 | O36: =SUM(O38:O43) -> 0 | Q36: =SUM(Q38:Q43) -> 1 | S36: =SUM(S38:S43) -> 0 | U36: =SUM(U38:U43) -> 0 | W36: =SUM(W38:W43) -> 0 | Y36: =SUM(Y38:Y43) -> 0 | AA36: =SUM(AA38:AA43) -> 4 | AC36: =SUM(AC38:AC43) -> 0 | AE36: =SUM(AE38:AE43) -> 4 | AG36: =SUM(AG38:AG43) -> 0 | AI36: =SUM(AI38:AI43) -> 0 | AK36: =SUM(AK38:AK43) -> 0
D37: =SUM(D39:D43) -> 107 | L37: =SUM(N37:Z37) -> 6 | N37: =SUM(N39:N43) -> 0 | P37: =SUM(P39:P43) -> 5 | R37: =SUM(R39:R43) -> 1 | T37: =SUM(T39:T43) -> 0 | V37: =SUM(V39:V43) -> 0 | X37: =SUM(X39:X43) -> 0 | Z37: =SUM(Z39:Z43) -> 0 | AB37: =SUM(AB39:AB43) -> 101 | AD37: =SUM(AD39:AD43) -> 0 | AF37: =SUM(AF39:AF43) -> 101 | AH37: =SUM(AH39:AH43) -> 0 | AJ37: =SUM(AJ39:AJ43) -> 0 | AL37: =SUM(AL39:AL43) -> 0
B38: 18시~19시 | C38: =K38+AA38 -> 3 | K38: =SUM(M38:Z38) -> 1 | M38: 0 | O38: 0 | Q38: 1 | S38: 0 | U38: 0 | W38: 0 | Y38: 0 | AA38: =SUM(AC38:AL38) -> 2 | AC38: 0 | AE38: 2 | AG38: 0 | AI38: 0 | AK38: 0
D39: =L39+AB39 -> 39 | L39: =SUM(N39:Z39) -> 3 | N39: =SUM('[9]8'!N39,'[9]9'!M38) -> 0 | P39: =SUM('[9]8'!P39,'[9]9'!O38) -> 2 | R39: =SUM('[9]8'!R39,'[9]9'!Q38) -> 1 | T39: =SUM('[9]8'!T39,'[9]9'!S38) -> 0 | V39: =SUM('[9]5'!V39,'[9]9'!U38) -> 0 | X39: =SUM('[9]5'!X39,'[9]9'!W38) -> 0 | Z39: =SUM('[9]5'!Z39,'[9]9'!Y38) -> 0 | AB39: =AD39+AF39+AH39+AJ39+AL39 -> 36 | AD39: =SUM('[9]5'!AD39,'[9]9'!AC38) -> 0 | AF39: =SUM('[9]8'!AF39,'[9]9'!AE38) -> 36 | AH39: =SUM('[9]5'!AH39,'[9]9'!AG38) -> 0 | AJ39: =SUM('[9]5'!AJ39,'[9]9'!AI38) -> 0 | AL39: =SUM('[9]5'!AL39,'[9]9'!AK38) -> 0
B40: 19시~20시 | C40: =K40+AA40 -> 2 | K40: =SUM(M40:Z40) -> 0 | M40: 0 | O40: 0 | Q40: 0 | S40: 0 | U40: 0 | W40: 0 | Y40: 0 | AA40: =SUM(AC40:AK40) -> 2 | AC40: 0 | AE40: 2 | AG40: 0 | AI40: 0 | AK40: 0
D41: =L41+AB41 -> 68 | L41: =SUM(N41:Z41) -> 3 | N41: =SUM('[9]8'!N41,'[9]9'!M40) -> 0 | P41: =SUM('[9]8'!P41,'[9]9'!O40) -> 3 | R41: =SUM('[9]8'!R41,'[9]9'!Q40) -> 0 | T41: =SUM('[9]8'!T41,'[9]9'!S40) -> 0 | V41: =SUM('[9]5'!V41,'[9]9'!U40) -> 0 | X41: =SUM('[9]5'!X41,'[9]9'!W40) -> 0 | Z41: =SUM('[9]5'!Z41,'[9]9'!Y40) -> 0 | AB41: =AD41+AF41+AH41+AJ41+AL41 -> 65 | AD41: =SUM('[9]5'!AD41,'[9]9'!AC40) -> 0 | AF41: =SUM('[9]8'!AF41,'[9]9'!AE40) -> 65 | AH41: =SUM('[9]5'!AH41,'[9]9'!AG40) -> 0 | AJ41: =SUM('[9]5'!AJ41,'[9]9'!AI40) -> 0 | AL41: =SUM('[9]5'!AL41,'[9]9'!AK40) -> 0
B42: 20시~21시 | C42: =K42+AA42 -> 0 | K42: =SUM(M42:Z42) -> 0 | M42: 0 | O42: 0 | Q42: 0 | S42: 0 | U42: 0 | W42: 0 | Y42: 0 | AA42: =SUM(AC42:AL42) -> 0 | AC42: 0 | AE42: 0 | AG42: 0 | AI42: 0 | AK42: 0
D43: =L43+AB42:AB43 -> 0 | L43: =SUM(N43:Z43) -> 0 | N43: =SUM('[9]8'!N43,'[9]9'!M42) -> 0 | P43: =SUM('[9]8'!P43,'[9]9'!O42) -> 0 | R43: =SUM('[9]8'!R43,'[9]9'!Q42) -> 0 | T43: =SUM('[9]8'!T43,'[9]9'!S42) -> 0 | V43: =SUM('[9]5'!V43,'[9]9'!U42) -> 0 | X43: =SUM('[9]5'!X43,'[9]9'!W42) -> 0 | Z43: =SUM('[9]5'!Z43,'[9]9'!Y42) -> 0 | AB43: =AD43+AF43+AH43+AJ43+AL43 -> 0 | AD43: =SUM('[9]5'!AD43,'[9]9'!AC42) -> 0 | AF43: =SUM('[9]5'!AF43,'[9]9'!AE42) -> 0 | AH43: =SUM('[9]5'!AH43,'[9]9'!AG42) -> 0 | AJ43: =SUM('[9]5'!AJ43,'[9]9'!AI42) -> 0 | AL43: =SUM('[9]5'!AL43,'[9]9'!AK42) -> 0

Sheet 3월
A1: 2016년 『시민이 행복한 민원센터』민원처리현황(3월)
A2: 구분 | B2: 시간 | C2: 월계/누계 | E2: 여 권 민 원 | K2: 제 증 명 발 급 | AA2: 신 고 민 원
E3: 소계 | G3: 접수 | I3: 교부 | K3: 소계 | M3: 주민등·초본 | O3: 인감증명 | Q3: 본인서명 | S3: 제적등·초본 | U3: 가족관계등록 | W3: 어디서나민원 | Y3: 기타 | AA3: 소계 | AC3: 출생·사망 | AE3: 혼인·이혼 | AG3: 전입신고 | AI3: 주민증 | AK3: 정정.재등록
A4: 합계 | B4: 월계 / 누계 | C4: =SUM(E4+K4+AA4) -> 5352 | E4: =SUM(G4+I4) -> 3256 | G4: =SUM(G6:G14) -> 1571 | I4: =SUM(I6:I14) -> 1685 | K4: =SUM(M4:Y4) -> 1911 | M4: =SUM(M6:M14) -> 716 | O4: =SUM(O6:O14) -> 709 | Q4: =SUM(Q6:Q14) -> 68 | S4: =SUM(S6:S14) -> 46 | U4: =SUM(U6:U14) -> 359 | W4: =SUM(W6:W14) -> 0 | Y4: =SUM(Y6:Y14) -> 13 | AA4: =SUM(AC4:AK4) -> 185 | AC4: =SUM(AC6:AC14) -> 15 | AE4: =SUM(AE6:AE14) -> 131 | AG4: =SUM(AG6:AG14) -> 36 | AI4: =SUM(AI6:AI14) -> 3 | AK4: =SUM(AK6:AK14) -> 0
D5: =SUM(F5+L5+AB5) -> #REF! | F5: =SUM(H5+J5) -> #REF! | H5: =SUM(H7:H15) -> #REF! | J5: =SUM(J7:J15) -> #REF! | L5: =SUM(N5:Z5) -> #REF! | N5: =SUM(N7:N15) -> #REF! | P5: =SUM(P7:P15) -> #REF! | R5: =SUM(R7:R15) -> #REF! | T5: =SUM(T7:T15) -> #REF! | V5: =SUM(V7:V15) -> #REF! | X5: =SUM(X7:X15) -> #REF! | Z5: =SUM(Z7:Z15) -> #REF! | AB5: =SUM(AD5:AL5) -> #REF! | AD5: =SUM(AD7:AD15) -> #REF! | AF5: =SUM(AF7:AF15) -> #REF! | AH5: =SUM(AH7:AH15) -> #REF! | AJ5: =SUM(AJ7:AJ15) -> #REF! | AL5: =SUM(AL7:AL15) -> #REF!
B6: 10시~17시 | C6: =SUM(E6+K6+AA6) -> 1354 | E6: =SUM(G6+I6) -> 0 | G6: =SUM(G18,G30,G42,G54) -> 0 | I6: =SUM(I18,I30,I42,I54) -> 0 | K6: =SUM(M6:Y6) -> 1232 | M6: =SUM(M30+M42+M54) -> 434 | O6: =SUM(O30+O42+O54) -> 467 | Q6: =SUM(Q30+Q42+Q54) -> 48 | S6: =SUM(S30+S42+S54) -> 27 | U6: =SUM(U30+U42+U54) -> 247 | W6: =SUM(W30+W42+W54) -> 0 | Y6: =SUM(Y30+Y42+Y54) -> 9 | AA6: =SUM(AC6:AK6) -> 122 | AC6: =SUM(AC30+AC42+AC54) -> 9 | AE6: =SUM(AE30+AE42+AE54) -> 91 | AG6: =SUM(AG30+AG42+AG54) -> 19 | AI6: =SUM(AI30+AI42+AI54) -> 3 | AK6: =SUM(AK30+AK42+AK54) -> 0
D7: =SUM(F7+L7+AB7) -> #REF! | F7: =SUM(H7+J7) -> 0 | H7: =SUM(H19,H31,H43,H55) -> 0 | J7: =SUM(J19,J31,J43,J55) -> 0 | L7: =SUM(N7:Z7) -> #REF! | N7: =SUM(N31+N43+N55) -> #REF! | P7: =SUM(P19,P31,P43,P55) -> #REF! | R7: =SUM(R19,R31,R43,R55) -> #REF! | T7: =SUM(T19,T31,T43,T55) -> #REF! | V7: =SUM(V19,V31,V43,V55) -> #REF! | X7: =SUM(X19,X31,X43,X55) -> #REF! | Z7: =SUM(Z19,Z31,Z43,Z55) -> #REF! | AB7: =SUM(AD7:AL7) -> #REF! | AD7: =SUM(AD19,AD31,AD43,AD55) -> #REF! | AF7: =SUM(AF19,AF31,AF43,AF55) -> #REF! | AH7: =SUM(AH19,AH31,AH43,AH55) -> #REF! | AJ7: =SUM(AJ19,AJ31,AJ43,AJ55) -> #REF! | AL7: =SUM(AL19,AL31,AL43,AL55) -> #REF!
B8: 18시~19시 | C8: =SUM(E8+K8+AA8) -> 1433 | E8: =SUM(G8+I8) -> 1118 | G8: =SUM(G20,G32,G44,G56) -> 435 | I8: =SUM(I20,I32,I44,I56) -> 683 | K8: =SUM(M8:Y8) -> 285 | M8: =SUM(M32+M44+M56) -> 131 | O8: =SUM(O32+O44+O56) -> 95 | Q8: =SUM(Q32+Q44+Q56) -> 4 | S8: =SUM(S32+S44+S56) -> 14 | U8: =SUM(U32+U44+U56) -> 38 | W8: =SUM(W20,W32,W44,W56) -> 0 | Y8: =SUM(Y20,Y32,Y44,Y56) -> 3 | AA8: =SUM(AC8:AK8) -> 30 | AC8: =SUM(AC32+AC44+AC56) -> 3 | AE8: =SUM(AE32+AE44+AE56) -> 16 | AG8: =SUM(AG20,AG32,AG44,AG56) -> 11 | AI8: =SUM(AI20,AI32,AI44,AI56) -> 0 | AK8: =SUM(AK20,AK32,AK44,AK56) -> 0
D9: =SUM(F9+L9+AB9) -> #REF! | F9: =SUM(H9+J9) -> #REF! | H9: =SUM(H21,H33,H45,H57) -> #REF! | J9: =SUM(J21,J33,J45,J57) -> #REF! | L9: =SUM(N9:Z9) -> #REF! | N9: =SUM(N33+N45+N57) -> #REF! | P9: =SUM(P21,P33,P45,P57) -> #REF! | R9: =SUM(R21,R33,R45,R57) -> #REF! | T9: =SUM(T21,T33,T45,T57) -> #REF! | V9: =SUM(V21,V33,V45,V57) -> #REF! | X9: =SUM(X21,X33,X45,X57) -> #REF! | Z9: =SUM(Z21,Z33,Z45,Z57) -> #REF! | AB9: =SUM(AD9:AL9) -> #REF! | AD9: =SUM(AD21,AD33,AD45,AD57) -> #REF! | AF9: =SUM(AF21,AF33,AF45,AF57) -> #REF! | AH9: =SUM(AH21,AH33,AH45,AH57) -> #REF! | AJ9: =SUM(AJ21,AJ33,AJ45,AJ57) -> #REF! | AL9: =SUM(AL21,AL33,AL45,AL57) -> #REF!
B10: 19시~20시 | C10: =SUM(E10+K10+AA10) -> 1513 | E10: =SUM(G10+I10) -> 1232 | G10: =SUM(G22,G34,G46,G58) -> 574 | I10: =SUM(I22,I34,I46,I58) -> 658 | K10: =SUM(M10:Y10) -> 260 | M10: =SUM(M34+M46+M58) -> 92 | O10: =SUM(O34+O46+O58) -> 99 | Q10: =SUM(Q34+Q46+Q58) -> 16 | S10: =SUM(S34+S46+S58) -> 4 | U10: =SUM(U34+U46+U58) -> 48 | W10: =SUM(W22,W34,W46,W58) -> 0 | Y10: =SUM(Y22,Y34,Y46,Y58) -> 1 | AA10: =SUM(AC10:AK10) -> 21 | AC10: =SUM(AC34+AC46+AC58) -> 3 | AE10: =SUM(AE34+AE46+AE58) -> 16 | AG10: =SUM(AG22,AG34,AG46,AG58) -> 2 | AI10: =SUM(AI22,AI34,AI46,AI58) -> 0 | AK10: =SUM(AK22,AK34,AK46,AK58) -> 0
D11: =SUM(F11+L11+AB11) -> #REF! | F11: =SUM(H11+J11) -> #REF! | H11: =SUM(H23,H35,H47,H59) -> #REF! | J11: =SUM(J23,J35,J47,J59) -> #REF! | L11: =SUM(N11:Z11) -> #REF! | N11: =SUM(N35+N47+N59) -> #REF! | P11: =SUM(P23,P35,P47,P59) -> #REF! | R11: =SUM(R23,R35,R47,R59) -> #REF! | T11: =SUM(T23,T35,T47,T59) -> #REF! | V11: =SUM(V23,V35,V47,V59) -> #REF! | X11: =SUM(X23,X35,X47,X59) -> #REF! | Z11: =SUM(Z23,Z35,Z47,Z59) -> #REF! | AB11: =SUM(AD11:AL11) -> #REF! | AD11: =SUM(AD23,AD35,AD47,AD59) -> #REF! | AF11: =SUM(AF23,AF35,AF47,AF59) -> #REF! | AH11: =SUM(AH23,AH35,AH47,AH59) -> #REF! | AJ11: =SUM(AJ23,AJ35,AJ47,AJ59) -> #REF! | AL11: =SUM(AL23,AL35,AL47,AL59) -> #REF!
B12: 20시~21시 | C12: =SUM(E12+K12+AA12) -> 1045 | E12: =SUM(G12+I12) -> 906 | G12: =SUM(G24,G36,G48,G60) -> 562 | I12: =SUM(I24,I36,I48,I60) -> 344 | K12: =SUM(M12:Y12) -> 127 | M12: =SUM(M36+M48+M60) -> 55 | O12: =SUM(O36+O48+O60) -> 48 | Q12: =SUM(Q36+Q48+Q60) -> 0 | S12: =SUM(S36+S48+S60) -> 1 | U12: =SUM(U36+U48+U60) -> 23 | W12: =SUM(W24,W36,W48,W60) -> 0 | Y12: =SUM(Y24,Y36,Y48,Y60) -> 0 | AA12: =SUM(AC12:AK12) -> 12 | AC12: =SUM(AC36+AC48+AC60) -> 0 | AE12: =SUM(AE36+AE48+AE60) -> 8 | AG12: =SUM(AG24,AG36,AG48,AG60) -> 4 | AI12: =SUM(AI24,AI36,AI48,AI60) -> 0 | AK12: =SUM(AK24,AK36,AK48,AK60) -> 0
D13: =SUM(F13+L13+AB13) -> #REF! | F13: =SUM(H13+J13) -> #REF! | H13: =SUM(H25,H37,H49,H61) -> #REF! | J13: =SUM(J25,J37,J49,J61) -> #REF! | L13: =SUM(N13:Z13) -> #REF! | N13: =SUM(N37+N49+N61) -> #REF! | P13: =SUM(P25,P37,P49,P61) -> #REF! | R13: =SUM(R25,R37,R49,R61) -> #REF! | T13: =SUM(T25,T37,T49,T61) -> #REF! | V13: =SUM(V25,V37,V49,V61) -> #REF! | X13: =SUM(X25,X37,X49,X61) -> #REF! | Z13: =SUM(Z25,Z37,Z49,Z61) -> #REF! | AB13: =SUM(AD13:AL13) -> #REF! | AD13: =SUM(AD25,AD37,AD49,AD61) -> #REF! | AF13: =SUM(AF25,AF37,AF49,AF61) -> #REF! | AH13: =SUM(AH25,AH37,AH49,AH61) -> #REF! | AJ13: =SUM(AJ25,AJ37,AJ49,AJ61) -> #REF! | AL13: =SUM(AL25,AL37,AL49,AL61) -> #REF!
B14: 21시~22시 | C14: =SUM(E14+K14+AA14) -> 7 | E14: =SUM(G14+I14) -> 0 | G14: =SUM(G26,G38,G50,G62) -> 0 | I14: =SUM(I26,I38,I50,I62) -> 0 | K14: =SUM(M14:Y14) -> 7 | M14: =SUM(M38+M50+M62) -> 4 | O14: =SUM(O38+O50+O62) -> 0 | Q14: =SUM(Q38+Q50+Q62) -> 0 | S14: =SUM(S38+S50+S62) -> 0 | U14: =SUM(U38+U50+U62) -> 3 | W14: =SUM(W26,W38,W50,W62) -> 0 | Y14: =SUM(Y26,Y38,Y50,Y62) -> 0 | AA14: =SUM(AC14:AK14) -> 0 | AC14: =SUM(AC38+AC50+AC62) -> 0 | AE14: =SUM(AE38+AE50+AE62) -> 0 | AG14: =SUM(AG26,AG38,AG50,AG62) -> 0 | AI14: =SUM(AI26,AI38,AI50,AI62) -> 0 | AK14: =SUM(AK26,AK38,AK50,AK62) -> 0
D15: =SUM(F15+L15+AB15) -> #REF! | F15: =SUM(H15+J15) -> #REF! | H15: =SUM(H27,H39,H51,H63) -> #REF! | J15: =SUM(J27,J39,J51,J63) -> #REF! | L15: =SUM(N15:Z15) -> #REF! | N15: =SUM(N39+N51+N63) -> #REF! | P15: =SUM(P27,P39,P51,P63) -> #REF! | R15: =SUM(R27,R39,R51,R63) -> #REF! | T15: =SUM(T27,T39,T51,T63) -> #REF! | V15: =SUM(V27,V39,V51,V63) -> #REF! | X15: =SUM(X27,X39,X51,X63) -> #REF! | Z15: =SUM(Z27,Z39,Z51,Z63) -> #REF! | AB15: =SUM(AD15:AL15) -> #REF! | AD15: =SUM(AD27,AD39,AD51,AD63) -> #REF! | AF15: =SUM(AF27,AF39,AF51,AF63) -> #REF! | AH15: =SUM(AH27,AH39,AH51,AH63) -> #REF! | AJ15: =SUM(AJ27,AJ39,AJ51,AJ63) -> #REF! | AL15: =SUM(AL27,AL39,AL51,AL63) -> #REF!
A16: 여권민원실 | B16: 계 | C16: =SUM(C18:C27) -> 3256 | E16: =SUM(E18+E20+E22+E24+E26) -> 3256 | G16: =SUM(G18+G20+G22+G24+G26) -> 1571 | I16: =SUM(I18+I20+I22+I24+I26) -> 1685 | K16: =SUM(M16,O16,S16,U16,W16,Y16) -> 0 | M16: =SUM(M18,M20,M22,M24,M26) -> 0 | O16: =SUM(O18,O20,O22,O24,O26) -> 0 | Q16: =SUM(Q18,Q20,Q22,Q24,Q26) -> 0 | S16: =SUM(S18,S20,S22,S24,S26) -> 0 | U16: =SUM(U18,U20,U22,U24,U26) -> 0 | W16: =SUM(W18,W20,W22,W24,W26) -> 0 | Y16: =SUM(Y18,Y20,Y22,Y24,Y26) -> 0 | AA16: =SUM(AC16:AL16) -> 0 | AC16: =SUM(AC18,AC20,AC22,AC24,AC26) -> 0 | AE16: =SUM(AE18,AE20,AE22,AE24,AE26) -> 0 | AG16: =SUM(AG18,AG20,AG22,AG24,AG26) -> 0 | AI16: =SUM(AI18,AI20,AI22,AI24,AI26) -> 0 | AK16: =SUM(AK18,AK20,AK22,AK24,AK26) -> 0
D17: =SUM(D19:D27) -> #REF! | F17: =SUM(F19+F21+F23+F25+F27) -> #REF! | H17: =SUM(H19+H21+H23+H25+H27) -> #REF! | J17: =SUM(J19+J21+J23+J25+J27) -> #REF! | L17: =SUM(N17,P17,T17,V17,X17,Z17) -> 0 | N17: =SUM(N19,N21,N23,N25,N27) -> 0 | P17: =SUM(P19,P21,P23,P25,P27) -> 0 | R17: =SUM(R19,R21,R23,R25,R27) -> 0 | T17: =SUM(T19,T21,T23,T25,T27) -> 0 | V17: =SUM(V19,V21,V23,V25,V27) -> 0 | X17: =SUM(X19,X21,X23,X25,X27) -> 0 | Z17: =SUM(Z19,Z21,Z23,Z25,Z27) -> 0 | AB17: =SUM(AD17,AF17,AH17,AJ17,AL17) -> 0 | AD17: =SUM(AD19,AD21,AD23,AD25,AD27) -> 0 | AF17: =SUM(AF19,AF21,AF23,AF25,AF27) -> 0 | AH17: =SUM(AH19,AH21,AH23,AH25,AH27) -> 0 | AJ17: =SUM(AJ19,AJ21,AJ23,AJ25,AJ27) -> 0 | AL17: =SUM(AL19,AL21,AL23,AL25,AL27) -> 0
B20: 18시~19시 | C20: =SUM(E20+K20+AA20) -> 1118 | E20: =SUM(G20+I20) -> 1118 | G20: 435 | I20: 683
D21: =SUM(F21+L21+AB21) -> #REF! | F21: =SUM(H21+J21) -> #REF! | H21: =SUM(G20+#REF!) -> #REF! | J21: =SUM(I20+#REF!) -> #REF!
B22: 19시~20시 | C22: =SUM(E22+K22+AA22) -> 1232 | E22: =SUM(G22+I22) -> 1232 | G22: 574 | I22: 658
D23: =SUM(F23+L23+AB23) -> #REF! | F23: =SUM(H23+J23) -> #REF! | H23: =SUM(G22+#REF!) -> #REF! | J23: =SUM(I22+#REF!) -> #REF!
B24: 20시~21시 | C24: =SUM(E24+K24+AA24) -> 906 | E24: =SUM(G24+I24) -> 906 | G24: 562 | I24: 344
D25: =SUM(F25+L25+AB25) -> #REF! | F25: =SUM(H25+J25) -> #REF! | H25: =SUM(G24+#REF!) -> #REF! | J25: =SUM(I24+#REF!) -> #REF!
B26: 21시~22시 | C26: =SUM(E26+K26+AA26) -> 0 | E26: =SUM(G26+I26) -> 0 | G26: 0 | I26: 0
D27: =SUM(F27+L27+AB27) -> #REF! | F27: =SUM(H27+J27) -> #REF! | H27: =SUM(G26+#REF!) -> #REF! | J27: =SUM(I26+#REF!) -> #REF!
A28: 수정구 | B28: 계 | C28: =SUM(C30:C39) -> 644 | K28: =SUM(M28,O28,Q28,S28,U28,W28,Y28) -> 624 | M28: =SUM(M30,M32,M34,M36,M38) -> 260 | O28: =SUM(O30,O32,O34,O36,O38) -> 200 | Q28: =SUM(Q30,Q32,Q34,Q36,Q38) -> 40 | S28: =SUM(S30,S32,S34,S36,S38) -> 14 | U28: =SUM(U30,U32,U34,U36,U38) -> 110 | W28: =SUM(W30,W32,W34,W36,W38) -> 0 | Y28: =SUM(Y30,Y32,Y34,Y36,Y38) -> 0 | AA28: =SUM(AC28:AL28) -> 20 | AC28: =SUM(AC30,AC32,AC34,AC36,AC38) -> 0 | AE28: =SUM(AE30,AE32,AE34,AE36,AE38) -> 13 | AG28: =SUM(AG30,AG32,AG34,AG36,AG38) -> 6 | AI28: =SUM(AI30,AI32,AI34,AI36,AI38) -> 1 | AK28: =SUM(AK30,AK32,AK34,AK36,AK38) -> 0
D29: =SUM(L29,AB29) -> #REF! | L29: =SUM(N29,P29,R29,T29,V29,X29,Z29) -> #REF! | N29: =SUM(N31,N33,N35,N37,N39) -> #REF! | P29: =SUM(P31,P33,P35,P37,P39) -> #REF! | R29: =SUM(R31,R33,R35,R37,R39) -> #REF! | T29: =SUM(T31,T33,T35,T37,T39) -> #REF! | V29: =SUM(V31,V33,V35,V37,V39) -> #REF! | X29: =SUM(X31,X33,X35,X37,X39) -> #REF! | Z29: =SUM(Z31,Z33,Z35,Z37,Z39) -> #REF! | AB29: =SUM(AD29,AF29,AH29,AJ29,AL29) -> #REF! | AD29: =SUM(AD31,AD33,AD35,AD37,AD39) -> #REF! | AF29: =SUM(AF31,AF33,AF35,AF37,AF39) -> #REF! | AH29: =SUM(AH31,AH33,AH35,AH37,AH39) -> #REF! | AJ29: =SUM(AJ31,AJ33,AJ35,AJ37,AJ39) -> #REF! | AL29: =SUM(AL31,AL33,AL35,AL37,AL39) -> #REF!
B30: 10시~17시 | C30: =K30+AA30 -> 424 | K30: =M30+O30+Q30+S30+U30+W30+Y30 -> 412 | M30: 168 | O30: 147 | Q30: 35 | S30: 0 | U30: 62 | W30: 0 | Y30: 0 | AA30: =SUM(AC30:AK30) -> 12 | AC30: 0 | AE30: 9 | AG30: 2 | AI30: 1 | AK30: 0
D31: =L31+AB31 -> #REF! | L31: =N31+P31+R31+T31+V31+X31+Z31 -> #REF! | N31: =SUM(M30+#REF!) -> #REF! | P31: =SUM(O30+#REF!) -> #REF! | R31: =SUM(Q30+#REF!) -> #REF! | T31: =SUM(S30+#REF!) -> #REF! | V31: =SUM(U30+#REF!) -> #REF! | X31: =SUM(W30+#REF!) -> #REF! | Z31: =SUM(Y30+#REF!) -> #REF! | AB31: =SUM(AD31:AL31) -> #REF! | AD31: =SUM(AC30+#REF!) -> #REF! | AF31: =SUM(AE30+#REF!) -> #REF! | AH31: =SUM(AG30+#REF!) -> #REF! | AJ31: =SUM(AI30+#REF!) -> #REF! | AL31: =SUM(AK30+#REF!) -> #REF!
B32: 18시~19시 | C32: =K32+AA32 -> 113 | K32: =M32+O32+Q32+S32+U32+W32+Y32 -> 107 | M32: 50 | O32: 22 | Q32: 4 | S32: 14 | U32: 17 | W32: 0 | Y32: 0 | AA32: =SUM(AC32:AK32) -> 6 | AC32: 0 | AE32: 2 | AG32: 4 | AI32: 0 | AK32: 0
D33: =L33+AB33 -> #REF! | L33: =N33+P33+R33+T33+V33+X33+Z33 -> #REF! | N33: =SUM(M32+#REF!) -> #REF! | P33: =SUM(O32+#REF!) -> #REF! | R33: =SUM(Q32+#REF!) -> #REF! | T33: =SUM(S32+#REF!) -> #REF! | V33: =SUM(U32+#REF!) -> #REF! | X33: =SUM(W32+#REF!) -> #REF! | Z33: =SUM(Y32+#REF!) -> #REF! | AB33: =SUM(AD33:AL33) -> #REF! | AD33: =SUM(AC32+#REF!) -> #REF! | AF33: =SUM(AE32+#REF!) -> #REF! | AH33: =SUM(AG32+#REF!) -> #REF! | AJ33: =SUM(AI32+#REF!) -> #REF! | AL33: =SUM(AK32+#REF!) -> #REF!
B34: 19시~20시 | C34: =K34+AA34 -> 68 | K34: =M34+O34+Q34+S34+U34+W34+Y34 -> 66 | M34: 22 | O34: 26 | Q34: 1 | S34: 0 | U34: 17 | W34: 0 | Y34: 0 | AA34: =SUM(AC34:AK34) -> 2 | AC34: 0 | AE34: 2 | AG34: 0 | AI34: 0 | AK34: 0
D35: =L35+AB35 -> #REF! | L35: =N35+P35+R35+T35+V35+X35+Z35 -> #REF! | N35: =SUM(M34+#REF!) -> #REF! | P35: =SUM(O34+#REF!) -> #REF! | R35: =SUM(Q34+#REF!) -> #REF! | T35: =SUM(S34+#REF!) -> #REF! | V35: =SUM(U34+#REF!) -> #REF! | X35: =SUM(W34+#REF!) -> #REF! | Z35: =SUM(Y34+#REF!) -> #REF! | AB35: =SUM(AD35:AL35) -> #REF! | AD35: =SUM(AC34+#REF!) -> #REF! | AF35: =SUM(AE34+#REF!) -> #REF! | AH35: =SUM(AG34+#REF!) -> #REF! | AJ35: =SUM(AI34+#REF!) -> #REF! | AL35: =SUM(AK34+#REF!) -> #REF!
B36: 20시~21시 | C36: =K36+AA36 -> 32 | K36: =M36+O36+Q36+S36+U36+W36+Y36 -> 32 | M36: 16 | O36: 5 | Q36: 0 | S36: 0 | U36: 11 | W36: 0 | Y36: 0 | AA36: =SUM(AC36:AK36) -> 0 | AC36: 0 | AE36: 0 | AG36: 0 | AI36: 0 | AK36: 0
D37: =L37+AB37 -> #REF! | L37: =N37+P37+R37+T37+V37+X37+Z37 -> #REF! | N37: =SUM(M36+#REF!) -> #REF! | P37: =SUM(O36+#REF!) -> #REF! | R37: =SUM(Q36+#REF!) -> #REF! | T37: =SUM(S36+#REF!) -> #REF! | V37: =SUM(U36+#REF!) -> #REF! | X37: =SUM(W36+#REF!) -> #REF! | Z37: =SUM(Y36+#REF!) -> #REF! | AB37: =SUM(AD37:AL37) -> #REF! | AD37: =SUM(AC36+#REF!) -> #REF! | AF37: =SUM(AE36+#REF!) -> #REF! | AH37: =SUM(AG36+#REF!) -> #REF! | AJ37: =SUM(AI36+#REF!) -> #REF! | AL37: =SUM(AK36+#REF!) -> #REF!
B38: 21시~22시 | C38: =K38+AA38 -> 7 | K38: =M38+O38+Q38+S38+U38+W38+Y38 -> 7 | M38: 4 | O38: 0 | Q38: 0 | S38: 0 | U38: 3 | W38: 0 | Y38: 0 | AA38: =SUM(AC38:AK38) -> 0 | AC38: 0 | AE38: 0 | AG38: 0 | AI38: 0 | AK38: 0
D39: =L39+AB39 -> #REF! | L39: =N39+P39+R39+T39+V39+X39+Z39 -> #REF! | N39: =SUM(M38+#REF!) -> #REF! | P39: =SUM(O38+#REF!) -> #REF! | R39: =SUM(Q38+#REF!) -> #REF! | T39: =SUM(S38+#REF!) -> #REF! | V39: =SUM(U38+#REF!) -> #REF! | X39: =SUM(W38+#REF!) -> #REF! | Z39: =SUM(Y38+#REF!) -> #REF! | AB39: =SUM(AD39:AL39) -> #REF! | AD39: =SUM(AC38+#REF!) -> #REF! | AF39: =SUM(AE38+#REF!) -> #REF! | AH39: =SUM(AG38+#REF!) -> #REF! | AJ39: =SUM(AI38+#REF!) -> #REF! | AL39: =SUM(AK38+#REF!) -> #REF!
A40: 중원구 | B40: 계 | C40: =SUM(E40+K40+AA40) -> 507 | K40: =SUM(M40,O40,Q40,S40,U40,W40,Y40) -> 481 | M40: =SUM(M42,M44,M46,M48,M50) -> 212 | O40: =SUM(O42,O44,O46,O48,O50) -> 153 | Q40: =SUM(Q42,Q44,Q46,Q48,Q50) -> 8 | S40: =SUM(S42,S44,S46,S48,S50) -> 7 | U40: =SUM(U42,U44,U46,U48,U50) -> 95 | W40: =SUM(W42,W44,W46,W48,W50) -> 0 | Y40: =SUM(Y42,Y44,Y46,Y48,Y50) -> 6 | AA40: =SUM(AC40:AL40) -> 26 | AC40: =SUM(AC42,AC44,AC46,AC48,AC50) -> 0 | AE40: =SUM(AE42,AE44,AE46,AE48,AE50) -> 16 | AG40: =SUM(AG42,AG44,AG46,AG48,AG50) -> 10 | AI40: =SUM(AI42,AI44,AI46,AI48,AI50) -> 0 | AK40: =SUM(AK42,AK44,AK46,AK48,AK50) -> 0
D41: =SUM(L41,AB41) -> #REF! | L41: =SUM(N41,P41,R41,T41,V41,X41,Z41) -> #REF! | N41: =SUM(N43,N45,N47,N49,N51) -> #REF! | P41: =SUM(P43,P45,P47,P49,P51) -> #REF! | R41: =SUM(R43,R45,R47,R49,R51) -> #REF! | T41: =SUM(T43,T45,T47,T49,T51) -> #REF! | V41: =SUM(V43,V45,V47,V49,V51) -> #REF! | X41: =SUM(X43,X45,X47,X49,X51) -> #REF! | Z41: =SUM(Z43,Z45,Z47,Z49,Z51) -> #REF! | AB41: =SUM(AD41,AF41,AH41,AJ41,AL41) -> #REF! | AD41: =SUM(AD43,AD45,AD47,AD49,AD51) -> #REF! | AF41: =SUM(AF43,AF45,AF47,AF49,AF51) -> #REF! | AH41: =SUM(AH43,AH45,AH47,AH49,AH51) -> #REF! | AJ41: =SUM(AJ43,AJ45,AJ47,AJ49,AJ51) -> #REF! | AL41: =SUM(AL43,AL45,AL47,AL49,AL51) -> #REF!
B42: 10시~17시 | C42: =K42+AA42 -> 311 | K42: =M42+O42+Q42+S42+U42+W42+Y42 -> 299 | M42: 133 | O42: 94 | Q42: 5 | S42: 3 | U42: 61 | W42: 0 | Y42: 3 | AA42: =SUM(AC42:AK42) -> 12 | AC42: 0 | AE42: 9 | AG42: 3 | AI42: 0 | AK42: 0
D43: =SUM(F43+L43+AB43) -> #REF! | L43: =N43+P43+R43+T43+V43+X43+Z43 -> #REF! | N43: =SUM(M42+#REF!) -> #REF! | P43: =SUM(O42+#REF!) -> #REF! | R43: =SUM(Q42+#REF!) -> #REF! | T43: =SUM(S42+#REF!) -> #REF! | V43: =SUM(U42+#REF!) -> #REF! | X43: =SUM(W42+#REF!) -> #REF! | Z43: =SUM(Y42+#REF!) -> #REF! | AB43: =SUM(AD43:AL43) -> #REF! | AD43: =SUM(AC42+#REF!) -> #REF! | AF43: =SUM(AE42+#REF!) -> #REF! | AH43: =SUM(AG42+#REF!) -> #REF! | AJ43: =SUM(AI42+#REF!) -> #REF! | AL43: =SUM(AK42+#REF!) -> #REF!
B44: 18시~19시 | C44: =K44+AA44 -> 63 | K44: =M44+O44+Q44+S44+U44+W44+Y44 -> 57 | M44: 30 | O44: 19 | Q44: 0 | S44: 0 | U44: 6 | W44: 0 | Y44: 2 | AA44: =SUM(AC44:AK44) -> 6 | AC44: 0 | AE44: 3 | AG44: 3 | AI44: 0 | AK44: 0
D45: =SUM(F45+L45+AB45) -> #REF! | L45: =N45+P45+R45+T45+V45+X45+Z45 -> #REF! | N45: =SUM(M44+#REF!) -> #REF! | P45: =SUM(O44+#REF!) -> #REF! | R45: =SUM(Q44+#REF!) -> #REF! | T45: =SUM(S44+#REF!) -> #REF! | V45: =SUM(U44+#REF!) -> #REF! | X45: =SUM(W44+#REF!) -> #REF! | Z45: =SUM(Y44+#REF!) -> #REF! | AB45: =SUM(AD45:AL45) -> #REF! | AD45: =SUM(AC44+#REF!) -> #REF! | AF45: =SUM(AE44+#REF!) -> #REF! | AH45: =SUM(AG44+#REF!) -> #REF! | AJ45: =SUM(AI44+#REF!) -> #REF! | AL45: =SUM(AK44+#REF!) -> #REF!
B46: 19시~20시 | C46: =K46+AA46 -> 83 | K46: =M46+O46+Q46+S46+U46+W46+Y46 -> 79 | M46: 30 | O46: 21 | Q46: 3 | S46: 3 | U46: 21 | W46: 0 | Y46: 1 | AA46: =SUM(AC46:AK46) -> 4 | AC46: 0 | AE46: 2 | AG46: 2 | AI46: 0 | AK46: 0
D47: =SUM(F47+L47+AB47) -> #REF! | L47: =N47+P47+R47+T47+V47+X47+Z47 -> #REF! | N47: =SUM(M46+#REF!) -> #REF! | P47: =SUM(O46+#REF!) -> #REF! | R47: =SUM(Q46+#REF!) -> #REF! | T47: =SUM(S46+#REF!) -> #REF! | V47: =SUM(U46+#REF!) -> #REF! | X47: =SUM(W46+#REF!) -> #REF! | Z47: =SUM(Y46+#REF!) -> #REF! | AB47: =SUM(AD47:AL47) -> #REF! | AD47: =SUM(AC46+#REF!) -> #REF! | AF47: =SUM(AE46+#REF!) -> #REF! | AH47: =SUM(AG46+#REF!) -> #REF! | AJ47: =SUM(AI46+#REF!) -> #REF! | AL47: =SUM(AK46+#REF!) -> #REF!
B48: 20시~21시 | C48: =K48+AA48 -> 50 | K48: =M48+O48+Q48+S48+U48+W48+Y48 -> 46 | M48: 19 | O48: 19 | Q48: 0 | S48: 1 | U48: 7 | W48: 0 | Y48: 0 | AA48: =SUM(AC48:AK48) -> 4 | AC48: 0 | AE48: 2 | AG48: 2 | AI48: 0 | AK48: 0
D49: =SUM(F49+L49+AB49) -> #REF! | L49: =N49+P49+R49+T49+V49+X49+Z49 -> #REF! | N49: =SUM(M48+#REF!) -> #REF! | P49: =SUM(O48+#REF!) -> #REF! | R49: =SUM(Q48+#REF!) -> #REF! | T49: =SUM(S48+#REF!) -> #REF! | V49: =SUM(U48+#REF!) -> #REF! | X49: =SUM(W48+#REF!) -> #REF! | Z49: =SUM(Y48+#REF!) -> #REF! | AB49: =SUM(AD49:AL49) -> #REF! | AD49: =SUM(AC48+#REF!) -> #REF! | AF49: =SUM(AE48+#REF!) -> #REF! | AH49: =SUM(AG48+#REF!) -> #REF! | AJ49: =SUM(AI48+#REF!) -> #REF! | AL49: =SUM(AK48+#REF!) -> #REF!
B50: 21시~22시 | C50: =K50+AA50 -> 0 | K50: =M50+O50+Q50+S50+U50+W50+Y50 -> 0 | M50: 0 | O50: 0 | Q50: 0 | S50: 0 | U50: 0 | W50: 0 | Y50: 0 | AA50: =SUM(AC50:AK50) -> 0 | AC50: 0 | AE50: 0 | AG50: 0 | AI50: 0 | AK50: 0
D51: =SUM(F51+L51+AB51) -> #REF! | L51: =N51+P51+R51+T51+V51+X51+Z51 -> #REF! | N51: =SUM(M50+#REF!) -> #REF! | P51: =SUM(O50+#REF!) -> #REF! | R51: =SUM(Q50+#REF!) -> #REF! | T51: =SUM(S50+#REF!) -> #REF! | V51: =SUM(U50+#REF!) -> #REF! | X51: =SUM(W50+#REF!) -> #REF! | Z51: =SUM(Y50+#REF!) -> #REF! | AB51: =SUM(AD51:AL51) -> #REF! | AD51: =SUM(AC50+#REF!) -> #REF! | AF51: =SUM(AE50+#REF!) -> #REF! | AH51: =SUM(AG50+#REF!) -> #REF! | AJ51: =SUM(AI50+#REF!) -> #REF! | AL51: =SUM(AK50+#REF!) -> #REF!
A52: 분당구 | B52: 계 | C52: =SUM(C54:C63) -> 945 | K52: =SUM(M52,O52,Q52,S52,U52,W52,Y52) -> 806 | M52: =SUM(M54,M56,M58,M60,M62) -> 244 | O52: =SUM(O54,O56,O58,O60,O62) -> 356 | Q52: =SUM(Q54,Q56,Q58,Q60,Q62) -> 20 | S52: =SUM(S54,S56,S58,S60,S62) -> 25 | U52: =SUM(U54,U56,U58,U60,U62) -> 154 | W52: =SUM(W54,W56,W58,W60,W62) -> 0 | Y52: =SUM(Y54,Y56,Y58,Y60,Y62) -> 7 | AA52: =SUM(AC52:AL52) -> 139 | AC52: =SUM(AC54,AC56,AC58,AC60,AC62) -> 15 | AE52: =SUM(AE54,AE56,AE58,AE60,AE62) -> 102 | AG52: =SUM(AG54,AG56,AG58,AG60,AG62) -> 20 | AI52: =SUM(AI54,AI56,AI58,AI60,AI62) -> 2 | AK52: =SUM(AK54,AK56,AK58,AK60,AK62) -> 0
D53: =SUM(L53,AB53) -> #REF! | L53: =SUM(N53,P53,R53,T53,V53,X53,Z53) -> #REF! | N53: =SUM(N55,N57,N59,N61,N63) -> #REF! | P53: =SUM(P55,P57,P59,P61,P63) -> #REF! | R53: =SUM(R55,R57,R59,R61,R63) -> #REF! | T53: =SUM(T55,T57,T59,T61,T63) -> #REF! | V53: =SUM(V55,V57,V59,V61,V63) -> #REF! | X53: =SUM(X55,X57,X59,X61,X63) -> #REF! | Z53: =SUM(Z55,Z57,Z59,Z61,Z63) -> #REF! | AB53: =SUM(AD53,AF53,AH53,AJ53,AL53) -> #REF! | AD53: =SUM(AD55,AD57,AD59,AD61,AD63) -> #REF! | AF53: =SUM(AF55,AF57,AF59,AF61,AF63) -> #REF! | AH53: =SUM(AH55,AH57,AH59,AH61,AH63) -> #REF! | AJ53: =SUM(AJ55,AJ57,AJ59,AJ61,AJ63) -> #REF! | AL53: =SUM(AL55,AL57,AL59,AL61,AL63) -> #REF!
B54: 10시~17시 | C54: =K54+AA54 -> 619 | K54: =M54+O54+Q54+S54+U54+W54+Y54 -> 521 | M54: 133 | O54: 226 | Q54: 8 | S54: 24 | U54: 124 | W54: 0 | Y54: 6 | AA54: =AC54+AE54+AG54+AI54+AK54 -> 98 | AC54: 9 | AE54: 73 | AG54: 14 | AI54: 2 | AK54: 0
D55: =L55+AB55 -> #REF! | L55: =N55+P55+R55+T55+V55+X55+Z55 -> #REF! | N55: =SUM(M54+#REF!) -> #REF! | P55: =SUM(O54+#REF!) -> #REF! | R55: =SUM(Q54+#REF!) -> #REF! | T55: =SUM(S54+#REF!) -> #REF! | V55: =SUM(U54+#REF!) -> #REF! | X55: =SUM(W54+#REF!) -> #REF! | Z55: =SUM(Y54+#REF!) -> #REF! | AB55: =SUM(AD55:AL55) -> #REF! | AD55: =SUM(AC54+#REF!) -> #REF! | AF55: =SUM(AE54+#REF!) -> #REF! | AH55: =SUM(AG54+#REF!) -> #REF! | AJ55: =SUM(AI54+#REF!) -> #REF! | AL55: =SUM(AK54+#REF!) -> #REF!
B56: 18시~19시 | C56: =K56+AA56 -> 139 | K56: =M56+O56+Q56+S56+U56+W56+Y56 -> 121 | M56: 51 | O56: 54 | Q56: 0 | S56: 0 | U56: 15 | W56: 0 | Y56: 1 | AA56: =SUM(AC56,AE56,AG56,AI56,AK56) -> 18 | AC56: 3 | AE56: 11 | AG56: 4 | AI56: 0 | AK56: 0
D57: =L57+AB57 -> #REF! | L57: =N57+P57+R57+T57+V57+X57+Z57 -> #REF! | N57: =SUM(M56+#REF!) -> #REF! | P57: =SUM(O56+#REF!) -> #REF! | R57: =SUM(Q56+#REF!) -> #REF! | T57: =SUM(S56+#REF!) -> #REF! | V57: =SUM(U56+#REF!) -> #REF! | X57: =SUM(W56+#REF!) -> #REF! | Z57: =SUM(Y56+#REF!) -> #REF! | AB57: =SUM(AD57:AL57) -> #REF! | AD57: =SUM(AC56+#REF!) -> #REF! | AF57: =SUM(AE56+#REF!) -> #REF! | AH57: =SUM(AG56+#REF!) -> #REF! | AJ57: =SUM(AI56+#REF!) -> #REF! | AL57: =SUM(AK56+#REF!) -> #REF!
B58: 19시~20시 | C58: =K58+AA58 -> 130 | K58: =M58+O58+Q58+S58+U58+W58+Y58 -> 115 | M58: 40 | O58: 52 | Q58: 12 | S58: 1 | U58: 10 | W58: 0 | Y58: 0 | AA58: =SUM(AC58,AE58,AG58,AI58,AK58) -> 15 | AC58: 3 | AE58: 12 | AG58: 0 | AI58: 0 | AK58: 0
D59: =L59+AB59 -> #REF! | L59: =N59+P59+R59+T59+V59+X59+Z59 -> #REF! | N59: =SUM(M58+#REF!) -> #REF! | P59: =SUM(O58+#REF!) -> #REF! | R59: =SUM(Q58+#REF!) -> #REF! | T59: =SUM(S58+#REF!) -> #REF! | V59: =SUM(U58+#REF!) -> #REF! | X59: =SUM(W58+#REF!) -> #REF! | Z59: =SUM(Y58+#REF!) -> #REF! | AB59: =SUM(AD59:AL59) -> #REF! | AD59: =SUM(AC58+#REF!) -> #REF! | AF59: =SUM(AE58+#REF!) -> #REF! | AH59: =SUM(AG58+#REF!) -> #REF! | AJ59: =SUM(AI58+#REF!) -> #REF! | AL59: =SUM(AK58+#REF!) -> #REF!
B60: 20시~21시 | C60: =K60+AA60 -> 57 | K60: =M60+O60+Q60+S60+U60+W60+Y60 -> 49 | M60: 20 | O60: 24 | Q60: 0 | S60: 0 | U60: 5 | W60: 0 | Y60: 0 | AA60: =SUM(AC60,AE60,AG60,AI60,AK60) -> 8 | AC60: 0 | AE60: 6 | AG60: 2 | AI60: 0 | AK60: 0
D61: =L61+AB61 -> #REF! | L61: =N61+P61+R61+T61+V61+X61+Z61 -> #REF! | N61: =SUM(M60+#REF!) -> #REF! | P61: =SUM(O60+#REF!) -> #REF! | R61: =SUM(Q60+#REF!) -> #REF! | T61: =SUM(S60+#REF!) -> #REF! | V61: =SUM(U60+#REF!) -> #REF! | X61: =SUM(W60+#REF!) -> #REF! | Z61: =SUM(Y60+#REF!) -> #REF! | AB61: =SUM(AD61:AL61) -> #REF! | AD61: =SUM(AC60+#REF!) -> #REF! | AF61: =SUM(AE60+#REF!) -> #REF! | AH61: =SUM(AG60+#REF!) -> #REF! | AJ61: =SUM(AI60+#REF!) -> #REF! | AL61: =SUM(AK60+#REF!) -> #REF!
B62: 21시~22시 | C62: =K62+AA62 -> 0 | K62: =M62+O62+Q62+S62+U62+W62+Y62 -> 0 | M62: 0 | O62: 0 | Q62: 0 | S62: 0 | U62: 0 | W62: 0 | Y62: 0 | AA62: =SUM(AC62,AE62,AG62,AI62,AK62) -> 0 | AC62: 0 | AE62: 0 | AG62: 0 | AI62: 0 | AK62: 0
D63: =L63+AB63 -> #REF! | L63: =N63+P63+R63+T63+V63+X63+Z63 -> #REF! | N63: =SUM(M62+#REF!) -> #REF! | P63: =SUM(O62+#REF!) -> #REF! | R63: =SUM(Q62+#REF!) -> #REF! | T63: =SUM(S62+#REF!) -> #REF! | V63: =SUM(U62+#REF!) -> #REF! | X63: =SUM(W62+#REF!) -> #REF! | Z63: =SUM(Y62+#REF!) -> #REF! | AB63: =SUM(AD63:AL63) -> #REF! | AD63: =SUM(AC62+#REF!) -> #REF! | AF63: =SUM(AE62+#REF!) -> #REF! | AH63: =SUM(AG62+#REF!) -> #REF! | AJ63: =SUM(AI62+#REF!) -> #REF! | AL63: =SUM(AK62+#REF!) -> #REF!

Sheet 4월
A1: 2016년 『시민이 행복한 민원센터』민원처리현황(4월)
A2: 구분 | B2: 시간 | C2: 월계/누계 | E2: 여 권 민 원 | K2: 제 증 명 발 급 | AA2: 신 고 민 원
E3: 소계 | G3: 접수 | I3: 교부 | K3: 소계 | M3: 주민등·초본 | O3: 인감증명 | Q3: 본인서명 | S3: 제적등·초본 | U3: 가족관계등록 | W3: 어디서나민원 | Y3: 기타 | AA3: 소계 | AC3: 출생·사망 | AE3: 혼인·이혼 | AG3: 전입신고 | AI3: 주민증 | AK3: 정정.재등록
A4: 합계 | B4: 월계 / 누계 | C4: =SUM(E4+K4+AA4) -> 4876 | E4: =SUM(G4+I4) -> 2962 | G4: =SUM(G6:G14) -> 1480 | I4: =SUM(I6:I14) -> 1482 | K4: =SUM(M4:Y4) -> 1738 | M4: =SUM(M6:M14) -> 587 | O4: =SUM(O6:O14) -> 727 | Q4: =SUM(Q6:Q14) -> 82 | S4: =SUM(S6:S14) -> 36 | U4: =SUM(U6:U14) -> 300 | W4: =SUM(W6:W14) -> 0 | Y4: =SUM(Y6:Y14) -> 6 | AA4: =SUM(AC4:AK4) -> 176 | AC4: =SUM(AC6:AC14) -> 4 | AE4: =SUM(AE6:AE14) -> 128 | AG4: =SUM(AG6:AG14) -> 43 | AI4: =SUM(AI6:AI14) -> 1 | AK4: =SUM(AK6:AK14) -> 0
D5: =SUM(F5+L5+AB5) -> #REF! | F5: =SUM(H5+J5) -> #REF! | H5: =SUM(H7:H15) -> #REF! | J5: =SUM(J7:J15) -> #REF! | L5: =SUM(N5:Z5) -> #REF! | N5: =SUM(N7:N15) -> #REF! | P5: =SUM(P7:P15) -> #REF! | R5: =SUM(R7:R15) -> #REF! | T5: =SUM(T7:T15) -> #REF! | V5: =SUM(V7:V15) -> #REF! | X5: =SUM(X7:X15) -> #REF! | Z5: =SUM(Z7:Z15) -> #REF! | AB5: =SUM(AD5:AL5) -> #REF! | AD5: =SUM(AD7:AD15) -> #REF! | AF5: =SUM(AF7:AF15) -> #REF! | AH5: =SUM(AH7:AH15) -> #REF! | AJ5: =SUM(AJ7:AJ15) -> #REF! | AL5: =SUM(AL7:AL15) -> #REF!
B6: 10시~17시 | C6: =SUM(E6+K6+AA6) -> 1272 | E6: =SUM(G6+I6) -> 0 | G6: =SUM(G18,G30,G42,G54) -> 0 | I6: =SUM(I18,I30,I42,I54) -> 0 | K6: =SUM(M6:Y6) -> 1141 | M6: =SUM(M30+M42+M54) -> 409 | O6: =SUM(O30+O42+O54) -> 482 | Q6: =SUM(Q30+Q42+Q54) -> 64 | S6: =SUM(S30+S42+S54) -> 28 | U6: =SUM(U30+U42+U54) -> 153 | W6: =SUM(W30+W42+W54) -> 0 | Y6: =SUM(Y30+Y42+Y54) -> 5 | AA6: =SUM(AC6:AK6) -> 131 | AC6: =SUM(AC30+AC42+AC54) -> 3 | AE6: =SUM(AE30+AE42+AE54) -> 95 | AG6: =SUM(AG30+AG42+AG54) -> 33 | AI6: =SUM(AI30+AI42+AI54) -> 0 | AK6: =SUM(AK30+AK42+AK54) -> 0
D7: =SUM(F7+L7+AB7) -> #REF! | F7: =SUM(H7+J7) -> 0 | H7: =SUM(H19,H31,H43,H55) -> 0 | J7: =SUM(J19,J31,J43,J55) -> 0 | L7: =SUM(N7:Z7) -> #REF! | N7: =SUM(N31+N43+N55) -> #REF! | P7: =SUM(P19,P31,P43,P55) -> #REF! | R7: =SUM(R19,R31,R43,R55) -> #REF! | T7: =SUM(T19,T31,T43,T55) -> #REF! | V7: =SUM(V19,V31,V43,V55) -> #REF! | X7: =SUM(X19,X31,X43,X55) -> #REF! | Z7: =SUM(Z19,Z31,Z43,Z55) -> #REF! | AB7: =SUM(AD7:AL7) -> #REF! | AD7: =SUM(AD19,AD31,AD43,AD55) -> #REF! | AF7: =SUM(AF19,AF31,AF43,AF55) -> #REF! | AH7: =SUM(AH19,AH31,AH43,AH55) -> #REF! | AJ7: =SUM(AJ19,AJ31,AJ43,AJ55) -> #REF! | AL7: =SUM(AL19,AL31,AL43,AL55) -> #REF!
B8: 18시~19시 | C8: =SUM(E8+K8+AA8) -> 1279 | E8: =SUM(G8+I8) -> 999 | G8: =SUM(G20,G32,G44,G56) -> 394 | I8: =SUM(I20,I32,I44,I56) -> 605 | K8: =SUM(M8:Y8) -> 266 | M8: =SUM(M32+M44+M56) -> 77 | O8: =SUM(O32+O44+O56) -> 116 | Q8: =SUM(Q32+Q44+Q56) -> 9 | S8: =SUM(S32+S44+S56) -> 1 | U8: =SUM(U32+U44+U56) -> 62 | W8: =SUM(W20,W32,W44,W56) -> 0 | Y8: =SUM(Y20,Y32,Y44,Y56) -> 1 | AA8: =SUM(AC8:AK8) -> 14 | AC8: =SUM(AC32+AC44+AC56) -> 0 | AE8: =SUM(AE32+AE44+AE56) -> 10 | AG8: =SUM(AG20,AG32,AG44,AG56) -> 4 | AI8: =SUM(AI20,AI32,AI44,AI56) -> 0 | AK8: =SUM(AK20,AK32,AK44,AK56) -> 0
D9: =SUM(F9+L9+AB9) -> #REF! | F9: =SUM(H9+J9) -> #REF! | H9: =SUM(H21,H33,H45,H57) -> #REF! | J9: =SUM(J21,J33,J45,J57) -> #REF! | L9: =SUM(N9:Z9) -> #REF! | N9: =SUM(N33+N45+N57) -> #REF! | P9: =SUM(P21,P33,P45,P57) -> #REF! | R9: =SUM(R21,R33,R45,R57) -> #REF! | T9: =SUM(T21,T33,T45,T57) -> #REF! | V9: =SUM(V21,V33,V45,V57) -> #REF! | X9: =SUM(X21,X33,X45,X57) -> #REF! | Z9: =SUM(Z21,Z33,Z45,Z57) -> #REF! | AB9: =SUM(AD9:AL9) -> #REF! | AD9: =SUM(AD21,AD33,AD45,AD57) -> #REF! | AF9: =SUM(AF21,AF33,AF45,AF57) -> #REF! | AH9: =SUM(AH21,AH33,AH45,AH57) -> #REF! | AJ9: =SUM(AJ21,AJ33,AJ45,AJ57) -> #REF! | AL9: =SUM(AL21,AL33,AL45,AL57) -> #REF!
B10: 19시~20시 | C10: =SUM(E10+K10+AA10) -> 1296 | E10: =SUM(G10+I10) -> 1033 | G10: =SUM(G22,G34,G46,G58) -> 476 | I10: =SUM(I22,I34,I46,I58) -> 557 | K10: =SUM(M10:Y10) -> 244 | M10: =SUM(M34+M46+M58) -> 76 | O10: =SUM(O34+O46+O58) -> 93 | Q10: =SUM(Q34+Q46+Q58) -> 6 | S10: =SUM(S34+S46+S58) -> 5 | U10: =SUM(U34+U46+U58) -> 64 | W10: =SUM(W22,W34,W46,W58) -> 0 | Y10: =SUM(Y22,Y34,Y46,Y58) -> 0 | AA10: =SUM(AC10:AK10) -> 19 | AC10: =SUM(AC34+AC46+AC58) -> 1 | AE10: =SUM(AE34+AE46+AE58) -> 13 | AG10: =SUM(AG22,AG34,AG46,AG58) -> 4 | AI10: =SUM(AI22,AI34,AI46,AI58) -> 1 | AK10: =SUM(AK22,AK34,AK46,AK58) -> 0
D11: =SUM(F11+L11+AB11) -> #REF! | F11: =SUM(H11+J11) -> #REF! | H11: =SUM(H23,H35,H47,H59) -> #REF! | J11: =SUM(J23,J35,J47,J59) -> #REF! | L11: =SUM(N11:Z11) -> #REF! | N11: =SUM(N35+N47+N59) -> #REF! | P11: =SUM(P23,P35,P47,P59) -> #REF! | R11: =SUM(R23,R35,R47,R59) -> #REF! | T11: =SUM(T23,T35,T47,T59) -> #REF! | V11: =SUM(V23,V35,V47,V59) -> #REF! | X11: =SUM(X23,X35,X47,X59) -> #REF! | Z11: =SUM(Z23,Z35,Z47,Z59) -> #REF! | AB11: =SUM(AD11:AL11) -> #REF! | AD11: =SUM(AD23,AD35,AD47,AD59) -> #REF! | AF11: =SUM(AF23,AF35,AF47,AF59) -> #REF! | AH11: =SUM(AH23,AH35,AH47,AH59) -> #REF! | AJ11: =SUM(AJ23,AJ35,AJ47,AJ59) -> #REF! | AL11: =SUM(AL23,AL35,AL47,AL59) -> #REF!
B12: 20시~21시 | C12: =SUM(E12+K12+AA12) -> 1029 | E12: =SUM(G12+I12) -> 930 | G12: =SUM(G24,G36,G48,G60) -> 610 | I12: =SUM(I24,I36,I48,I60) -> 320 | K12: =SUM(M12:Y12) -> 87 | M12: =SUM(M36+M48+M60) -> 25 | O12: =SUM(O36+O48+O60) -> 36 | Q12: =SUM(Q36+Q48+Q60) -> 3 | S12: =SUM(S36+S48+S60) -> 2 | U12: =SUM(U36+U48+U60) -> 21 | W12: =SUM(W24,W36,W48,W60) -> 0 | Y12: =SUM(Y24,Y36,Y48,Y60) -> 0 | AA12: =SUM(AC12:AK12) -> 12 | AC12: =SUM(AC36+AC48+AC60) -> 0 | AE12: =SUM(AE36+AE48+AE60) -> 10 | AG12: =SUM(AG24,AG36,AG48,AG60) -> 2 | AI12: =SUM(AI24,AI36,AI48,AI60) -> 0 | AK12: =SUM(AK24,AK36,AK48,AK60) -> 0
D13: =SUM(F13+L13+AB13) -> #REF! | F13: =SUM(H13+J13) -> #REF! | H13: =SUM(H25,H37,H49,H61) -> #REF! | J13: =SUM(J25,J37,J49,J61) -> #REF! | L13: =SUM(N13:Z13) -> #REF! | N13: =SUM(N37+N49+N61) -> #REF! | P13: =SUM(P25,P37,P49,P61) -> #REF! | R13: =SUM(R25,R37,R49,R61) -> #REF! | T13: =SUM(T25,T37,T49,T61) -> #REF! | V13: =SUM(V25,V37,V49,V61) -> #REF! | X13: =SUM(X25,X37,X49,X61) -> #REF! | Z13: =SUM(Z25,Z37,Z49,Z61) -> #REF! | AB13: =SUM(AD13:AL13) -> #REF! | AD13: =SUM(AD25,AD37,AD49,AD61) -> #REF! | AF13: =SUM(AF25,AF37,AF49,AF61) -> #REF! | AH13: =SUM(AH25,AH37,AH49,AH61) -> #REF! | AJ13: =SUM(AJ25,AJ37,AJ49,AJ61) -> #REF! | AL13: =SUM(AL25,AL37,AL49,AL61) -> #REF!
B14: 21시~22시 | C14: =SUM(E14+K14+AA14) -> 0 | E14: =SUM(G14+I14) -> 0 | G14: =SUM(G26,G38,G50,G62) -> 0 | I14: =SUM(I26,I38,I50,I62) -> 0 | K14: =SUM(M14:Y14) -> 0 | M14: =SUM(M38+M50+M62) -> 0 | O14: =SUM(O38+O50+O62) -> 0 | Q14: =SUM(Q38+Q50+Q62) -> 0 | S14: =SUM(S38+S50+S62) -> 0 | U14: =SUM(U38+U50+U62) -> 0 | W14: =SUM(W26,W38,W50,W62) -> 0 | Y14: =SUM(Y26,Y38,Y50,Y62) -> 0 | AA14: =SUM(AC14:AK14) -> 0 | AC14: =SUM(AC38+AC50+AC62) -> 0 | AE14: =SUM(AE38+AE50+AE62) -> 0 | AG14: =SUM(AG26,AG38,AG50,AG62) -> 0 | AI14: =SUM(AI26,AI38,AI50,AI62) -> 0 | AK14: =SUM(AK26,AK38,AK50,AK62) -> 0
D15: =SUM(F15+L15+AB15) -> #REF! | F15: =SUM(H15+J15) -> #REF! | H15: =SUM(H27,H39,H51,H63) -> #REF! | J15: =SUM(J27,J39,J51,J63) -> #REF! | L15: =SUM(N15:Z15) -> #REF! | N15: =SUM(N39+N51+N63) -> #REF! | P15: =SUM(P27,P39,P51,P63) -> #REF! | R15: =SUM(R27,R39,R51,R63) -> #REF! | T15: =SUM(T27,T39,T51,T63) -> #REF! | V15: =SUM(V27,V39,V51,V63) -> #REF! | X15: =SUM(X27,X39,X51,X63) -> #REF! | Z15: =SUM(Z27,Z39,Z51,Z63) -> #REF! | AB15: =SUM(AD15:AL15) -> #REF! | AD15: =SUM(AD27,AD39,AD51,AD63) -> #REF! | AF15: =SUM(AF27,AF39,AF51,AF63) -> #REF! | AH15: =SUM(AH27,AH39,AH51,AH63) -> #REF! | AJ15: =SUM(AJ27,AJ39,AJ51,AJ63) -> #REF! | AL15: =SUM(AL27,AL39,AL51,AL63) -> #REF!
A16: 여권민원실 | B16: 계 | C16: =SUM(C18:C27) -> 2962 | E16: =SUM(E18+E20+E22+E24+E26) -> 2962 | G16: =SUM(G18+G20+G22+G24+G26) -> 1480 | I16: =SUM(I18+I20+I22+I24+I26) -> 1482 | K16: =SUM(M16,O16,S16,U16,W16,Y16) -> 0 | M16: =SUM(M18,M20,M22,M24,M26) -> 0 | O16: =SUM(O18,O20,O22,O24,O26) -> 0 | Q16: =SUM(Q18,Q20,Q22,Q24,Q26) -> 0 | S16: =SUM(S18,S20,S22,S24,S26) -> 0 | U16: =SUM(U18,U20,U22,U24,U26) -> 0 | W16: =SUM(W18,W20,W22,W24,W26) -> 0 | Y16: =SUM(Y18,Y20,Y22,Y24,Y26) -> 0 | AA16: =SUM(AC16:AL16) -> 0 | AC16: =SUM(AC18,AC20,AC22,AC24,AC26) -> 0 | AE16: =SUM(AE18,AE20,AE22,AE24,AE26) -> 0 | AG16: =SUM(AG18,AG20,AG22,AG24,AG26) -> 0 | AI16: =SUM(AI18,AI20,AI22,AI24,AI26) -> 0 | AK16: =SUM(AK18,AK20,AK22,AK24,AK26) -> 0
D17: =SUM(D19:D27) -> #REF! | F17: =SUM(F19+F21+F23+F25+F27) -> #REF! | H17: =SUM(H19+H21+H23+H25+H27) -> #REF! | J17: =SUM(J19+J21+J23+J25+J27) -> #REF! | L17: =SUM(N17,P17,T17,V17,X17,Z17) -> 0 | N17: =SUM(N19,N21,N23,N25,N27) -> 0 | P17: =SUM(P19,P21,P23,P25,P27) -> 0 | R17: =SUM(R19,R21,R23,R25,R27) -> 0 | T17: =SUM(T19,T21,T23,T25,T27) -> 0 | V17: =SUM(V19,V21,V23,V25,V27) -> 0 | X17: =SUM(X19,X21,X23,X25,X27) -> 0 | Z17: =SUM(Z19,Z21,Z23,Z25,Z27) -> 0 | AB17: =SUM(AD17,AF17,AH17,AJ17,AL17) -> 0 | AD17: =SUM(AD19,AD21,AD23,AD25,AD27) -> 0 | AF17: =SUM(AF19,AF21,AF23,AF25,AF27) -> 0 | AH17: =SUM(AH19,AH21,AH23,AH25,AH27) -> 0 | AJ17: =SUM(AJ19,AJ21,AJ23,AJ25,AJ27) -> 0 | AL17: =SUM(AL19,AL21,AL23,AL25,AL27) -> 0
B20: 18시~19시 | C20: =SUM(E20+K20+AA20) -> 999 | E20: =SUM(G20+I20) -> 999 | G20: 394 | I20: 605
D21: =SUM(F21+L21+AB21) -> #REF! | F21: =SUM(H21+J21) -> #REF! | H21: =SUM(G20+'3월'!H21) -> #REF! | J21: =SUM(I20+'3월'!J21) -> #REF!
B22: 19시~20시 | C22: =SUM(E22+K22+AA22) -> 1033 | E22: =SUM(G22+I22) -> 1033 | G22: 476 | I22: 557
D23: =SUM(F23+L23+AB23) -> #REF! | F23: =SUM(H23+J23) -> #REF! | H23: =SUM(G22+'3월'!H23) -> #REF! | J23: =SUM(I22+'3월'!J23) -> #REF!
B24: 20시~21시 | C24: =SUM(E24+K24+AA24) -> 930 | E24: =SUM(G24+I24) -> 930 | G24: 610 | I24: 320
D25: =SUM(F25+L25+AB25) -> #REF! | F25: =SUM(H25+J25) -> #REF! | H25: =SUM(G24+'3월'!H25) -> #REF! | J25: =SUM(I24+'3월'!J25) -> #REF!
B26: 21시~22시 | C26: =SUM(E26+K26+AA26) -> 0 | E26: =SUM(G26+I26) -> 0 | G26: 0 | I26: 0
D27: =SUM(F27+L27+AB27) -> #REF! | F27: =SUM(H27+J27) -> #REF! | H27: =SUM(G26+'3월'!H27) -> #REF! | J27: =SUM(I26+'3월'!J27) -> #REF!
A28: 수정구 | B28: 계 | C28: =SUM(C30:C39) -> 589 | K28: =SUM(M28,O28,Q28,S28,U28,W28,Y28) -> 569 | M28: =SUM(M30,M32,M34,M36,M38) -> 216 | O28: =SUM(O30,O32,O34,O36,O38) -> 211 | Q28: =SUM(Q30,Q32,Q34,Q36,Q38) -> 57 | S28: =SUM(S30,S32,S34,S36,S38) -> 4 | U28: =SUM(U30,U32,U34,U36,U38) -> 81 | W28: =SUM(W30,W32,W34,W36,W38) -> 0 | Y28: =SUM(Y30,Y32,Y34,Y36,Y38) -> 0 | AA28: =SUM(AC28:AL28) -> 20 | AC28: =SUM(AC30,AC32,AC34,AC36,AC38) -> 1 | AE28: =SUM(AE30,AE32,AE34,AE36,AE38) -> 14 | AG28: =SUM(AG30,AG32,AG34,AG36,AG38) -> 5 | AI28: =SUM(AI30,AI32,AI34,AI36,AI38) -> 0 | AK28: =SUM(AK30,AK32,AK34,AK36,AK38) -> 0
D29: =SUM(L29,AB29) -> #REF! | L29: =SUM(N29,P29,R29,T29,V29,X29,Z29) -> #REF! | N29: =SUM(N31,N33,N35,N37,N39) -> #REF! | P29: =SUM(P31,P33,P35,P37,P39) -> #REF! | R29: =SUM(R31,R33,R35,R37,R39) -> #REF! | T29: =SUM(T31,T33,T35,T37,T39) -> #REF! | V29: =SUM(V31,V33,V35,V37,V39) -> #REF! | X29: =SUM(X31,X33,X35,X37,X39) -> #REF! | Z29: =SUM(Z31,Z33,Z35,Z37,Z39) -> #REF! | AB29: =SUM(AD29,AF29,AH29,AJ29,AL29) -> #REF! | AD29: =SUM(AD31,AD33,AD35,AD37,AD39) -> #REF! | AF29: =SUM(AF31,AF33,AF35,AF37,AF39) -> #REF! | AH29: =SUM(AH31,AH33,AH35,AH37,AH39) -> #REF! | AJ29: =SUM(AJ31,AJ33,AJ35,AJ37,AJ39) -> #REF! | AL29: =SUM(AL31,AL33,AL35,AL37,AL39) -> #REF!
B30: 10시~17시 | C30: =K30+AA30 -> 450 | K30: =M30+O30+Q30+S30+U30+W30+Y30 -> 438 | M30: 166 | O30: 160 | Q30: 50 | S30: 4 | U30: 58 | W30: 0 | Y30: 0 | AA30: =SUM(AC30:AK30) -> 12 | AC30: 1 | AE30: 8 | AG30: 3 | AI30: 0 | AK30: 0
D31: =L31+AB31 -> #REF! | L31: =N31+P31+R31+T31+V31+X31+Z31 -> #REF! | N31: =SUM(M30+'3월'!N31) -> #REF! | P31: =SUM(O30+'3월'!P31) -> #REF! | R31: =SUM(Q30+'3월'!R31) -> #REF! | T31: =SUM(S30+'3월'!T31) -> #REF! | V31: =SUM(U30+'3월'!V31) -> #REF! | X31: =SUM(W30+'3월'!X31) -> #REF! | Z31: =SUM(Y30+'3월'!Z31) -> #REF! | AB31: =SUM(AD31:AL31) -> #REF! | AD31: =SUM(AC30+'3월'!AD31) -> #REF! | AF31: =SUM(AE30+'3월'!AF31) -> #REF! | AH31: =SUM(AG30+'3월'!AH31) -> #REF! | AJ31: =SUM(AI30+'3월'!AJ31) -> #REF! | AL31: =SUM(AK30+'3월'!AL31) -> #REF!
B32: 18시~19시 | C32: =K32+AA32 -> 85 | K32: =M32+O32+Q32+S32+U32+W32+Y32 -> 81 | M32: 29 | O32: 32 | Q32: 3 | S32: 0 | U32: 17 | W32: 0 | Y32: 0 | AA32: =SUM(AC32:AK32) -> 4 | AC32: 0 | AE32: 2 | AG32: 2 | AI32: 0 | AK32: 0
D33: =L33+AB33 -> #REF! | L33: =N33+P33+R33+T33+V33+X33+Z33 -> #REF! | N33: =SUM(M32+'3월'!N33) -> #REF! | P33: =SUM(O32+'3월'!P33) -> #REF! | R33: =SUM(Q32+'3월'!R33) -> #REF! | T33: =SUM(S32+'3월'!T33) -> #REF! | V33: =SUM(U32+'3월'!V33) -> #REF! | X33: =SUM(W32+'3월'!X33) -> #REF! | Z33: =SUM(Y32+'3월'!Z33) -> #REF! | AB33: =SUM(AD33:AL33) -> #REF! | AD33: =SUM(AC32+'3월'!AD33) -> #REF! | AF33: =SUM(AE32+'3월'!AF33) -> #REF! | AH33: =SUM(AG32+'3월'!AH33) -> #REF! | AJ33: =SUM(AI32+'3월'!AJ33) -> #REF! | AL33: =SUM(AK32+'3월'!AL33) -> #REF!
B34: 19시~20시 | C34: =K34+AA34 -> 39 | K34: =M34+O34+Q34+S34+U34+W34+Y34 -> 37 | M34: 18 | O34: 11 | Q34: 4 | S34: 0 | U34: 4 | W34: 0 | Y34: 0 | AA34: =SUM(AC34:AK34) -> 2 | AC34: 0 | AE34: 2 | AG34: 0 | AI34: 0 | AK34: 0
D35: =L35+AB35 -> #REF! | L35: =N35+P35+R35+T35+V35+X35+Z35 -> #REF! | N35: =SUM(M34+'3월'!N35) -> #REF! | P35: =SUM(O34+'3월'!P35) -> #REF! | R35: =SUM(Q34+'3월'!R35) -> #REF! | T35: =SUM(S34+'3월'!T35) -> #REF! | V35: =SUM(U34+'3월'!V35) -> #REF! | X35: =SUM(W34+'3월'!X35) -> #REF! | Z35: =SUM(Y34+'3월'!Z35) -> #REF! | AB35: =SUM(AD35:AL35) -> #REF! | AD35: =SUM(AC34+'3월'!AD35) -> #REF! | AF35: =SUM(AE34+'3월'!AF35) -> #REF! | AH35: =SUM(AG34+'3월'!AH35) -> #REF! | AJ35: =SUM(AI34+'3월'!AJ35) -> #REF! | AL35: =SUM(AK34+'3월'!AL35) -> #REF!
B36: 20시~21시 | C36: =K36+AA36 -> 15 | K36: =M36+O36+Q36+S36+U36+W36+Y36 -> 13 | M36: 3 | O36: 8 | Q36: 0 | S36: 0 | U36: 2 | W36: 0 | Y36: 0 | AA36: =SUM(AC36:AK36) -> 2 | AC36: 0 | AE36: 2 | AG36: 0 | AI36: 0 | AK36: 0
D37: =L37+AB37 -> #REF! | L37: =N37+P37+R37+T37+V37+X37+Z37 -> #REF! | N37: =SUM(M36+'3월'!N37) -> #REF! | P37: =SUM(O36+'3월'!P37) -> #REF! | R37: =SUM(Q36+'3월'!R37) -> #REF! | T37: =SUM(S36+'3월'!T37) -> #REF! | V37: =SUM(U36+'3월'!V37) -> #REF! | X37: =SUM(W36+'3월'!X37) -> #REF! | Z37: =SUM(Y36+'3월'!Z37) -> #REF! | AB37: =SUM(AD37:AL37) -> #REF! | AD37: =SUM(AC36+'3월'!AD37) -> #REF! | AF37: =SUM(AE36+'3월'!AF37) -> #REF! | AH37: =SUM(AG36+'3월'!AH37) -> #REF! | AJ37: =SUM(AI36+'3월'!AJ37) -> #REF! | AL37: =SUM(AK36+'3월'!AL37) -> #REF!
B38: 21시~22시 | C38: =K38+AA38 -> 0 | K38: =M38+O38+Q38+S38+U38+W38+Y38 -> 0 | M38: 0 | O38: 0 | Q38: 0 | S38: 0 | U38: 0 | W38: 0 | Y38: 0 | AA38: =SUM(AC38:AK38) -> 0 | AC38: 0 | AE38: 0 | AG38: 0 | AI38: 0 | AK38: 0
D39: =L39+AB39 -> #REF! | L39: =N39+P39+R39+T39+V39+X39+Z39 -> #REF! | N39: =SUM(M38+'3월'!N39) -> #REF! | P39: =SUM(O38+'3월'!P39) -> #REF! | R39: =SUM(Q38+'3월'!R39) -> #REF! | T39: =SUM(S38+'3월'!T39) -> #REF! | V39: =SUM(U38+'3월'!V39) -> #REF! | X39: =SUM(W38+'3월'!X39) -> #REF! | Z39: =SUM(Y38+'3월'!Z39) -> #REF! | AB39: =SUM(AD39:AL39) -> #REF! | AD39: =SUM(AC38+'3월'!AD39) -> #REF! | AF39: =SUM(AE38+'3월'!AF39) -> #REF! | AH39: =SUM(AG38+'3월'!AH39) -> #REF! | AJ39: =SUM(AI38+'3월'!AJ39) -> #REF! | AL39: =SUM(AK38+'3월'!AL39) -> #REF!
A40: 중원구 | B40: 계 | C40: =SUM(E40+K40+AA40) -> 588 | K40: =SUM(M40,O40,Q40,S40,U40,W40,Y40) -> 561 | M40: =SUM(M42,M44,M46,M48,M50) -> 231 | O40: =SUM(O42,O44,O46,O48,O50) -> 225 | Q40: =SUM(Q42,Q44,Q46,Q48,Q50) -> 9 | S40: =SUM(S42,S44,S46,S48,S50) -> 9 | U40: =SUM(U42,U44,U46,U48,U50) -> 83 | W40: =SUM(W42,W44,W46,W48,W50) -> 0 | Y40: =SUM(Y42,Y44,Y46,Y48,Y50) -> 4 | AA40: =SUM(AC40:AL40) -> 27 | AC40: =SUM(AC42,AC44,AC46,AC48,AC50) -> 1 | AE40: =SUM(AE42,AE44,AE46,AE48,AE50) -> 16 | AG40: =SUM(AG42,AG44,AG46,AG48,AG50) -> 10 | AI40: =SUM(AI42,AI44,AI46,AI48,AI50) -> 0 | AK40: =SUM(AK42,AK44,AK46,AK48,AK50) -> 0
D41: =SUM(L41,AB41) -> #REF! | L41: =SUM(N41,P41,R41,T41,V41,X41,Z41) -> #REF! | N41: =SUM(N43,N45,N47,N49,N51) -> #REF! | P41: =SUM(P43,P45,P47,P49,P51) -> #REF! | R41: =SUM(R43,R45,R47,R49,R51) -> #REF! | T41: =SUM(T43,T45,T47,T49,T51) -> #REF! | V41: =SUM(V43,V45,V47,V49,V51) -> #REF! | X41: =SUM(X43,X45,X47,X49,X51) -> #REF! | Z41: =SUM(Z43,Z45,Z47,Z49,Z51) -> #REF! | AB41: =SUM(AD41,AF41,AH41,AJ41,AL41) -> #REF! | AD41: =SUM(AD43,AD45,AD47,AD49,AD51) -> #REF! | AF41: =SUM(AF43,AF45,AF47,AF49,AF51) -> #REF! | AH41: =SUM(AH43,AH45,AH47,AH49,AH51) -> #REF! | AJ41: =SUM(AJ43,AJ45,AJ47,AJ49,AJ51) -> #REF! | AL41: =SUM(AL43,AL45,AL47,AL49,AL51) -> #REF!
B42: 10시~17시 | C42: =K42+AA42 -> 382 | K42: =M42+O42+Q42+S42+U42+W42+Y42 -> 361 | M42: 168 | O42: 136 | Q42: 3 | S42: 5 | U42: 45 | W42: 0 | Y42: 4 | AA42: =SUM(AC42:AK42) -> 21 | AC42: 1 | AE42: 12 | AG42: 8 | AI42: 0 | AK42: 0
D43: =SUM(F43+L43+AB43) -> #REF! | L43: =N43+P43+R43+T43+V43+X43+Z43 -> #REF! | N43: =SUM(M42+'3월'!N43) -> #REF! | P43: =SUM(O42+'3월'!P43) -> #REF! | R43: =SUM(Q42+'3월'!R43) -> #REF! | T43: =SUM(S42+'3월'!T43) -> #REF! | V43: =SUM(U42+'3월'!V43) -> #REF! | X43: =SUM(W42+'3월'!X43) -> #REF! | Z43: =SUM(Y42+'3월'!Z43) -> #REF! | AB43: =SUM(AD43:AL43) -> #REF! | AD43: =SUM(AC42+'3월'!AD43) -> #REF! | AF43: =SUM(AE42+'3월'!AF43) -> #REF! | AH43: =SUM(AG42+'3월'!AH43) -> #REF! | AJ43: =SUM(AI42+'3월'!AJ43) -> #REF! | AL43: =SUM(AK42+'3월'!AL43) -> #REF!
B44: 18시~19시 | C44: =K44+AA44 -> 106 | K44: =M44+O44+Q44+S44+U44+W44+Y44 -> 102 | M44: 30 | O44: 42 | Q44: 4 | S44: 0 | U44: 26 | W44: 0 | Y44: 0 | AA44: =SUM(AC44:AK44) -> 4 | AC44: 0 | AE44: 2 | AG44: 2 | AI44: 0 | AK44: 0
D45: =SUM(F45+L45+AB45) -> #REF! | L45: =N45+P45+R45+T45+V45+X45+Z45 -> #REF! | N45: =SUM(M44+'3월'!N45) -> #REF! | P45: =SUM(O44+'3월'!P45) -> #REF! | R45: =SUM(Q44+'3월'!R45) -> #REF! | T45: =SUM(S44+'3월'!T45) -> #REF! | V45: =SUM(U44+'3월'!V45) -> #REF! | X45: =SUM(W44+'3월'!X45) -> #REF! | Z45: =SUM(Y44+'3월'!Z45) -> #REF! | AB45: =SUM(AD45:AL45) -> #REF! | AD45: =SUM(AC44+'3월'!AD45) -> #REF! | AF45: =SUM(AE44+'3월'!AF45) -> #REF! | AH45: =SUM(AG44+'3월'!AH45) -> #REF! | AJ45: =SUM(AI44+'3월'!AJ45) -> #REF! | AL45: =SUM(AK44+'3월'!AL45) -> #REF!
B46: 19시~20시 | C46: =K46+AA46 -> 71 | K46: =M46+O46+Q46+S46+U46+W46+Y46 -> 71 | M46: 26 | O46: 34 | Q46: 0 | S46: 2 | U46: 9 | W46: 0 | Y46: 0 | AA46: =SUM(AC46:AK46) -> 0 | AC46: 0 | AE46: 0 | AG46: 0 | AI46: 0 | AK46: 0
D47: =SUM(F47+L47+AB47) -> #REF! | L47: =N47+P47+R47+T47+V47+X47+Z47 -> #REF! | N47: =SUM(M46+'3월'!N47) -> #REF! | P47: =SUM(O46+'3월'!P47) -> #REF! | R47: =SUM(Q46+'3월'!R47) -> #REF! | T47: =SUM(S46+'3월'!T47) -> #REF! | V47: =SUM(U46+'3월'!V47) -> #REF! | X47: =SUM(W46+'3월'!X47) -> #REF! | Z47: =SUM(Y46+'3월'!Z47) -> #REF! | AB47: =SUM(AD47:AL47) -> #REF! | AD47: =SUM(AC46+'3월'!AD47) -> #REF! | AF47: =SUM(AE46+'3월'!AF47) -> #REF! | AH47: =SUM(AG46+'3월'!AH47) -> #REF! | AJ47: =SUM(AI46+'3월'!AJ47) -> #REF! | AL47: =SUM(AK46+'3월'!AL47) -> #REF!
B48: 20시~21시 | C48: =K48+AA48 -> 29 | K48: =M48+O48+Q48+S48+U48+W48+Y48 -> 27 | M48: 7 | O48: 13 | Q48: 2 | S48: 2 | U48: 3 | W48: 0 | Y48: 0 | AA48: =SUM(AC48:AK48) -> 2 | AC48: 0 | AE48: 2 | AG48: 0 | AI48: 0 | AK48: 0
D49: =SUM(F49+L49+AB49) -> #REF! | L49: =N49+P49+R49+T49+V49+X49+Z49 -> #REF! | N49: =SUM(M48+'3월'!N49) -> #REF! | P49: =SUM(O48+'3월'!P49) -> #REF! | R49: =SUM(Q48+'3월'!R49) -> #REF! | T49: =SUM(S48+'3월'!T49) -> #REF! | V49: =SUM(U48+'3월'!V49) -> #REF! | X49: =SUM(W48+'3월'!X49) -> #REF! | Z49: =SUM(Y48+'3월'!Z49) -> #REF! | AB49: =SUM(AD49:AL49) -> #REF! | AD49: =SUM(AC48+'3월'!AD49) -> #REF! | AF49: =SUM(AE48+'3월'!AF49) -> #REF! | AH49: =SUM(AG48+'3월'!AH49) -> #REF! | AJ49: =SUM(AI48+'3월'!AJ49) -> #REF! | AL49: =SUM(AK48+'3월'!AL49) -> #REF!
B50: 21시~22시 | C50: =K50+AA50 -> 0 | K50: =M50+O50+Q50+S50+U50+W50+Y50 -> 0 | M50: 0 | O50: 0 | Q50: 0 | S50: 0 | U50: 0 | W50: 0 | Y50: 0 | AA50: =SUM(AC50:AK50) -> 0 | AC50: 0 | AE50: 0 | AG50: 0 | AI50: 0 | AK50: 0
D51: =SUM(F51+L51+AB51) -> #REF! | L51: =N51+P51+R51+T51+V51+X51+Z51 -> #REF! | N51: =SUM(M50+'3월'!N51) -> #REF! | P51: =SUM(O50+'3월'!P51) -> #REF! | R51: =SUM(Q50+'3월'!R51) -> #REF! | T51: =SUM(S50+'3월'!T51) -> #REF! | V51: =SUM(U50+'3월'!V51) -> #REF! | X51: =SUM(W50+'3월'!X51) -> #REF! | Z51: =SUM(Y50+'3월'!Z51) -> #REF! | AB51: =SUM(AD51:AL51) -> #REF! | AD51: =SUM(AC50+'3월'!AD51) -> #REF! | AF51: =SUM(AE50+'3월'!AF51) -> #REF! | AH51: =SUM(AG50+'3월'!AH51) -> #REF! | AJ51: =SUM(AI50+'3월'!AJ51) -> #REF! | AL51: =SUM(AK50+'3월'!AL51) -> #REF!
A52: 분당구 | B52: 계 | C52: =SUM(C54:C63) -> 737 | K52: =SUM(M52,O52,Q52,S52,U52,W52,Y52) -> 608 | M52: =SUM(M54,M56,M58,M60,M62) -> 140 | O52: =SUM(O54,O56,O58,O60,O62) -> 291 | Q52: =SUM(Q54,Q56,Q58,Q60,Q62) -> 16 | S52: =SUM(S54,S56,S58,S60,S62) -> 23 | U52: =SUM(U54,U56,U58,U60,U62) -> 136 | W52: =SUM(W54,W56,W58,W60,W62) -> 0 | Y52: =SUM(Y54,Y56,Y58,Y60,Y62) -> 2 | AA52: =SUM(AC52:AL52) -> 129 | AC52: =SUM(AC54,AC56,AC58,AC60,AC62) -> 2 | AE52: =SUM(AE54,AE56,AE58,AE60,AE62) -> 98 | AG52: =SUM(AG54,AG56,AG58,AG60,AG62) -> 28 | AI52: =SUM(AI54,AI56,AI58,AI60,AI62) -> 1 | AK52: =SUM(AK54,AK56,AK58,AK60,AK62) -> 0
D53: =SUM(L53,AB53) -> #REF! | L53: =SUM(N53,P53,R53,T53,V53,X53,Z53) -> #REF! | N53: =SUM(N55,N57,N59,N61,N63) -> #REF! | P53: =SUM(P55,P57,P59,P61,P63) -> #REF! | R53: =SUM(R55,R57,R59,R61,R63) -> #REF! | T53: =SUM(T55,T57,T59,T61,T63) -> #REF! | V53: =SUM(V55,V57,V59,V61,V63) -> #REF! | X53: =SUM(X55,X57,X59,X61,X63) -> #REF! | Z53: =SUM(Z55,Z57,Z59,Z61,Z63) -> #REF! | AB53: =SUM(AD53,AF53,AH53,AJ53,AL53) -> #REF! | AD53: =SUM(AD55,AD57,AD59,AD61,AD63) -> #REF! | AF53: =SUM(AF55,AF57,AF59,AF61,AF63) -> #REF! | AH53: =SUM(AH55,AH57,AH59,AH61,AH63) -> #REF! | AJ53: =SUM(AJ55,AJ57,AJ59,AJ61,AJ63) -> #REF! | AL53: =SUM(AL55,AL57,AL59,AL61,AL63) -> #REF!
B54: 10시~17시 | C54: =K54+AA54 -> 440 | K54: =M54+O54+Q54+S54+U54+W54+Y54 -> 342 | M54: 75 | O54: 186 | Q54: 11 | S54: 19 | U54: 50 | W54: 0 | Y54: 1 | AA54: =AC54+AE54+AG54+AI54+AK54 -> 98 | AC54: 1 | AE54: 75 | AG54: 22 | AI54: 0 | AK54: 0
D55: =L55+AB55 -> #REF! | L55: =N55+P55+R55+T55+V55+X55+Z55 -> #REF! | N55: =SUM(M54+'3월'!N55) -> #REF! | P55: =SUM(O54+'3월'!P55) -> #REF! | R55: =SUM(Q54+'3월'!R55) -> #REF! | T55: =SUM(S54+'3월'!T55) -> #REF! | V55: =SUM(U54+'3월'!V55) -> #REF! | X55: =SUM(W54+'3월'!X55) -> #REF! | Z55: =SUM(Y54+'3월'!Z55) -> #REF! | AB55: =SUM(AD55:AL55) -> #REF! | AD55: =SUM(AC54+'3월'!AD55) -> #REF! | AF55: =SUM(AE54+'3월'!AF55) -> #REF! | AH55: =SUM(AG54+'3월'!AH55) -> #REF! | AJ55: =SUM(AI54+'3월'!AJ55) -> #REF! | AL55: =SUM(AK54+'3월'!AL55) -> #REF!
B56: 18시~19시 | C56: =K56+AA56 -> 89 | K56: =M56+O56+Q56+S56+U56+W56+Y56 -> 83 | M56: 18 | O56: 42 | Q56: 2 | S56: 1 | U56: 19 | W56: 0 | Y56: 1 | AA56: =SUM(AC56,AE56,AG56,AI56,AK56) -> 6 | AC56: 0 | AE56: 6 | AG56: 0 | AI56: 0 | AK56: 0
D57: =L57+AB57 -> #REF! | L57: =N57+P57+R57+T57+V57+X57+Z57 -> #REF! | N57: =SUM(M56+'3월'!N57) -> #REF! | P57: =SUM(O56+'3월'!P57) -> #REF! | R57: =SUM(Q56+'3월'!R57) -> #REF! | T57: =SUM(S56+'3월'!T57) -> #REF! | V57: =SUM(U56+'3월'!V57) -> #REF! | X57: =SUM(W56+'3월'!X57) -> #REF! | Z57: =SUM(Y56+'3월'!Z57) -> #REF! | AB57: =SUM(AD57:AL57) -> #REF! | AD57: =SUM(AC56+'3월'!AD57) -> #REF! | AF57: =SUM(AE56+'3월'!AF57) -> #REF! | AH57: =SUM(AG56+'3월'!AH57) -> #REF! | AJ57: =SUM(AI56+'3월'!AJ57) -> #REF! | AL57: =SUM(AK56+'3월'!AL57) -> #REF!
B58: 19시~20시 | C58: =K58+AA58 -> 153 | K58: =M58+O58+Q58+S58+U58+W58+Y58 -> 136 | M58: 32 | O58: 48 | Q58: 2 | S58: 3 | U58: 51 | W58: 0 | Y58: 0 | AA58: =SUM(AC58,AE58,AG58,AI58,AK58) -> 17 | AC58: 1 | AE58: 11 | AG58: 4 | AI58: 1 | AK58: 0
D59: =L59+AB59 -> #REF! | L59: =N59+P59+R59+T59+V59+X59+Z59 -> #REF! | N59: =SUM(M58+'3월'!N59) -> #REF! | P59: =SUM(O58+'3월'!P59) -> #REF! | R59: =SUM(Q58+'3월'!R59) -> #REF! | T59: =SUM(S58+'3월'!T59) -> #REF! | V59: =SUM(U58+'3월'!V59) -> #REF! | X59: =SUM(W58+'3월'!X59) -> #REF! | Z59: =SUM(Y58+'3월'!Z59) -> #REF! | AB59: =SUM(AD59:AL59) -> #REF! | AD59: =SUM(AC58+'3월'!AD59) -> #REF! | AF59: =SUM(AE58+'3월'!AF59) -> #REF! | AH59: =SUM(AG58+'3월'!AH59) -> #REF! | AJ59: =SUM(AI58+'3월'!AJ59) -> #REF! | AL59: =SUM(AK58+'3월'!AL59) -> #REF!
B60: 20시~21시 | C60: =K60+AA60 -> 55 | K60: =M60+O60+Q60+S60+U60+W60+Y60 -> 47 | M60: 15 | O60: 15 | Q60: 1 | S60: 0 | U60: 16 | W60: 0 | Y60: 0 | AA60: =SUM(AC60,AE60,AG60,AI60,AK60) -> 8 | AC60: 0 | AE60: 6 | AG60: 2 | AI60: 0 | AK60: 0
D61: =L61+AB61 -> #REF! | L61: =N61+P61+R61+T61+V61+X61+Z61 -> #REF! | N61: =SUM(M60+'3월'!N61) -> #REF! | P61: =SUM(O60+'3월'!P61) -> #REF! | R61: =SUM(Q60+'3월'!R61) -> #REF! | T61: =SUM(S60+'3월'!T61) -> #REF! | V61: =SUM(U60+'3월'!V61) -> #REF! | X61: =SUM(W60+'3월'!X61) -> #REF! | Z61: =SUM(Y60+'3월'!Z61) -> #REF! | AB61: =SUM(AD61:AL61) -> #REF! | AD61: =SUM(AC60+'3월'!AD61) -> #REF! | AF61: =SUM(AE60+'3월'!AF61) -> #REF! | AH61: =SUM(AG60+'3월'!AH61) -> #REF! | AJ61: =SUM(AI60+'3월'!AJ61) -> #REF! | AL61: =SUM(AK60+'3월'!AL61) -> #REF!
B62: 21시~22시 | C62: =K62+AA62 -> 0 | K62: =M62+O62+Q62+S62+U62+W62+Y62 -> 0 | M62: 0 | O62: 0 | Q62: 0 | S62: 0 | U62: 0 | W62: 0 | Y62: 0 | AA62: =SUM(AC62,AE62,AG62,AI62,AK62) -> 0 | AC62: 0 | AE62: 0 | AG62: 0 | AI62: 0 | AK62: 0
D63: =L63+AB63 -> #REF! | L63: =N63+P63+R63+T63+V63+X63+Z63 -> #REF! | N63: =SUM(M62+'3월'!N63) -> #REF! | P63: =SUM(O62+'3월'!P63) -> #REF! | R63: =SUM(Q62+'3월'!R63) -> #REF! | T63: =SUM(S62+'3월'!T63) -> #REF! | V63: =SUM(U62+'3월'!V63) -> #REF! | X63: =SUM(W62+'3월'!X63) -> #REF! | Z63: =SUM(Y62+'3월'!Z63) -> #REF! | AB63: =SUM(AD63:AL63) -> #REF! | AD63: =SUM(AC62+'3월'!AD63) -> #REF! | AF63: =SUM(AE62+'3월'!AF63) -> #REF! | AH63: =SUM(AG62+'3월'!AH63) -> #REF! | AJ63: =SUM(AI62+'3월'!AJ63) -> #REF! | AL63: =SUM(AK62+'3월'!AL63) -> #REF!

Sheet 5월
A1: 2016년 『시민이 행복한 민원센터』민원처리현황(5월)
A2: 구분 | B2: 시간 | C2: 월계/누계 | E2: 여 권 민 원 | K2: 제 증 명 발 급 | AA2: 신 고 민 원
E3: 소계 | G3: 접수 | I3: 교부 | K3: 소계 | M3: 주민등·초본 | O3: 인감증명 | Q3: 본인서명 | S3: 제적등·초본 | U3: 가족관계등록 | W3: 어디서나민원 | Y3: 기타 | AA3: 소계 | AC3: 출생·사망 | AE3: 혼인·이혼 | AG3: 전입신고 | AI3: 주민증 | AK3: 정정.재등록
A4: 합계 | B4: 월계 / 누계 | C4: =SUM(E4+K4+AA4) -> 5097 | E4: =SUM(G4+I4) -> 3293 | G4: =SUM(G6:G14) -> 1736 | I4: =SUM(I6:I14) -> 1557 | K4: =SUM(M4:Y4) -> 1625 | M4: =SUM(M6:M14) -> 562 | O4: =SUM(O6:O14) -> 636 | Q4: =SUM(Q6:Q14) -> 110 | S4: =SUM(S6:S14) -> 21 | U4: =SUM(U6:U14) -> 287 | W4: =SUM(W6:W14) -> 1 | Y4: =SUM(Y6:Y14) -> 8 | AA4: =SUM(AC4:AK4) -> 179 | AC4: =SUM(AC6:AC14) -> 15 | AE4: =SUM(AE6:AE14) -> 127 | AG4: =SUM(AG6:AG14) -> 34 | AI4: =SUM(AI6:AI14) -> 3 | AK4: =SUM(AK6:AK14) -> 0
D5: =SUM(F5+L5+AB5) -> #REF! | F5: =SUM(H5+J5) -> #REF! | H5: =SUM(H7:H15) -> #REF! | J5: =SUM(J7:J15) -> #REF! | L5: =SUM(N5:Z5) -> #REF! | N5: =SUM(N7:N15) -> #REF! | P5: =SUM(P7:P15) -> #REF! | R5: =SUM(R7:R15) -> #REF! | T5: =SUM(T7:T15) -> #REF! | V5: =SUM(V7:V15) -> #REF! | X5: =SUM(X7:X15) -> #REF! | Z5: =SUM(Z7:Z15) -> #REF! | AB5: =SUM(AD5:AL5) -> #REF! | AD5: =SUM(AD7:AD15) -> #REF! | AF5: =SUM(AF7:AF15) -> #REF! | AH5: =SUM(AH7:AH15) -> #REF! | AJ5: =SUM(AJ7:AJ15) -> #REF! | AL5: =SUM(AL7:AL15) -> #REF!
B6: 10시~17시 | C6: =SUM(E6+K6+AA6) -> 1227 | E6: =SUM(G6+I6) -> 0 | G6: =SUM(G18,G30,G42,G54) -> 0 | I6: =SUM(I18,I30,I42,I54) -> 0 | K6: =SUM(M6:Y6) -> 1091 | M6: =SUM(M30+M42+M54) -> 401 | O6: =SUM(O30+O42+O54) -> 419 | Q6: =SUM(Q30+Q42+Q54) -> 69 | S6: =SUM(S30+S42+S54) -> 16 | U6: =SUM(U30+U42+U54) -> 183 | W6: =SUM(W30+W42+W54) -> 0 | Y6: =SUM(Y30+Y42+Y54) -> 3 | AA6: =SUM(AC6:AK6) -> 136 | AC6: =SUM(AC30+AC42+AC54) -> 15 | AE6: =SUM(AE30+AE42+AE54) -> 97 | AG6: =SUM(AG30+AG42+AG54) -> 22 | AI6: =SUM(AI30+AI42+AI54) -> 2 | AK6: =SUM(AK30+AK42+AK54) -> 0
D7: =SUM(F7+L7+AB7) -> #REF! | F7: =SUM(H7+J7) -> 0 | H7: =SUM(H19,H31,H43,H55) -> 0 | J7: =SUM(J19,J31,J43,J55) -> 0 | L7: =SUM(N7:Z7) -> #REF! | N7: =SUM(N31+N43+N55) -> #REF! | P7: =SUM(P19,P31,P43,P55) -> #REF! | R7: =SUM(R19,R31,R43,R55) -> #REF! | T7: =SUM(T19,T31,T43,T55) -> #REF! | V7: =SUM(V19,V31,V43,V55) -> #REF! | X7: =SUM(X19,X31,X43,X55) -> #REF! | Z7: =SUM(Z19,Z31,Z43,Z55) -> #REF! | AB7: =SUM(AD7:AL7) -> #REF! | AD7: =SUM(AD19,AD31,AD43,AD55) -> #REF! | AF7: =SUM(AF19,AF31,AF43,AF55) -> #REF! | AH7: =SUM(AH19,AH31,AH43,AH55) -> #REF! | AJ7: =SUM(AJ19,AJ31,AJ43,AJ55) -> #REF! | AL7: =SUM(AL19,AL31,AL43,AL55) -> #REF!
B8: 18시~19시 | C8: =SUM(E8+K8+AA8) -> 1296 | E8: =SUM(G8+I8) -> 1073 | G8: =SUM(G20,G32,G44,G56) -> 478 | I8: =SUM(I20,I32,I44,I56) -> 595 | K8: =SUM(M8:Y8) -> 206 | M8: =SUM(M32+M44+M56) -> 72 | O8: =SUM(O32+O44+O56) -> 86 | Q8: =SUM(Q32+Q44+Q56) -> 9 | S8: =SUM(S32+S44+S56) -> 1 | U8: =SUM(U32+U44+U56) -> 36 | W8: =SUM(W20,W32,W44,W56) -> 0 | Y8: =SUM(Y20,Y32,Y44,Y56) -> 2 | AA8: =SUM(AC8:AK8) -> 17 | AC8: =SUM(AC32+AC44+AC56) -> 0 | AE8: =SUM(AE32+AE44+AE56) -> 9 | AG8: =SUM(AG20,AG32,AG44,AG56) -> 6 | AI8: =SUM(AI20,AI32,AI44,AI56) -> 2 | AK8: =SUM(AK20,AK32,AK44,AK56) -> 0
D9: =SUM(F9+L9+AB9) -> #REF! | F9: =SUM(H9+J9) -> #REF! | H9: =SUM(H21,H33,H45,H57) -> #REF! | J9: =SUM(J21,J33,J45,J57) -> #REF! | L9: =SUM(N9:Z9) -> #REF! | N9: =SUM(N33+N45+N57) -> #REF! | P9: =SUM(P21,P33,P45,P57) -> #REF! | R9: =SUM(R21,R33,R45,R57) -> #REF! | T9: =SUM(T21,T33,T45,T57) -> #REF! | V9: =SUM(V21,V33,V45,V57) -> #REF! | X9: =SUM(X21,X33,X45,X57) -> #REF! | Z9: =SUM(Z21,Z33,Z45,Z57) -> #REF! | AB9: =SUM(AD9:AL9) -> #REF! | AD9: =SUM(AD21,AD33,AD45,AD57) -> #REF! | AF9: =SUM(AF21,AF33,AF45,AF57) -> #REF! | AH9: =SUM(AH21,AH33,AH45,AH57) -> #REF! | AJ9: =SUM(AJ21,AJ33,AJ45,AJ57) -> #REF! | AL9: =SUM(AL21,AL33,AL45,AL57) -> #REF!
B10: 19시~20시 | C10: =SUM(E10+K10+AA10) -> 1390 | E10: =SUM(G10+I10) -> 1141 | G10: =SUM(G22,G34,G46,G58) -> 520 | I10: =SUM(I22,I34,I46,I58) -> 621 | K10: =SUM(M10:Y10) -> 232 | M10: =SUM(M34+M46+M58) -> 75 | O10: =SUM(O34+O46+O58) -> 73 | Q10: =SUM(Q34+Q46+Q58) -> 30 | S10: =SUM(S34+S46+S58) -> 4 | U10: =SUM(U34+U46+U58) -> 46 | W10: =SUM(W22,W34,W46,W58) -> 1 | Y10: =SUM(Y22,Y34,Y46,Y58) -> 3 | AA10: =SUM(AC10:AK10) -> 17 | AC10: =SUM(AC34+AC46+AC58) -> 0 | AE10: =SUM(AE34+AE46+AE58) -> 14 | AG10: =SUM(AG22,AG34,AG46,AG58) -> 3 | AI10: =SUM(AI22,AI34,AI46,AI58) -> 0 | AK10: =SUM(AK22,AK34,AK46,AK58) -> 0
D11: =SUM(F11+L11+AB11) -> #REF! | F11: =SUM(H11+J11) -> #REF! | H11: =SUM(H23,H35,H47,H59) -> #REF! | J11: =SUM(J23,J35,J47,J59) -> #REF! | L11: =SUM(N11:Z11) -> #REF! | N11: =SUM(N35+N47+N59) -> #REF! | P11: =SUM(P23,P35,P47,P59) -> #REF! | R11: =SUM(R23,R35,R47,R59) -> #REF! | T11: =SUM(T23,T35,T47,T59) -> #REF! | V11: =SUM(V23,V35,V47,V59) -> #REF! | X11: =SUM(X23,X35,X47,X59) -> #REF! | Z11: =SUM(Z23,Z35,Z47,Z59) -> #REF! | AB11: =SUM(AD11:AL11) -> #REF! | AD11: =SUM(AD23,AD35,AD47,AD59) -> #REF! | AF11: =SUM(AF23,AF35,AF47,AF59) -> #REF! | AH11: =SUM(AH23,AH35,AH47,AH59) -> #REF! | AJ11: =SUM(AJ23,AJ35,AJ47,AJ59) -> #REF! | AL11: =SUM(AL23,AL35,AL47,AL59) -> #REF!
B12: 20시~21시 | C12: =SUM(E12+K12+AA12) -> 1184 | E12: =SUM(G12+I12) -> 1079 | G12: =SUM(G24,G36,G48,G60) -> 738 | I12: =SUM(I24,I36,I48,I60) -> 341 | K12: =SUM(M12:Y12) -> 96 | M12: =SUM(M36+M48+M60) -> 14 | O12: =SUM(O36+O48+O60) -> 58 | Q12: =SUM(Q36+Q48+Q60) -> 2 | S12: =SUM(S36+S48+S60) -> 0 | U12: =SUM(U36+U48+U60) -> 22 | W12: =SUM(W24,W36,W48,W60) -> 0 | Y12: =SUM(Y24,Y36,Y48,Y60) -> 0 | AA12: =SUM(AC12:AK12) -> 9 | AC12: =SUM(AC36+AC48+AC60) -> 0 | AE12: =SUM(AE36+AE48+AE60) -> 7 | AG12: =SUM(AG24,AG36,AG48,AG60) -> 3 | AI12: =SUM(AI24,AI36,AI48,AI60) -> -1 | AK12: =SUM(AK24,AK36,AK48,AK60) -> 0
D13: =SUM(F13+L13+AB13) -> #REF! | F13: =SUM(H13+J13) -> #REF! | H13: =SUM(H25,H37,H49,H61) -> #REF! | J13: =SUM(J25,J37,J49,J61) -> #REF! | L13: =SUM(N13:Z13) -> #REF! | N13: =SUM(N37+N49+N61) -> #REF! | P13: =SUM(P25,P37,P49,P61) -> #REF! | R13: =SUM(R25,R37,R49,R61) -> #REF! | T13: =SUM(T25,T37,T49,T61) -> #REF! | V13: =SUM(V25,V37,V49,V61) -> #REF! | X13: =SUM(X25,X37,X49,X61) -> #REF! | Z13: =SUM(Z25,Z37,Z49,Z61) -> #REF! | AB13: =SUM(AD13:AL13) -> #REF! | AD13: =SUM(AD25,AD37,AD49,AD61) -> #REF! | AF13: =SUM(AF25,AF37,AF49,AF61) -> #REF! | AH13: =SUM(AH25,AH37,AH49,AH61) -> #REF! | AJ13: =SUM(AJ25,AJ37,AJ49,AJ61) -> #REF! | AL13: =SUM(AL25,AL37,AL49,AL61) -> #REF!
B14: 21시~22시 | C14: =SUM(E14+K14+AA14) -> 0 | E14: =SUM(G14+I14) -> 0 | G14: =SUM(G26,G38,G50,G62) -> 0 | I14: =SUM(I26,I38,I50,I62) -> 0 | K14: =SUM(M14:Y14) -> 0 | M14: =SUM(M38+M50+M62) -> 0 | O14: =SUM(O38+O50+O62) -> 0 | Q14: =SUM(Q38+Q50+Q62) -> 0 | S14: =SUM(S38+S50+S62) -> 0 | U14: =SUM(U38+U50+U62) -> 0 | W14: =SUM(W26,W38,W50,W62) -> 0 | Y14: =SUM(Y26,Y38,Y50,Y62) -> 0 | AA14: =SUM(AC14:AK14) -> 0 | AC14: =SUM(AC38+AC50+AC62) -> 0 | AE14: =SUM(AE38+AE50+AE62) -> 0 | AG14: =SUM(AG26,AG38,AG50,AG62) -> 0 | AI14: =SUM(AI26,AI38,AI50,AI62) -> 0 | AK14: =SUM(AK26,AK38,AK50,AK62) -> 0
D15: =SUM(F15+L15+AB15) -> #REF! | F15: =SUM(H15+J15) -> #REF! | H15: =SUM(H27,H39,H51,H63) -> #REF! | J15: =SUM(J27,J39,J51,J63) -> #REF! | L15: =SUM(N15:Z15) -> #REF! | N15: =SUM(N39+N51+N63) -> #REF! | P15: =SUM(P27,P39,P51,P63) -> #REF! | R15: =SUM(R27,R39,R51,R63) -> #REF! | T15: =SUM(T27,T39,T51,T63) -> #REF! | V15: =SUM(V27,V39,V51,V63) -> #REF! | X15: =SUM(X27,X39,X51,X63) -> #REF! | Z15: =SUM(Z27,Z39,Z51,Z63) -> #REF! | AB15: =SUM(AD15:AL15) -> #REF! | AD15: =SUM(AD27,AD39,AD51,AD63) -> #REF! | AF15: =SUM(AF27,AF39,AF51,AF63) -> #REF! | AH15: =SUM(AH27,AH39,AH51,AH63) -> #REF! | AJ15: =SUM(AJ27,AJ39,AJ51,AJ63) -> #REF! | AL15: =SUM(AL27,AL39,AL51,AL63) -> #REF!
A16: 여권민원실 | B16: 계 | C16: =SUM(C18:C27) -> 3293 | E16: =SUM(E18+E20+E22+E24+E26) -> 3293 | G16: =SUM(G18+G20+G22+G24+G26) -> 1736 | I16: =SUM(I18+I20+I22+I24+I26) -> 1557 | K16: =SUM(M16,O16,S16,U16,W16,Y16) -> 0 | M16: =SUM(M18,M20,M22,M24,M26) -> 0 | O16: =SUM(O18,O20,O22,O24,O26) -> 0 | Q16: =SUM(Q18,Q20,Q22,Q24,Q26) -> 0 | S16: =SUM(S18,S20,S22,S24,S26) -> 0 | U16: =SUM(U18,U20,U22,U24,U26) -> 0 | W16: =SUM(W18,W20,W22,W24,W26) -> 0 | Y16: =SUM(Y18,Y20,Y22,Y24,Y26) -> 0 | AA16: =SUM(AC16:AL16) -> 0 | AC16: =SUM(AC18,AC20,AC22,AC24,AC26) -> 0 | AE16: =SUM(AE18,AE20,AE22,AE24,AE26) -> 0 | AG16: =SUM(AG18,AG20,AG22,AG24,AG26) -> 0 | AI16: =SUM(AI18,AI20,AI22,AI24,AI26) -> 0 | AK16: =SUM(AK18,AK20,AK22,AK24,AK26) -> 0
D17: =SUM(D19:D27) -> #REF! | F17: =SUM(F19+F21+F23+F25+F27) -> #REF! | H17: =SUM(H19+H21+H23+H25+H27) -> #REF! | J17: =SUM(J19+J21+J23+J25+J27) -> #REF! | L17: =SUM(N17,P17,T17,V17,X17,Z17) -> 0 | N17: =SUM(N19,N21,N23,N25,N27) -> 0 | P17: =SUM(P19,P21,P23,P25,P27) -> 0 | R17: =SUM(R19,R21,R23,R25,R27) -> 0 | T17: =SUM(T19,T21,T23,T25,T27) -> 0 | V17: =SUM(V19,V21,V23,V25,V27) -> 0 | X17: =SUM(X19,X21,X23,X25,X27) -> 0 | Z17: =SUM(Z19,Z21,Z23,Z25,Z27) -> 0 | AB17: =SUM(AD17,AF17,AH17,AJ17,AL17) -> 0 | AD17: =SUM(AD19,AD21,AD23,AD25,AD27) -> 0 | AF17: =SUM(AF19,AF21,AF23,AF25,AF27) -> 0 | AH17: =SUM(AH19,AH21,AH23,AH25,AH27) -> 0 | AJ17: =SUM(AJ19,AJ21,AJ23,AJ25,AJ27) -> 0 | AL17: =SUM(AL19,AL21,AL23,AL25,AL27) -> 0
B20: 18시~19시 | C20: =SUM(E20+K20+AA20) -> 1073 | E20: =SUM(G20+I20) -> 1073 | G20: 478 | I20: 595
D21: =SUM(F21+L21+AB21) -> #REF! | F21: =SUM(H21+J21) -> #REF! | H21: =SUM(G20+'4월'!H21) -> #REF! | J21: =SUM(I20+'4월'!J21) -> #REF!
B22: 19시~20시 | C22: =SUM(E22+K22+AA22) -> 1141 | E22: =SUM(G22+I22) -> 1141 | G22: 520 | I22: 621
D23: =SUM(F23+L23+AB23) -> #REF! | F23: =SUM(H23+J23) -> #REF! | H23: =SUM(G22+'4월'!H23) -> #REF! | J23: =SUM(I22+'4월'!J23) -> #REF!
B24: 20시~21시 | C24: =SUM(E24+K24+AA24) -> 1079 | E24: =SUM(G24+I24) -> 1079 | G24: 738 | I24: 341
D25: =SUM(F25+L25+AB25) -> #REF! | F25: =SUM(H25+J25) -> #REF! | H25: =SUM(G24+'4월'!H25) -> #REF! | J25: =SUM(I24+'4월'!J25) -> #REF!
B26: 21시~22시 | C26: =SUM(E26+K26+AA26) -> 0 | E26: =SUM(G26+I26) -> 0 | G26: 0 | I26: 0
D27: =SUM(F27+L27+AB27) -> #REF! | F27: =SUM(H27+J27) -> #REF! | H27: =SUM(G26+'4월'!H27) -> #REF! | J27: =SUM(I26+'4월'!J27) -> #REF!
A28: 수정구 | B28: 계 | C28: =SUM(C30:C39) -> 615 | K28: =SUM(M28,O28,Q28,S28,U28,W28,Y28) -> 598 | M28: =SUM(M30,M32,M34,M36,M38) -> 208 | O28: =SUM(O30,O32,O34,O36,O38) -> 208 | Q28: =SUM(Q30,Q32,Q34,Q36,Q38) -> 73 | S28: =SUM(S30,S32,S34,S36,S38) -> 7 | U28: =SUM(U30,U32,U34,U36,U38) -> 102 | W28: =SUM(W30,W32,W34,W36,W38) -> 0 | Y28: =SUM(Y30,Y32,Y34,Y36,Y38) -> 0 | AA28: =SUM(AC28:AL28) -> 17 | AC28: =SUM(AC30,AC32,AC34,AC36,AC38) -> 0 | AE28: =SUM(AE30,AE32,AE34,AE36,AE38) -> 7 | AG28: =SUM(AG30,AG32,AG34,AG36,AG38) -> 9 | AI28: =SUM(AI30,AI32,AI34,AI36,AI38) -> 1 | AK28: =SUM(AK30,AK32,AK34,AK36,AK38) -> 0
D29: =SUM(L29,AB29) -> #REF! | L29: =SUM(N29,P29,R29,T29,V29,X29,Z29) -> #REF! | N29: =SUM(N31,N33,N35,N37,N39) -> #REF! | P29: =SUM(P31,P33,P35,P37,P39) -> #REF! | R29: =SUM(R31,R33,R35,R37,R39) -> #REF! | T29: =SUM(T31,T33,T35,T37,T39) -> #REF! | V29: =SUM(V31,V33,V35,V37,V39) -> #REF! | X29: =SUM(X31,X33,X35,X37,X39) -> #REF! | Z29: =SUM(Z31,Z33,Z35,Z37,Z39) -> #REF! | AB29: =SUM(AD29,AF29,AH29,AJ29,AL29) -> #REF! | AD29: =SUM(AD31,AD33,AD35,AD37,AD39) -> #REF! | AF29: =SUM(AF31,AF33,AF35,AF37,AF39) -> #REF! | AH29: =SUM(AH31,AH33,AH35,AH37,AH39) -> #REF! | AJ29: =SUM(AJ31,AJ33,AJ35,AJ37,AJ39) -> #REF! | AL29: =SUM(AL31,AL33,AL35,AL37,AL39) -> #REF!
B30: 10시~17시 | C30: =K30+AA30 -> 412 | K30: =M30+O30+Q30+S30+U30+W30+Y30 -> 407 | M30: 149 | O30: 143 | Q30: 45 | S30: 6 | U30: 64 | W30: 0 | Y30: 0 | AA30: =SUM(AC30:AK30) -> 5 | AC30: 0 | AE30: 3 | AG30: 2 | AI30: 0 | AK30: 0
D31: =L31+AB31 -> #REF! | L31: =N31+P31+R31+T31+V31+X31+Z31 -> #REF! | N31: =SUM(M30+'4월'!N31) -> #REF! | P31: =SUM(O30+'4월'!P31) -> #REF! | R31: =SUM(Q30+'4월'!R31) -> #REF! | T31: =SUM(S30+'4월'!T31) -> #REF! | V31: =SUM(U30+'4월'!V31) -> #REF! | X31: =SUM(W30+'4월'!X31) -> #REF! | Z31: =SUM(Y30+'4월'!Z31) -> #REF! | AB31: =SUM(AD31:AL31) -> #REF! | AD31: =SUM(AC30+'4월'!AD31) -> #REF! | AF31: =SUM(AE30+'4월'!AF31) -> #REF! | AH31: =SUM(AG30+'4월'!AH31) -> #REF! | AJ31: =SUM(AI30+'4월'!AJ31) -> #REF! | AL31: =SUM(AK30+'4월'!AL31) -> #REF!
B32: 18시~19시 | C32: =K32+AA32 -> 64 | K32: =M32+O32+Q32+S32+U32+W32+Y32 -> 58 | M32: 27 | O32: 20 | Q32: 1 | S32: 1 | U32: 9 | W32: 0 | Y32: 0 | AA32: =SUM(AC32:AK32) -> 6 | AC32: 0 | AE32: 2 | AG32: 3 | AI32: 1 | AK32: 0
D33: =L33+AB33 -> #REF! | L33: =N33+P33+R33+T33+V33+X33+Z33 -> #REF! | N33: =SUM(M32+'4월'!N33) -> #REF! | P33: =SUM(O32+'4월'!P33) -> #REF! | R33: =SUM(Q32+'4월'!R33) -> #REF! | T33: =SUM(S32+'4월'!T33) -> #REF! | V33: =SUM(U32+'4월'!V33) -> #REF! | X33: =SUM(W32+'4월'!X33) -> #REF! | Z33: =SUM(Y32+'4월'!Z33) -> #REF! | AB33: =SUM(AD33:AL33) -> #REF! | AD33: =SUM(AC32+'4월'!AD33) -> #REF! | AF33: =SUM(AE32+'4월'!AF33) -> #REF! | AH33: =SUM(AG32+'4월'!AH33) -> #REF! | AJ33: =SUM(AI32+'4월'!AJ33) -> #REF! | AL33: =SUM(AK32+'4월'!AL33) -> #REF!
B34: 19시~20시 | C34: =K34+AA34 -> 98 | K34: =M34+O34+Q34+S34+U34+W34+Y34 -> 95 | M34: 26 | O34: 30 | Q34: 26 | S34: 0 | U34: 13 | W34: 0 | Y34: 0 | AA34: =SUM(AC34:AK34) -> 3 | AC34: 0 | AE34: 1 | AG34: 2 | AI34: 0 | AK34: 0
D35: =L35+AB35 -> #REF! | L35: =N35+P35+R35+T35+V35+X35+Z35 -> #REF! | N35: =SUM(M34+'4월'!N35) -> #REF! | P35: =SUM(O34+'4월'!P35) -> #REF! | R35: =SUM(Q34+'4월'!R35) -> #REF! | T35: =SUM(S34+'4월'!T35) -> #REF! | V35: =SUM(U34+'4월'!V35) -> #REF! | X35: =SUM(W34+'4월'!X35) -> #REF! | Z35: =SUM(Y34+'4월'!Z35) -> #REF! | AB35: =SUM(AD35:AL35) -> #REF! | AD35: =SUM(AC34+'4월'!AD35) -> #REF! | AF35: =SUM(AE34+'4월'!AF35) -> #REF! | AH35: =SUM(AG34+'4월'!AH35) -> #REF! | AJ35: =SUM(AI34+'4월'!AJ35) -> #REF! | AL35: =SUM(AK34+'4월'!AL35) -> #REF!
B36: 20시~21시 | C36: =K36+AA36 -> 41 | K36: =M36+O36+Q36+S36+U36+W36+Y36 -> 38 | M36: 6 | O36: 15 | Q36: 1 | S36: 0 | U36: 16 | W36: 0 | Y36: 0 | AA36: =SUM(AC36:AK36) -> 3 | AC36: 0 | AE36: 1 | AG36: 2 | AI36: 0 | AK36: 0
D37: =L37+AB37 -> #REF! | L37: =N37+P37+R37+T37+V37+X37+Z37 -> #REF! | N37: =SUM(M36+'4월'!N37) -> #REF! | P37: =SUM(O36+'4월'!P37) -> #REF! | R37: =SUM(Q36+'4월'!R37) -> #REF! | T37: =SUM(S36+'4월'!T37) -> #REF! | V37: =SUM(U36+'4월'!V37) -> #REF! | X37: =SUM(W36+'4월'!X37) -> #REF! | Z37: =SUM(Y36+'4월'!Z37) -> #REF! | AB37: =SUM(AD37:AL37) -> #REF! | AD37: =SUM(AC36+'4월'!AD37) -> #REF! | AF37: =SUM(AE36+'4월'!AF37) -> #REF! | AH37: =SUM(AG36+'4월'!AH37) -> #REF! | AJ37: =SUM(AI36+'4월'!AJ37) -> #REF! | AL37: =SUM(AK36+'4월'!AL37) -> #REF!
B38: 21시~22시 | C38: =K38+AA38 -> 0 | K38: =M38+O38+Q38+S38+U38+W38+Y38 -> 0 | M38: 0 | O38: 0 | Q38: 0 | S38: 0 | U38: 0 | W38: 0 | Y38: 0 | AA38: =SUM(AC38:AK38) -> 0 | AC38: 0 | AE38: 0 | AG38: 0 | AI38: 0 | AK38: 0
D39: =L39+AB39 -> #REF! | L39: =N39+P39+R39+T39+V39+X39+Z39 -> #REF! | N39: =SUM(M38+'4월'!N39) -> #REF! | P39: =SUM(O38+'4월'!P39) -> #REF! | R39: =SUM(Q38+'4월'!R39) -> #REF! | T39: =SUM(S38+'4월'!T39) -> #REF! | V39: =SUM(U38+'4월'!V39) -> #REF! | X39: =SUM(W38+'4월'!X39) -> #REF! | Z39: =SUM(Y38+'4월'!Z39) -> #REF! | AB39: =SUM(AD39:AL39) -> #REF! | AD39: =SUM(AC38+'4월'!AD39) -> #REF! | AF39: =SUM(AE38+'4월'!AF39) -> #REF! | AH39: =SUM(AG38+'4월'!AH39) -> #REF! | AJ39: =SUM(AI38+'4월'!AJ39) -> #REF! | AL39: =SUM(AK38+'4월'!AL39) -> #REF!
A40: 중원구 | B40: 계 | C40: =SUM(E40+K40+AA40) -> 517 | K40: =SUM(M40,O40,Q40,S40,U40,W40,Y40) -> 486 | M40: =SUM(M42,M44,M46,M48,M50) -> 191 | O40: =SUM(O42,O44,O46,O48,O50) -> 160 | Q40: =SUM(Q42,Q44,Q46,Q48,Q50) -> 18 | S40: =SUM(S42,S44,S46,S48,S50) -> 12 | U40: =SUM(U42,U44,U46,U48,U50) -> 100 | W40: =SUM(W42,W44,W46,W48,W50) -> 1 | Y40: =SUM(Y42,Y44,Y46,Y48,Y50) -> 4 | AA40: =SUM(AC40:AL40) -> 31 | AC40: =SUM(AC42,AC44,AC46,AC48,AC50) -> 3 | AE40: =SUM(AE42,AE44,AE46,AE48,AE50) -> 22 | AG40: =SUM(AG42,AG44,AG46,AG48,AG50) -> 6 | AI40: =SUM(AI42,AI44,AI46,AI48,AI50) -> 0 | AK40: =SUM(AK42,AK44,AK46,AK48,AK50) -> 0
D41: =SUM(L41,AB41) -> #REF! | L41: =SUM(N41,P41,R41,T41,V41,X41,Z41) -> #REF! | N41: =SUM(N43,N45,N47,N49,N51) -> #REF! | P41: =SUM(P43,P45,P47,P49,P51) -> #REF! | R41: =SUM(R43,R45,R47,R49,R51) -> #REF! | T41: =SUM(T43,T45,T47,T49,T51) -> #REF! | V41: =SUM(V43,V45,V47,V49,V51) -> #REF! | X41: =SUM(X43,X45,X47,X49,X51) -> #REF! | Z41: =SUM(Z43,Z45,Z47,Z49,Z51) -> #REF! | AB41: =SUM(AD41,AF41,AH41,AJ41,AL41) -> #REF! | AD41: =SUM(AD43,AD45,AD47,AD49,AD51) -> #REF! | AF41: =SUM(AF43,AF45,AF47,AF49,AF51) -> #REF! | AH41: =SUM(AH43,AH45,AH47,AH49,AH51) -> #REF! | AJ41: =SUM(AJ43,AJ45,AJ47,AJ49,AJ51) -> #REF! | AL41: =SUM(AL43,AL45,AL47,AL49,AL51) -> #REF!
B42: 10시~17시 | C42: =K42+AA42 -> 348 | K42: =M42+O42+Q42+S42+U42+W42+Y42 -> 325 | M42: 140 | O42: 100 | Q42: 16 | S42: 8 | U42: 61 | W42: 0 | Y42: 0 | AA42: =SUM(AC42:AK42) -> 23 | AC42: 3 | AE42: 17 | AG42: 3 | AI42: 0 | AK42: 0
D43: =SUM(F43+L43+AB43) -> #REF! | L43: =N43+P43+R43+T43+V43+X43+Z43 -> #REF! | N43: =SUM(M42+'4월'!N43) -> #REF! | P43: =SUM(O42+'4월'!P43) -> #REF! | R43: =SUM(Q42+'4월'!R43) -> #REF! | T43: =SUM(S42+'4월'!T43) -> #REF! | V43: =SUM(U42+'4월'!V43) -> #REF! | X43: =SUM(W42+'4월'!X43) -> #REF! | Z43: =SUM(Y42+'4월'!Z43) -> #REF! | AB43: =SUM(AD43:AL43) -> #REF! | AD43: =SUM(AC42+'4월'!AD43) -> #REF! | AF43: =SUM(AE42+'4월'!AF43) -> #REF! | AH43: =SUM(AG42+'4월'!AH43) -> #REF! | AJ43: =SUM(AI42+'4월'!AJ43) -> #REF! | AL43: =SUM(AK42+'4월'!AL43) -> #REF!
B44: 18시~19시 | C44: =K44+AA44 -> 67 | K44: =M44+O44+Q44+S44+U44+W44+Y44 -> 64 | M44: 20 | O44: 27 | Q44: 1 | S44: 0 | U44: 14 | W44: 0 | Y44: 2 | AA44: =SUM(AC44:AK44) -> 3 | AC44: 0 | AE44: 1 | AG44: 2 | AI44: 0 | AK44: 0
D45: =SUM(F45+L45+AB45) -> #REF! | L45: =N45+P45+R45+T45+V45+X45+Z45 -> #REF! | N45: =SUM(M44+'4월'!N45) -> #REF! | P45: =SUM(O44+'4월'!P45) -> #REF! | R45: =SUM(Q44+'4월'!R45) -> #REF! | T45: =SUM(S44+'4월'!T45) -> #REF! | V45: =SUM(U44+'4월'!V45) -> #REF! | X45: =SUM(W44+'4월'!X45) -> #REF! | Z45: =SUM(Y44+'4월'!Z45) -> #REF! | AB45: =SUM(AD45:AL45) -> #REF! | AD45: =SUM(AC44+'4월'!AD45) -> #REF! | AF45: =SUM(AE44+'4월'!AF45) -> #REF! | AH45: =SUM(AG44+'4월'!AH45) -> #REF! | AJ45: =SUM(AI44+'4월'!AJ45) -> #REF! | AL45: =SUM(AK44+'4월'!AL45) -> #REF!
B46: 19시~20시 | C46: =K46+AA46 -> 69 | K46: =M46+O46+Q46+S46+U46+W46+Y46 -> 67 | M46: 26 | O46: 13 | Q46: 0 | S46: 4 | U46: 21 | W46: 1 | Y46: 2 | AA46: =SUM(AC46:AK46) -> 2 | AC46: 0 | AE46: 1 | AG46: 1 | AI46: 0 | AK46: 0
D47: =SUM(F47+L47+AB47) -> #REF! | L47: =N47+P47+R47+T47+V47+X47+Z47 -> #REF! | N47: =SUM(M46+'4월'!N47) -> #REF! | P47: =SUM(O46+'4월'!P47) -> #REF! | R47: =SUM(Q46+'4월'!R47) -> #REF! | T47: =SUM(S46+'4월'!T47) -> #REF! | V47: =SUM(U46+'4월'!V47) -> #REF! | X47: =SUM(W46+'4월'!X47) -> #REF! | Z47: =SUM(Y46+'4월'!Z47) -> #REF! | AB47: =SUM(AD47:AL47) -> #REF! | AD47: =SUM(AC46+'4월'!AD47) -> #REF! | AF47: =SUM(AE46+'4월'!AF47) -> #REF! | AH47: =SUM(AG46+'4월'!AH47) -> #REF! | AJ47: =SUM(AI46+'4월'!AJ47) -> #REF! | AL47: =SUM(AK46+'4월'!AL47) -> #REF!
B48: 20시~21시 | C48: =K48+AA48 -> 33 | K48: =M48+O48+Q48+S48+U48+W48+Y48 -> 30 | M48: 5 | O48: 20 | Q48: 1 | S48: 0 | U48: 4 | W48: 0 | Y48: 0 | AA48: =SUM(AC48:AK48) -> 3 | AC48: 0 | AE48: 3 | AG48: 0 | AI48: 0 | AK48: 0
D49: =SUM(F49+L49+AB49) -> #REF! | L49: =N49+P49+R49+T49+V49+X49+Z49 -> #REF! | N49: =SUM(M48+'4월'!N49) -> #REF! | P49: =SUM(O48+'4월'!P49) -> #REF! | R49: =SUM(Q48+'4월'!R49) -> #REF! | T49: =SUM(S48+'4월'!T49) -> #REF! | V49: =SUM(U48+'4월'!V49) -> #REF! | X49: =SUM(W48+'4월'!X49) -> #REF! | Z49: =SUM(Y48+'4월'!Z49) -> #REF! | AB49: =SUM(AD49:AL49) -> #REF! | AD49: =SUM(AC48+'4월'!AD49) -> #REF! | AF49: =SUM(AE48+'4월'!AF49) -> #REF! | AH49: =SUM(AG48+'4월'!AH49) -> #REF! | AJ49: =SUM(AI48+'4월'!AJ49) -> #REF! | AL49: =SUM(AK48+'4월'!AL49) -> #REF!
B50: 21시~22시 | C50: =K50+AA50 -> 0 | K50: =M50+O50+Q50+S50+U50+W50+Y50 -> 0 | M50: 0 | O50: 0 | Q50: 0 | S50: 0 | U50: 0 | W50: 0 | Y50: 0 | AA50: =SUM(AC50:AK50) -> 0 | AC50: 0 | AE50: 0 | AG50: 0 | AI50: 0 | AK50: 0
D51: =SUM(F51+L51+AB51) -> #REF! | L51: =N51+P51+R51+T51+V51+X51+Z51 -> #REF! | N51: =SUM(M50+'4월'!N51) -> #REF! | P51: =SUM(O50+'4월'!P51) -> #REF! | R51: =SUM(Q50+'4월'!R51) -> #REF! | T51: =SUM(S50+'4월'!T51) -> #REF! | V51: =SUM(U50+'4월'!V51) -> #REF! | X51: =SUM(W50+'4월'!X51) -> #REF! | Z51: =SUM(Y50+'4월'!Z51) -> #REF! | AB51: =SUM(AD51:AL51) -> #REF! | AD51: =SUM(AC50+'4월'!AD51) -> #REF! | AF51: =SUM(AE50+'4월'!AF51) -> #REF! | AH51: =SUM(AG50+'4월'!AH51) -> #REF! | AJ51: =SUM(AI50+'4월'!AJ51) -> #REF! | AL51: =SUM(AK50+'4월'!AL51) -> #REF!
A52: 분당구 | B52: 계 | C52: =SUM(C54:C63) -> 672 | K52: =SUM(M52,O52,Q52,S52,U52,W52,Y52) -> 541 | M52: =SUM(M54,M56,M58,M60,M62) -> 163 | O52: =SUM(O54,O56,O58,O60,O62) -> 268 | Q52: =SUM(Q54,Q56,Q58,Q60,Q62) -> 19 | S52: =SUM(S54,S56,S58,S60,S62) -> 2 | U52: =SUM(U54,U56,U58,U60,U62) -> 85 | W52: =SUM(W54,W56,W58,W60,W62) -> 0 | Y52: =SUM(Y54,Y56,Y58,Y60,Y62) -> 4 | AA52: =SUM(AC52:AL52) -> 131 | AC52: =SUM(AC54,AC56,AC58,AC60,AC62) -> 12 | AE52: =SUM(AE54,AE56,AE58,AE60,AE62) -> 98 | AG52: =SUM(AG54,AG56,AG58,AG60,AG62) -> 19 | AI52: =SUM(AI54,AI56,AI58,AI60,AI62) -> 2 | AK52: =SUM(AK54,AK56,AK58,AK60,AK62) -> 0
D53: =SUM(L53,AB53) -> #REF! | L53: =SUM(N53,P53,R53,T53,V53,X53,Z53) -> #REF! | N53: =SUM(N55,N57,N59,N61,N63) -> #REF! | P53: =SUM(P55,P57,P59,P61,P63) -> #REF! | R53: =SUM(R55,R57,R59,R61,R63) -> #REF! | T53: =SUM(T55,T57,T59,T61,T63) -> #REF! | V53: =SUM(V55,V57,V59,V61,V63) -> #REF! | X53: =SUM(X55,X57,X59,X61,X63) -> #REF! | Z53: =SUM(Z55,Z57,Z59,Z61,Z63) -> #REF! | AB53: =SUM(AD53,AF53,AH53,AJ53,AL53) -> #REF! | AD53: =SUM(AD55,AD57,AD59,AD61,AD63) -> #REF! | AF53: =SUM(AF55,AF57,AF59,AF61,AF63) -> #REF! | AH53: =SUM(AH55,AH57,AH59,AH61,AH63) -> #REF! | AJ53: =SUM(AJ55,AJ57,AJ59,AJ61,AJ63) -> #REF! | AL53: =SUM(AL55,AL57,AL59,AL61,AL63) -> #REF!
B54: 10시~17시 | C54: =K54+AA54 -> 467 | K54: =M54+O54+Q54+S54+U54+W54+Y54 -> 359 | M54: 112 | O54: 176 | Q54: 8 | S54: 2 | U54: 58 | W54: 0 | Y54: 3 | AA54: =AC54+AE54+AG54+AI54+AK54 -> 108 | AC54: 12 | AE54: 77 | AG54: 17 | AI54: 2 | AK54: 0
D55: =L55+AB55 -> #REF! | L55: =N55+P55+R55+T55+V55+X55+Z55 -> #REF! | N55: =SUM(M54+'4월'!N55) -> #REF! | P55: =SUM(O54+'4월'!P55) -> #REF! | R55: =SUM(Q54+'4월'!R55) -> #REF! | T55: =SUM(S54+'4월'!T55) -> #REF! | V55: =SUM(U54+'4월'!V55) -> #REF! | X55: =SUM(W54+'4월'!X55) -> #REF! | Z55: =SUM(Y54+'4월'!Z55) -> #REF! | AB55: =SUM(AD55:AL55) -> #REF! | AD55: =SUM(AC54+'4월'!AD55) -> #REF! | AF55: =SUM(AE54+'4월'!AF55) -> #REF! | AH55: =SUM(AG54+'4월'!AH55) -> #REF! | AJ55: =SUM(AI54+'4월'!AJ55) -> #REF! | AL55: =SUM(AK54+'4월'!AL55) -> #REF!
B56: 18시~19시 | C56: =K56+AA56 -> 92 | K56: =M56+O56+Q56+S56+U56+W56+Y56 -> 84 | M56: 25 | O56: 39 | Q56: 7 | S56: 0 | U56: 13 | W56: 0 | Y56: 0 | AA56: =SUM(AC56,AE56,AG56,AI56,AK56) -> 8 | AC56: 0 | AE56: 6 | AG56: 1 | AI56: 1 | AK56: 0
D57: =L57+AB57 -> #REF! | L57: =N57+P57+R57+T57+V57+X57+Z57 -> #REF! | N57: =SUM(M56+'4월'!N57) -> #REF! | P57: =SUM(O56+'4월'!P57) -> #REF! | R57: =SUM(Q56+'4월'!R57) -> #REF! | T57: =SUM(S56+'4월'!T57) -> #REF! | V57: =SUM(U56+'4월'!V57) -> #REF! | X57: =SUM(W56+'4월'!X57) -> #REF! | Z57: =SUM(Y56+'4월'!Z57) -> #REF! | AB57: =SUM(AD57:AL57) -> #REF! | AD57: =SUM(AC56+'4월'!AD57) -> #REF! | AF57: =SUM(AE56+'4월'!AF57) -> #REF! | AH57: =SUM(AG56+'4월'!AH57) -> #REF! | AJ57: =SUM(AI56+'4월'!AJ57) -> #REF! | AL57: =SUM(AK56+'4월'!AL57) -> #REF!
B58: 19시~20시 | C58: =K58+AA58 -> 82 | K58: =M58+O58+Q58+S58+U58+W58+Y58 -> 70 | M58: 23 | O58: 30 | Q58: 4 | S58: 0 | U58: 12 | W58: 0 | Y58: 1 | AA58: =SUM(AC58,AE58,AG58,AI58,AK58) -> 12 | AC58: 0 | AE58: 12 | AG58: 0 | AI58: 0 | AK58: 0
D59: =L59+AB59 -> #REF! | L59: =N59+P59+R59+T59+V59+X59+Z59 -> #REF! | N59: =SUM(M58+'4월'!N59) -> #REF! | P59: =SUM(O58+'4월'!P59) -> #REF! | R59: =SUM(Q58+'4월'!R59) -> #REF! | T59: =SUM(S58+'4월'!T59) -> #REF! | V59: =SUM(U58+'4월'!V59) -> #REF! | X59: =SUM(W58+'4월'!X59) -> #REF! | Z59: =SUM(Y58+'4월'!Z59) -> #REF! | AB59: =SUM(AD59:AL59) -> #REF! | AD59: =SUM(AC58+'4월'!AD59) -> #REF! | AF59: =SUM(AE58+'4월'!AF59) -> #REF! | AH59: =SUM(AG58+'4월'!AH59) -> #REF! | AJ59: =SUM(AI58+'4월'!AJ59) -> #REF! | AL59: =SUM(AK58+'4월'!AL59) -> #REF!
B60: 20시~21시 | C60: =K60+AA60 -> 31 | K60: =M60+O60+Q60+S60+U60+W60+Y60 -> 28 | M60: 3 | O60: 23 | Q60: 0 | S60: 0 | U60: 2 | W60: 0 | Y60: 0 | AA60: =SUM(AC60,AE60,AG60,AI60,AK60) -> 3 | AC60: 0 | AE60: 3 | AG60: 1 | AI60: -1 | AK60: 0
D61: =L61+AB61 -> #REF! | L61: =N61+P61+R61+T61+V61+X61+Z61 -> #REF! | N61: =SUM(M60+'4월'!N61) -> #REF! | P61: =SUM(O60+'4월'!P61) -> #REF! | R61: =SUM(Q60+'4월'!R61) -> #REF! | T61: =SUM(S60+'4월'!T61) -> #REF! | V61: =SUM(U60+'4월'!V61) -> #REF! | X61: =SUM(W60+'4월'!X61) -> #REF! | Z61: =SUM(Y60+'4월'!Z61) -> #REF! | AB61: =SUM(AD61:AL61) -> #REF! | AD61: =SUM(AC60+'4월'!AD61) -> #REF! | AF61: =SUM(AE60+'4월'!AF61) -> #REF! | AH61: =SUM(AG60+'4월'!AH61) -> #REF! | AJ61: =SUM(AI60+'4월'!AJ61) -> #REF! | AL61: =SUM(AK60+'4월'!AL61) -> #REF!
B62: 21시~22시 | C62: =K62+AA62 -> 0 | K62: =M62+O62+Q62+S62+U62+W62+Y62 -> 0 | M62: 0 | O62: 0 | Q62: 0 | S62: 0 | U62: 0 | W62: 0 | Y62: 0 | AA62: =SUM(AC62,AE62,AG62,AI62,AK62) -> 0 | AC62: 0 | AE62: 0 | AG62: 0 | AI62: 0 | AK62: 0
D63: =L63+AB63 -> #REF! | L63: =N63+P63+R63+T63+V63+X63+Z63 -> #REF! | N63: =SUM(M62+'4월'!N63) -> #REF! | P63: =SUM(O62+'4월'!P63) -> #REF! | R63: =SUM(Q62+'4월'!R63) -> #REF! | T63: =SUM(S62+'4월'!T63) -> #REF! | V63: =SUM(U62+'4월'!V63) -> #REF! | X63: =SUM(W62+'4월'!X63) -> #REF! | Z63: =SUM(Y62+'4월'!Z63) -> #REF! | AB63: =SUM(AD63:AL63) -> #REF! | AD63: =SUM(AC62+'4월'!AD63) -> #REF! | AF63: =SUM(AE62+'4월'!AF63) -> #REF! | AH63: =SUM(AG62+'4월'!AH63) -> #REF! | AJ63: =SUM(AI62+'4월'!AJ63) -> #REF! | AL63: =SUM(AK62+'4월'!AL63) -> #REF!

Sheet 6월
A1: 2016년 『시민이 행복한 민원센터』민원처리현황(6월)
A2: 구분 | B2: 시간 | C2: 월계/누계 | E2: 여 권 민 원 | K2: 제 증 명 발 급 | AA2: 신 고 민 원
E3: 소계 | G3: 접수 | I3: 교부 | K3: 소계 | M3: 주민등·초본 | O3: 인감증명 | Q3: 본인서명 | S3: 제적등·초본 | U3: 가족관계등록 | W3: 어디서나민원 | Y3: 기타 | AA3: 소계 | AC3: 출생·사망 | AE3: 혼인·이혼 | AG3: 전입신고 | AI3: 주민증 분실·재발급 | AK3: 정정.재등록
A4: 합계 | B4: 월계 / 누계 | C4: =SUM(E4+K4+AA4) -> 6050 | E4: =SUM(G4+I4) -> 4108 | G4: =SUM(G6:G14) -> 2181 | I4: =SUM(I6:I14) -> 1927 | K4: =SUM(M4:Y4) -> 1814 | M4: =SUM(M6:M14) -> 645 | O4: =SUM(O6:O14) -> 899 | Q4: =SUM(Q6:Q14) -> 75 | S4: =SUM(S6:S14) -> 18 | U4: =SUM(U6:U14) -> 166 | W4: =SUM(W6:W14) -> 0 | Y4: =SUM(Y6:Y14) -> 11 | AA4: =SUM(AC4:AK4) -> 128 | AC4: =SUM(AC6:AC14) -> 8 | AE4: =SUM(AE6:AE14) -> 93 | AG4: =SUM(AG6:AG14) -> 25 | AI4: =SUM(AI6:AI14) -> 2 | AK4: =SUM(AK6:AK14) -> 0
D5: =SUM(F5+L5+AB5) -> #REF! | F5: =SUM(H5+J5) -> #REF! | H5: =SUM(H7:H15) -> #REF! | J5: =SUM(J7:J15) -> #REF! | L5: =SUM(N5:Z5) -> #REF! | N5: =SUM(N7:N15) -> #REF! | P5: =SUM(P7:P15) -> #REF! | R5: =SUM(R7:R15) -> #REF! | T5: =SUM(T7:T15) -> #REF! | V5: =SUM(V7:V15) -> #REF! | X5: =SUM(X7:X15) -> #REF! | Z5: =SUM(Z7:Z15) -> #REF! | AB5: =SUM(AD5:AL5) -> #REF! | AD5: =SUM(AD7:AD15) -> #REF! | AF5: =SUM(AF7:AF15) -> #REF! | AH5: =SUM(AH7:AH15) -> #REF! | AJ5: =SUM(AJ7:AJ15) -> #REF! | AL5: =SUM(AL7:AL15) -> #REF!
B6: 10시~17시 | C6: =SUM(E6+K6+AA6) -> 1508 | E6: =SUM(G6+I6) -> 0 | G6: =SUM(G18,G30,G42,G54) -> 0 | I6: =SUM(I18,I30,I42,I54) -> 0 | K6: =SUM(M6:Y6) -> 1416 | M6: =SUM(M30+M42+M54) -> 446 | O6: =SUM(O30+O42+O54) -> 754 | Q6: =SUM(Q30+Q42+Q54) -> 67 | S6: =SUM(S30+S42+S54) -> 15 | U6: =SUM(U30+U42+U54) -> 126 | W6: =SUM(W30+W42+W54) -> 0 | Y6: =SUM(Y30+Y42+Y54) -> 8 | AA6: =SUM(AC6:AK6) -> 92 | AC6: =SUM(AC30+AC42+AC54) -> 6 | AE6: =SUM(AE30+AE42+AE54) -> 66 | AG6: =SUM(AG30+AG42+AG54) -> 18 | AI6: =SUM(AI30+AI42+AI54) -> 2 | AK6: =SUM(AK30+AK42+AK54) -> 0
D7: =SUM(F7+L7+AB7) -> #REF! | F7: =SUM(H7+J7) -> 0 | H7: =SUM(H19,H31,H43,H55) -> 0 | J7: =SUM(J19,J31,J43,J55) -> 0 | L7: =SUM(N7:Z7) -> #REF! | N7: =SUM(N31+N43+N55) -> #REF! | P7: =SUM(P19,P31,P43,P55) -> #REF! | R7: =SUM(R19,R31,R43,R55) -> #REF! | T7: =SUM(T19,T31,T43,T55) -> #REF! | V7: =SUM(V19,V31,V43,V55) -> #REF! | X7: =SUM(X19,X31,X43,X55) -> #REF! | Z7: =SUM(Z19,Z31,Z43,Z55) -> #REF! | AB7: =SUM(AD7:AL7) -> #REF! | AD7: =SUM(AD19,AD31,AD43,AD55) -> #REF! | AF7: =SUM(AF19,AF31,AF43,AF55) -> #REF! | AH7: =SUM(AH19,AH31,AH43,AH55) -> #REF! | AJ7: =SUM(AJ19,AJ31,AJ43,AJ55) -> #REF! | AL7: =SUM(AL19,AL31,AL43,AL55) -> #REF!
B8: 18시~19시 | C8: =SUM(E8+K8+AA8) -> 1586 | E8: =SUM(G8+I8) -> 1303 | G8: =SUM(G20,G32,G44,G56) -> 610 | I8: =SUM(I20,I32,I44,I56) -> 693 | K8: =SUM(M8:Y8) -> 253 | M8: =SUM(M32+M44+M56) -> 115 | O8: =SUM(O32+O44+O56) -> 103 | Q8: =SUM(Q32+Q44+Q56) -> 6 | S8: =SUM(S32+S44+S56) -> 2 | U8: =SUM(U32+U44+U56) -> 24 | W8: =SUM(W20,W32,W44,W56) -> 0 | Y8: =SUM(Y20,Y32,Y44,Y56) -> 3 | AA8: =SUM(AC8:AK8) -> 30 | AC8: =SUM(AC32+AC44+AC56) -> 1 | AE8: =SUM(AE32+AE44+AE56) -> 23 | AG8: =SUM(AG20,AG32,AG44,AG56) -> 6 | AI8: =SUM(AI20,AI32,AI44,AI56) -> 0 | AK8: =SUM(AK20,AK32,AK44,AK56) -> 0
D9: =SUM(F9+L9+AB9) -> #REF! | F9: =SUM(H9+J9) -> #REF! | H9: =SUM(H21,H33,H45,H57) -> #REF! | J9: =SUM(J21,J33,J45,J57) -> #REF! | L9: =SUM(N9:Z9) -> #REF! | N9: =SUM(N33+N45+N57) -> #REF! | P9: =SUM(P21,P33,P45,P57) -> #REF! | R9: =SUM(R21,R33,R45,R57) -> #REF! | T9: =SUM(T21,T33,T45,T57) -> #REF! | V9: =SUM(V21,V33,V45,V57) -> #REF! | X9: =SUM(X21,X33,X45,X57) -> #REF! | Z9: =SUM(Z21,Z33,Z45,Z57) -> #REF! | AB9: =SUM(AD9:AL9) -> #REF! | AD9: =SUM(AD21,AD33,AD45,AD57) -> #REF! | AF9: =SUM(AF21,AF33,AF45,AF57) -> #REF! | AH9: =SUM(AH21,AH33,AH45,AH57) -> #REF! | AJ9: =SUM(AJ21,AJ33,AJ45,AJ57) -> #REF! | AL9: =SUM(AL21,AL33,AL45,AL57) -> #REF!
B10: 19시~20시 | C10: =SUM(E10+K10+AA10) -> 1556 | E10: =SUM(G10+I10) -> 1449 | G10: =SUM(G22,G34,G46,G58) -> 657 | I10: =SUM(I22,I34,I46,I58) -> 792 | K10: =SUM(M10:Y10) -> 102 | M10: =SUM(M34+M46+M58) -> 56 | O10: =SUM(O34+O46+O58) -> 32 | Q10: =SUM(Q34+Q46+Q58) -> 2 | S10: =SUM(S34+S46+S58) -> 1 | U10: =SUM(U34+U46+U58) -> 11 | W10: =SUM(W22,W34,W46,W58) -> 0 | Y10: =SUM(Y22,Y34,Y46,Y58) -> 0 | AA10: =SUM(AC10:AK10) -> 5 | AC10: =SUM(AC34+AC46+AC58) -> 1 | AE10: =SUM(AE34+AE46+AE58) -> 4 | AG10: =SUM(AG22,AG34,AG46,AG58) -> 0 | AI10: =SUM(AI22,AI34,AI46,AI58) -> 0 | AK10: =SUM(AK22,AK34,AK46,AK58) -> 0
D11: =SUM(F11+L11+AB11) -> #REF! | F11: =SUM(H11+J11) -> #REF! | H11: =SUM(H23,H35,H47,H59) -> #REF! | J11: =SUM(J23,J35,J47,J59) -> #REF! | L11: =SUM(N11:Z11) -> #REF! | N11: =SUM(N35+N47+N59) -> #REF! | P11: =SUM(P23,P35,P47,P59) -> #REF! | R11: =SUM(R23,R35,R47,R59) -> #REF! | T11: =SUM(T23,T35,T47,T59) -> #REF! | V11: =SUM(V23,V35,V47,V59) -> #REF! | X11: =SUM(X23,X35,X47,X59) -> #REF! | Z11: =SUM(Z23,Z35,Z47,Z59) -> #REF! | AB11: =SUM(AD11:AL11) -> #REF! | AD11: =SUM(AD23,AD35,AD47,AD59) -> #REF! | AF11: =SUM(AF23,AF35,AF47,AF59) -> #REF! | AH11: =SUM(AH23,AH35,AH47,AH59) -> #REF! | AJ11: =SUM(AJ23,AJ35,AJ47,AJ59) -> #REF! | AL11: =SUM(AL23,AL35,AL47,AL59) -> #REF!
B12: 20시~21시 | C12: =SUM(E12+K12+AA12) -> 1377 | E12: =SUM(G12+I12) -> 1333 | G12: =SUM(G24,G36,G48,G60) -> 891 | I12: =SUM(I24,I36,I48,I60) -> 442 | K12: =SUM(M12:Y12) -> 43 | M12: =SUM(M36+M48+M60) -> 28 | O12: =SUM(O36+O48+O60) -> 10 | Q12: =SUM(Q36+Q48+Q60) -> 0 | S12: =SUM(S36+S48+S60) -> 0 | U12: =SUM(U36+U48+U60) -> 5 | W12: =SUM(W24,W36,W48,W60) -> 0 | Y12: =SUM(Y24,Y36,Y48,Y60) -> 0 | AA12: =SUM(AC12:AK12) -> 1 | AC12: =SUM(AC36+AC48+AC60) -> 0 | AE12: =SUM(AE36+AE48+AE60) -> 0 | AG12: =SUM(AG24,AG36,AG48,AG60) -> 1 | AI12: =SUM(AI24,AI36,AI48,AI60) -> 0 | AK12: =SUM(AK24,AK36,AK48,AK60) -> 0
D13: =SUM(F13+L13+AB13) -> #REF! | F13: =SUM(H13+J13) -> #REF! | H13: =SUM(H25,H37,H49,H61) -> #REF! | J13: =SUM(J25,J37,J49,J61) -> #REF! | L13: =SUM(N13:Z13) -> #REF! | N13: =SUM(N37+N49+N61) -> #REF! | P13: =SUM(P25,P37,P49,P61) -> #REF! | R13: =SUM(R25,R37,R49,R61) -> #REF! | T13: =SUM(T25,T37,T49,T61) -> #REF! | V13: =SUM(V25,V37,V49,V61) -> #REF! | X13: =SUM(X25,X37,X49,X61) -> #REF! | Z13: =SUM(Z25,Z37,Z49,Z61) -> #REF! | AB13: =SUM(AD13:AL13) -> #REF! | AD13: =SUM(AD25,AD37,AD49,AD61) -> #REF! | AF13: =SUM(AF25,AF37,AF49,AF61) -> #REF! | AH13: =SUM(AH25,AH37,AH49,AH61) -> #REF! | AJ13: =SUM(AJ25,AJ37,AJ49,AJ61) -> #REF! | AL13: =SUM(AL25,AL37,AL49,AL61) -> #REF!
B14: 21시~22시 | C14: =SUM(E14+K14+AA14) -> 23 | E14: =SUM(G14+I14) -> 23 | G14: =SUM(G26,G38,G50,G62) -> 23 | I14: =SUM(I26,I38,I50,I62) -> 0 | K14: =SUM(M14:Y14) -> 0 | M14: =SUM(M38+M50+M62) -> 0 | O14: =SUM(O38+O50+O62) -> 0 | Q14: =SUM(Q38+Q50+Q62) -> 0 | S14: =SUM(S38+S50+S62) -> 0 | U14: =SUM(U38+U50+U62) -> 0 | W14: =SUM(W26,W38,W50,W62) -> 0 | Y14: =SUM(Y26,Y38,Y50,Y62) -> 0 | AA14: =SUM(AC14:AK14) -> 0 | AC14: =SUM(AC38+AC50+AC62) -> 0 | AE14: =SUM(AE38+AE50+AE62) -> 0 | AG14: =SUM(AG26,AG38,AG50,AG62) -> 0 | AI14: =SUM(AI26,AI38,AI50,AI62) -> 0 | AK14: =SUM(AK26,AK38,AK50,AK62) -> 0
D15: =SUM(F15+L15+AB15) -> #REF! | F15: =SUM(H15+J15) -> #REF! | H15: =SUM(H27,H39,H51,H63) -> #REF! | J15: =SUM(J27,J39,J51,J63) -> #REF! | L15: =SUM(N15:Z15) -> #REF! | N15: =SUM(N39+N51+N63) -> #REF! | P15: =SUM(P27,P39,P51,P63) -> #REF! | R15: =SUM(R27,R39,R51,R63) -> #REF! | T15: =SUM(T27,T39,T51,T63) -> #REF! | V15: =SUM(V27,V39,V51,V63) -> #REF! | X15: =SUM(X27,X39,X51,X63) -> #REF! | Z15: =SUM(Z27,Z39,Z51,Z63) -> #REF! | AB15: =SUM(AD15:AL15) -> #REF! | AD15: =SUM(AD27,AD39,AD51,AD63) -> #REF! | AF15: =SUM(AF27,AF39,AF51,AF63) -> #REF! | AH15: =SUM(AH27,AH39,AH51,AH63) -> #REF! | AJ15: =SUM(AJ27,AJ39,AJ51,AJ63) -> #REF! | AL15: =SUM(AL27,AL39,AL51,AL63) -> #REF!
A16: 여권민원실 | B16: 계 | C16: =SUM(C18:C27) -> 4108 | E16: =SUM(E18+E20+E22+E24+E26) -> 4108 | G16: =SUM(G18+G20+G22+G24+G26) -> 2181 | I16: =SUM(I18+I20+I22+I24+I26) -> 1927 | K16: =SUM(M16,O16,S16,U16,W16,Y16) -> 0 | M16: =SUM(M18,M20,M22,M24,M26) -> 0 | O16: =SUM(O18,O20,O22,O24,O26) -> 0 | Q16: =SUM(Q18,Q20,Q22,Q24,Q26) -> 0 | S16: =SUM(S18,S20,S22,S24,S26) -> 0 | U16: =SUM(U18,U20,U22,U24,U26) -> 0 | W16: =SUM(W18,W20,W22,W24,W26) -> 0 | Y16: =SUM(Y18,Y20,Y22,Y24,Y26) -> 0 | AA16: =SUM(AC16:AL16) -> 0 | AC16: =SUM(AC18,AC20,AC22,AC24,AC26) -> 0 | AE16: =SUM(AE18,AE20,AE22,AE24,AE26) -> 0 | AG16: =SUM(AG18,AG20,AG22,AG24,AG26) -> 0 | AI16: =SUM(AI18,AI20,AI22,AI24,AI26) -> 0 | AK16: =SUM(AK18,AK20,AK22,AK24,AK26) -> 0
D17: =SUM(D19:D27) -> #REF! | F17: =SUM(F19+F21+F23+F25+F27) -> #REF! | H17: =SUM(H19+H21+H23+H25+H27) -> #REF! | J17: =SUM(J19+J21+J23+J25+J27) -> #REF! | L17: =SUM(N17,P17,T17,V17,X17,Z17) -> 0 | N17: =SUM(N19,N21,N23,N25,N27) -> 0 | P17: =SUM(P19,P21,P23,P25,P27) -> 0 | R17: =SUM(R19,R21,R23,R25,R27) -> 0 | T17: =SUM(T19,T21,T23,T25,T27) -> 0 | V17: =SUM(V19,V21,V23,V25,V27) -> 0 | X17: =SUM(X19,X21,X23,X25,X27) -> 0 | Z17: =SUM(Z19,Z21,Z23,Z25,Z27) -> 0 | AB17: =SUM(AD17,AF17,AH17,AJ17,AL17) -> 0 | AD17: =SUM(AD19,AD21,AD23,AD25,AD27) -> 0 | AF17: =SUM(AF19,AF21,AF23,AF25,AF27) -> 0 | AH17: =SUM(AH19,AH21,AH23,AH25,AH27) -> 0 | AJ17: =SUM(AJ19,AJ21,AJ23,AJ25,AJ27) -> 0 | AL17: =SUM(AL19,AL21,AL23,AL25,AL27) -> 0
B20: 18시~19시 | C20: =SUM(E20+K20+AA20) -> 1303 | E20: =SUM(G20+I20) -> 1303 | G20: 610 | I20: 693
D21: =SUM(F21+L21+AB21) -> #REF! | F21: =SUM(H21+J21) -> #REF! | H21: =SUM(G20+'5월'!H21) -> #REF! | J21: =SUM(I20+'5월'!J21) -> #REF!
B22: 19시~20시 | C22: =SUM(E22+K22+AA22) -> 1449 | E22: =SUM(G22+I22) -> 1449 | G22: 657 | I22: 792
D23: =SUM(F23+L23+AB23) -> #REF! | F23: =SUM(H23+J23) -> #REF! | H23: =SUM(G22+'5월'!H23) -> #REF! | J23: =SUM(I22+'5월'!J23) -> #REF!
B24: 20시~21시 | C24: =SUM(E24+K24+AA24) -> 1333 | E24: =SUM(G24+I24) -> 1333 | G24: 891 | I24: 442
D25: =SUM(F25+L25+AB25) -> #REF! | F25: =SUM(H25+J25) -> #REF! | H25: =SUM(G24+'5월'!H25) -> #REF! | J25: =SUM(I24+'5월'!J25) -> #REF!
B26: 21시~22시 | C26: =SUM(E26+K26+AA26) -> 23 | E26: =SUM(G26+I26) -> 23 | G26: 23 | I26: 0
D27: =SUM(F27+L27+AB27) -> #REF! | F27: =SUM(H27+J27) -> #REF! | H27: =SUM(G26+'5월'!H27) -> #REF! | J27: =SUM(I26+'5월'!J27) -> #REF!
A28: 수정구 | B28: 계 | C28: =SUM(C30:C39) -> 763 | K28: =SUM(M28,O28,Q28,S28,U28,W28,Y28) -> 750 | M28: =SUM(M30,M32,M34,M36,M38) -> 336 | O28: =SUM(O30,O32,O34,O36,O38) -> 310 | Q28: =SUM(Q30,Q32,Q34,Q36,Q38) -> 51 | S28: =SUM(S30,S32,S34,S36,S38) -> 3 | U28: =SUM(U30,U32,U34,U36,U38) -> 50 | W28: =SUM(W30,W32,W34,W36,W38) -> 0 | Y28: =SUM(Y30,Y32,Y34,Y36,Y38) -> 0 | AA28: =SUM(AC28:AL28) -> 13 | AC28: =SUM(AC30,AC32,AC34,AC36,AC38) -> 1 | AE28: =SUM(AE30,AE32,AE34,AE36,AE38) -> 6 | AG28: =SUM(AG30,AG32,AG34,AG36,AG38) -> 6 | AI28: =SUM(AI30,AI32,AI34,AI36,AI38) -> 0 | AK28: =SUM(AK30,AK32,AK34,AK36,AK38) -> 0
D29: =SUM(L29,AB29) -> #REF! | L29: =SUM(N29,P29,R29,T29,V29,X29,Z29) -> #REF! | N29: =SUM(N31,N33,N35,N37,N39) -> #REF! | P29: =SUM(P31,P33,P35,P37,P39) -> #REF! | R29: =SUM(R31,R33,R35,R37,R39) -> #REF! | T29: =SUM(T31,T33,T35,T37,T39) -> #REF! | V29: =SUM(V31,V33,V35,V37,V39) -> #REF! | X29: =SUM(X31,X33,X35,X37,X39) -> #REF! | Z29: =SUM(Z31,Z33,Z35,Z37,Z39) -> #REF! | AB29: =SUM(AD29,AF29,AH29,AJ29,AL29) -> #REF! | AD29: =SUM(AD31,AD33,AD35,AD37,AD39) -> #REF! | AF29: =SUM(AF31,AF33,AF35,AF37,AF39) -> #REF! | AH29: =SUM(AH31,AH33,AH35,AH37,AH39) -> #REF! | AJ29: =SUM(AJ31,AJ33,AJ35,AJ37,AJ39) -> #REF! | AL29: =SUM(AL31,AL33,AL35,AL37,AL39) -> #REF!
B30: 10시~17시 | C30: =K30+AA30 -> 539 | K30: =M30+O30+Q30+S30+U30+W30+Y30 -> 533 | M30: 195 | O30: 259 | Q30: 47 | S30: 1 | U30: 31 | W30: 0 | Y30: 0 | AA30: =SUM(AC30:AK30) -> 6 | AC30: 0 | AE30: 3 | AG30: 3 | AI30: 0 | AK30: 0
D31: =L31+AB31 -> #REF! | L31: =N31+P31+R31+T31+V31+X31+Z31 -> #REF! | N31: =SUM(M30+'5월'!N31) -> #REF! | P31: =SUM(O30+'5월'!P31) -> #REF! | R31: =SUM(Q30+'5월'!R31) -> #REF! | T31: =SUM(S30+'5월'!T31) -> #REF! | V31: =SUM(U30+'5월'!V31) -> #REF! | X31: =SUM(W30+'5월'!X31) -> #REF! | Z31: =SUM(Y30+'5월'!Z31) -> #REF! | AB31: =SUM(AD31:AL31) -> #REF! | AD31: =SUM(AC30+'5월'!AD31) -> #REF! | AF31: =SUM(AE30+'5월'!AF31) -> #REF! | AH31: =SUM(AG30+'5월'!AH31) -> #REF! | AJ31: =SUM(AI30+'5월'!AJ31) -> #REF! | AL31: =SUM(AK30+'5월'!AL31) -> #REF!
B32: 18시~19시 | C32: =K32+AA32 -> 120 | K32: =M32+O32+Q32+S32+U32+W32+Y32 -> 117 | M32: 74 | O32: 32 | Q32: 2 | S32: 1 | U32: 8 | W32: 0 | Y32: 0 | AA32: =SUM(AC32:AK32) -> 3 | AC32: 0 | AE32: 1 | AG32: 2 | AI32: 0 | AK32: 0
D33: =L33+AB33 -> #REF! | L33: =N33+P33+R33+T33+V33+X33+Z33 -> #REF! | N33: =SUM(M32+'5월'!N33) -> #REF! | P33: =SUM(O32+'5월'!P33) -> #REF! | R33: =SUM(Q32+'5월'!R33) -> #REF! | T33: =SUM(S32+'5월'!T33) -> #REF! | V33: =SUM(U32+'5월'!V33) -> #REF! | X33: =SUM(W32+'5월'!X33) -> #REF! | Z33: =SUM(Y32+'5월'!Z33) -> #REF! | AB33: =SUM(AD33:AL33) -> #REF! | AD33: =SUM(AC32+'5월'!AD33) -> #REF! | AF33: =SUM(AE32+'5월'!AF33) -> #REF! | AH33: =SUM(AG32+'5월'!AH33) -> #REF! | AJ33: =SUM(AI32+'5월'!AJ33) -> #REF! | AL33: =SUM(AK32+'5월'!AL33) -> #REF!
B34: 19시~20시 | C34: =K34+AA34 -> 65 | K34: =M34+O34+Q34+S34+U34+W34+Y34 -> 62 | M34: 40 | O34: 13 | Q34: 2 | S34: 1 | U34: 6 | W34: 0 | Y34: 0 | AA34: =SUM(AC34:AK34) -> 3 | AC34: 1 | AE34: 2 | AG34: 0 | AI34: 0 | AK34: 0
D35: =L35+AB35 -> #REF! | L35: =N35+P35+R35+T35+V35+X35+Z35 -> #REF! | N35: =SUM(M34+'5월'!N35) -> #REF! | P35: =SUM(O34+'5월'!P35) -> #REF! | R35: =SUM(Q34+'5월'!R35) -> #REF! | T35: =SUM(S34+'5월'!T35) -> #REF! | V35: =SUM(U34+'5월'!V35) -> #REF! | X35: =SUM(W34+'5월'!X35) -> #REF! | Z35: =SUM(Y34+'5월'!Z35) -> #REF! | AB35: =SUM(AD35:AL35) -> #REF! | AD35: =SUM(AC34+'5월'!AD35) -> #REF! | AF35: =SUM(AE34+'5월'!AF35) -> #REF! | AH35: =SUM(AG34+'5월'!AH35) -> #REF! | AJ35: =SUM(AI34+'5월'!AJ35) -> #REF! | AL35: =SUM(AK34+'5월'!AL35) -> #REF!
B36: 20시~21시 | C36: =K36+AA36 -> 39 | K36: =M36+O36+Q36+S36+U36+W36+Y36 -> 38 | M36: 27 | O36: 6 | Q36: 0 | S36: 0 | U36: 5 | W36: 0 | Y36: 0 | AA36: =SUM(AC36:AK36) -> 1 | AC36: 0 | AE36: 0 | AG36: 1 | AI36: 0 | AK36: 0
D37: =L37+AB37 -> #REF! | L37: =N37+P37+R37+T37+V37+X37+Z37 -> #REF! | N37: =SUM(M36+'5월'!N37) -> #REF! | P37: =SUM(O36+'5월'!P37) -> #REF! | R37: =SUM(Q36+'5월'!R37) -> #REF! | T37: =SUM(S36+'5월'!T37) -> #REF! | V37: =SUM(U36+'5월'!V37) -> #REF! | X37: =SUM(W36+'5월'!X37) -> #REF! | Z37: =SUM(Y36+'5월'!Z37) -> #REF! | AB37: =SUM(AD37:AL37) -> #REF! | AD37: =SUM(AC36+'5월'!AD37) -> #REF! | AF37: =SUM(AE36+'5월'!AF37) -> #REF! | AH37: =SUM(AG36+'5월'!AH37) -> #REF! | AJ37: =SUM(AI36+'5월'!AJ37) -> #REF! | AL37: =SUM(AK36+'5월'!AL37) -> #REF!
B38: 21시~22시 | C38: =K38+AA38 -> 0 | K38: =M38+O38+Q38+S38+U38+W38+Y38 -> 0 | M38: 0 | O38: 0 | Q38: 0 | S38: 0 | U38: 0 | W38: 0 | Y38: 0 | AA38: =SUM(AC38:AK38) -> 0 | AC38: 0 | AE38: 0 | AG38: 0 | AI38: 0 | AK38: 0
D39: =L39+AB39 -> #REF! | L39: =N39+P39+R39+T39+V39+X39+Z39 -> #REF! | N39: =SUM(M38+'5월'!N39) -> #REF! | P39: =SUM(O38+'5월'!P39) -> #REF! | R39: =SUM(Q38+'5월'!R39) -> #REF! | T39: =SUM(S38+'5월'!T39) -> #REF! | V39: =SUM(U38+'5월'!V39) -> #REF! | X39: =SUM(W38+'5월'!X39) -> #REF! | Z39: =SUM(Y38+'5월'!Z39) -> #REF! | AB39: =SUM(AD39:AL39) -> #REF! | AD39: =SUM(AC38+'5월'!AD39) -> #REF! | AF39: =SUM(AE38+'5월'!AF39) -> #REF! | AH39: =SUM(AG38+'5월'!AH39) -> #REF! | AJ39: =SUM(AI38+'5월'!AJ39) -> #REF! | AL39: =SUM(AK38+'5월'!AL39) -> #REF!
A40: 중원구 | B40: 계 | C40: =SUM(E40+K40+AA40) -> 415 | K40: =SUM(M40,O40,Q40,S40,U40,W40,Y40) -> 388 | M40: =SUM(M42,M44,M46,M48,M50) -> 132 | O40: =SUM(O42,O44,O46,O48,O50) -> 181 | Q40: =SUM(Q42,Q44,Q46,Q48,Q50) -> 14 | S40: =SUM(S42,S44,S46,S48,S50) -> 9 | U40: =SUM(U42,U44,U46,U48,U50) -> 45 | W40: =SUM(W42,W44,W46,W48,W50) -> 0 | Y40: =SUM(Y42,Y44,Y46,Y48,Y50) -> 7 | AA40: =SUM(AC40:AL40) -> 27 | AC40: =SUM(AC42,AC44,AC46,AC48,AC50) -> 1 | AE40: =SUM(AE42,AE44,AE46,AE48,AE50) -> 17 | AG40: =SUM(AG42,AG44,AG46,AG48,AG50) -> 8 | AI40: =SUM(AI42,AI44,AI46,AI48,AI50) -> 1 | AK40: =SUM(AK42,AK44,AK46,AK48,AK50) -> 0
D41: =SUM(L41,AB41) -> #REF! | L41: =SUM(N41,P41,R41,T41,V41,X41,Z41) -> #REF! | N41: =SUM(N43,N45,N47,N49,N51) -> #REF! | P41: =SUM(P43,P45,P47,P49,P51) -> #REF! | R41: =SUM(R43,R45,R47,R49,R51) -> #REF! | T41: =SUM(T43,T45,T47,T49,T51) -> #REF! | V41: =SUM(V43,V45,V47,V49,V51) -> #REF! | X41: =SUM(X43,X45,X47,X49,X51) -> #REF! | Z41: =SUM(Z43,Z45,Z47,Z49,Z51) -> #REF! | AB41: =SUM(AD41,AF41,AH41,AJ41,AL41) -> #REF! | AD41: =SUM(AD43,AD45,AD47,AD49,AD51) -> #REF! | AF41: =SUM(AF43,AF45,AF47,AF49,AF51) -> #REF! | AH41: =SUM(AH43,AH45,AH47,AH49,AH51) -> #REF! | AJ41: =SUM(AJ43,AJ45,AJ47,AJ49,AJ51) -> #REF! | AL41: =SUM(AL43,AL45,AL47,AL49,AL51) -> #REF!
B42: 10시~17시 | C42: =K42+AA42 -> 395 | K42: =M42+O42+Q42+S42+U42+W42+Y42 -> 369 | M42: 128 | O42: 173 | Q42: 12 | S42: 9 | U42: 41 | W42: 0 | Y42: 6 | AA42: =SUM(AC42:AK42) -> 26 | AC42: 1 | AE42: 16 | AG42: 8 | AI42: 1 | AK42: 0
D43: =SUM(F43+L43+AB43) -> #REF! | L43: =N43+P43+R43+T43+V43+X43+Z43 -> #REF! | N43: =SUM(M42+'5월'!N43) -> #REF! | P43: =SUM(O42+'5월'!P43) -> #REF! | R43: =SUM(Q42+'5월'!R43) -> #REF! | T43: =SUM(S42+'5월'!T43) -> #REF! | V43: =SUM(U42+'5월'!V43) -> #REF! | X43: =SUM(W42+'5월'!X43) -> #REF! | Z43: =SUM(Y42+'5월'!Z43) -> #REF! | AB43: =SUM(AD43:AL43) -> #REF! | AD43: =SUM(AC42+'5월'!AD43) -> #REF! | AF43: =SUM(AE42+'5월'!AF43) -> #REF! | AH43: =SUM(AG42+'5월'!AH43) -> #REF! | AJ43: =SUM(AI42+'5월'!AJ43) -> #REF! | AL43: =SUM(AK42+'5월'!AL43) -> #REF!
B44: 18시~19시 | C44: =K44+AA44 -> 20 | K44: =M44+O44+Q44+S44+U44+W44+Y44 -> 19 | M44: 4 | O44: 8 | Q44: 2 | S44: 0 | U44: 4 | W44: 0 | Y44: 1 | AA44: =SUM(AC44:AK44) -> 1 | AC44: 0 | AE44: 1 | AG44: 0 | AI44: 0 | AK44: 0
D45: =SUM(F45+L45+AB45) -> #REF! | L45: =N45+P45+R45+T45+V45+X45+Z45 -> #REF! | N45: =SUM(M44+'5월'!N45) -> #REF! | P45: =SUM(O44+'5월'!P45) -> #REF! | R45: =SUM(Q44+'5월'!R45) -> #REF! | T45: =SUM(S44+'5월'!T45) -> #REF! | V45: =SUM(U44+'5월'!V45) -> #REF! | X45: =SUM(W44+'5월'!X45) -> #REF! | Z45: =SUM(Y44+'5월'!Z45) -> #REF! | AB45: =SUM(AD45:AL45) -> #REF! | AD45: =SUM(AC44+'5월'!AD45) -> #REF! | AF45: =SUM(AE44+'5월'!AF45) -> #REF! | AH45: =SUM(AG44+'5월'!AH45) -> #REF! | AJ45: =SUM(AI44+'5월'!AJ45) -> #REF! | AL45: =SUM(AK44+'5월'!AL45) -> #REF!
B46: 19시~20시 | C46: =K46+AA46 -> 0 | K46: =M46+O46+Q46+S46+U46+W46+Y46 -> 0 | M46: 0 | O46: 0 | Q46: 0 | S46: 0 | U46: 0 | W46: 0 | Y46: 0 | AA46: =SUM(AC46:AK46) -> 0 | AC46: 0 | AE46: 0 | AG46: 0 | AI46: 0 | AK46: 0
D47: =SUM(F47+L47+AB47) -> #REF! | L47: =N47+P47+R47+T47+V47+X47+Z47 -> #REF! | N47: =SUM(M46+'5월'!N47) -> #REF! | P47: =SUM(O46+'5월'!P47) -> #REF! | R47: =SUM(Q46+'5월'!R47) -> #REF! | T47: =SUM(S46+'5월'!T47) -> #REF! | V47: =SUM(U46+'5월'!V47) -> #REF! | X47: =SUM(W46+'5월'!X47) -> #REF! | Z47: =SUM(Y46+'5월'!Z47) -> #REF! | AB47: =SUM(AD47:AL47) -> #REF! | AD47: =SUM(AC46+'5월'!AD47) -> #REF! | AF47: =SUM(AE46+'5월'!AF47) -> #REF! | AH47: =SUM(AG46+'5월'!AH47) -> #REF! | AJ47: =SUM(AI46+'5월'!AJ47) -> #REF! | AL47: =SUM(AK46+'5월'!AL47) -> #REF!
B48: 20시~21시 | C48: =K48+AA48 -> 0 | K48: =M48+O48+Q48+S48+U48+W48+Y48 -> 0 | M48: 0 | O48: 0 | Q48: 0 | S48: 0 | U48: 0 | W48: 0 | Y48: 0 | AA48: =SUM(AC48:AK48) -> 0 | AC48: 0 | AE48: 0 | AG48: 0 | AI48: 0 | AK48: 0
D49: =SUM(F49+L49+AB49) -> #REF! | L49: =N49+P49+R49+T49+V49+X49+Z49 -> #REF! | N49: =SUM(M48+'5월'!N49) -> #REF! | P49: =SUM(O48+'5월'!P49) -> #REF! | R49: =SUM(Q48+'5월'!R49) -> #REF! | T49: =SUM(S48+'5월'!T49) -> #REF! | V49: =SUM(U48+'5월'!V49) -> #REF! | X49: =SUM(W48+'5월'!X49) -> #REF! | Z49: =SUM(Y48+'5월'!Z49) -> #REF! | AB49: =SUM(AD49:AL49) -> #REF! | AD49: =SUM(AC48+'5월'!AD49) -> #REF! | AF49: =SUM(AE48+'5월'!AF49) -> #REF! | AH49: =SUM(AG48+'5월'!AH49) -> #REF! | AJ49: =SUM(AI48+'5월'!AJ49) -> #REF! | AL49: =SUM(AK48+'5월'!AL49) -> #REF!
B50: 21시~22시 | C50: =K50+AA50 -> 0 | K50: =M50+O50+Q50+S50+U50+W50+Y50 -> 0 | M50: 0 | O50: 0 | Q50: 0 | S50: 0 | U50: 0 | W50: 0 | Y50: 0 | AA50: =SUM(AC50:AK50) -> 0 | AC50: 0 | AE50: 0 | AG50: 0 | AI50: 0 | AK50: 0
