Workbook

Sheet 1
A1: 2025. 1월 야간 민원실 운영실적
A2: 구분 | B2: 시간 | C2: 월계/누계 | E2: 여 권 민 원 | K2: 제 증 명 발 급 | AA2: 신 고 민 원
E3: 소계 | G3: 접수 | I3: 교부 | K3: 소계 | M3: 주민등·초본 | O3: 인감증명 | Q3: 본인서명 | S3: 제적등·초본 | U3: 가족관계등록 | W3: 어디서나민원 | Y3: 기타 | AA3: 소계 | AC3: 출생·사망 | AE3: 혼인·이혼 | AG3: 전입신고 | AI3: 주민증 | AK3: 정정.재등록
A4: 합계 | B4: 월계 / 누계 | C4: =C12+C20+C28+C36 -> 453 | E4: =SUM(E6:E11) -> 431 | G4: =SUM(G6:G10) -> 195 | I4: =SUM(I6:I10) -> 236 | K4: =K20+K28+K36 -> 2 | M4: =M20+M28+M36 -> 1 | O4: =O20+O28+O36 -> 1 | Q4: =Q20+Q28+Q36 -> 0 | S4: =S20+S28+S36 -> 0 | U4: =U20+U28+U36 -> 0 | W4: =W20+W28+W36 -> 0 | Y4: =Y20+Y28+Y36 -> 0 | AA4: =AA20+AA28+AA36 -> 20 | AC4: =AC20+AC28+AC36 -> 1 | AE4: =AE20+AE28+AE36 -> 19 | AG4: =AG20+AG28+AG36 -> 0 | AI4: =AI20+AI28+AI36 -> 0 | AK4: =AK20+AK28+AK36 -> 0
D5: =D7+D9+D11 -> 453 | F5: =SUM(F7:F11) -> 431 | H5: =SUM(H7:H11) -> 195 | J5: =SUM(J7:J11) -> 236 | L5: =L21+L29+L37 -> 2 | N5: =N21+N29+N37 -> 1 | P5: =P21+P29+P37 -> 1 | R5: =R21+R29+R37 -> 0 | T5: =T21+T29+T37 -> 0 | V5: =V21+V29+V37 -> 0 | X5: =X21+X29+X37 -> 0 | Z5: =Z21+Z29+Z37 -> 0 | AB5: =AB21+AB29+AB37 -> 20 | AD5: =AD21+AD29+AD37 -> 1 | AF5: =AF21+AF29+AF37 -> 19 | AH5: =AH21+AH29+AH37 -> 0 | AJ5: =AJ21+AJ29+AJ37 -> 0 | AL5: =AL21+AL29+AL37 -> 0
B6: 18시~19시 | C6: =C14+C22+C30+C38 -> 249 | E6: =SUM(G6+I6) -> 242 | G6: =G14 -> 104 | I6: =I14 -> 138 | K6: =K22+K30+K38 -> 2 | M6: =M22+M30+M38 -> 1 | O6: =O22+O30+O38 -> 1 | Q6: =Q22+Q30+Q38 -> 0 | S6: =S22+S30+S38 -> 0 | U6: =U22+U30+U38 -> 0 | W6: =W22+W30+W38 -> 0 | Y6: =Y22+Y30+Y38 -> 0 | AA6: =AA22+AA30+AA38 -> 5 | AC6: =AC22+AC30+AC38 -> 0 | AE6: =AE22+AE30+AE38 -> 5 | AG6: =AG22+AG30+AG38 -> 0 | AI6: =AI22+AI30+AI38 -> 0 | AK6: =AK22+AK30+AK38 -> 0
D7: =D15+D23+D31+D39 -> 249 | F7: =SUM(H7:J7) -> 242 | H7: =H15 -> 104 | J7: =J15 -> 138 | L7: =L23+L31+L39 -> 2 | N7: =N23+N31+N39 -> 1 | P7: =P23+P31+P39 -> 1 | R7: =R23+R31+R39 -> 0 | T7: =T23+T31+T39 -> 0 | V7: =V23+V31+V39 -> 0 | X7: =X23+X31+X39 -> 0 | Z7: =Z23+Z31+Z39 -> 0 | AB7: =AB23+AB31+AB39 -> 5 | AD7: =AD23+AD31+AD39 -> 0 | AF7: =AF23+AF31+AF39 -> 5 | AH7: =AH23+AH31+AH39 -> 0 | AJ7: =AJ23+AJ31+AJ39 -> 0 | AL7: =AL23+AL31+AL39 -> 0
B8: 19시~20시 | C8: =C16+C24+C32+C40 -> 204 | E8: =SUM(G8:I8) -> 189 | G8: =G16 -> 91 | I8: =I16 -> 98 | K8: =K24+K32+K40 -> 0 | M8: =M24+M32+M40 -> 0 | O8: =O24+O32+O40 -> 0 | Q8: =Q24+Q32+Q40 -> 0 | S8: =S24+S32+S40 -> 0 | U8: =U24+U32+U40 -> 0 | W8: =W24+W32+W40 -> 0 | Y8: =Y24+Y32+Y40 -> 0 | AA8: =AA24+AA32+AA40 -> 15 | AC8: =AC24+AC32+AC40 -> 1 | AE8: =AE24+AE32+AE40 -> 14 | AG8: =AG24+AG32+AG40 -> 0 | AI8: =AI24+AI32+AI40 -> 0 | AK8: =AK24+AK32+AK40 -> 0
D9: =D17+D25+D33+D41 -> 204 | F9: =SUM(H9:J9) -> 189 | H9: =H17 -> 91 | J9: =J17 -> 98 | L9: =L25+L33+L41 -> 0 | N9: =N25+N33+N41 -> 0 | P9: =P25+P33+P41 -> 0 | R9: =R25+R33+R41 -> 0 | T9: =T25+T33+T41 -> 0 | V9: =V25+V33+V41 -> 0 | X9: =X25+X33+X41 -> 0 | Z9: =Z25+Z33+Z41 -> 0 | AB9: =AB25+AB33+AB41 -> 15 | AD9: =AD25+AD33+AD41 -> 1 | AF9: =AF25+AF33+AF41 -> 14 | AH9: =AH25+AH33+AH41 -> 0 | AJ9: =AJ25+AJ33+AJ41 -> 0 | AL9: =AL25+AL33+AL41 -> 0
B10: 20시~21시 | C10: =C18+C26+C34+C42 -> 0 | E10: =SUM(G10:I10) -> 0 | G10: =G18 -> 0 | I10: =I18 -> 0 | K10: =K26+K34+K42 -> 0 | M10: =M26+M34+M42 -> 0 | O10: =O26+O34+O42 -> 0 | Q10: =Q26+Q34+Q42 -> 0 | S10: =S26+S34+S42 -> 0 | U10: =U26+U34+U42 -> 0 | W10: =W26+W34+W42 -> 0 | Y10: =Y26+Y34+Y42 -> 0 | AA10: =AA26+AA34+AA42 -> 0 | AC10: =AC26+AC34+AC42 -> 0 | AE10: =AE26+AE34+AE42 -> 0 | AG10: =AG26+AG34+AG42 -> 0 | AI10: =AI26+AI34+AI42 -> 0 | AK10: =AK26+AK34+AK42 -> 0
D11: =D19+D27+D35+D43 -> 0 | F11: =SUM(H11:J11) -> 0 | H11: =H19 -> 0 | J11: =J19 -> 0 | L11: =L27+L35+L43 -> 0 | N11: =N27+N35+N43 -> 0 | P11: =P27+P35+P43 -> 0 | R11: =R27+R35+R43 -> 0 | T11: =T27+T35+T43 -> 0 | V11: =V27+V35+V43 -> 0 | X11: =X27+X35+X43 -> 0 | Z11: =Z27+Z35+Z43 -> 0 | AB11: =AB27+AB35+AB43 -> 0 | AD11: =AD27+AD35+AD43 -> 0 | AF11: =AF27+AF35+AF43 -> 0 | AH11: =AH27+AH35+AH43 -> 0 | AJ11: =AJ27+AJ35+AJ43 -> 0 | AL11: =AL27+AL35+AL43 -> 0
A12: 여권민원실 | B12: 계 | C12: =E12 -> 431 | E12: =SUM(E14:E19) -> 431 | G12: =SUM(G14:G18) -> 195 | I12: =SUM(I14:I18) -> 236
D13: =F13 -> 431 | F13: =SUM(F15:F19) -> 431 | H13: =SUM(H15:H19) -> 195 | J13: =SUM(J15:J19) -> 236
B14: 18시~19시 | C14: =E14 -> 242 | E14: =SUM(G14+I14) -> 242 | G14: 104 | I14: 138
D15: =F15 -> 242 | F15: =SUM(H15:J15) -> 242 | H15: =G14 -> 104 | J15: =I14 -> 138
B16: 19시~20시 | C16: =E16 -> 189 | E16: =SUM(G16:I16) -> 189 | G16: 91 | I16: 98
D17: =F17 -> 189 | F17: =SUM(H17:J17) -> 189 | H17: =G16 -> 91 | J17: =I16 -> 98
B18: 20시~21시 | C18: =E18 -> 0 | E18: =SUM(G18:I18) -> 0 | G18: 0 | I18: 0
D19: =F19 -> 0 | F19: =SUM(H19:J19) -> 0 | H19: =G18 -> 0 | J19: =I18 -> 0
A20: 수정구 | B20: 계 | C20: =SUM(C22:C26) -> 2 | K20: =SUM(M20:Z20) -> 0 | M20: =SUM(M22:M27) -> 0 | O20: =SUM(O22:O27) -> 0 | Q20: =SUM(Q22:Q27) -> 0 | S20: =SUM(S22:S27) -> 0 | U20: =SUM(U22:U27) -> 0 | W20: =SUM(W22:W27) -> 0 | Y20: =SUM(Y22:Y27) -> 0 | AA20: =SUM(AA22:AA27) -> 2 | AC20: =SUM(AC22:AC27) -> 1 | AE20: =SUM(AE22:AE27) -> 1 | AG20: =SUM(AG22:AG27) -> 0 | AI20: =SUM(AI22:AI27) -> 0 | AK20: =SUM(AK22:AK27) -> 0
D21: =SUM(D23:D27) -> 2 | L21: =SUM(N21:Z21) -> 0 | N21: =SUM(N23:N27) -> 0 | P21: =SUM(P23:P27) -> 0 | R21: =SUM(R23:R27) -> 0 | T21: =SUM(T23:T27) -> 0 | V21: =SUM(V23:V27) -> 0 | X21: =SUM(X23:X27) -> 0 | Z21: =SUM(Z23:Z27) -> 0 | AB21: =SUM(AB23:AB27) -> 2 | AD21: =SUM(AD23:AD27) -> 1 | AF21: =SUM(AF23:AF27) -> 1 | AH21: =SUM(AH23:AH27) -> 0 | AJ21: =SUM(AJ23:AJ27) -> 0 | AL21: =SUM(AL23:AL27) -> 0
B22: 18시~19시 | C22: =K22+AA22 -> 0 | K22: =SUM(M22:Z22) -> 0 | M22: 0 | O22: 0 | Q22: 0 | S22: 0 | U22: 0 | W22: 0 | Y22: 0 | AA22: =SUM(AC22:AL22) -> 0 | AC22: 0 | AE22: 0 | AG22: 0 | AI22: 0 | AK22: 0
D23: =L23+AB23 -> 0 | L23: =SUM(N23:Z23) -> 0 | N23: =M22 -> 0 | P23: =O22 -> 0 | R23: =Q22 -> 0 | T23: =S22 -> 0 | V23: =U22 -> 0 | X23: =W22 -> 0 | Z23: =Y22 -> 0 | AB23: =AD23+AF23+AH23+AJ23+AL23 -> 0 | AD23: =AC22 -> 0 | AF23: =AE22 -> 0 | AH23: =AG22 -> 0 | AJ23: =AI22 -> 0 | AL23: =AK22 -> 0
B24: 19시~20시 | C24: =K24+AA24 -> 2 | K24: =SUM(M24:Z24) -> 0 | M24: 0 | O24: 0 | Q24: 0 | S24: 0 | U24: 0 | W24: 0 | Y24: 0 | AA24: =SUM(AC24:AK24) -> 2 | AC24: 1 | AE24: 1 | AG24: 0 | AI24: 0 | AK24: 0
D25: =L25+AB25 -> 2 | L25: =SUM(N25:Z25) -> 0 | N25: =M24 -> 0 | P25: =O24 -> 0 | R25: =Q24 -> 0 | T25: =S24 -> 0 | V25: =U24 -> 0 | X25: =W24 -> 0 | Z25: =Y24 -> 0 | AB25: =AD25+AF25+AH25+AJ25+AL25 -> 2 | AD25: =AC24 -> 1 | AF25: =AE24 -> 1 | AH25: =AG24 -> 0 | AJ25: =AI24 -> 0 | AL25: =AK24 -> 0
B26: 20시~21시 | C26: =K26+AA26 -> 0 | K26: =SUM(M26:Z26) -> 0 | M26: 0 | O26: 0 | Q26: 0 | S26: 0 | U26: 0 | W26: 0 | Y26: 0 | AA26: =SUM(AC26:AL26) -> 0 | AC26: 0 | AE26: 0 | AG26: 0 | AI26: 0 | AK26: 0
D27: =L27+AB26:AB27 -> 0 | L27: =SUM(N27:Z27) -> 0 | N27: =M26 -> 0 | P27: =O26 -> 0 | R27: =Q26 -> 0 | T27: =S26 -> 0 | V27: =U26 -> 0 | X27: =W26 -> 0 | Z27: =Y26 -> 0 | AB27: =AD27+AF27+AH27+AJ27+AL27 -> 0 | AD27: =AC26 -> 0 | AF27: =AE26 -> 0 | AH27: =AG26 -> 0 | AJ27: =AI26 -> 0 | AL27: =AK26 -> 0
A28: 중원구 | B28: 계 | C28: =SUM(C30:C34) -> 7 | K28: =SUM(M28:Z28) -> 2 | M28: =SUM(M30:M35) -> 1 | O28: =SUM(O30:O35) -> 1 | Q28: =SUM(Q30:Q35) -> 0 | S28: =SUM(S30:S35) -> 0 | U28: =SUM(U30:U35) -> 0 | W28: =SUM(W30:W35) -> 0 | Y28: =SUM(Y30:Y35) -> 0 | AA28: =SUM(AA30:AA35) -> 5 | AC28: =SUM(AC30:AC35) -> 0 | AE28: =SUM(AE30:AE35) -> 5 | AG28: =SUM(AG30:AG35) -> 0 | AI28: =SUM(AI30:AI35) -> 0 | AK28: =SUM(AK30:AK35) -> 0
D29: =SUM(D31:D35) -> 7 | L29: =SUM(N29:Z29) -> 2 | N29: =SUM(N31:N35) -> 1 | P29: =SUM(P31:P35) -> 1 | R29: =SUM(R31:R35) -> 0 | T29: =SUM(T31:T35) -> 0 | V29: =SUM(V31:V35) -> 0 | X29: =SUM(X31:X35) -> 0 | Z29: =SUM(Z31:Z35) -> 0 | AB29: =SUM(AB31:AB35) -> 5 | AD29: =SUM(AD31:AD35) -> 0 | AF29: =SUM(AF31:AF35) -> 5 | AH29: =SUM(AH31:AH35) -> 0 | AJ29: =SUM(AJ31:AJ35) -> 0 | AL29: =SUM(AL31:AL35) -> 0
B30: 18시~19시 | C30: =K30+AA30 -> 4 | K30: =SUM(M30:Z30) -> 2 | M30: 1 | O30: 1 | Q30: 0 | S30: 0 | U30: 0 | W30: 0 | Y30: 0 | AA30: =SUM(AC30:AL30) -> 2 | AC30: 0 | AE30: 2 | AG30: 0 | AI30: 0 | AK30: 0
D31: =L31+AB31 -> 4 | L31: =SUM(N31:Z31) -> 2 | N31: =M30 -> 1 | P31: =O30 -> 1 | R31: =Q30 -> 0 | T31: =S30 -> 0 | V31: =U30 -> 0 | X31: =W30 -> 0 | Z31: =Y30 -> 0 | AB31: =AD31+AF31+AH31+AJ31+AL31 -> 2 | AD31: =AC30 -> 0 | AF31: =AE30 -> 2 | AH31: =AG30 -> 0 | AJ31: =AI30 -> 0 | AL31: =AK30 -> 0
B32: 19시~20시 | C32: =K32+AA32 -> 3 | K32: =SUM(M32:Z32) -> 0 | M32: 0 | O32: 0 | Q32: 0 | S32: 0 | U32: 0 | W32: 0 | Y32: 0 | AA32: =SUM(AC32:AK32) -> 3 | AC32: 0 | AE32: 3 | AG32: 0 | AI32: 0 | AK32: 0
D33: =L33+AB33 -> 3 | L33: =SUM(N33:Z33) -> 0 | N33: =M32 -> 0 | P33: =O32 -> 0 | R33: =Q32 -> 0 | T33: =S32 -> 0 | V33: =U32 -> 0 | X33: =W32 -> 0 | Z33: =Y32 -> 0 | AB33: =AD33+AF33+AH33+AJ33+AL33 -> 3 | AD33: =AC32 -> 0 | AF33: =AE32 -> 3 | AH33: =AG32 -> 0 | AJ33: =AI32 -> 0 | AL33: =AK32 -> 0
B34: 20시~21시 | C34: =K34+AA34 -> 0 | K34: =SUM(M34:Z34) -> 0 | M34: 0 | O34: 0 | Q34: 0 | S34: 0 | U34: 0 | W34: 0 | Y34: 0 | AA34: =SUM(AC34:AL34) -> 0 | AC34: 0 | AE34: 0 | AG34: 0 | AI34: 0 | AK34: 0
D35: =L35+AB34:AB35 -> 0 | L35: =SUM(N35:Z35) -> 0 | N35: =M34 -> 0 | P35: =O34 -> 0 | R35: =Q34 -> 0 | T35: =S34 -> 0 | V35: =U34 -> 0 | X35: =W34 -> 0 | Z35: =Y34 -> 0 | AB35: =AD35+AF35+AH35+AJ35+AL35 -> 0 | AD35: =AC34 -> 0 | AF35: =AE34 -> 0 | AH35: =AG34 -> 0 | AJ35: =AI34 -> 0 | AL35: =AK34 -> 0
A36: 분당구 | B36: 계 | C36: =SUM(C38:C42) -> 13 | K36: =SUM(M36:Z36) -> 0 | M36: =SUM(M38:M43) -> 0 | O36: =SUM(O38:O43) -> 0 | Q36: =SUM(Q38:Q43) -> 0 | S36: =SUM(S38:S43) -> 0 | U36: =SUM(U38:U43) -> 0 | W36: =SUM(W38:W43) -> 0 | Y36: =SUM(Y38:Y43) -> 0 | AA36: =SUM(AA38:AA43) -> 13 | AC36: =SUM(AC38:AC43) -> 0 | AE36: =SUM(AE38:AE43) -> 13 | AG36: =SUM(AG38:AG43) -> 0 | AI36: =SUM(AI38:AI43) -> 0 | AK36: =SUM(AK38:AK43) -> 0
D37: =SUM(D39:D43) -> 13 | L37: =SUM(N37:Z37) -> 0 | N37: =SUM(N39:N43) -> 0 | P37: =SUM(P39:P43) -> 0 | R37: =SUM(R39:R43) -> 0 | T37: =SUM(T39:T43) -> 0 | V37: =SUM(V39:V43) -> 0 | X37: =SUM(X39:X43) -> 0 | Z37: =SUM(Z39:Z43) -> 0 | AB37: =SUM(AB39:AB43) -> 13 | AD37: =SUM(AD39:AD43) -> 0 | AF37: =SUM(AF39:AF43) -> 13 | AH37: =SUM(AH39:AH43) -> 0 | AJ37: =SUM(AJ39:AJ43) -> 0 | AL37: =SUM(AL39:AL43) -> 0
B38: 18시~19시 | C38: =K38+AA38 -> 3 | K38: =SUM(M38:Z38) -> 0 | M38: 0 | O38: 0 | Q38: 0 | S38: 0 | U38: 0 | W38: 0 | Y38: 0 | AA38: =SUM(AC38:AL38) -> 3 | AC38: 0 | AE38: 3 | AG38: 0 | AI38: 0 | AK38: 0
D39: =L39+AB39 -> 3 | L39: =SUM(N39:Z39) -> 0 | N39: =M38 -> 0 | P39: =O38 -> 0 | R39: =Q38 -> 0 | T39: =S38 -> 0 | V39: =U38 -> 0 | X39: =W38 -> 0 | Z39: =Y38 -> 0 | AB39: =AD39+AF39+AH39+AJ39+AL39 -> 3 | AD39: =AC38 -> 0 | AF39: =AE38 -> 3 | AH39: =AG38 -> 0 | AJ39: =AI38 -> 0 | AL39: =AK38 -> 0
B40: 19시~20시 | C40: =K40+AA40 -> 10 | K40: =SUM(M40:Z40) -> 0 | M40: 0 | O40: 0 | Q40: 0 | S40: 0 | U40: 0 | W40: 0 | Y40: 0 | AA40: =SUM(AC40:AK40) -> 10 | AC40: 0 | AE40: 10 | AG40: 0 | AI40: 0 | AK40: 0
...

Sheet 2
A1: 2025. 2월 야간 민원실 운영실적
A2: 구분 | B2: 시간 | C2: 월계/누계 | E2: 여 권 민 원 | K2: 제 증 명 발 급 | AA2: 신 고 민 원
E3: 소계 | G3: 접수 | I3: 교부 | K3: 소계 | M3: 주민등·초본 | O3: 인감증명 | Q3: 본인서명 | S3: 제적등·초본 | U3: 가족관계등록 | W3: 어디서나민원 | Y3: 기타 | AA3: 소계 | AC3: 출생·사망 | AE3: 혼인·이혼 | AG3: 전입신고 | AI3: 주민증 | AK3: 정정.재등록
A4: 합계 | B4: 월계 / 누계 | C4: =C12+C20+C28+C36 -> 545 | E4: =SUM(E6:E11) -> 482 | G4: =SUM(G6:G10) -> 229 | I4: =SUM(I6:I10) -> 253 | K4: =K20+K28+K36 -> 42 | M4: =M20+M28+M36 -> 3 | O4: =O20+O28+O36 -> 22 | Q4: =Q20+Q28+Q36 -> 14 | S4: =S20+S28+S36 -> 0 | U4: =U20+U28+U36 -> 3 | W4: =W20+W28+W36 -> 0 | Y4: =Y20+Y28+Y36 -> 0 | AA4: =AA20+AA28+AA36 -> 21 | AC4: =AC20+AC28+AC36 -> 0 | AE4: =AE20+AE28+AE36 -> 21 | AG4: =AG20+AG28+AG36 -> 0 | AI4: =AI20+AI28+AI36 -> 0 | AK4: =AK20+AK28+AK36 -> 0
D5: =D7+D9+D11 -> 998 | F5: =SUM(F7:F11) -> 913 | H5: =SUM(H7:H11) -> 424 | J5: =SUM(J7:J11) -> 489 | L5: =L21+L29+L37 -> 44 | N5: =N21+N29+N37 -> 4 | P5: =P21+P29+P37 -> 23 | R5: =R21+R29+R37 -> 14 | T5: =T21+T29+T37 -> 0 | V5: =V21+V29+V37 -> 3 | X5: =X21+X29+X37 -> 0 | Z5: =Z21+Z29+Z37 -> 0 | AB5: =AB21+AB29+AB37 -> 41 | AD5: =AD21+AD29+AD37 -> 1 | AF5: =AF21+AF29+AF37 -> 40 | AH5: =AH21+AH29+AH37 -> 0 | AJ5: =AJ21+AJ29+AJ37 -> 0 | AL5: =AL21+AL29+AL37 -> 0
B6: 18시~19시 | C6: =C14+C22+C30+C38 -> 352 | E6: =SUM(G6+I6) -> 304 | G6: =G14 -> 136 | I6: =I14 -> 168 | K6: =K22+K30+K38 -> 42 | M6: =M22+M30+M38 -> 3 | O6: =O22+O30+O38 -> 22 | Q6: =Q22+Q30+Q38 -> 14 | S6: =S22+S30+S38 -> 0 | U6: =U22+U30+U38 -> 3 | W6: =W22+W30+W38 -> 0 | Y6: =Y22+Y30+Y38 -> 0 | AA6: =AA22+AA30+AA38 -> 6 | AC6: =AC22+AC30+AC38 -> 0 | AE6: =AE22+AE30+AE38 -> 6 | AG6: =AG22+AG30+AG38 -> 0 | AI6: =AI22+AI30+AI38 -> 0 | AK6: =AK22+AK30+AK38 -> 0
D7: =D15+D23+D31+D39 -> 601 | F7: =SUM(H7:J7) -> 546 | H7: =H15 -> 240 | J7: =J15 -> 306 | L7: =L23+L31+L39 -> 44 | N7: =N23+N31+N39 -> 4 | P7: =P23+P31+P39 -> 23 | R7: =R23+R31+R39 -> 14 | T7: =T23+T31+T39 -> 0 | V7: =V23+V31+V39 -> 3 | X7: =X23+X31+X39 -> 0 | Z7: =Z23+Z31+Z39 -> 0 | AB7: =AB23+AB31+AB39 -> 11 | AD7: =AD23+AD31+AD39 -> 0 | AF7: =AF23+AF31+AF39 -> 11 | AH7: =AH23+AH31+AH39 -> 0 | AJ7: =AJ23+AJ31+AJ39 -> 0 | AL7: =AL23+AL31+AL39 -> 0
B8: 19시~20시 | C8: =C16+C24+C32+C40 -> 193 | E8: =SUM(G8:I8) -> 178 | G8: =G16 -> 93 | I8: =I16 -> 85 | K8: =K24+K32+K40 -> 0 | M8: =M24+M32+M40 -> 0 | O8: =O24+O32+O40 -> 0 | Q8: =Q24+Q32+Q40 -> 0 | S8: =S24+S32+S40 -> 0 | U8: =U24+U32+U40 -> 0 | W8: =W24+W32+W40 -> 0 | Y8: =Y24+Y32+Y40 -> 0 | AA8: =AA24+AA32+AA40 -> 15 | AC8: =AC24+AC32+AC40 -> 0 | AE8: =AE24+AE32+AE40 -> 15 | AG8: =AG24+AG32+AG40 -> 0 | AI8: =AI24+AI32+AI40 -> 0 | AK8: =AK24+AK32+AK40 -> 0
D9: =D17+D25+D33+D41 -> 397 | F9: =SUM(H9:J9) -> 367 | H9: =H17 -> 184 | J9: =J17 -> 183 | L9: =L25+L33+L41 -> 0 | N9: =N25+N33+N41 -> 0 | P9: =P25+P33+P41 -> 0 | R9: =R25+R33+R41 -> 0 | T9: =T25+T33+T41 -> 0 | V9: =V25+V33+V41 -> 0 | X9: =X25+X33+X41 -> 0 | Z9: =Z25+Z33+Z41 -> 0 | AB9: =AB25+AB33+AB41 -> 30 | AD9: =AD25+AD33+AD41 -> 1 | AF9: =AF25+AF33+AF41 -> 29 | AH9: =AH25+AH33+AH41 -> 0 | AJ9: =AJ25+AJ33+AJ41 -> 0 | AL9: =AL25+AL33+AL41 -> 0
B10: 20시~21시 | C10: =C18+C26+C34+C42 -> 0 | E10: =SUM(G10:I10) -> 0 | G10: =G18 -> 0 | I10: =I18 -> 0 | K10: =K26+K34+K42 -> 0 | M10: =M26+M34+M42 -> 0 | O10: =O26+O34+O42 -> 0 | Q10: =Q26+Q34+Q42 -> 0 | S10: =S26+S34+S42 -> 0 | U10: =U26+U34+U42 -> 0 | W10: =W26+W34+W42 -> 0 | Y10: =Y26+Y34+Y42 -> 0 | AA10: =AA26+AA34+AA42 -> 0 | AC10: =AC26+AC34+AC42 -> 0 | AE10: =AE26+AE34+AE42 -> 0 | AG10: =AG26+AG34+AG42 -> 0 | AI10: =AI26+AI34+AI42 -> 0 | AK10: =AK26+AK34+AK42 -> 0
D11: =D19+D27+D35+D43 -> 0 | F11: =SUM(H11:J11) -> 0 | H11: =H19 -> 0 | J11: =J19 -> 0 | L11: =L27+L35+L43 -> 0 | N11: =N27+N35+N43 -> 0 | P11: =P27+P35+P43 -> 0 | R11: =R27+R35+R43 -> 0 | T11: =T27+T35+T43 -> 0 | V11: =V27+V35+V43 -> 0 | X11: =X27+X35+X43 -> 0 | Z11: =Z27+Z35+Z43 -> 0 | AB11: =AB27+AB35+AB43 -> 0 | AD11: =AD27+AD35+AD43 -> 0 | AF11: =AF27+AF35+AF43 -> 0 | AH11: =AH27+AH35+AH43 -> 0 | AJ11: =AJ27+AJ35+AJ43 -> 0 | AL11: =AL27+AL35+AL43 -> 0
A12: 여권민원실 | B12: 계 | C12: =E12 -> 482 | E12: =SUM(E14:E19) -> 482 | G12: =SUM(G14:G18) -> 229 | I12: =SUM(I14:I18) -> 253
D13: =F13 -> 913 | F13: =SUM(F15:F19) -> 913 | H13: =SUM(H15:H19) -> 424 | J13: =SUM(J15:J19) -> 489
B14: 18시~19시 | C14: =E14 -> 304 | E14: =SUM(G14+I14) -> 304 | G14: 136 | I14: 168
D15: =F15 -> 546 | F15: =SUM(H15:J15) -> 546 | H15: =SUM('[1]1'!H15,'2'!G14) -> 240 | J15: =SUM('[1]1'!J15,'2'!I14) -> 306
B16: 19시~20시 | C16: =E16 -> 178 | E16: =SUM(G16:I16) -> 178 | G16: 93 | I16: 85
D17: =F17 -> 367 | F17: =SUM(H17:J17) -> 367 | H17: =SUM('[1]1'!H17,'2'!G16) -> 184 | J17: =SUM('[1]1'!J17,'2'!I16) -> 183
B18: 20시~21시 | C18: =E18 -> 0 | E18: =SUM(G18:I18) -> 0 | G18: 0 | I18: 0
D19: =F19 -> 0 | F19: =SUM(H19:J19) -> 0 | H19: =SUM('[1]1'!H19,'2'!G18) -> 0 | J19: =SUM('[1]1'!J19,'2'!I18) -> 0
A20: 수정구 | B20: 계 | C20: =SUM(C22:C26) -> 41 | K20: =SUM(M20:Z20) -> 38 | M20: =SUM(M22:M27) -> 2 | O20: =SUM(O22:O27) -> 20 | Q20: =SUM(Q22:Q27) -> 14 | S20: =SUM(S22:S27) -> 0 | U20: =SUM(U22:U27) -> 2 | W20: =SUM(W22:W27) -> 0 | Y20: =SUM(Y22:Y27) -> 0 | AA20: =SUM(AA22:AA27) -> 3 | AC20: =SUM(AC22:AC27) -> 0 | AE20: =SUM(AE22:AE27) -> 3 | AG20: =SUM(AG22:AG27) -> 0 | AI20: =SUM(AI22:AI27) -> 0 | AK20: =SUM(AK22:AK27) -> 0
D21: =SUM(D23:D27) -> 43 | L21: =SUM(N21:Z21) -> 38 | N21: =SUM(N23:N27) -> 2 | P21: =SUM(P23:P27) -> 20 | R21: =SUM(R23:R27) -> 14 | T21: =SUM(T23:T27) -> 0 | V21: =SUM(V23:V27) -> 2 | X21: =SUM(X23:X27) -> 0 | Z21: =SUM(Z23:Z27) -> 0 | AB21: =SUM(AB23:AB27) -> 5 | AD21: =SUM(AD23:AD27) -> 1 | AF21: =SUM(AF23:AF27) -> 4 | AH21: =SUM(AH23:AH27) -> 0 | AJ21: =SUM(AJ23:AJ27) -> 0 | AL21: =SUM(AL23:AL27) -> 0
B22: 18시~19시 | C22: =K22+AA22 -> 39 | K22: =SUM(M22:Z22) -> 38 | M22: 2 | O22: 20 | Q22: 14 | S22: 0 | U22: 2 | W22: 0 | Y22: 0 | AA22: =SUM(AC22:AL22) -> 1 | AC22: 0 | AE22: 1 | AG22: 0 | AI22: 0 | AK22: 0
D23: =L23+AB23 -> 39 | L23: =SUM(N23:Z23) -> 38 | N23: =M22 -> 2 | P23: =O22 -> 20 | R23: =Q22 -> 14 | T23: =S22 -> 0 | V23: =U22 -> 2 | X23: =W22 -> 0 | Z23: =Y22 -> 0 | AB23: =AD23+AF23+AH23+AJ23+AL23 -> 1 | AD23: =AC22 -> 0 | AF23: =AE22 -> 1 | AH23: =AG22 -> 0 | AJ23: =AI22 -> 0 | AL23: =AK22 -> 0
B24: 19시~20시 | C24: =K24+AA24 -> 2 | K24: =SUM(M24:Z24) -> 0 | M24: 0 | O24: 0 | Q24: 0 | S24: 0 | U24: 0 | W24: 0 | Y24: 0 | AA24: =SUM(AC24:AK24) -> 2 | AC24: 0 | AE24: 2 | AG24: 0 | AI24: 0 | AK24: 0
D25: =L25+AB25 -> 4 | L25: =SUM(N25:Z25) -> 0 | N25: =M24 -> 0 | P25: =O24 -> 0 | R25: =Q24 -> 0 | T25: =S24 -> 0 | V25: =U24 -> 0 | X25: =W24 -> 0 | Z25: =Y24 -> 0 | AB25: =AD25+AF25+AH25+AJ25+AL25 -> 4 | AD25: 1 | AF25: 3 | AH25: =AG24 -> 0 | AJ25: =AI24 -> 0 | AL25: =AK24 -> 0
B26: 20시~21시 | C26: =K26+AA26 -> 0 | K26: =SUM(M26:Z26) -> 0 | M26: 0 | O26: 0 | Q26: 0 | S26: 0 | U26: 0 | W26: 0 | Y26: 0 | AA26: =SUM(AC26:AL26) -> 0 | AC26: 0 | AE26: 0 | AG26: 0 | AI26: 0 | AK26: 0
D27: =L27+AB26:AB27 -> 0 | L27: =SUM(N27:Z27) -> 0 | N27: =M26 -> 0 | P27: =O26 -> 0 | R27: =Q26 -> 0 | T27: =S26 -> 0 | V27: =U26 -> 0 | X27: =W26 -> 0 | Z27: =Y26 -> 0 | AB27: =AD27+AF27+AH27+AJ27+AL27 -> 0 | AD27: =AC26 -> 0 | AF27: =AE26 -> 0 | AH27: =AG26 -> 0 | AJ27: =AI26 -> 0 | AL27: =AK26 -> 0
A28: 중원구 | B28: 계 | C28: =SUM(C30:C34) -> 10 | K28: =SUM(M28:Z28) -> 4 | M28: =SUM(M30:M35) -> 1 | O28: =SUM(O30:O35) -> 2 | Q28: =SUM(Q30:Q35) -> 0 | S28: =SUM(S30:S35) -> 0 | U28: =SUM(U30:U35) -> 1 | W28: =SUM(W30:W35) -> 0 | Y28: =SUM(Y30:Y35) -> 0 | AA28: =SUM(AA30:AA35) -> 6 | AC28: =SUM(AC30:AC35) -> 0 | AE28: =SUM(AE30:AE35) -> 6 | AG28: =SUM(AG30:AG35) -> 0 | AI28: =SUM(AI30:AI35) -> 0 | AK28: =SUM(AK30:AK35) -> 0
D29: =SUM(D31:D35) -> 17 | L29: =SUM(N29:Z29) -> 6 | N29: =SUM(N31:N35) -> 2 | P29: =SUM(P31:P35) -> 3 | R29: =SUM(R31:R35) -> 0 | T29: =SUM(T31:T35) -> 0 | V29: =SUM(V31:V35) -> 1 | X29: =SUM(X31:X35) -> 0 | Z29: =SUM(Z31:Z35) -> 0 | AB29: =SUM(AB31:AB35) -> 11 | AD29: =SUM(AD31:AD35) -> 0 | AF29: =SUM(AF31:AF35) -> 11 | AH29: =SUM(AH31:AH35) -> 0 | AJ29: =SUM(AJ31:AJ35) -> 0 | AL29: =SUM(AL31:AL35) -> 0
B30: 18시~19시 | C30: =K30+AA30 -> 6 | K30: =SUM(M30:Z30) -> 4 | M30: 1 | O30: 2 | Q30: 0 | S30: 0 | U30: 1 | W30: 0 | Y30: 0 | AA30: =SUM(AC30:AL30) -> 2 | AC30: 0 | AE30: 2 | AG30: 0 | AI30: 0 | AK30: 0
D31: =L31+AB31 -> 10 | L31: =SUM(N31:Z31) -> 6 | N31: =SUM('[2]1'!N31,'[2]2'!M30) -> 2 | P31: =SUM('[2]1'!P31,'[2]2'!O30) -> 3 | R31: =Q30 -> 0 | T31: =S30 -> 0 | V31: =SUM('[2]1'!V31,'[2]2'!U30) -> 1 | X31: =W30 -> 0 | Z31: =Y30 -> 0 | AB31: =AD31+AF31+AH31+AJ31+AL31 -> 4 | AD31: =AC30 -> 0 | AF31: =SUM('[2]1'!AF31,'[2]2'!AE30) -> 4 | AH31: =AG30 -> 0 | AJ31: =AI30 -> 0 | AL31: =AK30 -> 0
B32: 19시~20시 | C32: =K32+AA32 -> 4 | K32: =SUM(M32:Z32) -> 0 | M32: 0 | O32: 0 | Q32: 0 | S32: 0 | U32: 0 | W32: 0 | Y32: 0 | AA32: =SUM(AC32:AK32) -> 4 | AC32: 0 | AE32: 4 | AG32: 0 | AI32: 0 | AK32: 0
D33: =L33+AB33 -> 7 | L33: =SUM(N33:Z33) -> 0 | N33: =M32 -> 0 | P33: =O32 -> 0 | R33: =Q32 -> 0 | T33: =S32 -> 0 | V33: =U32 -> 0 | X33: =W32 -> 0 | Z33: =Y32 -> 0 | AB33: =AD33+AF33+AH33+AJ33+AL33 -> 7 | AD33: =AC32 -> 0 | AF33: =SUM('[2]1'!AF33,'[2]2'!AE32) -> 7 | AH33: =AG32 -> 0 | AJ33: =AI32 -> 0 | AL33: =AK32 -> 0
B34: 20시~21시 | C34: =K34+AA34 -> 0 | K34: =SUM(M34:Z34) -> 0 | M34: 0 | O34: 0 | Q34: 0 | S34: 0 | U34: 0 | W34: 0 | Y34: 0 | AA34: =SUM(AC34:AL34) -> 0 | AC34: 0 | AE34: 0 | AG34: 0 | AI34: 0 | AK34: 0
D35: =L35+AB34:AB35 -> 0 | L35: =SUM(N35:Z35) -> 0 | N35: =M34 -> 0 | P35: =O34 -> 0 | R35: =Q34 -> 0 | T35: =S34 -> 0 | V35: =U34 -> 0 | X35: =W34 -> 0 | Z35: =Y34 -> 0 | AB35: =AD35+AF35+AH35+AJ35+AL35 -> 0 | AD35: =AC34 -> 0 | AF35: 0 | AH35: =AG34 -> 0 | AJ35: =AI34 -> 0 | AL35: =AK34 -> 0
A36: 분당구 | B36: 계 | C36: =SUM(C38:C42) -> 12 | K36: =SUM(M36:Z36) -> 0 | M36: =SUM(M38:M43) -> 0 | O36: =SUM(O38:O43) -> 0 | Q36: =SUM(Q38:Q43) -> 0 | S36: =SUM(S38:S43) -> 0 | U36: =SUM(U38:U43) -> 0 | W36: =SUM(W38:W43) -> 0 | Y36: =SUM(Y38:Y43) -> 0 | AA36: =SUM(AA38:AA43) -> 12 | AC36: =SUM(AC38:AC43) -> 0 | AE36: =SUM(AE38:AE43) -> 12 | AG36: =SUM(AG38:AG43) -> 0 | AI36: =SUM(AI38:AI43) -> 0 | AK36: =SUM(AK38:AK43) -> 0
D37: =SUM(D39:D43) -> 25 | L37: =SUM(N37:Z37) -> 0 | N37: =SUM(N39:N43) -> 0 | P37: =SUM(P39:P43) -> 0 | R37: =SUM(R39:R43) -> 0 | T37: =SUM(T39:T43) -> 0 | V37: =SUM(V39:V43) -> 0 | X37: =SUM(X39:X43) -> 0 | Z37: =SUM(Z39:Z43) -> 0 | AB37: =SUM(AB39:AB43) -> 25 | AD37: =SUM(AD39:AD43) -> 0 | AF37: =SUM(AF39:AF43) -> 25 | AH37: =SUM(AH39:AH43) -> 0 | AJ37: =SUM(AJ39:AJ43) -> 0 | AL37: =SUM(AL39:AL43) -> 0
B38: 18시~19시 | C38: =K38+AA38 -> 3 | K38: =SUM(M38:Z38) -> 0 | M38: 0 | O38: 0 | Q38: 0 | S38: 0 | U38: 0 | W38: 0 | Y38: 0 | AA38: =SUM(AC38:AL38) -> 3 | AC38: 0 | AE38: 3 | AG38: 0 | AI38: 0 | AK38: 0
D39: =L39+AB39 -> 6 | L39: =SUM(N39:Z39) -> 0 | N39: =SUM('[3]1'!N39,'[3]2'!M38) -> 0 | P39: =SUM('[3]1'!P39,'[3]2'!O38) -> 0 | R39: =SUM('[3]1'!R39,'[3]2'!Q38) -> 0 | T39: =SUM('[3]1'!T39,'[3]2'!S38) -> 0 | V39: =SUM('[3]1'!V39,'[3]2'!U38) -> 0 | X39: =SUM('[3]1'!X39,'[3]2'!W38) -> 0 | Z39: =SUM('[3]1'!Z39,'[3]2'!Y38) -> 0 | AB39: =AD39+AF39+AH39+AJ39+AL39 -> 6 | AD39: =SUM('[3]1'!AD39,'[3]2'!AC38) -> 0 | AF39: =SUM('[3]1'!AF39,'[3]2'!AE38) -> 6 | AH39: =SUM('[3]1'!AH39,'[3]2'!AG38) -> 0 | AJ39: =SUM('[3]1'!AJ39,'[3]2'!AI38) -> 0 | AL39: =SUM('[3]1'!AL39,'[3]2'!AK38) -> 0
B40: 19시~20시 | C40: =K40+AA40 -> 9 | K40: =SUM(M40:Z40) -> 0 | M40: 0 | O40: 0 | Q40: 0 | S40: 0 | U40: 0 | W40: 0 | Y40: 0 | AA40: =SUM(AC40:AK40) -> 9 | AC40: 0 | AE40: 9 | AG40: 0 | AI40: 0 | AK40: 0
...

Sheet 3
A1: 2025. 3월 야간 민원실 운영실적
A2: 구분 | B2: 시간 | C2: 월계/누계 | E2: 여 권 민 원 | K2: 제 증 명 발 급 | AA2: 신 고 민 원
E3: 소계 | G3: 접수 | I3: 교부 | K3: 소계 | M3: 주민등·초본 | O3: 인감증명 | Q3: 본인서명 | S3: 제적등·초본 | U3: 가족관계등록 | W3: 어디서나민원 | Y3: 기타 | AA3: 소계 | AC3: 출생·사망 | AE3: 혼인·이혼 | AG3: 전입신고 | AI3: 주민증 | AK3: 정정.재등록
A4: 합계 | B4: 월계 / 누계 | C4: =C12+C20+C28+C36 -> 456 | E4: =SUM(E6:E11) -> 437 | G4: =SUM(G6:G10) -> 164 | I4: =SUM(I6:I10) -> 273 | K4: =K20+K28+K36 -> 2 | M4: =M20+M28+M36 -> 0 | O4: =O20+O28+O36 -> 2 | Q4: =Q20+Q28+Q36 -> 0 | S4: =S20+S28+S36 -> 0 | U4: =U20+U28+U36 -> 0 | W4: =W20+W28+W36 -> 0 | Y4: =Y20+Y28+Y36 -> 0 | AA4: =AA20+AA28+AA36 -> 17 | AC4: =AC20+AC28+AC36 -> 0 | AE4: =AE20+AE28+AE36 -> 17 | AG4: =AG20+AG28+AG36 -> 0 | AI4: =AI20+AI28+AI36 -> 0 | AK4: =AK20+AK28+AK36 -> 0
D5: =D7+D9+D11 -> 1454 | F5: =SUM(F7:F11) -> 1350 | H5: =SUM(H7:H11) -> 588 | J5: =SUM(J7:J11) -> 762 | L5: =L21+L29+L37 -> 46 | N5: =N21+N29+N37 -> 4 | P5: =P21+P29+P37 -> 25 | R5: =R21+R29+R37 -> 14 | T5: =T21+T29+T37 -> 0 | V5: =V21+V29+V37 -> 3 | X5: =X21+X29+X37 -> 0 | Z5: =Z21+Z29+Z37 -> 0 | AB5: =AB21+AB29+AB37 -> 58 | AD5: =AD21+AD29+AD37 -> 1 | AF5: =AF21+AF29+AF37 -> 57 | AH5: =AH21+AH29+AH37 -> 0 | AJ5: =AJ21+AJ29+AJ37 -> 0 | AL5: =AL21+AL29+AL37 -> 0
B6: 18시~19시 | C6: =C14+C22+C30+C38 -> 282 | E6: =SUM(G6+I6) -> 278 | G6: =G14 -> 97 | I6: =I14 -> 181 | K6: =K22+K30+K38 -> 0 | M6: =M22+M30+M38 -> 0 | O6: =O22+O30+O38 -> 0 | Q6: =Q22+Q30+Q38 -> 0 | S6: =S22+S30+S38 -> 0 | U6: =U22+U30+U38 -> 0 | W6: =W22+W30+W38 -> 0 | Y6: =Y22+Y30+Y38 -> 0 | AA6: =AA22+AA30+AA38 -> 4 | AC6: =AC22+AC30+AC38 -> 0 | AE6: =AE22+AE30+AE38 -> 4 | AG6: =AG22+AG30+AG38 -> 0 | AI6: =AI22+AI30+AI38 -> 0 | AK6: =AK22+AK30+AK38 -> 0
D7: =D15+D23+D31+D39 -> 883 | F7: =SUM(H7:J7) -> 824 | H7: =H15 -> 337 | J7: =J15 -> 487 | L7: =L23+L31+L39 -> 44 | N7: =N23+N31+N39 -> 4 | P7: =P23+P31+P39 -> 23 | R7: =R23+R31+R39 -> 14 | T7: =T23+T31+T39 -> 0 | V7: =V23+V31+V39 -> 3 | X7: =X23+X31+X39 -> 0 | Z7: =Z23+Z31+Z39 -> 0 | AB7: =AB23+AB31+AB39 -> 15 | AD7: =AD23+AD31+AD39 -> 0 | AF7: =AF23+AF31+AF39 -> 15 | AH7: =AH23+AH31+AH39 -> 0 | AJ7: =AJ23+AJ31+AJ39 -> 0 | AL7: =AL23+AL31+AL39 -> 0
B8: 19시~20시 | C8: =C16+C24+C32+C40 -> 174 | E8: =SUM(G8:I8) -> 159 | G8: =G16 -> 67 | I8: =I16 -> 92 | K8: =K24+K32+K40 -> 2 | M8: =M24+M32+M40 -> 0 | O8: =O24+O32+O40 -> 2 | Q8: =Q24+Q32+Q40 -> 0 | S8: =S24+S32+S40 -> 0 | U8: =U24+U32+U40 -> 0 | W8: =W24+W32+W40 -> 0 | Y8: =Y24+Y32+Y40 -> 0 | AA8: =AA24+AA32+AA40 -> 13 | AC8: =AC24+AC32+AC40 -> 0 | AE8: =AE24+AE32+AE40 -> 13 | AG8: =AG24+AG32+AG40 -> 0 | AI8: =AI24+AI32+AI40 -> 0 | AK8: =AK24+AK32+AK40 -> 0
D9: =D17+D25+D33+D41 -> 571 | F9: =SUM(H9:J9) -> 526 | H9: =H17 -> 251 | J9: =J17 -> 275 | L9: =L25+L33+L41 -> 2 | N9: =N25+N33+N41 -> 0 | P9: =P25+P33+P41 -> 2 | R9: =R25+R33+R41 -> 0 | T9: =T25+T33+T41 -> 0 | V9: =V25+V33+V41 -> 0 | X9: =X25+X33+X41 -> 0 | Z9: =Z25+Z33+Z41 -> 0 | AB9: =AB25+AB33+AB41 -> 43 | AD9: =AD25+AD33+AD41 -> 1 | AF9: =AF25+AF33+AF41 -> 42 | AH9: =AH25+AH33+AH41 -> 0 | AJ9: =AJ25+AJ33+AJ41 -> 0 | AL9: =AL25+AL33+AL41 -> 0
B10: 20시~21시 | C10: =C18+C26+C34+C42 -> 0 | E10: =SUM(G10:I10) -> 0 | G10: =G18 -> 0 | I10: =I18 -> 0 | K10: =K26+K34+K42 -> 0 | M10: =M26+M34+M42 -> 0 | O10: =O26+O34+O42 -> 0 | Q10: =Q26+Q34+Q42 -> 0 | S10: =S26+S34+S42 -> 0 | U10: =U26+U34+U42 -> 0 | W10: =W26+W34+W42 -> 0 | Y10: =Y26+Y34+Y42 -> 0 | AA10: =AA26+AA34+AA42 -> 0 | AC10: =AC26+AC34+AC42 -> 0 | AE10: =AE26+AE34+AE42 -> 0 | AG10: =AG26+AG34+AG42 -> 0 | AI10: =AI26+AI34+AI42 -> 0 | AK10: =AK26+AK34+AK42 -> 0
D11: =D19+D27+D35+D43 -> 0 | F11: =SUM(H11:J11) -> 0 | H11: =H19 -> 0 | J11: =J19 -> 0 | L11: =L27+L35+L43 -> 0 | N11: =N27+N35+N43 -> 0 | P11: =P27+P35+P43 -> 0 | R11: =R27+R35+R43 -> 0 | T11: =T27+T35+T43 -> 0 | V11: =V27+V35+V43 -> 0 | X11: =X27+X35+X43 -> 0 | Z11: =Z27+Z35+Z43 -> 0 | AB11: =AB27+AB35+AB43 -> 0 | AD11: =AD27+AD35+AD43 -> 0 | AF11: =AF27+AF35+AF43 -> 0 | AH11: =AH27+AH35+AH43 -> 0 | AJ11: =AJ27+AJ35+AJ43 -> 0 | AL11: =AL27+AL35+AL43 -> 0
A12: 여권민원실 | B12: 계 | C12: =E12 -> 437 | E12: =SUM(E14:E19) -> 437 | G12: =SUM(G14:G18) -> 164 | I12: =SUM(I14:I18) -> 273
D13: =F13 -> 1350 | F13: =SUM(F15:F19) -> 1350 | H13: =SUM(H15:H19) -> 588 | J13: =SUM(J15:J19) -> 762
B14: 18시~19시 | C14: =E14 -> 278 | E14: =SUM(G14+I14) -> 278 | G14: 97 | I14: 181
D15: =F15 -> 824 | F15: =SUM(H15:J15) -> 824 | H15: 337 | J15: 487
B16: 19시~20시 | C16: =E16 -> 159 | E16: =SUM(G16:I16) -> 159 | G16: 67 | I16: 92
D17: =F17 -> 526 | F17: =SUM(H17:J17) -> 526 | H17: 251 | J17: 275
B18: 20시~21시 | C18: =E18 -> 0 | E18: =SUM(G18:I18) -> 0 | G18: 0 | I18: 0
D19: =F19 -> 0 | F19: =SUM(H19:J19) -> 0 | H19: 0 | J19: 0
A20: 수정구 | B20: 계 | C20: =SUM(C22:C26) -> 3 | K20: =SUM(M20:Z20) -> 0 | M20: =SUM(M22:M27) -> 0 | O20: =SUM(O22:O27) -> 0 | Q20: =SUM(Q22:Q27) -> 0 | S20: =SUM(S22:S27) -> 0 | U20: =SUM(U22:U27) -> 0 | W20: =SUM(W22:W27) -> 0 | Y20: =SUM(Y22:Y27) -> 0 | AA20: =SUM(AA22:AA27) -> 3 | AC20: =SUM(AC22:AC27) -> 0 | AE20: =SUM(AE22:AE27) -> 3 | AG20: =SUM(AG22:AG27) -> 0 | AI20: =SUM(AI22:AI27) -> 0 | AK20: =SUM(AK22:AK27) -> 0
D21: =SUM(D23:D27) -> 46 | L21: =SUM(N21:Z21) -> 38 | N21: =SUM(N23:N27) -> 2 | P21: =SUM(P23:P27) -> 20 | R21: =SUM(R23:R27) -> 14 | T21: =SUM(T23:T27) -> 0 | V21: =SUM(V23:V27) -> 2 | X21: =SUM(X23:X27) -> 0 | Z21: =SUM(Z23:Z27) -> 0 | AB21: =SUM(AB23:AB27) -> 8 | AD21: =SUM(AD23:AD27) -> 1 | AF21: =SUM(AF23:AF27) -> 7 | AH21: =SUM(AH23:AH27) -> 0 | AJ21: =SUM(AJ23:AJ27) -> 0 | AL21: =SUM(AL23:AL27) -> 0
B22: 18시~19시 | C22: =K22+AA22 -> 0 | K22: =SUM(M22:Z22) -> 0 | M22: 0 | O22: 0 | Q22: 0 | S22: 0 | U22: 0 | W22: 0 | Y22: 0 | AA22: =SUM(AC22:AL22) -> 0 | AC22: 0 | AE22: 0 | AG22: 0 | AI22: 0 | AK22: 0
D23: =L23+AB23 -> 39 | L23: =SUM(N23:Z23) -> 38 | N23: 2 | P23: 20 | R23: 14 | T23: 0 | V23: 2 | X23: 0 | Z23: 0 | AB23: =AD23+AF23+AH23+AJ23+AL23 -> 1 | AD23: 0 | AF23: 1 | AH23: 0 | AJ23: 0 | AL23: 0
B24: 19시~20시 | C24: =K24+AA24 -> 3 | K24: =SUM(M24:Z24) -> 0 | M24: 0 | O24: 0 | Q24: 0 | S24: 0 | U24: 0 | W24: 0 | Y24: 0 | AA24: =SUM(AC24:AK24) -> 3 | AC24: 0 | AE24: 3 | AG24: 0 | AI24: 0 | AK24: 0
D25: =L25+AB25 -> 7 | L25: =SUM(N25:Z25) -> 0 | N25: 0 | P25: 0 | R25: 0 | T25: 0 | V25: 0 | X25: 0 | Z25: 0 | AB25: =AD25+AF25+AH25+AJ25+AL25 -> 7 | AD25: 1 | AF25: 6 | AH25: 0 | AJ25: 0 | AL25: 0
B26: 20시~21시 | C26: =K26+AA26 -> 0 | K26: =SUM(M26:Z26) -> 0 | M26: 0 | O26: 0 | Q26: 0 | S26: 0 | U26: 0 | W26: 0 | Y26: 0 | AA26: =SUM(AC26:AL26) -> 0 | AC26: 0 | AE26: 0 | AG26: 0 | AI26: 0 | AK26: 0
D27: =L27+AB26:AB27 -> 0 | L27: =SUM(N27:Z27) -> 0 | N27: 0 | P27: 0 | R27: 0 | T27: 0 | V27: 0 | X27: 0 | Z27: 0 | AB27: =AD27+AF27+AH27+AJ27+AL27 -> 0 | AD27: 0 | AF27: 0 | AH27: 0 | AJ27: 0 | AL27: 0
A28: 중원구 | B28: 계 | C28: =SUM(C30:C34) -> 6 | K28: =SUM(M28:Z28) -> 2 | M28: =SUM(M30:M35) -> 0 | O28: =SUM(O30:O35) -> 2 | Q28: =SUM(Q30:Q35) -> 0 | S28: =SUM(S30:S35) -> 0 | U28: =SUM(U30:U35) -> 0 | W28: =SUM(W30:W35) -> 0 | Y28: =SUM(Y30:Y35) -> 0 | AA28: =SUM(AA30:AA35) -> 4 | AC28: =SUM(AC30:AC35) -> 0 | AE28: =SUM(AE30:AE35) -> 4 | AG28: =SUM(AG30:AG35) -> 0 | AI28: =SUM(AI30:AI35) -> 0 | AK28: =SUM(AK30:AK35) -> 0
D29: =SUM(D31:D35) -> 23 | L29: =SUM(N29:Z29) -> 8 | N29: =SUM(N31:N35) -> 2 | P29: =SUM(P31:P35) -> 5 | R29: =SUM(R31:R35) -> 0 | T29: =SUM(T31:T35) -> 0 | V29: =SUM(V31:V35) -> 1 | X29: =SUM(X31:X35) -> 0 | Z29: =SUM(Z31:Z35) -> 0 | AB29: =SUM(AB31:AB35) -> 15 | AD29: =SUM(AD31:AD35) -> 0 | AF29: =SUM(AF31:AF35) -> 15 | AH29: =SUM(AH31:AH35) -> 0 | AJ29: =SUM(AJ31:AJ35) -> 0 | AL29: =SUM(AL31:AL35) -> 0
B30: 18시~19시 | C30: =K30+AA30 -> 3 | K30: =SUM(M30:Z30) -> 0 | M30: 0 | O30: 0 | Q30: 0 | S30: 0 | U30: 0 | W30: 0 | Y30: 0 | AA30: =SUM(AC30:AL30) -> 3 | AC30: 0 | AE30: 3 | AG30: 0 | AI30: 0 | AK30: 0
D31: =L31+AB31 -> 13 | L31: =SUM(N31:Z31) -> 6 | N31: 2 | P31: 3 | R31: 0 | T31: 0 | V31: 1 | X31: 0 | Z31: 0 | AB31: =AD31+AF31+AH31+AJ31+AL31 -> 7 | AD31: 0 | AF31: 7 | AH31: 0 | AJ31: 0 | AL31: 0
B32: 19시~20시 | C32: =K32+AA32 -> 3 | K32: =SUM(M32:Z32) -> 2 | M32: 0 | O32: 2 | Q32: 0 | S32: 0 | U32: 0 | W32: 0 | Y32: 0 | AA32: =SUM(AC32:AK32) -> 1 | AC32: 0 | AE32: 1 | AG32: 0 | AI32: 0 | AK32: 0
D33: =L33+AB33 -> 10 | L33: =SUM(N33:Z33) -> 2 | N33: 0 | P33: 2 | R33: 0 | T33: 0 | V33: 0 | X33: 0 | Z33: 0 | AB33: =AD33+AF33+AH33+AJ33+AL33 -> 8 | AD33: 0 | AF33: 8 | AH33: 0 | AJ33: 0 | AL33: 0
B34: 20시~21시 | C34: =K34+AA34 -> 0 | K34: =SUM(M34:Z34) -> 0 | M34: 0 | O34: 0 | Q34: 0 | S34: 0 | U34: 0 | W34: 0 | Y34: 0 | AA34: =SUM(AC34:AL34) -> 0 | AC34: 0 | AE34: 0 | AG34: 0 | AI34: 0 | AK34: 0
D35: =L35+AB34:AB35 -> 0 | L35: =SUM(N35:Z35) -> 0 | N35: 0 | P35: 0 | R35: 0 | T35: 0 | V35: 0 | X35: 0 | Z35: 0 | AB35: =AD35+AF35+AH35+AJ35+AL35 -> 0 | AD35: 0 | AF35: 0 | AH35: 0 | AJ35: 0 | AL35: 0
A36: 분당구 | B36: 계 | C36: =SUM(C38:C42) -> 10 | K36: =SUM(M36:Z36) -> 0 | M36: =SUM(M38:M43) -> 0 | O36: =SUM(O38:O43) -> 0 | Q36: =SUM(Q38:Q43) -> 0 | S36: =SUM(S38:S43) -> 0 | U36: =SUM(U38:U43) -> 0 | W36: =SUM(W38:W43) -> 0 | Y36: =SUM(Y38:Y43) -> 0 | AA36: =SUM(AA38:AA43) -> 10 | AC36: =SUM(AC38:AC43) -> 0 | AE36: =SUM(AE38:AE43) -> 10 | AG36: =SUM(AG38:AG43) -> 0 | AI36: =SUM(AI38:AI43) -> 0 | AK36: =SUM(AK38:AK43) -> 0
D37: =SUM(D39:D43) -> 35 | L37: =SUM(N37:Z37) -> 0 | N37: =SUM(N39:N43) -> 0 | P37: =SUM(P39:P43) -> 0 | R37: =SUM(R39:R43) -> 0 | T37: =SUM(T39:T43) -> 0 | V37: =SUM(V39:V43) -> 0 | X37: =SUM(X39:X43) -> 0 | Z37: =SUM(Z39:Z43) -> 0 | AB37: =SUM(AB39:AB43) -> 35 | AD37: =SUM(AD39:AD43) -> 0 | AF37: =SUM(AF39:AF43) -> 35 | AH37: =SUM(AH39:AH43) -> 0 | AJ37: =SUM(AJ39:AJ43) -> 0 | AL37: =SUM(AL39:AL43) -> 0
B38: 18시~19시 | C38: =K38+AA38 -> 1 | K38: =SUM(M38:Z38) -> 0 | M38: 0 | O38: 0 | Q38: 0 | S38: 0 | U38: 0 | W38: 0 | Y38: 0 | AA38: =SUM(AC38:AL38) -> 1 | AC38: 0 | AE38: 1 | AG38: 0 | AI38: 0 | AK38: 0
D39: =L39+AB39 -> 7 | L39: =SUM(N39:Z39) -> 0 | N39: 0 | P39: 0 | R39: 0 | T39: 0 | V39: 0 | X39: 0 | Z39: 0 | AB39: =AD39+AF39+AH39+AJ39+AL39 -> 7 | AD39: 0 | AF39: 7 | AH39: 0 | AJ39: 0 | AL39: 0
B40: 19시~20시 | C40: =K40+AA40 -> 9 | K40: =SUM(M40:Z40) -> 0 | M40: 0 | O40: 0 | Q40: 0 | S40: 0 | U40: 0 | W40: 0 | Y40: 0 | AA40: =SUM(AC40:AK40) -> 9 | AC40: 0 | AE40: 9 | AG40: 0 | AI40: 0 | AK40: 0
...

Sheet 4
A1: 2025. 4월 야간 민원실 운영실적
A2: 구분 | B2: 시간 | C2: 월계/누계 | E2: 여 권 민 원 | K2: 제 증 명 발 급 | AA2: 신 고 민 원
E3: 소계 | G3: 접수 | I3: 교부 | K3: 소계 | M3: 주민등·초본 | O3: 인감증명 | Q3: 본인서명 | S3: 제적등·초본 | U3: 가족관계등록 | W3: 어디서나민원 | Y3: 기타 | AA3: 소계 | AC3: 출생·사망 | AE3: 혼인·이혼 | AG3: 전입신고 | AI3: 주민증 | AK3: 정정.재등록
A4: 합계 | B4: 월계 / 누계 | C4: =C12+C20+C28+C36 -> 426 | E4: =SUM(E6:E11) -> 403 | G4: =SUM(G6:G10) -> 159 | I4: =SUM(I6:I10) -> 244 | K4: =K20+K28+K36 -> 3 | M4: =M20+M28+M36 -> 0 | O4: =O20+O28+O36 -> 3 | Q4: =Q20+Q28+Q36 -> 0 | S4: =S20+S28+S36 -> 0 | U4: =U20+U28+U36 -> 0 | W4: =W20+W28+W36 -> 0 | Y4: =Y20+Y28+Y36 -> 0 | AA4: =AA20+AA28+AA36 -> 20 | AC4: =AC20+AC28+AC36 -> 0 | AE4: =AE20+AE28+AE36 -> 20 | AG4: =AG20+AG28+AG36 -> 0 | AI4: =AI20+AI28+AI36 -> 0 | AK4: =AK20+AK28+AK36 -> 0
D5: =D7+D9+D11 -> 1880 | F5: =SUM(F7:F11) -> 1753 | H5: =SUM(H7:H11) -> 747 | J5: =SUM(J7:J11) -> 1006 | L5: =L21+L29+L37 -> 49 | N5: =N21+N29+N37 -> 4 | P5: =P21+P29+P37 -> 28 | R5: =R21+R29+R37 -> 14 | T5: =T21+T29+T37 -> 0 | V5: =V21+V29+V37 -> 3 | X5: =X21+X29+X37 -> 0 | Z5: =Z21+Z29+Z37 -> 0 | AB5: =AB21+AB29+AB37 -> 78 | AD5: =AD21+AD29+AD37 -> 1 | AF5: =AF21+AF29+AF37 -> 77 | AH5: =AH21+AH29+AH37 -> 0 | AJ5: =AJ21+AJ29+AJ37 -> 0 | AL5: =AL21+AL29+AL37 -> 0
B6: 18시~19시 | C6: =C14+C22+C30+C38 -> 269 | E6: =SUM(G6+I6) -> 262 | G6: =G14 -> 101 | I6: =I14 -> 161 | K6: =K22+K30+K38 -> 0 | M6: =M22+M30+M38 -> 0 | O6: =O22+O30+O38 -> 0 | Q6: =Q22+Q30+Q38 -> 0 | S6: =S22+S30+S38 -> 0 | U6: =U22+U30+U38 -> 0 | W6: =W22+W30+W38 -> 0 | Y6: =Y22+Y30+Y38 -> 0 | AA6: =AA22+AA30+AA38 -> 7 | AC6: =AC22+AC30+AC38 -> 0 | AE6: =AE22+AE30+AE38 -> 7 | AG6: =AG22+AG30+AG38 -> 0 | AI6: =AI22+AI30+AI38 -> 0 | AK6: =AK22+AK30+AK38 -> 0
D7: =D15+D23+D31+D39 -> 1152 | F7: =SUM(H7:J7) -> 1086 | H7: =H15 -> 438 | J7: =J15 -> 648 | L7: =L23+L31+L39 -> 44 | N7: =N23+N31+N39 -> 4 | P7: =P23+P31+P39 -> 23 | R7: =R23+R31+R39 -> 14 | T7: =T23+T31+T39 -> 0 | V7: =V23+V31+V39 -> 3 | X7: =X23+X31+X39 -> 0 | Z7: =Z23+Z31+Z39 -> 0 | AB7: =AB23+AB31+AB39 -> 22 | AD7: =AD23+AD31+AD39 -> 0 | AF7: =AF23+AF31+AF39 -> 22 | AH7: =AH23+AH31+AH39 -> 0 | AJ7: =AJ23+AJ31+AJ39 -> 0 | AL7: =AL23+AL31+AL39 -> 0
B8: 19시~20시 | C8: =C16+C24+C32+C40 -> 157 | E8: =SUM(G8:I8) -> 141 | G8: =G16 -> 58 | I8: =I16 -> 83 | K8: =K24+K32+K40 -> 3 | M8: =M24+M32+M40 -> 0 | O8: =O24+O32+O40 -> 3 | Q8: =Q24+Q32+Q40 -> 0 | S8: =S24+S32+S40 -> 0 | U8: =U24+U32+U40 -> 0 | W8: =W24+W32+W40 -> 0 | Y8: =Y24+Y32+Y40 -> 0 | AA8: =AA24+AA32+AA40 -> 13 | AC8: =AC24+AC32+AC40 -> 0 | AE8: =AE24+AE32+AE40 -> 13 | AG8: =AG24+AG32+AG40 -> 0 | AI8: =AI24+AI32+AI40 -> 0 | AK8: =AK24+AK32+AK40 -> 0
D9: =D17+D25+D33+D41 -> 728 | F9: =SUM(H9:J9) -> 667 | H9: =H17 -> 309 | J9: =J17 -> 358 | L9: =L25+L33+L41 -> 5 | N9: =N25+N33+N41 -> 0 | P9: =P25+P33+P41 -> 5 | R9: =R25+R33+R41 -> 0 | T9: =T25+T33+T41 -> 0 | V9: =V25+V33+V41 -> 0 | X9: =X25+X33+X41 -> 0 | Z9: =Z25+Z33+Z41 -> 0 | AB9: =AB25+AB33+AB41 -> 56 | AD9: =AD25+AD33+AD41 -> 1 | AF9: =AF25+AF33+AF41 -> 55 | AH9: =AH25+AH33+AH41 -> 0 | AJ9: =AJ25+AJ33+AJ41 -> 0 | AL9: =AL25+AL33+AL41 -> 0
B10: 20시~21시 | C10: =C18+C26+C34+C42 -> 0 | E10: =SUM(G10:I10) -> 0 | G10: =G18 -> 0 | I10: =I18 -> 0 | K10: =K26+K34+K42 -> 0 | M10: =M26+M34+M42 -> 0 | O10: =O26+O34+O42 -> 0 | Q10: =Q26+Q34+Q42 -> 0 | S10: =S26+S34+S42 -> 0 | U10: =U26+U34+U42 -> 0 | W10: =W26+W34+W42 -> 0 | Y10: =Y26+Y34+Y42 -> 0 | AA10: =AA26+AA34+AA42 -> 0 | AC10: =AC26+AC34+AC42 -> 0 | AE10: =AE26+AE34+AE42 -> 0 | AG10: =AG26+AG34+AG42 -> 0 | AI10: =AI26+AI34+AI42 -> 0 | AK10: =AK26+AK34+AK42 -> 0
D11: =D19+D27+D35+D43 -> 0 | F11: =SUM(H11:J11) -> 0 | H11: =H19 -> 0 | J11: =J19 -> 0 | L11: =L27+L35+L43 -> 0 | N11: =N27+N35+N43 -> 0 | P11: =P27+P35+P43 -> 0 | R11: =R27+R35+R43 -> 0 | T11: =T27+T35+T43 -> 0 | V11: =V27+V35+V43 -> 0 | X11: =X27+X35+X43 -> 0 | Z11: =Z27+Z35+Z43 -> 0 | AB11: =AB27+AB35+AB43 -> 0 | AD11: =AD27+AD35+AD43 -> 0 | AF11: =AF27+AF35+AF43 -> 0 | AH11: =AH27+AH35+AH43 -> 0 | AJ11: =AJ27+AJ35+AJ43 -> 0 | AL11: =AL27+AL35+AL43 -> 0
A12: 여권민원실 | B12: 계 | C12: =E12 -> 403 | E12: =SUM(E14:E19) -> 403 | G12: =SUM(G14:G18) -> 159 | I12: =SUM(I14:I18) -> 244
D13: =F13 -> 1753 | F13: =SUM(F15:F19) -> 1753 | H13: =SUM(H15:H19) -> 747 | J13: =SUM(J15:J19) -> 1006
B14: 18시~19시 | C14: =E14 -> 262 | E14: =SUM(G14+I14) -> 262 | G14: 101 | I14: 161
D15: =F15 -> 1086 | F15: =SUM(H15:J15) -> 1086 | H15: =SUM('[4]3'!H15,'[4]4'!G14) -> 438 | J15: =SUM('[4]3'!J15,'[4]4'!I14) -> 648
B16: 19시~20시 | C16: =E16 -> 141 | E16: =SUM(G16:I16) -> 141 | G16: 58 | I16: 83
D17: =F17 -> 667 | F17: =SUM(H17:J17) -> 667 | H17: =SUM('[4]3'!H17,'[4]4'!G16) -> 309 | J17: =SUM('[4]3'!J17,'[4]4'!I16) -> 358
B18: 20시~21시 | C18: =E18 -> 0 | E18: =SUM(G18:I18) -> 0 | G18: 0 | I18: 0
D19: =F19 -> 0 | F19: =SUM(H19:J19) -> 0 | H19: =SUM('[4]3'!H19,'[4]4'!G18) -> 0 | J19: =SUM('[4]3'!J19,'[4]4'!I18) -> 0
A20: 수정구 | B20: 계 | C20: =SUM(C22:C26) -> 5 | K20: =SUM(M20:Z20) -> 2 | M20: =SUM(M22:M27) -> 0 | O20: =SUM(O22:O27) -> 2 | Q20: =SUM(Q22:Q27) -> 0 | S20: =SUM(S22:S27) -> 0 | U20: =SUM(U22:U27) -> 0 | W20: =SUM(W22:W27) -> 0 | Y20: =SUM(Y22:Y27) -> 0 | AA20: =SUM(AA22:AA27) -> 3 | AC20: =SUM(AC22:AC27) -> 0 | AE20: =SUM(AE22:AE27) -> 3 | AG20: =SUM(AG22:AG27) -> 0 | AI20: =SUM(AI22:AI27) -> 0 | AK20: =SUM(AK22:AK27) -> 0
D21: =SUM(D23:D27) -> 51 | L21: =SUM(N21:Z21) -> 40 | N21: =SUM(N23:N27) -> 2 | P21: =SUM(P23:P27) -> 22 | R21: =SUM(R23:R27) -> 14 | T21: =SUM(T23:T27) -> 0 | V21: =SUM(V23:V27) -> 2 | X21: =SUM(X23:X27) -> 0 | Z21: =SUM(Z23:Z27) -> 0 | AB21: =SUM(AB23:AB27) -> 11 | AD21: =SUM(AD23:AD27) -> 1 | AF21: =SUM(AF23:AF27) -> 10 | AH21: =SUM(AH23:AH27) -> 0 | AJ21: =SUM(AJ23:AJ27) -> 0 | AL21: =SUM(AL23:AL27) -> 0
B22: 18시~19시 | C22: =K22+AA22 -> 1 | K22: =SUM(M22:Z22) -> 0 | M22: 0 | O22: 0 | Q22: 0 | S22: 0 | U22: 0 | W22: 0 | Y22: 0 | AA22: =SUM(AC22:AL22) -> 1 | AC22: 0 | AE22: 1 | AG22: 0 | AI22: 0 | AK22: 0
D23: =L23+AB23 -> 40 | L23: =SUM(N23:Z23) -> 38 | N23: 2 | P23: 20 | R23: 14 | T23: 0 | V23: 2 | X23: 0 | Z23: 0 | AB23: =AD23+AF23+AH23+AJ23+AL23 -> 2 | AD23: 0 | AF23: 2 | AH23: 0 | AJ23: 0 | AL23: 0
B24: 19시~20시 | C24: =K24+AA24 -> 4 | K24: =SUM(M24:Z24) -> 2 | M24: 0 | O24: 2 | Q24: 0 | S24: 0 | U24: 0 | W24: 0 | Y24: 0 | AA24: =SUM(AC24:AK24) -> 2 | AC24: 0 | AE24: 2 | AG24: 0 | AI24: 0 | AK24: 0
D25: =L25+AB25 -> 11 | L25: =SUM(N25:Z25) -> 2 | N25: 0 | P25: 2 | R25: 0 | T25: 0 | V25: 0 | X25: 0 | Z25: 0 | AB25: =AD25+AF25+AH25+AJ25+AL25 -> 9 | AD25: 1 | AF25: 8 | AH25: 0 | AJ25: 0 | AL25: 0
B26: 20시~21시 | C26: =K26+AA26 -> 0 | K26: =SUM(M26:Z26) -> 0 | M26: 0 | O26: 0 | Q26: 0 | S26: 0 | U26: 0 | W26: 0 | Y26: 0 | AA26: =SUM(AC26:AL26) -> 0 | AC26: 0 | AE26: 0 | AG26: 0 | AI26: 0 | AK26: 0
D27: =L27+AB26:AB27 -> 0 | L27: =SUM(N27:Z27) -> 0 | N27: 0 | P27: 0 | R27: 0 | T27: 0 | V27: 0 | X27: 0 | Z27: 0 | AB27: =AD27+AF27+AH27+AJ27+AL27 -> 0 | AD27: 0 | AF27: 0 | AH27: 0 | AJ27: 0 | AL27: 0
A28: 중원구 | B28: 계 | C28: =SUM(C30:C34) -> 8 | K28: =SUM(M28:Z28) -> 0 | M28: =SUM(M30:M35) -> 0 | O28: =SUM(O30:O35) -> 0 | Q28: =SUM(Q30:Q35) -> 0 | S28: =SUM(S30:S35) -> 0 | U28: =SUM(U30:U35) -> 0 | W28: =SUM(W30:W35) -> 0 | Y28: =SUM(Y30:Y35) -> 0 | AA28: =SUM(AA30:AA35) -> 8 | AC28: =SUM(AC30:AC35) -> 0 | AE28: =SUM(AE30:AE35) -> 8 | AG28: =SUM(AG30:AG35) -> 0 | AI28: =SUM(AI30:AI35) -> 0 | AK28: =SUM(AK30:AK35) -> 0
D29: =SUM(D31:D35) -> 31 | L29: =SUM(N29:Z29) -> 8 | N29: =SUM(N31:N35) -> 2 | P29: =SUM(P31:P35) -> 5 | R29: =SUM(R31:R35) -> 0 | T29: =SUM(T31:T35) -> 0 | V29: =SUM(V31:V35) -> 1 | X29: =SUM(X31:X35) -> 0 | Z29: =SUM(Z31:Z35) -> 0 | AB29: =SUM(AB31:AB35) -> 23 | AD29: =SUM(AD31:AD35) -> 0 | AF29: =SUM(AF31:AF35) -> 23 | AH29: =SUM(AH31:AH35) -> 0 | AJ29: =SUM(AJ31:AJ35) -> 0 | AL29: =SUM(AL31:AL35) -> 0
B30: 18시~19시 | C30: =K30+AA30 -> 5 | K30: =SUM(M30:Z30) -> 0 | M30: 0 | O30: 0 | Q30: 0 | S30: 0 | U30: 0 | W30: 0 | Y30: 0 | AA30: =SUM(AC30:AL30) -> 5 | AC30: 0 | AE30: 5 | AG30: 0 | AI30: 0 | AK30: 0
D31: =L31+AB31 -> 18 | L31: =SUM(N31:Z31) -> 6 | N31: 2 | P31: 3 | R31: 0 | T31: 0 | V31: 1 | X31: 0 | Z31: 0 | AB31: =AD31+AF31+AH31+AJ31+AL31 -> 12 | AD31: 0 | AF31: 12 | AH31: 0 | AJ31: 0 | AL31: 0
B32: 19시~20시 | C32: =K32+AA32 -> 3 | K32: =SUM(M32:Z32) -> 0 | M32: 0 | O32: 0 | Q32: 0 | S32: 0 | U32: 0 | W32: 0 | Y32: 0 | AA32: =SUM(AC32:AK32) -> 3 | AC32: 0 | AE32: 3 | AG32: 0 | AI32: 0 | AK32: 0
D33: =L33+AB33 -> 13 | L33: =SUM(N33:Z33) -> 2 | N33: 0 | P33: 2 | R33: 0 | T33: 0 | V33: 0 | X33: 0 | Z33: 0 | AB33: =AD33+AF33+AH33+AJ33+AL33 -> 11 | AD33: 0 | AF33: 11 | AH33: 0 | AJ33: 0 | AL33: 0
B34: 20시~21시 | C34: =K34+AA34 -> 0 | K34: =SUM(M34:Z34) -> 0 | M34: 0 | O34: 0 | Q34: 0 | S34: 0 | U34: 0 | W34: 0 | Y34: 0 | AA34: =SUM(AC34:AL34) -> 0 | AC34: 0 | AE34: 0 | AG34: 0 | AI34: 0 | AK34: 0
D35: =L35+AB34:AB35 -> 0 | L35: =SUM(N35:Z35) -> 0 | N35: 0 | P35: 0 | R35: 0 | T35: 0 | V35: 0 | X35: 0 | Z35: 0 | AB35: =AD35+AF35+AH35+AJ35+AL35 -> 0 | AD35: 0 | AF35: 0 | AH35: 0 | AJ35: 0 | AL35: 0
A36: 분당구 | B36: 계 | C36: =SUM(C38:C42) -> 10 | K36: =SUM(M36:Z36) -> 1 | M36: =SUM(M38:M43) -> 0 | O36: =SUM(O38:O43) -> 1 | Q36: =SUM(Q38:Q43) -> 0 | S36: =SUM(S38:S43) -> 0 | U36: =SUM(U38:U43) -> 0 | W36: =SUM(W38:W43) -> 0 | Y36: =SUM(Y38:Y43) -> 0 | AA36: =SUM(AA38:AA43) -> 9 | AC36: =SUM(AC38:AC43) -> 0 | AE36: =SUM(AE38:AE43) -> 9 | AG36: =SUM(AG38:AG43) -> 0 | AI36: =SUM(AI38:AI43) -> 0 | AK36: =SUM(AK38:AK43) -> 0
D37: =SUM(D39:D43) -> 45 | L37: =SUM(N37:Z37) -> 1 | N37: =SUM(N39:N43) -> 0 | P37: =SUM(P39:P43) -> 1 | R37: =SUM(R39:R43) -> 0 | T37: =SUM(T39:T43) -> 0 | V37: =SUM(V39:V43) -> 0 | X37: =SUM(X39:X43) -> 0 | Z37: =SUM(Z39:Z43) -> 0 | AB37: =SUM(AB39:AB43) -> 44 | AD37: =SUM(AD39:AD43) -> 0 | AF37: =SUM(AF39:AF43) -> 44 | AH37: =SUM(AH39:AH43) -> 0 | AJ37: =SUM(AJ39:AJ43) -> 0 | AL37: =SUM(AL39:AL43) -> 0
B38: 18시~19시 | C38: =K38+AA38 -> 1 | K38: =SUM(M38:Z38) -> 0 | M38: 0 | O38: 0 | Q38: 0 | S38: 0 | U38: 0 | W38: 0 | Y38: 0 | AA38: =SUM(AC38:AL38) -> 1 | AC38: 0 | AE38: 1 | AG38: 0 | AI38: 0 | AK38: 0
D39: =L39+AB39 -> 8 | L39: =SUM(N39:Z39) -> 0 | N39: 0 | P39: 0 | R39: 0 | T39: 0 | V39: 0 | X39: 0 | Z39: 0 | AB39: =AD39+AF39+AH39+AJ39+AL39 -> 8 | AD39: 0 | AF39: 8 | AH39: 0 | AJ39: 0 | AL39: 0
B40: 19시~20시 | C40: =K40+AA40 -> 9 | K40: =SUM(M40:Z40) -> 1 | M40: 0 | O40: 1 | Q40: 0 | S40: 0 | U40: 0 | W40: 0 | Y40: 0 | AA40: =SUM(AC40:AK40) -> 8 | AC40: 0 | AE40: 8 | AG40: 0 | AI40: 0 | AK40: 0
...

Sheet 5
A1: 2025. 5월 야간 민원실 운영실적
A2: 구분 | B2: 시간 | C2: 월계/누계 | E2: 여 권 민 원 | K2: 제 증 명 발 급 | AA2: 신 고 민 원
E3: 소계 | G3: 접수 | I3: 교부 | K3: 소계 | M3: 주민등·초본 | O3: 인감증명 | Q3: 본인서명 | S3: 제적등·초본 | U3: 가족관계등록 | W3: 어디서나민원 | Y3: 기타 | AA3: 소계 | AC3: 출생·사망 | AE3: 혼인·이혼 | AG3: 전입신고 | AI3: 주민증 | AK3: 정정.재등록
A4: 합계 | B4: 월계 / 누계 | C4: =C12+C20+C28+C36 -> 373 | E4: =SUM(E6:E11) -> 354 | G4: =SUM(G6:G10) -> 108 | I4: =SUM(I6:I10) -> 246 | K4: =K20+K28+K36 -> 1 | M4: =M20+M28+M36 -> 0 | O4: =O20+O28+O36 -> 1 | Q4: =Q20+Q28+Q36 -> 0 | S4: =S20+S28+S36 -> 0 | U4: =U20+U28+U36 -> 0 | W4: =W20+W28+W36 -> 0 | Y4: =Y20+Y28+Y36 -> 0 | AA4: =AA20+AA28+AA36 -> 18 | AC4: =AC20+AC28+AC36 -> 0 | AE4: =AE20+AE28+AE36 -> 18 | AG4: =AG20+AG28+AG36 -> 0 | AI4: =AI20+AI28+AI36 -> 0 | AK4: =AK20+AK28+AK36 -> 0
D5: =D7+D9+D11 -> 2253 | F5: =SUM(F7:F11) -> 2107 | H5: =SUM(H7:H11) -> 855 | J5: =SUM(J7:J11) -> 1252 | L5: =L21+L29+L37 -> 50 | N5: =N21+N29+N37 -> 4 | P5: =P21+P29+P37 -> 29 | R5: =R21+R29+R37 -> 14 | T5: =T21+T29+T37 -> 0 | V5: =V21+V29+V37 -> 3 | X5: =X21+X29+X37 -> 0 | Z5: =Z21+Z29+Z37 -> 0 | AB5: =AB21+AB29+AB37 -> 96 | AD5: =AD21+AD29+AD37 -> 1 | AF5: =AF21+AF29+AF37 -> 95 | AH5: =AH21+AH29+AH37 -> 0 | AJ5: =AJ21+AJ29+AJ37 -> 0 | AL5: =AL21+AL29+AL37 -> 0
B6: 18시~19시 | C6: =C14+C22+C30+C38 -> 240 | E6: =SUM(G6+I6) -> 235 | G6: =G14 -> 61 | I6: =I14 -> 174 | K6: =K22+K30+K38 -> 1 | M6: =M22+M30+M38 -> 0 | O6: =O22+O30+O38 -> 1 | Q6: =Q22+Q30+Q38 -> 0 | S6: =S22+S30+S38 -> 0 | U6: =U22+U30+U38 -> 0 | W6: =W22+W30+W38 -> 0 | Y6: =Y22+Y30+Y38 -> 0 | AA6: =AA22+AA30+AA38 -> 4 | AC6: =AC22+AC30+AC38 -> 0 | AE6: =AE22+AE30+AE38 -> 4 | AG6: =AG22+AG30+AG38 -> 0 | AI6: =AI22+AI30+AI38 -> 0 | AK6: =AK22+AK30+AK38 -> 0
D7: =D15+D23+D31+D39 -> 1392 | F7: =SUM(H7:J7) -> 1321 | H7: =H15 -> 499 | J7: =J15 -> 822 | L7: =L23+L31+L39 -> 45 | N7: =N23+N31+N39 -> 4 | P7: =P23+P31+P39 -> 24 | R7: =R23+R31+R39 -> 14 | T7: =T23+T31+T39 -> 0 | V7: =V23+V31+V39 -> 3 | X7: =X23+X31+X39 -> 0 | Z7: =Z23+Z31+Z39 -> 0 | AB7: =AB23+AB31+AB39 -> 26 | AD7: =AD23+AD31+AD39 -> 0 | AF7: =AF23+AF31+AF39 -> 26 | AH7: =AH23+AH31+AH39 -> 0 | AJ7: =AJ23+AJ31+AJ39 -> 0 | AL7: =AL23+AL31+AL39 -> 0
B8: 19시~20시 | C8: =C16+C24+C32+C40 -> 133 | E8: =SUM(G8:I8) -> 119 | G8: =G16 -> 47 | I8: =I16 -> 72 | K8: =K24+K32+K40 -> 0 | M8: =M24+M32+M40 -> 0 | O8: =O24+O32+O40 -> 0 | Q8: =Q24+Q32+Q40 -> 0 | S8: =S24+S32+S40 -> 0 | U8: =U24+U32+U40 -> 0 | W8: =W24+W32+W40 -> 0 | Y8: =Y24+Y32+Y40 -> 0 | AA8: =AA24+AA32+AA40 -> 14 | AC8: =AC24+AC32+AC40 -> 0 | AE8: =AE24+AE32+AE40 -> 14 | AG8: =AG24+AG32+AG40 -> 0 | AI8: =AI24+AI32+AI40 -> 0 | AK8: =AK24+AK32+AK40 -> 0
D9: =D17+D25+D33+D41 -> 861 | F9: =SUM(H9:J9) -> 786 | H9: =H17 -> 356 | J9: =J17 -> 430 | L9: =L25+L33+L41 -> 5 | N9: =N25+N33+N41 -> 0 | P9: =P25+P33+P41 -> 5 | R9: =R25+R33+R41 -> 0 | T9: =T25+T33+T41 -> 0 | V9: =V25+V33+V41 -> 0 | X9: =X25+X33+X41 -> 0 | Z9: =Z25+Z33+Z41 -> 0 | AB9: =AB25+AB33+AB41 -> 70 | AD9: =AD25+AD33+AD41 -> 1 | AF9: =AF25+AF33+AF41 -> 69 | AH9: =AH25+AH33+AH41 -> 0 | AJ9: =AJ25+AJ33+AJ41 -> 0 | AL9: =AL25+AL33+AL41 -> 0
B10: 20시~21시 | C10: =C18+C26+C34+C42 -> 0 | E10: =SUM(G10:I10) -> 0 | G10: =G18 -> 0 | I10: =I18 -> 0 | K10: =K26+K34+K42 -> 0 | M10: =M26+M34+M42 -> 0 | O10: =O26+O34+O42 -> 0 | Q10: =Q26+Q34+Q42 -> 0 | S10: =S26+S34+S42 -> 0 | U10: =U26+U34+U42 -> 0 | W10: =W26+W34+W42 -> 0 | Y10: =Y26+Y34+Y42 -> 0 | AA10: =AA26+AA34+AA42 -> 0 | AC10: =AC26+AC34+AC42 -> 0 | AE10: =AE26+AE34+AE42 -> 0 | AG10: =AG26+AG34+AG42 -> 0 | AI10: =AI26+AI34+AI42 -> 0 | AK10: =AK26+AK34+AK42 -> 0
D11: =D19+D27+D35+D43 -> 0 | F11: =SUM(H11:J11) -> 0 | H11: =H19 -> 0 | J11: =J19 -> 0 | L11: =L27+L35+L43 -> 0 | N11: =N27+N35+N43 -> 0 | P11: =P27+P35+P43 -> 0 | R11: =R27+R35+R43 -> 0 | T11: =T27+T35+T43 -> 0 | V11: =V27+V35+V43 -> 0 | X11: =X27+X35+X43 -> 0 | Z11: =Z27+Z35+Z43 -> 0 | AB11: =AB27+AB35+AB43 -> 0 | AD11: =AD27+AD35+AD43 -> 0 | AF11: =AF27+AF35+AF43 -> 0 | AH11: =AH27+AH35+AH43 -> 0 | AJ11: =AJ27+AJ35+AJ43 -> 0 | AL11: =AL27+AL35+AL43 -> 0
A12: 여권민원실 | B12: 계 | C12: =E12 -> 354 | E12: =SUM(E14:E19) -> 354 | G12: =SUM(G14:G18) -> 108 | I12: =SUM(I14:I18) -> 246
D13: =F13 -> 2107 | F13: =SUM(F15:F19) -> 2107 | H13: =SUM(H15:H19) -> 855 | J13: =SUM(J15:J19) -> 1252
B14: 18시~19시 | C14: =E14 -> 235 | E14: =SUM(G14+I14) -> 235 | G14: 61 | I14: 174
D15: =F15 -> 1321 | F15: =SUM(H15:J15) -> 1321 | H15: =SUM('[4]3'!H15,'[4]4'!G14)+G14 -> 499 | J15: =SUM('[4]3'!J15,'[4]4'!I14)+I14 -> 822
B16: 19시~20시 | C16: =E16 -> 119 | E16: =SUM(G16:I16) -> 119 | G16: 47 | I16: 72
D17: =F17 -> 786 | F17: =SUM(H17:J17) -> 786 | H17: =SUM('[4]3'!H17,'[4]4'!G16)+G16 -> 356 | J17: =SUM('[4]3'!J17,'[4]4'!I16)+I16 -> 430
B18: 20시~21시 | C18: =E18 -> 0 | E18: =SUM(G18:I18) -> 0 | G18: 0 | I18: 0
D19: =F19 -> 0 | F19: =SUM(H19:J19) -> 0 | H19: =SUM('[4]3'!H19,'[4]4'!G18) -> 0 | J19: =SUM('[4]3'!J19,'[4]4'!I18) -> 0
A20: 수정구 | B20: 계 | C20: =SUM(C22:C26) -> 1 | K20: =SUM(M20:Z20) -> 0 | M20: =SUM(M22:M27) -> 0 | O20: =SUM(O22:O27) -> 0 | Q20: =SUM(Q22:Q27) -> 0 | S20: =SUM(S22:S27) -> 0 | U20: =SUM(U22:U27) -> 0 | W20: =SUM(W22:W27) -> 0 | Y20: =SUM(Y22:Y27) -> 0 | AA20: =SUM(AA22:AA27) -> 1 | AC20: =SUM(AC22:AC27) -> 0 | AE20: =SUM(AE22:AE27) -> 1 | AG20: =SUM(AG22:AG27) -> 0 | AI20: =SUM(AI22:AI27) -> 0 | AK20: =SUM(AK22:AK27) -> 0
D21: =SUM(D23:D27) -> 52 | L21: =SUM(N21:Z21) -> 40 | N21: =SUM(N23:N27) -> 2 | P21: =SUM(P23:P27) -> 22 | R21: =SUM(R23:R27) -> 14 | T21: =SUM(T23:T27) -> 0 | V21: =SUM(V23:V27) -> 2 | X21: =SUM(X23:X27) -> 0 | Z21: =SUM(Z23:Z27) -> 0 | AB21: =SUM(AB23:AB27) -> 12 | AD21: =SUM(AD23:AD27) -> 1 | AF21: =SUM(AF23:AF27) -> 11 | AH21: =SUM(AH23:AH27) -> 0 | AJ21: =SUM(AJ23:AJ27) -> 0 | AL21: =SUM(AL23:AL27) -> 0
B22: 18시~19시 | C22: =K22+AA22 -> 0 | K22: =SUM(M22:Z22) -> 0 | M22: 0 | O22: 0 | Q22: 0 | S22: 0 | U22: 0 | W22: 0 | Y22: 0 | AA22: =SUM(AC22:AL22) -> 0 | AC22: 0 | AE22: 0 | AG22: 0 | AI22: 0 | AK22: 0
D23: =L23+AB23 -> 40 | L23: =SUM(N23:Z23) -> 38 | N23: 2 | P23: 20 | R23: 14 | T23: 0 | V23: 2 | X23: =W22 -> 0 | Z23: =Y22 -> 0 | AB23: =AD23+AF23+AH23+AJ23+AL23 -> 2 | AD23: =AC22 -> 0 | AF23: 2 | AH23: =AG22 -> 0 | AJ23: =AI22 -> 0 | AL23: =AK22 -> 0
B24: 19시~20시 | C24: =K24+AA24 -> 1 | K24: =SUM(M24:Z24) -> 0 | M24: 0 | O24: 0 | Q24: 0 | S24: 0 | U24: 0 | W24: 0 | Y24: 0 | AA24: =SUM(AC24:AK24) -> 1 | AC24: 0 | AE24: 1 | AG24: 0 | AI24: 0 | AK24: 0
D25: =L25+AB25 -> 12 | L25: =SUM(N25:Z25) -> 2 | N25: =M24 -> 0 | P25: 2 | R25: =Q24 -> 0 | T25: =S24 -> 0 | V25: =U24 -> 0 | X25: =W24 -> 0 | Z25: =Y24 -> 0 | AB25: =AD25+AF25+AH25+AJ25+AL25 -> 10 | AD25: 1 | AF25: 9 | AH25: =AG24 -> 0 | AJ25: =AI24 -> 0 | AL25: =AK24 -> 0
B26: 20시~21시 | C26: =K26+AA26 -> 0 | K26: =SUM(M26:Z26) -> 0 | M26: 0 | O26: 0 | Q26: 0 | S26: 0 | U26: 0 | W26: 0 | Y26: 0 | AA26: =SUM(AC26:AL26) -> 0 | AC26: 0 | AE26: 0 | AG26: 0 | AI26: 0 | AK26: 0
D27: =L27+AB26:AB27 -> 0 | L27: =SUM(N27:Z27) -> 0 | N27: =M26 -> 0 | P27: =O26 -> 0 | R27: =Q26 -> 0 | T27: =S26 -> 0 | V27: =U26 -> 0 | X27: =W26 -> 0 | Z27: =Y26 -> 0 | AB27: =AD27+AF27+AH27+AJ27+AL27 -> 0 | AD27: =AC26 -> 0 | AF27: =AE26 -> 0 | AH27: =AG26 -> 0 | AJ27: =AI26 -> 0 | AL27: =AK26 -> 0
A28: 중원구 | B28: 계 | C28: =SUM(C30:C34) -> 5 | K28: =SUM(M28:Z28) -> 0 | M28: =SUM(M30:M35) -> 0 | O28: =SUM(O30:O35) -> 0 | Q28: =SUM(Q30:Q35) -> 0 | S28: =SUM(S30:S35) -> 0 | U28: =SUM(U30:U35) -> 0 | W28: =SUM(W30:W35) -> 0 | Y28: =SUM(Y30:Y35) -> 0 | AA28: =SUM(AA30:AA35) -> 5 | AC28: =SUM(AC30:AC35) -> 0 | AE28: =SUM(AE30:AE35) -> 5 | AG28: =SUM(AG30:AG35) -> 0 | AI28: =SUM(AI30:AI35) -> 0 | AK28: =SUM(AK30:AK35) -> 0
D29: =SUM(D31:D35) -> 36 | L29: =SUM(N29:Z29) -> 8 | N29: =SUM(N31:N35) -> 2 | P29: =SUM(P31:P35) -> 5 | R29: =SUM(R31:R35) -> 0 | T29: =SUM(T31:T35) -> 0 | V29: =SUM(V31:V35) -> 1 | X29: =SUM(X31:X35) -> 0 | Z29: =SUM(Z31:Z35) -> 0 | AB29: =SUM(AB31:AB35) -> 28 | AD29: =SUM(AD31:AD35) -> 0 | AF29: =SUM(AF31:AF35) -> 28 | AH29: =SUM(AH31:AH35) -> 0 | AJ29: =SUM(AJ31:AJ35) -> 0 | AL29: =SUM(AL31:AL35) -> 0
B30: 18시~19시 | C30: =K30+AA30 -> 1 | K30: =SUM(M30:Z30) -> 0 | M30: 0 | O30: 0 | Q30: 0 | S30: 0 | U30: 0 | W30: 0 | Y30: 0 | AA30: =SUM(AC30:AL30) -> 1 | AC30: 0 | AE30: 1 | AG30: 0 | AI30: 0 | AK30: 0
D31: =L31+AB31 -> 19 | L31: =SUM(N31:Z31) -> 6 | N31: =SUM('[5]2'!N31,'[5]5'!M30) -> 2 | P31: =SUM('[5]2'!P31,'[5]5'!O30) -> 3 | R31: =Q30 -> 0 | T31: =S30 -> 0 | V31: =SUM('[5]2'!V31,'[5]5'!U30) -> 1 | X31: =W30 -> 0 | Z31: =Y30 -> 0 | AB31: =AD31+AF31+AH31+AJ31+AL31 -> 13 | AD31: =AC30 -> 0 | AF31: =SUM('[5]4'!AF31,'[5]5'!AE30) -> 13 | AH31: =AG30 -> 0 | AJ31: =AI30 -> 0 | AL31: =AK30 -> 0
B32: 19시~20시 | C32: =K32+AA32 -> 4 | K32: =SUM(M32:Z32) -> 0 | M32: 0 | O32: 0 | Q32: 0 | S32: 0 | U32: 0 | W32: 0 | Y32: 0 | AA32: =SUM(AC32:AK32) -> 4 | AC32: 0 | AE32: 4 | AG32: 0 | AI32: 0 | AK32: 0
D33: =L33+AB33 -> 17 | L33: =SUM(N33:Z33) -> 2 | N33: =M32 -> 0 | P33: =SUM('[5]3'!P33,'[5]5'!O32) -> 2 | R33: =Q32 -> 0 | T33: =S32 -> 0 | V33: =U32 -> 0 | X33: =W32 -> 0 | Z33: =Y32 -> 0 | AB33: =AD33+AF33+AH33+AJ33+AL33 -> 15 | AD33: =AC32 -> 0 | AF33: =SUM('[5]4'!AF33,'[5]5'!AE32) -> 15 | AH33: =AG32 -> 0 | AJ33: =AI32 -> 0 | AL33: =AK32 -> 0
B34: 20시~21시 | C34: =K34+AA34 -> 0 | K34: =SUM(M34:Z34) -> 0 | M34: 0 | O34: 0 | Q34: 0 | S34: 0 | U34: 0 | W34: 0 | Y34: 0 | AA34: =SUM(AC34:AL34) -> 0 | AC34: 0 | AE34: 0 | AG34: 0 | AI34: 0 | AK34: 0
D35: =L35+AB34:AB35 -> 0 | L35: =SUM(N35:Z35) -> 0 | N35: =M34 -> 0 | P35: =O34 -> 0 | R35: =Q34 -> 0 | T35: =S34 -> 0 | V35: =U34 -> 0 | X35: =W34 -> 0 | Z35: =Y34 -> 0 | AB35: =AD35+AF35+AH35+AJ35+AL35 -> 0 | AD35: =AC34 -> 0 | AF35: 0 | AH35: =AG34 -> 0 | AJ35: =AI34 -> 0 | AL35: =AK34 -> 0
A36: 분당구 | B36: 계 | C36: =SUM(C38:C42) -> 13 | K36: =SUM(M36:Z36) -> 1 | M36: =SUM(M38:M43) -> 0 | O36: =SUM(O38:O43) -> 1 | Q36: =SUM(Q38:Q43) -> 0 | S36: =SUM(S38:S43) -> 0 | U36: =SUM(U38:U43) -> 0 | W36: =SUM(W38:W43) -> 0 | Y36: =SUM(Y38:Y43) -> 0 | AA36: =SUM(AA38:AA43) -> 12 | AC36: =SUM(AC38:AC43) -> 0 | AE36: =SUM(AE38:AE43) -> 12 | AG36: =SUM(AG38:AG43) -> 0 | AI36: =SUM(AI38:AI43) -> 0 | AK36: =SUM(AK38:AK43) -> 0
D37: =SUM(D39:D43) -> 58 | L37: =SUM(N37:Z37) -> 2 | N37: =SUM(N39:N43) -> 0 | P37: =SUM(P39:P43) -> 2 | R37: =SUM(R39:R43) -> 0 | T37: =SUM(T39:T43) -> 0 | V37: =SUM(V39:V43) -> 0 | X37: =SUM(X39:X43) -> 0 | Z37: =SUM(Z39:Z43) -> 0 | AB37: =SUM(AB39:AB43) -> 56 | AD37: =SUM(AD39:AD43) -> 0 | AF37: =SUM(AF39:AF43) -> 56 | AH37: =SUM(AH39:AH43) -> 0 | AJ37: =SUM(AJ39:AJ43) -> 0 | AL37: =SUM(AL39:AL43) -> 0
B38: 18시~19시 | C38: =K38+AA38 -> 4 | K38: =SUM(M38:Z38) -> 1 | M38: 0 | O38: 1 | Q38: 0 | S38: 0 | U38: 0 | W38: 0 | Y38: 0 | AA38: =SUM(AC38:AL38) -> 3 | AC38: 0 | AE38: 3 | AG38: 0 | AI38: 0 | AK38: 0
D39: =L39+AB39 -> 12 | L39: =SUM(N39:Z39) -> 1 | N39: =SUM('[6]4'!N39,'[6]5'!M38) -> 0 | P39: =SUM('[6]4'!P39,'[6]5'!O38) -> 1 | R39: =SUM('[6]4'!R39,'[6]5'!Q38) -> 0 | T39: =SUM('[6]4'!T39,'[6]5'!S38) -> 0 | V39: =SUM('[6]4'!V39,'[6]5'!U38) -> 0 | X39: =SUM('[6]4'!X39,'[6]5'!W38) -> 0 | Z39: =SUM('[6]4'!Z39,'[6]5'!Y38) -> 0 | AB39: =AD39+AF39+AH39+AJ39+AL39 -> 11 | AD39: =SUM('[6]4'!AD39,'[6]5'!AC38) -> 0 | AF39: =SUM('[6]4'!AF39,'[6]5'!AE38) -> 11 | AH39: =SUM('[6]4'!AH39,'[6]5'!AG38) -> 0 | AJ39: =SUM('[6]4'!AJ39,'[6]5'!AI38) -> 0 | AL39: =SUM('[6]4'!AL39,'[6]5'!AK38) -> 0
B40: 19시~20시 | C40: =K40+AA40 -> 9 | K40: =SUM(M40:Z40) -> 0 | M40: 0 | O40: 0 | Q40: 0 | S40: 0 | U40: 0 | W40: 0 | Y40: 0 | AA40: =SUM(AC40:AK40) -> 9 | AC40: 0 | AE40: 9 | AG40: 0 | AI40: 0 | AK40: 0
...

Sheet 6
A1: 2025. 6월 야간 민원실 운영실적
A2: 구분 | B2: 시간 | C2: 월계/누계 | E2: 여 권 민 원 | K2: 제 증 명 발 급 | AA2: 신 고 민 원
E3: 소계 | G3: 접수 | I3: 교부 | K3: 소계 | M3: 주민등·초본 | O3: 인감증명 | Q3: 본인서명 | S3: 제적등·초본 | U3: 가족관계등록 | W3: 어디서나민원 | Y3: 기타 | AA3: 소계 | AC3: 출생·사망 | AE3: 혼인·이혼 | AG3: 전입신고 | AI3: 주민증 | AK3: 정정.재등록
A4: 합계 | B4: 월계 / 누계 | C4: =C12+C20+C28+C36 -> 604 | E4: =SUM(E6:E11) -> 582 | G4: =SUM(G6:G10) -> 233 | I4: =SUM(I6:I10) -> 349 | K4: =K20+K28+K36 -> 3 | M4: =M20+M28+M36 -> 0 | O4: =O20+O28+O36 -> 3 | Q4: =Q20+Q28+Q36 -> 0 | S4: =S20+S28+S36 -> 0 | U4: =U20+U28+U36 -> 0 | W4: =W20+W28+W36 -> 0 | Y4: =Y20+Y28+Y36 -> 0 | AA4: =AA20+AA28+AA36 -> 19 | AC4: =AC20+AC28+AC36 -> 0 | AE4: =AE20+AE28+AE36 -> 19 | AG4: =AG20+AG28+AG36 -> 0 | AI4: =AI20+AI28+AI36 -> 0 | AK4: =AK20+AK28+AK36 -> 0
D5: =D7+D9+D11 -> 2857 | F5: =SUM(F7:F11) -> 2689 | H5: =SUM(H7:H11) -> 1088 | J5: =SUM(J7:J11) -> 1601 | L5: =L21+L29+L37 -> 53 | N5: =N21+N29+N37 -> 4 | P5: =P21+P29+P37 -> 32 | R5: =R21+R29+R37 -> 14 | T5: =T21+T29+T37 -> 0 | V5: =V21+V29+V37 -> 3 | X5: =X21+X29+X37 -> 0 | Z5: =Z21+Z29+Z37 -> 0 | AB5: =AB21+AB29+AB37 -> 115 | AD5: =AD21+AD29+AD37 -> 1 | AF5: =AF21+AF29+AF37 -> 114 | AH5: =AH21+AH29+AH37 -> 0 | AJ5: =AJ21+AJ29+AJ37 -> 0 | AL5: =AL21+AL29+AL37 -> 0
B6: 18시~19시 | C6: =C14+C22+C30+C38 -> 355 | E6: =SUM(G6+I6) -> 348 | G6: =G14 -> 137 | I6: =I14 -> 211 | K6: =K22+K30+K38 -> 1 | M6: =M22+M30+M38 -> 0 | O6: =O22+O30+O38 -> 1 | Q6: =Q22+Q30+Q38 -> 0 | S6: =S22+S30+S38 -> 0 | U6: =U22+U30+U38 -> 0 | W6: =W22+W30+W38 -> 0 | Y6: =Y22+Y30+Y38 -> 0 | AA6: =AA22+AA30+AA38 -> 6 | AC6: =AC22+AC30+AC38 -> 0 | AE6: =AE22+AE30+AE38 -> 6 | AG6: =AG22+AG30+AG38 -> 0 | AI6: =AI22+AI30+AI38 -> 0 | AK6: =AK22+AK30+AK38 -> 0
D7: =D15+D23+D31+D39 -> 1747 | F7: =SUM(H7:J7) -> 1669 | H7: =H15 -> 636 | J7: =J15 -> 1033 | L7: =L23+L31+L39 -> 46 | N7: =N23+N31+N39 -> 4 | P7: =P23+P31+P39 -> 25 | R7: =R23+R31+R39 -> 14 | T7: =T23+T31+T39 -> 0 | V7: =V23+V31+V39 -> 3 | X7: =X23+X31+X39 -> 0 | Z7: =Z23+Z31+Z39 -> 0 | AB7: =AB23+AB31+AB39 -> 32 | AD7: =AD23+AD31+AD39 -> 0 | AF7: =AF23+AF31+AF39 -> 32 | AH7: =AH23+AH31+AH39 -> 0 | AJ7: =AJ23+AJ31+AJ39 -> 0 | AL7: =AL23+AL31+AL39 -> 0
B8: 19시~20시 | C8: =C16+C24+C32+C40 -> 249 | E8: =SUM(G8:I8) -> 234 | G8: =G16 -> 96 | I8: =I16 -> 138 | K8: =K24+K32+K40 -> 2 | M8: =M24+M32+M40 -> 0 | O8: =O24+O32+O40 -> 2 | Q8: =Q24+Q32+Q40 -> 0 | S8: =S24+S32+S40 -> 0 | U8: =U24+U32+U40 -> 0 | W8: =W24+W32+W40 -> 0 | Y8: =Y24+Y32+Y40 -> 0 | AA8: =AA24+AA32+AA40 -> 13 | AC8: =AC24+AC32+AC40 -> 0 | AE8: =AE24+AE32+AE40 -> 13 | AG8: =AG24+AG32+AG40 -> 0 | AI8: =AI24+AI32+AI40 -> 0 | AK8: =AK24+AK32+AK40 -> 0
D9: =D17+D25+D33+D41 -> 1110 | F9: =SUM(H9:J9) -> 1020 | H9: =H17 -> 452 | J9: =J17 -> 568 | L9: =L25+L33+L41 -> 7 | N9: =N25+N33+N41 -> 0 | P9: =P25+P33+P41 -> 7 | R9: =R25+R33+R41 -> 0 | T9: =T25+T33+T41 -> 0 | V9: =V25+V33+V41 -> 0 | X9: =X25+X33+X41 -> 0 | Z9: =Z25+Z33+Z41 -> 0 | AB9: =AB25+AB33+AB41 -> 83 | AD9: =AD25+AD33+AD41 -> 1 | AF9: =AF25+AF33+AF41 -> 82 | AH9: =AH25+AH33+AH41 -> 0 | AJ9: =AJ25+AJ33+AJ41 -> 0 | AL9: =AL25+AL33+AL41 -> 0
B10: 20시~21시 | C10: =C18+C26+C34+C42 -> 0 | E10: =SUM(G10:I10) -> 0 | G10: =G18 -> 0 | I10: =I18 -> 0 | K10: =K26+K34+K42 -> 0 | M10: =M26+M34+M42 -> 0 | O10: =O26+O34+O42 -> 0 | Q10: =Q26+Q34+Q42 -> 0 | S10: =S26+S34+S42 -> 0 | U10: =U26+U34+U42 -> 0 | W10: =W26+W34+W42 -> 0 | Y10: =Y26+Y34+Y42 -> 0 | AA10: =AA26+AA34+AA42 -> 0 | AC10: =AC26+AC34+AC42 -> 0 | AE10: =AE26+AE34+AE42 -> 0 | AG10: =AG26+AG34+AG42 -> 0 | AI10: =AI26+AI34+AI42 -> 0 | AK10: =AK26+AK34+AK42 -> 0
D11: =D19+D27+D35+D43 -> 0 | F11: =SUM(H11:J11) -> 0 | H11: =H19 -> 0 | J11: =J19 -> 0 | L11: =L27+L35+L43 -> 0 | N11: =N27+N35+N43 -> 0 | P11: =P27+P35+P43 -> 0 | R11: =R27+R35+R43 -> 0 | T11: =T27+T35+T43 -> 0 | V11: =V27+V35+V43 -> 0 | X11: =X27+X35+X43 -> 0 | Z11: =Z27+Z35+Z43 -> 0 | AB11: =AB27+AB35+AB43 -> 0 | AD11: =AD27+AD35+AD43 -> 0 | AF11: =AF27+AF35+AF43 -> 0 | AH11: =AH27+AH35+AH43 -> 0 | AJ11: =AJ27+AJ35+AJ43 -> 0 | AL11: =AL27+AL35+AL43 -> 0
A12: 여권민원실 | B12: 계 | C12: =E12 -> 582 | E12: =SUM(E14:E19) -> 582 | G12: =SUM(G14:G18) -> 233 | I12: =SUM(I14:I18) -> 349
D13: =F13 -> 2689 | F13: =SUM(F15:F19) -> 2689 | H13: =SUM(H15:H19) -> 1088 | J13: =SUM(J15:J19) -> 1601
B14: 18시~19시 | C14: =E14 -> 348 | E14: =SUM(G14+I14) -> 348 | G14: 137 | I14: 211
D15: =F15 -> 1669 | F15: =SUM(H15:J15) -> 1669 | H15: 636 | J15: 1033
B16: 19시~20시 | C16: =E16 -> 234 | E16: =SUM(G16:I16) -> 234 | G16: 96 | I16: 138
D17: =F17 -> 1020 | F17: =SUM(H17:J17) -> 1020 | H17: 452 | J17: 568
B18: 20시~21시 | C18: =E18 -> 0 | E18: =SUM(G18:I18) -> 0 | G18: 0 | I18: 0
D19: =F19 -> 0 | F19: =SUM(H19:J19) -> 0 | H19: =SUM('[4]3'!H19,'[4]4'!G18) -> 0 | J19: =SUM('[4]3'!J19,'[4]4'!I18) -> 0
A20: 수정구 | B20: 계 | C20: =SUM(C22:C26) -> 2 | K20: =SUM(M20:Z20) -> 0 | M20: =SUM(M22:M27) -> 0 | O20: =SUM(O22:O27) -> 0 | Q20: =SUM(Q22:Q27) -> 0 | S20: =SUM(S22:S27) -> 0 | U20: =SUM(U22:U27) -> 0 | W20: =SUM(W22:W27) -> 0 | Y20: =SUM(Y22:Y27) -> 0 | AA20: =SUM(AA22:AA27) -> 2 | AC20: =SUM(AC22:AC27) -> 0 | AE20: =SUM(AE22:AE27) -> 2 | AG20: =SUM(AG22:AG27) -> 0 | AI20: =SUM(AI22:AI27) -> 0 | AK20: =SUM(AK22:AK27) -> 0
