Workbook

Sheet 과징현황
A1: 2025년 6월 일반회계(시세외) 과징현황
A2: 2025-06-30 기준 | J2: (단위 : 원)
A3: 세 | B3: 입 | C3: 항목 | D3: 징수결정액 | F3: 수납액 | H3: 결손액 | J3: 미 수 액
A4: 관 | B4: 항 | C4: 목 | D4: 본월분 | E4: 누 계 | F4: 본월분 | G4: 누 계 | H4: 본월분 | I4: 누 계 | J4: 0
A5: 총 계 | D5: =SUM(D6,D117,D118,D119,D120,D121) -> 159111216006 | E5: =E6+E117+E118+E119+E120+E121 -> 1891786962307 | F5: =SUM(F6,F117,F118,F119,F120,F121) -> 157945513557 | G5: =SUM(G6,G117,G118,G119,G120,G121) -> 1775117564107 | H5: =SUM(H6,H117,H118,H119,H120,H121) -> 20313510 | I5: =SUM(I6,I117,I118,I119,I120,I121) -> 157939980 | J5: =SUM(J6,J117,J118,J119,J120,J121) -> 116511458220
A6: 세외수입총계 | D6: =D7+D42+D67+D107 -> 13006203409 | E6: =E7+E42+E67+E107 -> 215780813233 | F6: =F7+F42+F67+F107 -> 11847993470 | G6: =G7+G42+G67+G107 -> 90939233866 | H6: =H7+H42+H67+H107 -> 20313510 | I6: =I7+I42+I67+I107 -> 157939980 | J6: =J7+J42+J67+J107 -> 124683639387
A7: 210-00 경상적세외수입 | D7: =SUM(D8:D11) -> 8158126144 | E7: =SUM(E8:E11) -> 64139409491 | F7: =SUM(F8:F11) -> 8895932880 | G7: =SUM(G8:G11) -> 63321907709 | H7: =SUM(H8:H11) -> 0 | I7: =SUM(I8:I11) -> 0 | J7: =SUM(J8:J11) -> 817501782
C8: 본청 | D8: =IFERROR(VLOOKUP($A$7,[1]본청!$A:$G,COLUMN()-2,0),0) -> 7884945569 | E8: =IFERROR(VLOOKUP($A$7,[1]본청!$A:$G,COLUMN()-2,0),0) -> 53301446151 | F8: =IFERROR(VLOOKUP($A$7,[1]본청!$A:$G,COLUMN()-2,0),0) -> 8351156525 | G8: =IFERROR(VLOOKUP($A$7,[1]본청!$A:$G,COLUMN()-2,0),0) -> 53111962390 | H8: =IFERROR(VLOOKUP($A$7,[1]본청!$A:$G,COLUMN(),0),0) -> 0 | I8: =IFERROR(VLOOKUP($A$7,[1]본청!$A:$G,COLUMN(),0),0) -> 0 | J8: =E8-G8-I8 -> 189483761
C9: 수정 | D9: =IFERROR(VLOOKUP($A$7,[1]수정!$A:$G,COLUMN()-2,0),0) -> 112850349 | E9: =IFERROR(VLOOKUP($A$7,[1]수정!$A:$G,COLUMN()-2,0),0) -> 1946259202 | F9: =IFERROR(VLOOKUP($A$7,[1]수정!$A:$G,COLUMN()-2,0),0) -> 132907669 | G9: =IFERROR(VLOOKUP($A$7,[1]수정!$A:$G,COLUMN()-2,0),0) -> 1711608312 | H9: =IFERROR(VLOOKUP($A$7,[1]수정!$A:$G,COLUMN(),0),0) -> 0 | I9: =IFERROR(VLOOKUP($A$7,[1]수정!$A:$G,COLUMN(),0),0) -> 0 | J9: =E9-G9-I9 -> 234650890
C10: 중원 | D10: =IFERROR(VLOOKUP($A$7,[1]중원!$A:$G,COLUMN()-2,0),0) -> 72142940 | E10: =IFERROR(VLOOKUP($A$7,[1]중원!$A:$G,COLUMN()-2,0),0) -> 1678945522 | F10: =IFERROR(VLOOKUP($A$7,[1]중원!$A:$G,COLUMN()-2,0),0) -> 110229460 | G10: =IFERROR(VLOOKUP($A$7,[1]중원!$A:$G,COLUMN()-2,0),0) -> 1535958381 | H10: =IFERROR(VLOOKUP($A$7,[1]중원!$A:$G,COLUMN(),0),0) -> 0 | I10: =IFERROR(VLOOKUP($A$7,[1]중원!$A:$G,COLUMN(),0),0) -> 0 | J10: =E10-G10-I10 -> 142987141
C11: 분당 | D11: =IFERROR(VLOOKUP($A$7,[1]분당!$A:$G,COLUMN()-2,0),0) -> 88187286 | E11: =IFERROR(VLOOKUP($A$7,[1]분당!$A:$G,COLUMN()-2,0),0) -> 7212758616 | F11: =IFERROR(VLOOKUP($A$7,[1]분당!$A:$G,COLUMN()-2,0),0) -> 301639226 | G11: =IFERROR(VLOOKUP($A$7,[1]분당!$A:$G,COLUMN()-2,0),0) -> 6962378626 | H11: =IFERROR(VLOOKUP($A$7,[1]분당!$A:$G,COLUMN(),0),0) -> 0 | I11: =IFERROR(VLOOKUP($A$7,[1]분당!$A:$G,COLUMN(),0),0) -> 0 | J11: =E11-G11-I11 -> 250379990
B12: 211-00 재산임대수입 | D12: =SUM(D13:D16) -> 781522234 | E12: =SUM(E13:E16) -> 3372546808 | F12: =SUM(F13:F16) -> 726355748 | G12: =SUM(G13:G16) -> 3263425607 | H12: =SUM(H13:H16) -> 0 | I12: =SUM(I13:I16) -> 0 | J12: =SUM(J13:J16) -> 109121201
A13: 211-00 재산임대수입 | C13: 본청 | D13: =IFERROR(VLOOKUP($B$12,[1]본청!$A:$G,COLUMN()-2,0),0) -> 765443294 | E13: =IFERROR(VLOOKUP($B$12,[1]본청!$A:$G,COLUMN()-2,0),0) -> 3297592848 | F13: =IFERROR(VLOOKUP($B$12,[1]본청!$A:$G,COLUMN()-2,0),0) -> 714325068 | G13: =IFERROR(VLOOKUP($B$12,[1]본청!$A:$G,COLUMN()-2,0),0) -> 3193940487 | H13: =IFERROR(VLOOKUP($B$12,[1]본청!$A:$G,COLUMN(),0),0) -> 0 | I13: =IFERROR(VLOOKUP($B$12,[1]본청!$A:$G,COLUMN(),0),0) -> 0 | J13: =E13-G13-I13 -> 103652361
A14: 211-00 재산임대수입 | C14: 수정 | D14: =IFERROR(VLOOKUP($B$12,[1]수정!$A:$G,COLUMN()-2,0),0) -> 4664330 | E14: =IFERROR(VLOOKUP($B$12,[1]수정!$A:$G,COLUMN()-2,0),0) -> 5078790 | F14: =IFERROR(VLOOKUP($B$12,[1]수정!$A:$G,COLUMN()-2,0),0) -> 386160 | G14: =IFERROR(VLOOKUP($B$12,[1]수정!$A:$G,COLUMN()-2,0),0) -> 676180 | H14: =IFERROR(VLOOKUP($B$12,[1]수정!$A:$G,COLUMN(),0),0) -> 0 | I14: =IFERROR(VLOOKUP($B$12,[1]수정!$A:$G,COLUMN(),0),0) -> 0 | J14: =E14-G14-I14 -> 4402610
A15: 211-00 재산임대수입 | C15: 중원 | D15: =IFERROR(VLOOKUP($B$12,[1]중원!$A:$G,COLUMN()-2,0),0) -> 0 | E15: =IFERROR(VLOOKUP($B$12,[1]중원!$A:$G,COLUMN()-2,0),0) -> 0 | F15: =IFERROR(VLOOKUP($B$12,[1]중원!$A:$G,COLUMN()-2,0),0) -> 0 | G15: =IFERROR(VLOOKUP($B$12,[1]중원!$A:$G,COLUMN()-2,0),0) -> 0 | H15: =IFERROR(VLOOKUP($B$12,[1]중원!$A:$G,COLUMN(),0),0) -> 0 | I15: =IFERROR(VLOOKUP($B$12,[1]중원!$A:$G,COLUMN(),0),0) -> 0 | J15: =E15-G15-I15 -> 0
A16: 211-00 재산임대수입 | C16: 분당 | D16: =IFERROR(VLOOKUP($B$12,[1]분당!$A:$G,COLUMN()-2,0),0) -> 11414610 | E16: =IFERROR(VLOOKUP($B$12,[1]분당!$A:$G,COLUMN()-2,0),0) -> 69875170 | F16: =IFERROR(VLOOKUP($B$12,[1]분당!$A:$G,COLUMN()-2,0),0) -> 11644520 | G16: =IFERROR(VLOOKUP($B$12,[1]분당!$A:$G,COLUMN()-2,0),0) -> 68808940 | H16: =IFERROR(VLOOKUP($B$12,[1]분당!$A:$G,COLUMN(),0),0) -> 0 | I16: =IFERROR(VLOOKUP($B$12,[1]분당!$A:$G,COLUMN(),0),0) -> 0 | J16: =E16-G16-I16 -> 1066230
B17: 212-00 사용료수입 | D17: =SUM(D18:D21) -> 1723934604 | E17: =SUM(E18:E21) -> 21703572307 | F17: =SUM(F18:F21) -> 1998956319 | G17: =SUM(G18:G21) -> 21057986770 | H17: =SUM(H18:H21) -> 0 | I17: =SUM(I18:I21) -> 0 | J17: =SUM(J18:J21) -> 645585537
A18: 212-00 사용료수입 | C18: 본청 | D18: =IFERROR(VLOOKUP($B$17,[1]본청!$A:$G,COLUMN()-2,0),0) -> 1650877938 | E18: =IFERROR(VLOOKUP($B$17,[1]본청!$A:$G,COLUMN()-2,0),0) -> 12254710275 | F18: =IFERROR(VLOOKUP($B$17,[1]본청!$A:$G,COLUMN()-2,0),0) -> 1651275363 | G18: =IFERROR(VLOOKUP($B$17,[1]본청!$A:$G,COLUMN()-2,0),0) -> 12219019618 | H18: =IFERROR(VLOOKUP($B$17,[1]본청!$A:$G,COLUMN(),0),0) -> 0 | I18: =IFERROR(VLOOKUP($B$17,[1]본청!$A:$G,COLUMN(),0),0) -> 0 | J18: =E18-G18-I18 -> 35690657
A19: 212-00 사용료수입 | C19: 수정 | D19: =IFERROR(VLOOKUP($B$17,[1]수정!$A:$G,COLUMN()-2,0),0) -> 54466563 | E19: =IFERROR(VLOOKUP($B$17,[1]수정!$A:$G,COLUMN()-2,0),0) -> 1526091242 | F19: =IFERROR(VLOOKUP($B$17,[1]수정!$A:$G,COLUMN()-2,0),0) -> 78015153 | G19: =IFERROR(VLOOKUP($B$17,[1]수정!$A:$G,COLUMN()-2,0),0) -> 1299553882 | H19: =IFERROR(VLOOKUP($B$17,[1]수정!$A:$G,COLUMN(),0),0) -> 0 | I19: =IFERROR(VLOOKUP($B$17,[1]수정!$A:$G,COLUMN(),0),0) -> 0 | J19: =E19-G19-I19 -> 226537360
A20: 212-00 사용료수입 | C20: 중원 | D20: =IFERROR(VLOOKUP($B$17,[1]중원!$A:$G,COLUMN()-2,0),0) -> 34562520 | E20: =IFERROR(VLOOKUP($B$17,[1]중원!$A:$G,COLUMN()-2,0),0) -> 1371187520 | F20: =IFERROR(VLOOKUP($B$17,[1]중원!$A:$G,COLUMN()-2,0),0) -> 72889860 | G20: =IFERROR(VLOOKUP($B$17,[1]중원!$A:$G,COLUMN()-2,0),0) -> 1231859990 | H20: =IFERROR(VLOOKUP($B$17,[1]중원!$A:$G,COLUMN(),0),0) -> 0 | I20: =IFERROR(VLOOKUP($B$17,[1]중원!$A:$G,COLUMN(),0),0) -> 0 | J20: =E20-G20-I20 -> 139327530
A21: 212-00 사용료수입 | C21: 분당 | D21: =IFERROR(VLOOKUP($B$17,[1]분당!$A:$G,COLUMN()-2,0),0) -> -15972417 | E21: =IFERROR(VLOOKUP($B$17,[1]분당!$A:$G,COLUMN()-2,0),0) -> 6551583270 | F21: =IFERROR(VLOOKUP($B$17,[1]분당!$A:$G,COLUMN()-2,0),0) -> 196775943 | G21: =IFERROR(VLOOKUP($B$17,[1]분당!$A:$G,COLUMN()-2,0),0) -> 6307553280 | H21: =IFERROR(VLOOKUP($B$17,[1]분당!$A:$G,COLUMN(),0),0) -> 0 | I21: =IFERROR(VLOOKUP($B$17,[1]분당!$A:$G,COLUMN(),0),0) -> 0 | J21: =E21-G21-I21 -> 244029990
B22: 213-00 수수료수입 | D22: =SUM(D23:D26) -> 3914666016 | E22: =SUM(E23:E26) -> 24006528796 | F22: =SUM(F23:F26) -> 3968681840 | G22: =SUM(G23:G26) -> 23963896196 | H22: =SUM(H23:H26) -> 0 | I22: =SUM(I23:I26) -> 0 | J22: =SUM(J23:J26) -> 42632600
A23: 213-00 수수료수입 | C23: 본청 | D23: =IFERROR(VLOOKUP($B$22,[1]본청!$A:$G,COLUMN()-2,0),0) -> 3785033426 | E23: =IFERROR(VLOOKUP($B$22,[1]본청!$A:$G,COLUMN()-2,0),0) -> 23175333637 | F23: =IFERROR(VLOOKUP($B$22,[1]본청!$A:$G,COLUMN()-2,0),0) -> 3838938010 | G23: =IFERROR(VLOOKUP($B$22,[1]본청!$A:$G,COLUMN()-2,0),0) -> 23134922937 | H23: =IFERROR(VLOOKUP($B$22,[1]본청!$A:$G,COLUMN(),0),0) -> 0 | I23: =IFERROR(VLOOKUP($B$22,[1]본청!$A:$G,COLUMN(),0),0) -> 0 | J23: =E23-G23-I23 -> 40410700
A24: 213-00 수수료수입 | C24: 수정 | D24: =IFERROR(VLOOKUP($B$22,[1]수정!$A:$G,COLUMN()-2,0),0) -> 37556630 | E24: =IFERROR(VLOOKUP($B$22,[1]수정!$A:$G,COLUMN()-2,0),0) -> 235048240 | F24: =IFERROR(VLOOKUP($B$22,[1]수정!$A:$G,COLUMN()-2,0),0) -> 37699530 | G24: =IFERROR(VLOOKUP($B$22,[1]수정!$A:$G,COLUMN()-2,0),0) -> 234285540 | H24: =IFERROR(VLOOKUP($B$22,[1]수정!$A:$G,COLUMN(),0),0) -> 0 | I24: =IFERROR(VLOOKUP($B$22,[1]수정!$A:$G,COLUMN(),0),0) -> 0 | J24: =E24-G24-I24 -> 762700
A25: 213-00 수수료수입 | C25: 중원 | D25: =IFERROR(VLOOKUP($B$22,[1]중원!$A:$G,COLUMN()-2,0),0) -> 22723000 | E25: =IFERROR(VLOOKUP($B$22,[1]중원!$A:$G,COLUMN()-2,0),0) -> 153379200 | F25: =IFERROR(VLOOKUP($B$22,[1]중원!$A:$G,COLUMN()-2,0),0) -> 22611600 | G25: =IFERROR(VLOOKUP($B$22,[1]중원!$A:$G,COLUMN()-2,0),0) -> 152849700 | H25: =IFERROR(VLOOKUP($B$22,[1]중원!$A:$G,COLUMN(),0),0) -> 0 | I25: =IFERROR(VLOOKUP($B$22,[1]중원!$A:$G,COLUMN(),0),0) -> 0 | J25: =E25-G25-I25 -> 529500
A26: 213-00 수수료수입 | C26: 분당 | D26: =IFERROR(VLOOKUP($B$22,[1]분당!$A:$G,COLUMN()-2,0),0) -> 69352960 | E26: =IFERROR(VLOOKUP($B$22,[1]분당!$A:$G,COLUMN()-2,0),0) -> 442767719 | F26: =IFERROR(VLOOKUP($B$22,[1]분당!$A:$G,COLUMN()-2,0),0) -> 69432700 | G26: =IFERROR(VLOOKUP($B$22,[1]분당!$A:$G,COLUMN()-2,0),0) -> 441838019 | H26: =IFERROR(VLOOKUP($B$22,[1]분당!$A:$G,COLUMN(),0),0) -> 0 | I26: =IFERROR(VLOOKUP($B$22,[1]분당!$A:$G,COLUMN(),0),0) -> 0 | J26: =E26-G26-I26 -> 929700
A27: 214-00 사업수입 | B27: 214-00 사업수입 | D27: =SUM(D28:D31) -> 975702070 | E27: =SUM(E28:E31) -> 5546336560 | F27: =SUM(F28:F31) -> 1439856850 | G27: =SUM(G28:G31) -> 5526892560 | H27: =SUM(H28:H31) -> 0 | I27: =SUM(I28:I31) -> 0 | J27: =SUM(J28:J31) -> 19444000
C28: 본청 | D28: =IFERROR(VLOOKUP($B$27,[1]본청!$A:$G,COLUMN()-2,0),0) -> 922030070 | E28: =IFERROR(VLOOKUP($B$27,[1]본청!$A:$G,COLUMN()-2,0),0) -> 5195836560 | F28: =IFERROR(VLOOKUP($B$27,[1]본청!$A:$G,COLUMN()-2,0),0) -> 1385208850 | G28: =IFERROR(VLOOKUP($B$27,[1]본청!$A:$G,COLUMN()-2,0),0) -> 5186512560 | H28: =IFERROR(VLOOKUP($B$27,[1]본청!$A:$G,COLUMN(),0),0) -> 0 | I28: =IFERROR(VLOOKUP($B$27,[1]본청!$A:$G,COLUMN(),0),0) -> 0 | J28: =E28-G28-I28 -> 9324000
C29: 수정 | D29: =IFERROR(VLOOKUP($B$27,[1]수정!$A:$G,COLUMN()-2,0),0) -> 16000000 | E29: =IFERROR(VLOOKUP($B$27,[1]수정!$A:$G,COLUMN()-2,0),0) -> 108288000 | F29: =IFERROR(VLOOKUP($B$27,[1]수정!$A:$G,COLUMN()-2,0),0) -> 16644000 | G29: =IFERROR(VLOOKUP($B$27,[1]수정!$A:$G,COLUMN()-2,0),0) -> 105356000 | H29: =IFERROR(VLOOKUP($B$27,[1]수정!$A:$G,COLUMN(),0),0) -> 0 | I29: =IFERROR(VLOOKUP($B$27,[1]수정!$A:$G,COLUMN(),0),0) -> 0 | J29: =E29-G29-I29 -> 2932000
C30: 중원 | D30: =IFERROR(VLOOKUP($B$27,[1]중원!$A:$G,COLUMN()-2,0),0) -> 14800000 | E30: =IFERROR(VLOOKUP($B$27,[1]중원!$A:$G,COLUMN()-2,0),0) -> 96124000 | F30: =IFERROR(VLOOKUP($B$27,[1]중원!$A:$G,COLUMN()-2,0),0) -> 14728000 | G30: =IFERROR(VLOOKUP($B$27,[1]중원!$A:$G,COLUMN()-2,0),0) -> 93280000 | H30: =IFERROR(VLOOKUP($B$27,[1]중원!$A:$G,COLUMN(),0),0) -> 0 | I30: =IFERROR(VLOOKUP($B$27,[1]중원!$A:$G,COLUMN(),0),0) -> 0 | J30: =E30-G30-I30 -> 2844000
C31: 분당 | D31: =IFERROR(VLOOKUP($B$27,[1]분당!$A:$G,COLUMN()-2,0),0) -> 22872000 | E31: =IFERROR(VLOOKUP($B$27,[1]분당!$A:$G,COLUMN()-2,0),0) -> 146088000 | F31: =IFERROR(VLOOKUP($B$27,[1]분당!$A:$G,COLUMN()-2,0),0) -> 23276000 | G31: =IFERROR(VLOOKUP($B$27,[1]분당!$A:$G,COLUMN()-2,0),0) -> 141744000 | H31: =IFERROR(VLOOKUP($B$27,[1]분당!$A:$G,COLUMN(),0),0) -> 0 | I31: =IFERROR(VLOOKUP($B$27,[1]분당!$A:$G,COLUMN(),0),0) -> 0 | J31: =E31-G31-I31 -> 4344000
A32: 215-00 징수교부금수입 | B32: 215-00 징수교부금수입 | D32: =SUM(D33:D36) -> 6675660 | E32: =SUM(E33:E36) -> 1942900080 | F32: =SUM(F33:F36) -> 6675660 | G32: =SUM(G33:G36) -> 1942900080 | H32: =SUM(H33:H36) -> 0 | I32: =SUM(I33:I36) -> 0 | J32: =SUM(J33:J36) -> 0
C33: 본청 | D33: =IFERROR(VLOOKUP($B$32,[1]본청!$A:$G,COLUMN()-2,0),0) -> 6675660 | E33: =IFERROR(VLOOKUP($B$32,[1]본청!$A:$G,COLUMN()-2,0),0) -> 1942900080 | F33: =IFERROR(VLOOKUP($B$32,[1]본청!$A:$G,COLUMN()-2,0),0) -> 6675660 | G33: =IFERROR(VLOOKUP($B$32,[1]본청!$A:$G,COLUMN()-2,0),0) -> 1942900080 | H33: =IFERROR(VLOOKUP($B$32,[1]본청!$A:$G,COLUMN(),0),0) -> 0 | I33: =IFERROR(VLOOKUP($B$32,[1]본청!$A:$G,COLUMN(),0),0) -> 0 | J33: =E33-G33-I33 -> 0
C34: 수정 | D34: =IFERROR(VLOOKUP($B$32,[1]수정!$A:$G,COLUMN()-2,0),0) -> 0 | E34: =IFERROR(VLOOKUP($B$32,[1]수정!$A:$G,COLUMN()-2,0),0) -> 0 | F34: =IFERROR(VLOOKUP($B$32,[1]수정!$A:$G,COLUMN()-2,0),0) -> 0 | G34: =IFERROR(VLOOKUP($B$32,[1]수정!$A:$G,COLUMN()-2,0),0) -> 0 | H34: =IFERROR(VLOOKUP($B$32,[1]수정!$A:$G,COLUMN(),0),0) -> 0 | I34: =IFERROR(VLOOKUP($B$32,[1]수정!$A:$G,COLUMN(),0),0) -> 0 | J34: =E34-G34-I34 -> 0
C35: 중원 | D35: =IFERROR(VLOOKUP($B$32,[1]중원!$A:$G,COLUMN()-2,0),0) -> 0 | E35: =IFERROR(VLOOKUP($B$32,[1]중원!$A:$G,COLUMN()-2,0),0) -> 0 | F35: =IFERROR(VLOOKUP($B$32,[1]중원!$A:$G,COLUMN()-2,0),0) -> 0 | G35: =IFERROR(VLOOKUP($B$32,[1]중원!$A:$G,COLUMN()-2,0),0) -> 0 | H35: =IFERROR(VLOOKUP($B$32,[1]중원!$A:$G,COLUMN(),0),0) -> 0 | I35: =IFERROR(VLOOKUP($B$32,[1]중원!$A:$G,COLUMN(),0),0) -> 0 | J35: =E35-G35-I35 -> 0
C36: 분당 | D36: =IFERROR(VLOOKUP($B$32,[1]분당!$A:$G,COLUMN()-2,0),0) -> 0 | E36: =IFERROR(VLOOKUP($B$32,[1]분당!$A:$G,COLUMN()-2,0),0) -> 0 | F36: =IFERROR(VLOOKUP($B$32,[1]분당!$A:$G,COLUMN()-2,0),0) -> 0 | G36: =IFERROR(VLOOKUP($B$32,[1]분당!$A:$G,COLUMN()-2,0),0) -> 0 | H36: =IFERROR(VLOOKUP($B$32,[1]분당!$A:$G,COLUMN(),0),0) -> 0 | I36: =IFERROR(VLOOKUP($B$32,[1]분당!$A:$G,COLUMN(),0),0) -> 0 | J36: =E36-G36-I36 -> 0
A37: 216-00 이자수입 | B37: 216-00 이자수입 | D37: =SUM(D38:D41) -> 755625560 | E37: =SUM(E38:E41) -> 7567524940 | F37: =SUM(F38:F41) -> 755406463 | G37: =SUM(G38:G41) -> 7566806496 | H37: =SUM(H38:H41) -> 0 | I37: =SUM(I38:I41) -> 0 | J37: =SUM(J38:J41) -> 718444
A38: 216-00 이자수입 | C38: 본청 | D38: =IFERROR(VLOOKUP($B$37,[1]본청!$A:$G,COLUMN()-2,0),0) -> 754885181 | E38: =IFERROR(VLOOKUP($B$37,[1]본청!$A:$G,COLUMN()-2,0),0) -> 7435072751 | F38: =IFERROR(VLOOKUP($B$37,[1]본청!$A:$G,COLUMN()-2,0),0) -> 754733574 | G38: =IFERROR(VLOOKUP($B$37,[1]본청!$A:$G,COLUMN()-2,0),0) -> 7434666708 | H38: =IFERROR(VLOOKUP($B$37,[1]본청!$A:$G,COLUMN(),0),0) -> 0 | I38: =IFERROR(VLOOKUP($B$37,[1]본청!$A:$G,COLUMN(),0),0) -> 0 | J38: =E38-G38-I38 -> 406043
A39: 216-00 이자수입 | C39: 수정 | D39: =IFERROR(VLOOKUP($B$37,[1]수정!$A:$G,COLUMN()-2,0),0) -> 162826 | E39: =IFERROR(VLOOKUP($B$37,[1]수정!$A:$G,COLUMN()-2,0),0) -> 71752930 | F39: =IFERROR(VLOOKUP($B$37,[1]수정!$A:$G,COLUMN()-2,0),0) -> 162826 | G39: =IFERROR(VLOOKUP($B$37,[1]수정!$A:$G,COLUMN()-2,0),0) -> 71736710 | H39: =IFERROR(VLOOKUP($B$37,[1]수정!$A:$G,COLUMN(),0),0) -> 0 | I39: =IFERROR(VLOOKUP($B$37,[1]수정!$A:$G,COLUMN(),0),0) -> 0 | J39: =E39-G39-I39 -> 16220
A40: 216-00 이자수입 | C40: 중원 | D40: =IFERROR(VLOOKUP($B$37,[1]중원!$A:$G,COLUMN()-2,0),0) -> 57420 | E40: =IFERROR(VLOOKUP($B$37,[1]중원!$A:$G,COLUMN()-2,0),0) -> 58254802 | F40: =IFERROR(VLOOKUP($B$37,[1]중원!$A:$G,COLUMN()-2,0),0) -> 0 | G40: =IFERROR(VLOOKUP($B$37,[1]중원!$A:$G,COLUMN()-2,0),0) -> 57968691 | H40: =IFERROR(VLOOKUP($B$37,[1]중원!$A:$G,COLUMN(),0),0) -> 0 | I40: =IFERROR(VLOOKUP($B$37,[1]중원!$A:$G,COLUMN(),0),0) -> 0 | J40: =E40-G40-I40 -> 286111
...
