Workbook

Sheet 과징현황
A1: 2025년 6월 일반회계(시세외) 과징현황
A2: 2025-06-30 기준 | J2: (단위 : 원)
A3: 세 | B3: 입 | C3: 항목 | D3: 징수결정액 | F3: 수납액 | H3: 결손액 | J3: 미 수 액
A4: 관 | B4: 항 | C4: 목 | D4: 본월분 | E4: 누 계 | F4: 본월분 | G4: 누 계 | H4: 본월분 | I4: 누 계 | J4: 0
A5: 총 계 | D5: =SUM(D6,D117,D118,D119,D120,D121) -> 159111216006 | E5: =E6+E117+E118+E119+E120+E121 -> 1891786962307 | F5: =SUM(F6,F117,F118,F119,F120,F121) -> 157945513557 | G5: =SUM(G6,G117,G118,G119,G120,G121) -> 1775117564107 | H5: =SUM(H6,H117,H118,H119,H120,H121) -> 20313510 | I5: =SUM(I6,I117,I118,I119,I120,I121) -> 157939980 | J5: =SUM(J6,J117,J118,J119,J120,J121) -> 116511458220
A6: 세외수입총계 | D6: =D7+D42+D67+D107 -> 13006203409 | E6: =E7+E42+E67+E107 -> 215780813233 | F6: =F7+F42+F67+F107 -> 11847993470 | G6: =G7+G42+G67+G107 -> 90939233866 | H6: =H7+H42+H67+H107 -> 20313510 | I6: =I7+I42+I67+I107 -> 157939980 | J6: =J7+J42+J67+J107 -> 124683639387
A7: 210-00 경상적세외수입 | D7: =SUM(D8:D11) -> 8158126144 | E7: =SUM(E8:E11) -> 64139409491 | F7: =SUM(F8:F11) -> 8895932880 | G7: =SUM(G8:G11) -> 63321907709 | H7: =SUM(H8:H11) -> 0 | I7: =SUM(I8:I11) -> 0 | J7: =SUM(J8:J11) -> 817501782
C8: 본청 | D8: =IFERROR(VLOOKUP($A$7,[1]본청!$A:$G,COLUMN()-2,0),0) -> 7884945569 | E8: =IFERROR(VLOOKUP($A$7,[1]본청!$A:$G,COLUMN()-2,0),0) -> 53301446151 | F8: =IFERROR(VLOOKUP($A$7,[1]본청!$A:$G,COLUMN()-2,0),0) -> 8351156525 | G8: =IFERROR(VLOOKUP($A$7,[1]본청!$A:$G,COLUMN()-2,0),0) -> 53111962390 | H8: =IFERROR(VLOOKUP($A$7,[1]본청!$A:$G,COLUMN(),0),0) -> 0 | I8: =IFERROR(VLOOKUP($A$7,[1]본청!$A:$G,COLUMN(),0),0) -> 0 | J8: =E8-G8-I8 -> 189483761
C9: 수정 | D9: =IFERROR(VLOOKUP($A$7,[1]수정!$A:$G,COLUMN()-2,0),0) -> 112850349 | E9: =IFERROR(VLOOKUP($A$7,[1]수정!$A:$G,COLUMN()-2,0),0) -> 1946259202 | F9: =IFERROR(VLOOKUP($A$7,[1]수정!$A:$G,COLUMN()-2,0),0) -> 132907669 | G9: =IFERROR(VLOOKUP($A$7,[1]수정!$A:$G,COLUMN()-2,0),0) -> 1711608312 | H9: =IFERROR(VLOOKUP($A$7,[1]수정!$A:$G,COLUMN(),0),0) -> 0 | I9: =IFERROR(VLOOKUP($A$7,[1]수정!$A:$G,COLUMN(),0),0) -> 0 | J9: =E9-G9-I9 -> 234650890
C10: 중원 | D10: =IFERROR(VLOOKUP($A$7,[1]중원!$A:$G,COLUMN()-2,0),0) -> 72142940 | E10: =IFERROR(VLOOKUP($A$7,[1]중원!$A:$G,COLUMN()-2,0),0) -> 1678945522 | F10: =IFERROR(VLOOKUP($A$7,[1]중원!$A:$G,COLUMN()-2,0),0) -> 110229460 | G10: =IFERROR(VLOOKUP($A$7,[1]중원!$A:$G,COLUMN()-2,0),0) -> 1535958381 | H10: =IFERROR(VLOOKUP($A$7,[1]중원!$A:$G,COLUMN(),0),0) -> 0 | I10: =IFERROR(VLOOKUP($A$7,[1]중원!$A:$G,COLUMN(),0),0) -> 0 | J10: =E10-G10-I10 -> 142987141
C11: 분당 | D11: =IFERROR(VLOOKUP($A$7,[1]분당!$A:$G,COLUMN()-2,0),0) -> 88187286 | E11: =IFERROR(VLOOKUP($A$7,[1]분당!$A:$G,COLUMN()-2,0),0) -> 7212758616 | F11: =IFERROR(VLOOKUP($A$7,[1]분당!$A:$G,COLUMN()-2,0),0) -> 301639226 | G11: =IFERROR(VLOOKUP($A$7,[1]분당!$A:$G,COLUMN()-2,0),0) -> 6962378626 | H11: =IFERROR(VLOOKUP($A$7,[1]분당!$A:$G,COLUMN(),0),0) -> 0 | I11: =IFERROR(VLOOKUP($A$7,[1]분당!$A:$G,COLUMN(),0),0) -> 0 | J11: =E11-G11-I11 -> 250379990
B12: 211-00 재산임대수입 | D12: =SUM(D13:D16) -> 781522234 | E12: =SUM(E13:E16) -> 3372546808 | F12: =SUM(F13:F16) -> 726355748 | G12: =SUM(G13:G16) -> 3263425607 | H12: =SUM(H13:H16) -> 0 | I12: =SUM(I13:I16) -> 0 | J12: =SUM(J13:J16) -> 109121201
A13: 211-00 재산임대수입 | C13: 본청 | D13: =IFERROR(VLOOKUP($B$12,[1]본청!$A:$G,COLUMN()-2,0),0) -> 765443294 | E13: =IFERROR(VLOOKUP($B$12,[1]본청!$A:$G,COLUMN()-2,0),0) -> 3297592848 | F13: =IFERROR(VLOOKUP($B$12,[1]본청!$A:$G,COLUMN()-2,0),0) -> 714325068 | G13: =IFERROR(VLOOKUP($B$12,[1]본청!$A:$G,COLUMN()-2,0),0) -> 3193940487 | H13: =IFERROR(VLOOKUP($B$12,[1]본청!$A:$G,COLUMN(),0),0) -> 0 | I13: =IFERROR(VLOOKUP($B$12,[1]본청!$A:$G,COLUMN(),0),0) -> 0 | J13: =E13-G13-I13 -> 103652361
A14: 211-00 재산임대수입 | C14: 수정 | D14: =IFERROR(VLOOKUP($B$12,[1]수정!$A:$G,COLUMN()-2,0),0) -> 4664330 | E14: =IFERROR(VLOOKUP($B$12,[1]수정!$A:$G,COLUMN()-2,0),0) -> 5078790 | F14: =IFERROR(VLOOKUP($B$12,[1]수정!$A:$G,COLUMN()-2,0),0) -> 386160 | G14: =IFERROR(VLOOKUP($B$12,[1]수정!$A:$G,COLUMN()-2,0),0) -> 676180 | H14: =IFERROR(VLOOKUP($B$12,[1]수정!$A:$G,COLUMN(),0),0) -> 0 | I14: =IFERROR(VLOOKUP($B$12,[1]수정!$A:$G,COLUMN(),0),0) -> 0 | J14: =E14-G14-I14 -> 4402610
A15: 211-00 재산임대수입 | C15: 중원 | D15: =IFERROR(VLOOKUP($B$12,[1]중원!$A:$G,COLUMN()-2,0),0) -> 0 | E15: =IFERROR(VLOOKUP($B$12,[1]중원!$A:$G,COLUMN()-2,0),0) -> 0 | F15: =IFERROR(VLOOKUP($B$12,[1]중원!$A:$G,COLUMN()-2,0),0) -> 0 | G15: =IFERROR(VLOOKUP($B$12,[1]중원!$A:$G,COLUMN()-2,0),0) -> 0 | H15: =IFERROR(VLOOKUP($B$12,[1]중원!$A:$G,COLUMN(),0),0) -> 0 | I15: =IFERROR(VLOOKUP($B$12,[1]중원!$A:$G,COLUMN(),0),0) -> 0 | J15: =E15-G15-I15 -> 0
A16: 211-00 재산임대수입 | C16: 분당 | D16: =IFERROR(VLOOKUP($B$12,[1]분당!$A:$G,COLUMN()-2,0),0) -> 11414610 | E16: =IFERROR(VLOOKUP($B$12,[1]분당!$A:$G,COLUMN()-2,0),0) -> 69875170 | F16: =IFERROR(VLOOKUP($B$12,[1]분당!$A:$G,COLUMN()-2,0),0) -> 11644520 | G16: =IFERROR(VLOOKUP($B$12,[1]분당!$A:$G,COLUMN()-2,0),0) -> 68808940 | H16: =IFERROR(VLOOKUP($B$12,[1]분당!$A:$G,COLUMN(),0),0) -> 0 | I16: =IFERROR(VLOOKUP($B$12,[1]분당!$A:$G,COLUMN(),0),0) -> 0 | J16: =E16-G16-I16 -> 1066230
B17: 212-00 사용료수입 | D17: =SUM(D18:D21) -> 1723934604 | E17: =SUM(E18:E21) -> 21703572307 | F17: =SUM(F18:F21) -> 1998956319 | G17: =SUM(G18:G21) -> 21057986770 | H17: =SUM(H18:H21) -> 0 | I17: =SUM(I18:I21) -> 0 | J17: =SUM(J18:J21) -> 645585537
A18: 212-00 사용료수입 | C18: 본청 | D18: =IFERROR(VLOOKUP($B$17,[1]본청!$A:$G,COLUMN()-2,0),0) -> 1650877938 | E18: =IFERROR(VLOOKUP($B$17,[1]본청!$A:$G,COLUMN()-2,0),0) -> 12254710275 | F18: =IFERROR(VLOOKUP($B$17,[1]본청!$A:$G,COLUMN()-2,0),0) -> 1651275363 | G18: =IFERROR(VLOOKUP($B$17,[1]본청!$A:$G,COLUMN()-2,0),0) -> 12219019618 | H18: =IFERROR(VLOOKUP($B$17,[1]본청!$A:$G,COLUMN(),0),0) -> 0 | I18: =IFERROR(VLOOKUP($B$17,[1]본청!$A:$G,COLUMN(),0),0) -> 0 | J18: =E18-G18-I18 -> 35690657
A19: 212-00 사용료수입 | C19: 수정 | D19: =IFERROR(VLOOKUP($B$17,[1]수정!$A:$G,COLUMN()-2,0),0) -> 54466563 | E19: =IFERROR(VLOOKUP($B$17,[1]수정!$A:$G,COLUMN()-2,0),0) -> 1526091242 | F19: =IFERROR(VLOOKUP($B$17,[1]수정!$A:$G,COLUMN()-2,0),0) -> 78015153 | G19: =IFERROR(VLOOKUP($B$17,[1]수정!$A:$G,COLUMN()-2,0),0) -> 1299553882 | H19: =IFERROR(VLOOKUP($B$17,[1]수정!$A:$G,COLUMN(),0),0) -> 0 | I19: =IFERROR(VLOOKUP($B$17,[1]수정!$A:$G,COLUMN(),0),0) -> 0 | J19: =E19-G19-I19 -> 226537360
A20: 212-00 사용료수입 | C20: 중원 | D20: =IFERROR(VLOOKUP($B$17,[1]중원!$A:$G,COLUMN()-2,0),0) -> 34562520 | E20: =IFERROR(VLOOKUP($B$17,[1]중원!$A:$G,COLUMN()-2,0),0) -> 1371187520 | F20: =IFERROR(VLOOKUP($B$17,[1]중원!$A:$G,COLUMN()-2,0),0) -> 72889860 | G20: =IFERROR(VLOOKUP($B$17,[1]중원!$A:$G,COLUMN()-2,0),0) -> 1231859990 | H20: =IFERROR(VLOOKUP($B$17,[1]중원!$A:$G,COLUMN(),0),0) -> 0 | I20: =IFERROR(VLOOKUP($B$17,[1]중원!$A:$G,COLUMN(),0),0) -> 0 | J20: =E20-G20-I20 -> 139327530
A21: 212-00 사용료수입 | C21: 분당 | D21: =IFERROR(VLOOKUP($B$17,[1]분당!$A:$G,COLUMN()-2,0),0) -> -15972417 | E21: =IFERROR(VLOOKUP($B$17,[1]분당!$A:$G,COLUMN()-2,0),0) -> 6551583270 | F21: =IFERROR(VLOOKUP($B$17,[1]분당!$A:$G,COLUMN()-2,0),0) -> 196775943 | G21: =IFERROR(VLOOKUP($B$17,[1]분당!$A:$G,COLUMN()-2,0),0) -> 6307553280 | H21: =IFERROR(VLOOKUP($B$17,[1]분당!$A:$G,COLUMN(),0),0) -> 0 | I21: =IFERROR(VLOOKUP($B$17,[1]분당!$A:$G,COLUMN(),0),0) -> 0 | J21: =E21-G21-I21 -> 244029990
B22: 213-00 수수료수입 | D22: =SUM(D23:D26) -> 3914666016 | E22: =SUM(E23:E26) -> 24006528796 | F22: =SUM(F23:F26) -> 3968681840 | G22: =SUM(G23:G26) -> 23963896196 | H22: =SUM(H23:H26) -> 0 | I22: =SUM(I23:I26) -> 0 | J22: =SUM(J23:J26) -> 42632600
A23: 213-00 수수료수입 | C23: 본청 | D23: =IFERROR(VLOOKUP($B$22,[1]본청!$A:$G,COLUMN()-2,0),0) -> 3785033426 | E23: =IFERROR(VLOOKUP($B$22,[1]본청!$A:$G,COLUMN()-2,0),0) -> 23175333637 | F23: =IFERROR(VLOOKUP($B$22,[1]본청!$A:$G,COLUMN()-2,0),0) -> 3838938010 | G23: =IFERROR(VLOOKUP($B$22,[1]본청!$A:$G,COLUMN()-2,0),0) -> 23134922937 | H23: =IFERROR(VLOOKUP($B$22,[1]본청!$A:$G,COLUMN(),0),0) -> 0 | I23: =IFERROR(VLOOKUP($B$22,[1]본청!$A:$G,COLUMN(),0),0) -> 0 | J23: =E23-G23-I23 -> 40410700
A24: 213-00 수수료수입 | C24: 수정 | D24: =IFERROR(VLOOKUP($B$22,[1]수정!$A:$G,COLUMN()-2,0),0) -> 37556630 | E24: =IFERROR(VLOOKUP($B$22,[1]수정!$A:$G,COLUMN()-2,0),0) -> 235048240 | F24: =IFERROR(VLOOKUP($B$22,[1]수정!$A:$G,COLUMN()-2,0),0) -> 37699530 | G24: =IFERROR(VLOOKUP($B$22,[1]수정!$A:$G,COLUMN()-2,0),0) -> 234285540 | H24: =IFERROR(VLOOKUP($B$22,[1]수정!$A:$G,COLUMN(),0),0) -> 0 | I24: =IFERROR(VLOOKUP($B$22,[1]수정!$A:$G,COLUMN(),0),0) -> 0 | J24: =E24-G24-I24 -> 762700
A25: 213-00 수수료수입 | C25: 중원 | D25: =IFERROR(VLOOKUP($B$22,[1]중원!$A:$G,COLUMN()-2,0),0) -> 22723000 | E25: =IFERROR(VLOOKUP($B$22,[1]중원!$A:$G,COLUMN()-2,0),0) -> 153379200 | F25: =IFERROR(VLOOKUP($B$22,[1]중원!$A:$G,COLUMN()-2,0),0) -> 22611600 | G25: =IFERROR(VLOOKUP($B$22,[1]중원!$A:$G,COLUMN()-2,0),0) -> 152849700 | H25: =IFERROR(VLOOKUP($B$22,[1]중원!$A:$G,COLUMN(),0),0) -> 0 | I25: =IFERROR(VLOOKUP($B$22,[1]중원!$A:$G,COLUMN(),0),0) -> 0 | J25: =E25-G25-I25 -> 529500
A26: 213-00 수수료수입 | C26: 분당 | D26: =IFERROR(VLOOKUP($B$22,[1]분당!$A:$G,COLUMN()-2,0),0) -> 69352960 | E26: =IFERROR(VLOOKUP($B$22,[1]분당!$A:$G,COLUMN()-2,0),0) -> 442767719 | F26: =IFERROR(VLOOKUP($B$22,[1]분당!$A:$G,COLUMN()-2,0),0) -> 69432700 | G26: =IFERROR(VLOOKUP($B$22,[1]분당!$A:$G,COLUMN()-2,0),0) -> 441838019 | H26: =IFERROR(VLOOKUP($B$22,[1]분당!$A:$G,COLUMN(),0),0) -> 0 | I26: =IFERROR(VLOOKUP($B$22,[1]분당!$A:$G,COLUMN(),0),0) -> 0 | J26: =E26-G26-I26 -> 929700
A27: 214-00 사업수입 | B27: 214-00 사업수입 | D27: =SUM(D28:D31) -> 975702070 | E27: =SUM(E28:E31) -> 5546336560 | F27: =SUM(F28:F31) -> 1439856850 | G27: =SUM(G28:G31) -> 5526892560 | H27: =SUM(H28:H31) -> 0 | I27: =SUM(I28:I31) -> 0 | J27: =SUM(J28:J31) -> 19444000
C28: 본청 | D28: =IFERROR(VLOOKUP($B$27,[1]본청!$A:$G,COLUMN()-2,0),0) -> 922030070 | E28: =IFERROR(VLOOKUP($B$27,[1]본청!$A:$G,COLUMN()-2,0),0) -> 5195836560 | F28: =IFERROR(VLOOKUP($B$27,[1]본청!$A:$G,COLUMN()-2,0),0) -> 1385208850 | G28: =IFERROR(VLOOKUP($B$27,[1]본청!$A:$G,COLUMN()-2,0),0) -> 5186512560 | H28: =IFERROR(VLOOKUP($B$27,[1]본청!$A:$G,COLUMN(),0),0) -> 0 | I28: =IFERROR(VLOOKUP($B$27,[1]본청!$A:$G,COLUMN(),0),0) -> 0 | J28: =E28-G28-I28 -> 9324000
C29: 수정 | D29: =IFERROR(VLOOKUP($B$27,[1]수정!$A:$G,COLUMN()-2,0),0) -> 16000000 | E29: =IFERROR(VLOOKUP($B$27,[1]수정!$A:$G,COLUMN()-2,0),0) -> 108288000 | F29: =IFERROR(VLOOKUP($B$27,[1]수정!$A:$G,COLUMN()-2,0),0) -> 16644000 | G29: =IFERROR(VLOOKUP($B$27,[1]수정!$A:$G,COLUMN()-2,0),0) -> 105356000 | H29: =IFERROR(VLOOKUP($B$27,[1]수정!$A:$G,COLUMN(),0),0) -> 0 | I29: =IFERROR(VLOOKUP($B$27,[1]수정!$A:$G,COLUMN(),0),0) -> 0 | J29: =E29-G29-I29 -> 2932000
C30: 중원 | D30: =IFERROR(VLOOKUP($B$27,[1]중원!$A:$G,COLUMN()-2,0),0) -> 14800000 | E30: =IFERROR(VLOOKUP($B$27,[1]중원!$A:$G,COLUMN()-2,0),0) -> 96124000 | F30: =IFERROR(VLOOKUP($B$27,[1]중원!$A:$G,COLUMN()-2,0),0) -> 14728000 | G30: =IFERROR(VLOOKUP($B$27,[1]중원!$A:$G,COLUMN()-2,0),0) -> 93280000 | H30: =IFERROR(VLOOKUP($B$27,[1]중원!$A:$G,COLUMN(),0),0) -> 0 | I30: =IFERROR(VLOOKUP($B$27,[1]중원!$A:$G,COLUMN(),0),0) -> 0 | J30: =E30-G30-I30 -> 2844000
C31: 분당 | D31: =IFERROR(VLOOKUP($B$27,[1]분당!$A:$G,COLUMN()-2,0),0) -> 22872000 | E31: =IFERROR(VLOOKUP($B$27,[1]분당!$A:$G,COLUMN()-2,0),0) -> 146088000 | F31: =IFERROR(VLOOKUP($B$27,[1]분당!$A:$G,COLUMN()-2,0),0) -> 23276000 | G31: =IFERROR(VLOOKUP($B$27,[1]분당!$A:$G,COLUMN()-2,0),0) -> 141744000 | H31: =IFERROR(VLOOKUP($B$27,[1]분당!$A:$G,COLUMN(),0),0) -> 0 | I31: =IFERROR(VLOOKUP($B$27,[1]분당!$A:$G,COLUMN(),0),0) -> 0 | J31: =E31-G31-I31 -> 4344000
A32: 215-00 징수교부금수입 | B32: 215-00 징수교부금수입 | D32: =SUM(D33:D36) -> 6675660 | E32: =SUM(E33:E36) -> 1942900080 | F32: =SUM(F33:F36) -> 6675660 | G32: =SUM(G33:G36) -> 1942900080 | H32: =SUM(H33:H36) -> 0 | I32: =SUM(I33:I36) -> 0 | J32: =SUM(J33:J36) -> 0
C33: 본청 | D33: =IFERROR(VLOOKUP($B$32,[1]본청!$A:$G,COLUMN()-2,0),0) -> 6675660 | E33: =IFERROR(VLOOKUP($B$32,[1]본청!$A:$G,COLUMN()-2,0),0) -> 1942900080 | F33: =IFERROR(VLOOKUP($B$32,[1]본청!$A:$G,COLUMN()-2,0),0) -> 6675660 | G33: =IFERROR(VLOOKUP($B$32,[1]본청!$A:$G,COLUMN()-2,0),0) -> 1942900080 | H33: =IFERROR(VLOOKUP($B$32,[1]본청!$A:$G,COLUMN(),0),0) -> 0 | I33: =IFERROR(VLOOKUP($B$32,[1]본청!$A:$G,COLUMN(),0),0) -> 0 | J33: =E33-G33-I33 -> 0
C34: 수정 | D34: =IFERROR(VLOOKUP($B$32,[1]수정!$A:$G,COLUMN()-2,0),0) -> 0 | E34: =IFERROR(VLOOKUP($B$32,[1]수정!$A:$G,COLUMN()-2,0),0) -> 0 | F34: =IFERROR(VLOOKUP($B$32,[1]수정!$A:$G,COLUMN()-2,0),0) -> 0 | G34: =IFERROR(VLOOKUP($B$32,[1]수정!$A:$G,COLUMN()-2,0),0) -> 0 | H34: =IFERROR(VLOOKUP($B$32,[1]수정!$A:$G,COLUMN(),0),0) -> 0 | I34: =IFERROR(VLOOKUP($B$32,[1]수정!$A:$G,COLUMN(),0),0) -> 0 | J34: =E34-G34-I34 -> 0
C35: 중원 | D35: =IFERROR(VLOOKUP($B$32,[1]중원!$A:$G,COLUMN()-2,0),0) -> 0 | E35: =IFERROR(VLOOKUP($B$32,[1]중원!$A:$G,COLUMN()-2,0),0) -> 0 | F35: =IFERROR(VLOOKUP($B$32,[1]중원!$A:$G,COLUMN()-2,0),0) -> 0 | G35: =IFERROR(VLOOKUP($B$32,[1]중원!$A:$G,COLUMN()-2,0),0) -> 0 | H35: =IFERROR(VLOOKUP($B$32,[1]중원!$A:$G,COLUMN(),0),0) -> 0 | I35: =IFERROR(VLOOKUP($B$32,[1]중원!$A:$G,COLUMN(),0),0) -> 0 | J35: =E35-G35-I35 -> 0
C36: 분당 | D36: =IFERROR(VLOOKUP($B$32,[1]분당!$A:$G,COLUMN()-2,0),0) -> 0 | E36: =IFERROR(VLOOKUP($B$32,[1]분당!$A:$G,COLUMN()-2,0),0) -> 0 | F36: =IFERROR(VLOOKUP($B$32,[1]분당!$A:$G,COLUMN()-2,0),0) -> 0 | G36: =IFERROR(VLOOKUP($B$32,[1]분당!$A:$G,COLUMN()-2,0),0) -> 0 | H36: =IFERROR(VLOOKUP($B$32,[1]분당!$A:$G,COLUMN(),0),0) -> 0 | I36: =IFERROR(VLOOKUP($B$32,[1]분당!$A:$G,COLUMN(),0),0) -> 0 | J36: =E36-G36-I36 -> 0
A37: 216-00 이자수입 | B37: 216-00 이자수입 | D37: =SUM(D38:D41) -> 755625560 | E37: =SUM(E38:E41) -> 7567524940 | F37: =SUM(F38:F41) -> 755406463 | G37: =SUM(G38:G41) -> 7566806496 | H37: =SUM(H38:H41) -> 0 | I37: =SUM(I38:I41) -> 0 | J37: =SUM(J38:J41) -> 718444
A38: 216-00 이자수입 | C38: 본청 | D38: =IFERROR(VLOOKUP($B$37,[1]본청!$A:$G,COLUMN()-2,0),0) -> 754885181 | E38: =IFERROR(VLOOKUP($B$37,[1]본청!$A:$G,COLUMN()-2,0),0) -> 7435072751 | F38: =IFERROR(VLOOKUP($B$37,[1]본청!$A:$G,COLUMN()-2,0),0) -> 754733574 | G38: =IFERROR(VLOOKUP($B$37,[1]본청!$A:$G,COLUMN()-2,0),0) -> 7434666708 | H38: =IFERROR(VLOOKUP($B$37,[1]본청!$A:$G,COLUMN(),0),0) -> 0 | I38: =IFERROR(VLOOKUP($B$37,[1]본청!$A:$G,COLUMN(),0),0) -> 0 | J38: =E38-G38-I38 -> 406043
A39: 216-00 이자수입 | C39: 수정 | D39: =IFERROR(VLOOKUP($B$37,[1]수정!$A:$G,COLUMN()-2,0),0) -> 162826 | E39: =IFERROR(VLOOKUP($B$37,[1]수정!$A:$G,COLUMN()-2,0),0) -> 71752930 | F39: =IFERROR(VLOOKUP($B$37,[1]수정!$A:$G,COLUMN()-2,0),0) -> 162826 | G39: =IFERROR(VLOOKUP($B$37,[1]수정!$A:$G,COLUMN()-2,0),0) -> 71736710 | H39: =IFERROR(VLOOKUP($B$37,[1]수정!$A:$G,COLUMN(),0),0) -> 0 | I39: =IFERROR(VLOOKUP($B$37,[1]수정!$A:$G,COLUMN(),0),0) -> 0 | J39: =E39-G39-I39 -> 16220
A40: 216-00 이자수입 | C40: 중원 | D40: =IFERROR(VLOOKUP($B$37,[1]중원!$A:$G,COLUMN()-2,0),0) -> 57420 | E40: =IFERROR(VLOOKUP($B$37,[1]중원!$A:$G,COLUMN()-2,0),0) -> 58254802 | F40: =IFERROR(VLOOKUP($B$37,[1]중원!$A:$G,COLUMN()-2,0),0) -> 0 | G40: =IFERROR(VLOOKUP($B$37,[1]중원!$A:$G,COLUMN()-2,0),0) -> 57968691 | H40: =IFERROR(VLOOKUP($B$37,[1]중원!$A:$G,COLUMN(),0),0) -> 0 | I40: =IFERROR(VLOOKUP($B$37,[1]중원!$A:$G,COLUMN(),0),0) -> 0 | J40: =E40-G40-I40 -> 286111
A41: 216-00 이자수입 | C41: 분당 | D41: =IFERROR(VLOOKUP($B$37,[1]분당!$A:$G,COLUMN()-2,0),0) -> 520133 | E41: =IFERROR(VLOOKUP($B$37,[1]분당!$A:$G,COLUMN()-2,0),0) -> 2444457 | F41: =IFERROR(VLOOKUP($B$37,[1]분당!$A:$G,COLUMN()-2,0),0) -> 510063 | G41: =IFERROR(VLOOKUP($B$37,[1]분당!$A:$G,COLUMN()-2,0),0) -> 2434387 | H41: =IFERROR(VLOOKUP($B$37,[1]분당!$A:$G,COLUMN(),0),0) -> 0 | I41: =IFERROR(VLOOKUP($B$37,[1]분당!$A:$G,COLUMN(),0),0) -> 0 | J41: =E41-G41-I41 -> 10070
A42: 220-00 임시적세외수입 | D42: =SUM(D43:D46) -> 2995620055 | E42: =SUM(E43:E46) -> 22655036072 | F42: =SUM(F43:F46) -> 1670506930 | G42: =SUM(G43:G46) -> 18979306123 | H42: =SUM(H43:H46) -> 0 | I42: =SUM(I43:I46) -> 0 | J42: =SUM(J43:J46) -> 3675729949
C43: 본청 | D43: =IFERROR(VLOOKUP($A$42,[1]본청!$A:$G,COLUMN()-2,0),0) -> 2368629277 | E43: =IFERROR(VLOOKUP($A$42,[1]본청!$A:$G,COLUMN()-2,0),0) -> 16722159200 | F43: =IFERROR(VLOOKUP($A$42,[1]본청!$A:$G,COLUMN()-2,0),0) -> 1350313742 | G43: =IFERROR(VLOOKUP($A$42,[1]본청!$A:$G,COLUMN()-2,0),0) -> 14626354146 | H43: =IFERROR(VLOOKUP($A$42,[1]본청!$A:$G,COLUMN(),0),0) -> 0 | I43: =IFERROR(VLOOKUP($A$42,[1]본청!$A:$G,COLUMN(),0),0) -> 0 | J43: =E43-G43-I43 -> 2095805054
C44: 수정 | D44: =IFERROR(VLOOKUP($A$42,[1]수정!$A:$G,COLUMN()-2,0),0) -> 124601400 | E44: =IFERROR(VLOOKUP($A$42,[1]수정!$A:$G,COLUMN()-2,0),0) -> 2347811105 | F44: =IFERROR(VLOOKUP($A$42,[1]수정!$A:$G,COLUMN()-2,0),0) -> 209143760 | G44: =IFERROR(VLOOKUP($A$42,[1]수정!$A:$G,COLUMN()-2,0),0) -> 1316573845 | H44: =IFERROR(VLOOKUP($A$42,[1]수정!$A:$G,COLUMN(),0),0) -> 0 | I44: =IFERROR(VLOOKUP($A$42,[1]수정!$A:$G,COLUMN(),0),0) -> 0 | J44: =E44-G44-I44 -> 1031237260
C45: 중원 | D45: =IFERROR(VLOOKUP($A$42,[1]중원!$A:$G,COLUMN()-2,0),0) -> 95819386 | E45: =IFERROR(VLOOKUP($A$42,[1]중원!$A:$G,COLUMN()-2,0),0) -> 383658132 | F45: =IFERROR(VLOOKUP($A$42,[1]중원!$A:$G,COLUMN()-2,0),0) -> 94271436 | G45: =IFERROR(VLOOKUP($A$42,[1]중원!$A:$G,COLUMN()-2,0),0) -> 286944527 | H45: =IFERROR(VLOOKUP($A$42,[1]중원!$A:$G,COLUMN(),0),0) -> 0 | I45: =IFERROR(VLOOKUP($A$42,[1]중원!$A:$G,COLUMN(),0),0) -> 0 | J45: =E45-G45-I45 -> 96713605
C46: 분당 | D46: =IFERROR(VLOOKUP($A$42,[1]분당!$A:$G,COLUMN()-2,0),0) -> 406569992 | E46: =IFERROR(VLOOKUP($A$42,[1]분당!$A:$G,COLUMN()-2,0),0) -> 3201407635 | F46: =IFERROR(VLOOKUP($A$42,[1]분당!$A:$G,COLUMN()-2,0),0) -> 16777992 | G46: =IFERROR(VLOOKUP($A$42,[1]분당!$A:$G,COLUMN()-2,0),0) -> 2749433605 | H46: =IFERROR(VLOOKUP($A$42,[1]분당!$A:$G,COLUMN(),0),0) -> 0 | I46: =IFERROR(VLOOKUP($A$42,[1]분당!$A:$G,COLUMN(),0),0) -> 0 | J46: =E46-G46-I46 -> 451974030
B47: 221-00 재산매각수입 | D47: =SUM(D48:D51) -> 1876351850 | E47: =SUM(E48:E51) -> 2579039118 | F47: =SUM(F48:F51) -> 66395200 | G47: =SUM(G48:G51) -> 715230368 | H47: =SUM(H48:H51) -> 0 | I47: =SUM(I48:I51) -> 0 | J47: =SUM(J48:J51) -> 1863808750
A48: 221-00 재산매각수입 | C48: 본청 | D48: =IFERROR(VLOOKUP($B$47,[1]본청!$A:$G,COLUMN()-2,0),0) -> 1493728100 | E48: =IFERROR(VLOOKUP($B$47,[1]본청!$A:$G,COLUMN()-2,0),0) -> 1717913368 | F48: =IFERROR(VLOOKUP($B$47,[1]본청!$A:$G,COLUMN()-2,0),0) -> 66315200 | G48: =IFERROR(VLOOKUP($B$47,[1]본청!$A:$G,COLUMN()-2,0),0) -> 236648368 | H48: =IFERROR(VLOOKUP($B$47,[1]본청!$A:$G,COLUMN(),0),0) -> 0 | I48: =IFERROR(VLOOKUP($B$47,[1]본청!$A:$G,COLUMN(),0),0) -> 0 | J48: =E48-G48-I48 -> 1481265000
A49: 221-00 재산매각수입 | C49: 수정 | D49: =IFERROR(VLOOKUP($B$47,[1]수정!$A:$G,COLUMN()-2,0),0) -> 80000 | E49: =IFERROR(VLOOKUP($B$47,[1]수정!$A:$G,COLUMN()-2,0),0) -> 475302000 | F49: =IFERROR(VLOOKUP($B$47,[1]수정!$A:$G,COLUMN()-2,0),0) -> 80000 | G49: =IFERROR(VLOOKUP($B$47,[1]수정!$A:$G,COLUMN()-2,0),0) -> 475302000 | H49: =IFERROR(VLOOKUP($B$47,[1]수정!$A:$G,COLUMN(),0),0) -> 0 | I49: =IFERROR(VLOOKUP($B$47,[1]수정!$A:$G,COLUMN(),0),0) -> 0 | J49: =E49-G49-I49 -> 0
A50: 221-00 재산매각수입 | C50: 중원 | D50: =IFERROR(VLOOKUP($B$47,[1]중원!$A:$G,COLUMN()-2,0),0) -> 0 | E50: =IFERROR(VLOOKUP($B$47,[1]중원!$A:$G,COLUMN()-2,0),0) -> 100000 | F50: =IFERROR(VLOOKUP($B$47,[1]중원!$A:$G,COLUMN()-2,0),0) -> 0 | G50: =IFERROR(VLOOKUP($B$47,[1]중원!$A:$G,COLUMN()-2,0),0) -> 100000 | H50: =IFERROR(VLOOKUP($B$47,[1]중원!$A:$G,COLUMN(),0),0) -> 0 | I50: =IFERROR(VLOOKUP($B$47,[1]중원!$A:$G,COLUMN(),0),0) -> 0 | J50: =E50-G50-I50 -> 0
A51: 221-00 재산매각수입 | C51: 분당 | D51: =IFERROR(VLOOKUP($B$47,[1]분당!$A:$G,COLUMN()-2,0),0) -> 382543750 | E51: =IFERROR(VLOOKUP($B$47,[1]분당!$A:$G,COLUMN()-2,0),0) -> 385723750 | F51: =IFERROR(VLOOKUP($B$47,[1]분당!$A:$G,COLUMN()-2,0),0) -> 0 | G51: =IFERROR(VLOOKUP($B$47,[1]분당!$A:$G,COLUMN()-2,0),0) -> 3180000 | H51: =IFERROR(VLOOKUP($B$47,[1]분당!$A:$G,COLUMN(),0),0) -> 0 | I51: =IFERROR(VLOOKUP($B$47,[1]분당!$A:$G,COLUMN(),0),0) -> 0 | J51: =E51-G51-I51 -> 382543750
B52: 222-00 자치단체간부담금 | D52: =SUM(D53:D56) -> 0 | E52: =SUM(E53:E56) -> 0 | F52: =SUM(F53:F56) -> 0 | G52: =SUM(G53:G56) -> 0 | H52: =SUM(H53:H56) -> 0 | I52: =SUM(I53:I56) -> 0 | J52: =SUM(J53:J56) -> 0
A53: 222-00 부담금 | C53: 본청 | D53: =IFERROR(VLOOKUP($B$52,[1]본청!$A:$G,COLUMN()-2,0),0) -> 0 | E53: =IFERROR(VLOOKUP($B$52,[1]본청!$A:$G,COLUMN()-2,0),0) -> 0 | F53: =IFERROR(VLOOKUP($B$52,[1]본청!$A:$G,COLUMN()-2,0),0) -> 0 | G53: =IFERROR(VLOOKUP($B$52,[1]본청!$A:$G,COLUMN()-2,0),0) -> 0 | H53: =IFERROR(VLOOKUP($B$52,[1]본청!$A:$G,COLUMN(),0),0) -> 0 | I53: =IFERROR(VLOOKUP($B$52,[1]본청!$A:$G,COLUMN(),0),0) -> 0 | J53: =E53-G53-I53 -> 0
A54: 222-00 부담금 | C54: 수정 | D54: =IFERROR(VLOOKUP($B$52,[1]수정!$A:$G,COLUMN()-2,0),0) -> 0 | E54: =IFERROR(VLOOKUP($B$52,[1]수정!$A:$G,COLUMN()-2,0),0) -> 0 | F54: =IFERROR(VLOOKUP($B$52,[1]수정!$A:$G,COLUMN()-2,0),0) -> 0 | G54: =IFERROR(VLOOKUP($B$52,[1]수정!$A:$G,COLUMN()-2,0),0) -> 0 | H54: =IFERROR(VLOOKUP($B$52,[1]수정!$A:$G,COLUMN(),0),0) -> 0 | I54: =IFERROR(VLOOKUP($B$52,[1]수정!$A:$G,COLUMN(),0),0) -> 0 | J54: =E54-G54-I54 -> 0
A55: 222-00 부담금 | C55: 중원 | D55: =IFERROR(VLOOKUP($B$52,[1]중원!$A:$G,COLUMN()-2,0),0) -> 0 | E55: =IFERROR(VLOOKUP($B$52,[1]중원!$A:$G,COLUMN()-2,0),0) -> 0 | F55: =IFERROR(VLOOKUP($B$52,[1]중원!$A:$G,COLUMN()-2,0),0) -> 0 | G55: =IFERROR(VLOOKUP($B$52,[1]중원!$A:$G,COLUMN()-2,0),0) -> 0 | H55: =IFERROR(VLOOKUP($B$52,[1]중원!$A:$G,COLUMN(),0),0) -> 0 | I55: =IFERROR(VLOOKUP($B$52,[1]중원!$A:$G,COLUMN(),0),0) -> 0 | J55: =E55-G55-I55 -> 0
A56: 222-00 부담금 | C56: 분당 | D56: =IFERROR(VLOOKUP($B$52,[1]분당!$A:$G,COLUMN()-2,0),0) -> 0 | E56: =IFERROR(VLOOKUP($B$52,[1]분당!$A:$G,COLUMN()-2,0),0) -> 0 | F56: =IFERROR(VLOOKUP($B$52,[1]분당!$A:$G,COLUMN()-2,0),0) -> 0 | G56: =IFERROR(VLOOKUP($B$52,[1]분당!$A:$G,COLUMN()-2,0),0) -> 0 | H56: =IFERROR(VLOOKUP($B$52,[1]분당!$A:$G,COLUMN(),0),0) -> 0 | I56: =IFERROR(VLOOKUP($B$52,[1]분당!$A:$G,COLUMN(),0),0) -> 0 | J56: =E56-G56-I56 -> 0
B57: 223-00 보조금반환수입 | D57: =SUM(D58:D61) -> 120694716 | E57: =SUM(E58:E61) -> 2693321837 | F57: =SUM(F58:F61) -> 103468256 | G57: =SUM(G58:G61) -> 2665770577 | H57: =SUM(H58:H61) -> 0 | I57: =SUM(I58:I61) -> 0 | J57: =SUM(J58:J61) -> 27551260
A58: 222-00 부담금 | C58: 본청 | D58: =IFERROR(VLOOKUP($B$57,[1]본청!$A:$G,COLUMN()-2,0),0) -> 27311466 | E58: =IFERROR(VLOOKUP($B$57,[1]본청!$A:$G,COLUMN()-2,0),0) -> 2377901058 | F58: =IFERROR(VLOOKUP($B$57,[1]본청!$A:$G,COLUMN()-2,0),0) -> 10085006 | G58: =IFERROR(VLOOKUP($B$57,[1]본청!$A:$G,COLUMN()-2,0),0) -> 2352247798 | H58: =IFERROR(VLOOKUP($B$57,[1]본청!$A:$G,COLUMN(),0),0) -> 0 | I58: =IFERROR(VLOOKUP($B$57,[1]본청!$A:$G,COLUMN(),0),0) -> 0 | J58: =E58-G58-I58 -> 25653260
A59: 222-00 부담금 | C59: 수정 | D59: =IFERROR(VLOOKUP($B$57,[1]수정!$A:$G,COLUMN()-2,0),0) -> 300000 | E59: =IFERROR(VLOOKUP($B$57,[1]수정!$A:$G,COLUMN()-2,0),0) -> 173509917 | F59: =IFERROR(VLOOKUP($B$57,[1]수정!$A:$G,COLUMN()-2,0),0) -> 300000 | G59: =IFERROR(VLOOKUP($B$57,[1]수정!$A:$G,COLUMN()-2,0),0) -> 171611917 | H59: =IFERROR(VLOOKUP($B$57,[1]수정!$A:$G,COLUMN(),0),0) -> 0 | I59: =IFERROR(VLOOKUP($B$57,[1]수정!$A:$G,COLUMN(),0),0) -> 0 | J59: =E59-G59-I59 -> 1898000
A60: 222-00 부담금 | C60: 중원 | D60: =IFERROR(VLOOKUP($B$57,[1]중원!$A:$G,COLUMN()-2,0),0) -> 92588750 | E60: =IFERROR(VLOOKUP($B$57,[1]중원!$A:$G,COLUMN()-2,0),0) -> 118309942 | F60: =IFERROR(VLOOKUP($B$57,[1]중원!$A:$G,COLUMN()-2,0),0) -> 92588750 | G60: =IFERROR(VLOOKUP($B$57,[1]중원!$A:$G,COLUMN()-2,0),0) -> 118309942 | H60: =IFERROR(VLOOKUP($B$57,[1]중원!$A:$G,COLUMN(),0),0) -> 0 | I60: =IFERROR(VLOOKUP($B$57,[1]중원!$A:$G,COLUMN(),0),0) -> 0 | J60: =E60-G60-I60 -> 0
A61: 222-00 부담금 | C61: 분당 | D61: =IFERROR(VLOOKUP($B$57,[1]분당!$A:$G,COLUMN()-2,0),0) -> 494500 | E61: =IFERROR(VLOOKUP($B$57,[1]분당!$A:$G,COLUMN()-2,0),0) -> 23600920 | F61: =IFERROR(VLOOKUP($B$57,[1]분당!$A:$G,COLUMN()-2,0),0) -> 494500 | G61: =IFERROR(VLOOKUP($B$57,[1]분당!$A:$G,COLUMN()-2,0),0) -> 23600920 | H61: =IFERROR(VLOOKUP($B$57,[1]분당!$A:$G,COLUMN(),0),0) -> 0 | I61: =IFERROR(VLOOKUP($B$57,[1]분당!$A:$G,COLUMN(),0),0) -> 0 | J61: =E61-G61-I61 -> 0
B62: 224-00 기타수입 | D62: =SUM(D63:D66) -> 998573489 | E62: =SUM(E63:E66) -> 17382675117 | F62: =SUM(F63:F66) -> 1500643474 | G62: =SUM(G63:G66) -> 15598305178 | H62: =SUM(H63:H66) -> 0 | I62: =SUM(I63:I66) -> 0 | J62: =SUM(J63:J66) -> 1784369939
A63: 224-00 기타수입 | C63: 본청 | D63: =IFERROR(VLOOKUP($B$62,[1]본청!$A:$G,COLUMN()-2,0),0) -> 847589711 | E63: =IFERROR(VLOOKUP($B$62,[1]본청!$A:$G,COLUMN()-2,0),0) -> 12626344774 | F63: =IFERROR(VLOOKUP($B$62,[1]본청!$A:$G,COLUMN()-2,0),0) -> 1273913536 | G63: =IFERROR(VLOOKUP($B$62,[1]본청!$A:$G,COLUMN()-2,0),0) -> 12037457980 | H63: =IFERROR(VLOOKUP($B$62,[1]본청!$A:$G,COLUMN(),0),0) -> 0 | I63: =IFERROR(VLOOKUP($B$62,[1]본청!$A:$G,COLUMN(),0),0) -> 0 | J63: =E63-G63-I63 -> 588886794
A64: 224-00 기타수입 | C64: 수정 | D64: =IFERROR(VLOOKUP($B$62,[1]수정!$A:$G,COLUMN()-2,0),0) -> 124221400 | E64: =IFERROR(VLOOKUP($B$62,[1]수정!$A:$G,COLUMN()-2,0),0) -> 1698999188 | F64: =IFERROR(VLOOKUP($B$62,[1]수정!$A:$G,COLUMN()-2,0),0) -> 208763760 | G64: =IFERROR(VLOOKUP($B$62,[1]수정!$A:$G,COLUMN()-2,0),0) -> 669659928 | H64: =IFERROR(VLOOKUP($B$62,[1]수정!$A:$G,COLUMN(),0),0) -> 0 | I64: =IFERROR(VLOOKUP($B$62,[1]수정!$A:$G,COLUMN(),0),0) -> 0 | J64: =E64-G64-I64 -> 1029339260
A65: 224-00 기타수입 | C65: 중원 | D65: =IFERROR(VLOOKUP($B$62,[1]중원!$A:$G,COLUMN()-2,0),0) -> 3230636 | E65: =IFERROR(VLOOKUP($B$62,[1]중원!$A:$G,COLUMN()-2,0),0) -> 265248190 | F65: =IFERROR(VLOOKUP($B$62,[1]중원!$A:$G,COLUMN()-2,0),0) -> 1682686 | G65: =IFERROR(VLOOKUP($B$62,[1]중원!$A:$G,COLUMN()-2,0),0) -> 168534585 | H65: =IFERROR(VLOOKUP($B$62,[1]중원!$A:$G,COLUMN(),0),0) -> 0 | I65: =IFERROR(VLOOKUP($B$62,[1]중원!$A:$G,COLUMN(),0),0) -> 0 | J65: =E65-G65-I65 -> 96713605
A66: 224-00 기타수입 | C66: 분당 | D66: =IFERROR(VLOOKUP($B$62,[1]분당!$A:$G,COLUMN()-2,0),0) -> 23531742 | E66: =IFERROR(VLOOKUP($B$62,[1]분당!$A:$G,COLUMN()-2,0),0) -> 2792082965 | F66: =IFERROR(VLOOKUP($B$62,[1]분당!$A:$G,COLUMN()-2,0),0) -> 16283492 | G66: =IFERROR(VLOOKUP($B$62,[1]분당!$A:$G,COLUMN()-2,0),0) -> 2722652685 | H66: =IFERROR(VLOOKUP($B$62,[1]분당!$A:$G,COLUMN(),0),0) -> 0 | I66: =IFERROR(VLOOKUP($B$62,[1]분당!$A:$G,COLUMN(),0),0) -> 0 | J66: =E66-G66-I66 -> 69430280
A67: 230-00 지방행정제재부과금등 | D67: =SUM(D68:D71) -> 2812097130 | E67: =SUM(E68:E71) -> 12008363440 | F67: =SUM(F68:F71) -> 449967960 | G67: =SUM(G68:G71) -> 2729433952 | H67: =SUM(H68:H71) -> 0 | I67: =SUM(I68:I71) -> 0 | J67: =SUM(J68:J71) -> 9278929488
C68: 본청 | D68: =IFERROR(VLOOKUP($A$67,[1]본청!$A:$G,COLUMN()-2,0),0) -> 1718292930 | E68: =IFERROR(VLOOKUP($A$67,[1]본청!$A:$G,COLUMN()-2,0),0) -> 9109595350 | F68: =IFERROR(VLOOKUP($A$67,[1]본청!$A:$G,COLUMN()-2,0),0) -> 304508070 | G68: =IFERROR(VLOOKUP($A$67,[1]본청!$A:$G,COLUMN()-2,0),0) -> 1893457822 | H68: =IFERROR(VLOOKUP($A$67,[1]본청!$A:$G,COLUMN(),0),0) -> 0 | I68: =IFERROR(VLOOKUP($A$67,[1]본청!$A:$G,COLUMN(),0),0) -> 0 | J68: =E68-G68-I68 -> 7216137528
C69: 수정 | D69: =IFERROR(VLOOKUP($A$67,[1]수정!$A:$G,COLUMN()-2,0),0) -> 147558970 | E69: =IFERROR(VLOOKUP($A$67,[1]수정!$A:$G,COLUMN()-2,0),0) -> 453011050 | F69: =IFERROR(VLOOKUP($A$67,[1]수정!$A:$G,COLUMN()-2,0),0) -> 42836030 | G69: =IFERROR(VLOOKUP($A$67,[1]수정!$A:$G,COLUMN()-2,0),0) -> 212599970 | H69: =IFERROR(VLOOKUP($A$67,[1]수정!$A:$G,COLUMN(),0),0) -> 0 | I69: =IFERROR(VLOOKUP($A$67,[1]수정!$A:$G,COLUMN(),0),0) -> 0 | J69: =E69-G69-I69 -> 240411080
C70: 중원 | D70: =IFERROR(VLOOKUP($A$67,[1]중원!$A:$G,COLUMN()-2,0),0) -> 40496430 | E70: =IFERROR(VLOOKUP($A$67,[1]중원!$A:$G,COLUMN()-2,0),0) -> 239173120 | F70: =IFERROR(VLOOKUP($A$67,[1]중원!$A:$G,COLUMN()-2,0),0) -> 25265520 | G70: =IFERROR(VLOOKUP($A$67,[1]중원!$A:$G,COLUMN()-2,0),0) -> 155411210 | H70: =IFERROR(VLOOKUP($A$67,[1]중원!$A:$G,COLUMN(),0),0) -> 0 | I70: =IFERROR(VLOOKUP($A$67,[1]중원!$A:$G,COLUMN(),0),0) -> 0 | J70: =E70-G70-I70 -> 83761910
C71: 분당 | D71: =IFERROR(VLOOKUP($A$67,[1]분당!$A:$G,COLUMN()-2,0),0) -> 905748800 | E71: =IFERROR(VLOOKUP($A$67,[1]분당!$A:$G,COLUMN()-2,0),0) -> 2206583920 | F71: =IFERROR(VLOOKUP($A$67,[1]분당!$A:$G,COLUMN()-2,0),0) -> 77358340 | G71: =IFERROR(VLOOKUP($A$67,[1]분당!$A:$G,COLUMN()-2,0),0) -> 467964950 | H71: =IFERROR(VLOOKUP($A$67,[1]분당!$A:$G,COLUMN(),0),0) -> 0 | I71: =IFERROR(VLOOKUP($A$67,[1]분당!$A:$G,COLUMN(),0),0) -> 0 | J71: =E71-G71-I71 -> 1738618970
B72: 231-00 과징금 | D72: =SUM(D73:D76) -> 285053870 | E72: =SUM(E73:E76) -> 794089600 | F72: =SUM(F73:F76) -> 9670000 | G72: =SUM(G73:G76) -> 123431340 | H72: =SUM(H73:H76) -> 0 | I72: =SUM(I73:I76) -> 0 | J72: =SUM(J73:J76) -> 670658260
A73: 221-00 재산매각수입 | C73: 본청 | D73: =IFERROR(VLOOKUP($B$72,[1]본청!$A:$G,COLUMN()-2,0),0) -> 0 | E73: =IFERROR(VLOOKUP($B$72,[1]본청!$A:$G,COLUMN()-2,0),0) -> 87659270 | F73: =IFERROR(VLOOKUP($B$72,[1]본청!$A:$G,COLUMN()-2,0),0) -> 3600000 | G73: =IFERROR(VLOOKUP($B$72,[1]본청!$A:$G,COLUMN()-2,0),0) -> 84659270 | H73: =IFERROR(VLOOKUP($B$72,[1]본청!$A:$G,COLUMN(),0),0) -> 0 | I73: =IFERROR(VLOOKUP($B$72,[1]본청!$A:$G,COLUMN(),0),0) -> 0 | J73: =E73-G73-I73 -> 3000000
A74: 221-00 재산매각수입 | C74: 수정 | D74: =IFERROR(VLOOKUP($B$72,[1]수정!$A:$G,COLUMN()-2,0),0) -> 103053870 | E74: =IFERROR(VLOOKUP($B$72,[1]수정!$A:$G,COLUMN()-2,0),0) -> 173548990 | F74: =IFERROR(VLOOKUP($B$72,[1]수정!$A:$G,COLUMN()-2,0),0) -> 5720000 | G74: =IFERROR(VLOOKUP($B$72,[1]수정!$A:$G,COLUMN()-2,0),0) -> 8180000 | H74: =IFERROR(VLOOKUP($B$72,[1]수정!$A:$G,COLUMN(),0),0) -> 0 | I74: =IFERROR(VLOOKUP($B$72,[1]수정!$A:$G,COLUMN(),0),0) -> 0 | J74: =E74-G74-I74 -> 165368990
A75: 221-00 재산매각수입 | C75: 중원 | D75: =IFERROR(VLOOKUP($B$72,[1]중원!$A:$G,COLUMN()-2,0),0) -> 0 | E75: =IFERROR(VLOOKUP($B$72,[1]중원!$A:$G,COLUMN()-2,0),0) -> 24238510 | F75: =IFERROR(VLOOKUP($B$72,[1]중원!$A:$G,COLUMN()-2,0),0) -> 350000 | G75: =IFERROR(VLOOKUP($B$72,[1]중원!$A:$G,COLUMN()-2,0),0) -> 17767070 | H75: =IFERROR(VLOOKUP($B$72,[1]중원!$A:$G,COLUMN(),0),0) -> 0 | I75: =IFERROR(VLOOKUP($B$72,[1]중원!$A:$G,COLUMN(),0),0) -> 0 | J75: =E75-G75-I75 -> 6471440
A76: 221-00 재산매각수입 | C76: 분당 | D76: =IFERROR(VLOOKUP($B$72,[1]분당!$A:$G,COLUMN()-2,0),0) -> 182000000 | E76: =IFERROR(VLOOKUP($B$72,[1]분당!$A:$G,COLUMN()-2,0),0) -> 508642830 | F76: =IFERROR(VLOOKUP($B$72,[1]분당!$A:$G,COLUMN()-2,0),0) -> 0 | G76: =IFERROR(VLOOKUP($B$72,[1]분당!$A:$G,COLUMN()-2,0),0) -> 12825000 | H76: =IFERROR(VLOOKUP($B$72,[1]분당!$A:$G,COLUMN(),0),0) -> 0 | I76: =IFERROR(VLOOKUP($B$72,[1]분당!$A:$G,COLUMN(),0),0) -> 0 | J76: =E76-G76-I76 -> 495817830
B77: 232-00 이행강제금 | D77: =SUM(D78:D81) -> 13886000 | E77: =SUM(E78:E81) -> 150549870 | F77: =SUM(F78:F81) -> 7436000 | G77: =SUM(G78:G81) -> 40575370 | H77: =SUM(H78:H81) -> 0 | I77: =SUM(I78:I81) -> 0 | J77: =SUM(J78:J81) -> 109974500
A78: 222-00 부담금 | C78: 본청 | D78: =IFERROR(VLOOKUP($B$77,[1]본청!$A:$G,COLUMN()-2,0),0) -> 0 | E78: =IFERROR(VLOOKUP($B$77,[1]본청!$A:$G,COLUMN()-2,0),0) -> 0 | F78: =IFERROR(VLOOKUP($B$77,[1]본청!$A:$G,COLUMN()-2,0),0) -> 0 | G78: =IFERROR(VLOOKUP($B$77,[1]본청!$A:$G,COLUMN()-2,0),0) -> 0 | H78: =IFERROR(VLOOKUP($B$77,[1]본청!$A:$G,COLUMN(),0),0) -> 0 | I78: =IFERROR(VLOOKUP($B$77,[1]본청!$A:$G,COLUMN(),0),0) -> 0 | J78: =E78-G78-I78 -> 0
A79: 222-00 부담금 | C79: 수정 | D79: =IFERROR(VLOOKUP($B$77,[1]수정!$A:$G,COLUMN()-2,0),0) -> -400000 | E79: =IFERROR(VLOOKUP($B$77,[1]수정!$A:$G,COLUMN()-2,0),0) -> 66468000 | F79: =IFERROR(VLOOKUP($B$77,[1]수정!$A:$G,COLUMN()-2,0),0) -> 6330000 | G79: =IFERROR(VLOOKUP($B$77,[1]수정!$A:$G,COLUMN()-2,0),0) -> 36451000 | H79: =IFERROR(VLOOKUP($B$77,[1]수정!$A:$G,COLUMN(),0),0) -> 0 | I79: =IFERROR(VLOOKUP($B$77,[1]수정!$A:$G,COLUMN(),0),0) -> 0 | J79: =E79-G79-I79 -> 30017000
A80: 222-00 부담금 | C80: 중원 | D80: =IFERROR(VLOOKUP($B$77,[1]중원!$A:$G,COLUMN()-2,0),0) -> 14286000 | E80: =IFERROR(VLOOKUP($B$77,[1]중원!$A:$G,COLUMN()-2,0),0) -> 59766500 | F80: =IFERROR(VLOOKUP($B$77,[1]중원!$A:$G,COLUMN()-2,0),0) -> 1106000 | G80: =IFERROR(VLOOKUP($B$77,[1]중원!$A:$G,COLUMN()-2,0),0) -> 3698000 | H80: =IFERROR(VLOOKUP($B$77,[1]중원!$A:$G,COLUMN(),0),0) -> 0 | I80: =IFERROR(VLOOKUP($B$77,[1]중원!$A:$G,COLUMN(),0),0) -> 0 | J80: =E80-G80-I80 -> 56068500
A81: 222-00 부담금 | C81: 분당 | D81: =IFERROR(VLOOKUP($B$77,[1]분당!$A:$G,COLUMN()-2,0),0) -> 0 | E81: =IFERROR(VLOOKUP($B$77,[1]분당!$A:$G,COLUMN()-2,0),0) -> 24315370 | F81: =IFERROR(VLOOKUP($B$77,[1]분당!$A:$G,COLUMN()-2,0),0) -> 0 | G81: =IFERROR(VLOOKUP($B$77,[1]분당!$A:$G,COLUMN()-2,0),0) -> 426370 | H81: =IFERROR(VLOOKUP($B$77,[1]분당!$A:$G,COLUMN(),0),0) -> 0 | I81: =IFERROR(VLOOKUP($B$77,[1]분당!$A:$G,COLUMN(),0),0) -> 0 | J81: =E81-G81-I81 -> 23889000
B82: 233-00 변상금 | D82: =SUM(D83:D86) -> 470239810 | E82: =SUM(E83:E86) -> 634487620 | F82: =SUM(F83:F86) -> 92155500 | G82: =SUM(G83:G86) -> 206242150 | H82: =SUM(H83:H86) -> 0 | I82: =SUM(I83:I86) -> 0 | J82: =SUM(J83:J86) -> 428245470
A83: 223-00 과징금및과태료등 | C83: 본청 | D83: =IFERROR(VLOOKUP($B$82,[1]본청!$A:$G,COLUMN()-2,0),0) -> 470239810 | E83: =IFERROR(VLOOKUP($B$82,[1]본청!$A:$G,COLUMN()-2,0),0) -> 633671500 | F83: =IFERROR(VLOOKUP($B$82,[1]본청!$A:$G,COLUMN()-2,0),0) -> 92155500 | G83: =IFERROR(VLOOKUP($B$82,[1]본청!$A:$G,COLUMN()-2,0),0) -> 205426030 | H83: =IFERROR(VLOOKUP($B$82,[1]본청!$A:$G,COLUMN(),0),0) -> 0 | I83: =IFERROR(VLOOKUP($B$82,[1]본청!$A:$G,COLUMN(),0),0) -> 0 | J83: =E83-G83-I83 -> 428245470
A84: 223-00 과징금및과태료등 | C84: 수정 | D84: =IFERROR(VLOOKUP($B$82,[1]수정!$A:$G,COLUMN()-2,0),0) -> 0 | E84: =IFERROR(VLOOKUP($B$82,[1]수정!$A:$G,COLUMN()-2,0),0) -> 0 | F84: =IFERROR(VLOOKUP($B$82,[1]수정!$A:$G,COLUMN()-2,0),0) -> 0 | G84: =IFERROR(VLOOKUP($B$82,[1]수정!$A:$G,COLUMN()-2,0),0) -> 0 | H84: =IFERROR(VLOOKUP($B$82,[1]수정!$A:$G,COLUMN(),0),0) -> 0 | I84: =IFERROR(VLOOKUP($B$82,[1]수정!$A:$G,COLUMN(),0),0) -> 0 | J84: =E84-G84-I84 -> 0
A85: 223-00 과징금및과태료등 | C85: 중원 | D85: =IFERROR(VLOOKUP($B$82,[1]중원!$A:$G,COLUMN()-2,0),0) -> 0 | E85: =IFERROR(VLOOKUP($B$82,[1]중원!$A:$G,COLUMN()-2,0),0) -> 816120 | F85: =IFERROR(VLOOKUP($B$82,[1]중원!$A:$G,COLUMN()-2,0),0) -> 0 | G85: =IFERROR(VLOOKUP($B$82,[1]중원!$A:$G,COLUMN()-2,0),0) -> 816120 | H85: =IFERROR(VLOOKUP($B$82,[1]중원!$A:$G,COLUMN(),0),0) -> 0 | I85: =IFERROR(VLOOKUP($B$82,[1]중원!$A:$G,COLUMN(),0),0) -> 0 | J85: =E85-G85-I85 -> 0
A86: 223-00 과징금및과태료등 | C86: 분당 | D86: =IFERROR(VLOOKUP($B$82,[1]분당!$A:$G,COLUMN()-2,0),0) -> 0 | E86: =IFERROR(VLOOKUP($B$82,[1]분당!$A:$G,COLUMN()-2,0),0) -> 0 | F86: =IFERROR(VLOOKUP($B$82,[1]분당!$A:$G,COLUMN()-2,0),0) -> 0 | G86: =IFERROR(VLOOKUP($B$82,[1]분당!$A:$G,COLUMN()-2,0),0) -> 0 | H86: =IFERROR(VLOOKUP($B$82,[1]분당!$A:$G,COLUMN(),0),0) -> 0 | I86: =IFERROR(VLOOKUP($B$82,[1]분당!$A:$G,COLUMN(),0),0) -> 0 | J86: =E86-G86-I86 -> 0
B87: 234-00 과태료 | D87: =SUM(D88:D91) -> 420665460 | E87: =SUM(E88:E91) -> 2885859030 | F87: =SUM(F88:F91) -> 329406050 | G87: =SUM(G88:G91) -> 1598506370 | H87: =SUM(H88:H91) -> 0 | I87: =SUM(I88:I91) -> 0 | J87: =SUM(J88:J91) -> 1287352660
A88: 224-00 기타수입 | C88: 본청 | D88: =IFERROR(VLOOKUP($B$87,[1]본청!$A:$G,COLUMN()-2,0),0) -> 262683190 | E88: =IFERROR(VLOOKUP($B$87,[1]본청!$A:$G,COLUMN()-2,0),0) -> 1492061590 | F88: =IFERROR(VLOOKUP($B$87,[1]본청!$A:$G,COLUMN()-2,0),0) -> 199659670 | G88: =IFERROR(VLOOKUP($B$87,[1]본청!$A:$G,COLUMN()-2,0),0) -> 854405520 | H88: =IFERROR(VLOOKUP($B$87,[1]본청!$A:$G,COLUMN(),0),0) -> 0 | I88: =IFERROR(VLOOKUP($B$87,[1]본청!$A:$G,COLUMN(),0),0) -> 0 | J88: =E88-G88-I88 -> 637656070
A89: 224-00 기타수입 | C89: 수정 | D89: =IFERROR(VLOOKUP($B$87,[1]수정!$A:$G,COLUMN()-2,0),0) -> 36783960 | E89: =IFERROR(VLOOKUP($B$87,[1]수정!$A:$G,COLUMN()-2,0),0) -> 201449640 | F89: =IFERROR(VLOOKUP($B$87,[1]수정!$A:$G,COLUMN()-2,0),0) -> 30344000 | G89: =IFERROR(VLOOKUP($B$87,[1]수정!$A:$G,COLUMN()-2,0),0) -> 164460160 | H89: =IFERROR(VLOOKUP($B$87,[1]수정!$A:$G,COLUMN(),0),0) -> 0 | I89: =IFERROR(VLOOKUP($B$87,[1]수정!$A:$G,COLUMN(),0),0) -> 0 | J89: =E89-G89-I89 -> 36989480
A90: 224-00 기타수입 | C90: 중원 | D90: =IFERROR(VLOOKUP($B$87,[1]중원!$A:$G,COLUMN()-2,0),0) -> 25677850 | E90: =IFERROR(VLOOKUP($B$87,[1]중원!$A:$G,COLUMN()-2,0),0) -> 151048560 | F90: =IFERROR(VLOOKUP($B$87,[1]중원!$A:$G,COLUMN()-2,0),0) -> 23252780 | G90: =IFERROR(VLOOKUP($B$87,[1]중원!$A:$G,COLUMN()-2,0),0) -> 129826590 | H90: =IFERROR(VLOOKUP($B$87,[1]중원!$A:$G,COLUMN(),0),0) -> 0 | I90: =IFERROR(VLOOKUP($B$87,[1]중원!$A:$G,COLUMN(),0),0) -> 0 | J90: =E90-G90-I90 -> 21221970
A91: 224-00 기타수입 | C91: 분당 | D91: =IFERROR(VLOOKUP($B$87,[1]분당!$A:$G,COLUMN()-2,0),0) -> 95520460 | E91: =IFERROR(VLOOKUP($B$87,[1]분당!$A:$G,COLUMN()-2,0),0) -> 1041299240 | F91: =IFERROR(VLOOKUP($B$87,[1]분당!$A:$G,COLUMN()-2,0),0) -> 76149600 | G91: =IFERROR(VLOOKUP($B$87,[1]분당!$A:$G,COLUMN()-2,0),0) -> 449814100 | H91: =IFERROR(VLOOKUP($B$87,[1]분당!$A:$G,COLUMN(),0),0) -> 0 | I91: =IFERROR(VLOOKUP($B$87,[1]분당!$A:$G,COLUMN(),0),0) -> 0 | J91: =E91-G91-I91 -> 591485140
B92: 235-00 환수금 | D92: =SUM(D93:D96) -> 37598170 | E92: =SUM(E93:E96) -> 410073200 | F92: =SUM(F93:F96) -> 5392900 | G92: =SUM(G93:G96) -> 376416390 | H92: =SUM(H93:H96) -> 0 | I92: =SUM(I93:I96) -> 0 | J92: =SUM(J93:J96) -> 33656810
C93: 본청 | D93: =IFERROR(VLOOKUP($B$92,[1]본청!$A:$G,COLUMN()-2,0),0) -> 29298170 | E93: =IFERROR(VLOOKUP($B$92,[1]본청!$A:$G,COLUMN()-2,0),0) -> 398663290 | F93: =IFERROR(VLOOKUP($B$92,[1]본청!$A:$G,COLUMN()-2,0),0) -> 5092900 | G93: =IFERROR(VLOOKUP($B$92,[1]본청!$A:$G,COLUMN()-2,0),0) -> 373306480 | H93: =IFERROR(VLOOKUP($B$92,[1]본청!$A:$G,COLUMN(),0),0) -> 0 | I93: =IFERROR(VLOOKUP($B$92,[1]본청!$A:$G,COLUMN(),0),0) -> 0 | J93: =E93-G93-I93 -> 25356810
A94: 225-00 지난연도수입 | B94: 225-000 지난년도수입 | C94: 수정 | D94: =IFERROR(VLOOKUP($B$92,[1]수정!$A:$G,COLUMN()-2,0),0) -> 8000000 | E94: =IFERROR(VLOOKUP($B$92,[1]수정!$A:$G,COLUMN()-2,0),0) -> 10521230 | F94: =IFERROR(VLOOKUP($B$92,[1]수정!$A:$G,COLUMN()-2,0),0) -> 0 | G94: =IFERROR(VLOOKUP($B$92,[1]수정!$A:$G,COLUMN()-2,0),0) -> 2521230 | H94: =IFERROR(VLOOKUP($B$92,[1]수정!$A:$G,COLUMN(),0),0) -> 0 | I94: =IFERROR(VLOOKUP($B$92,[1]수정!$A:$G,COLUMN(),0),0) -> 0 | J94: =E94-G94-I94 -> 8000000
A95: 225-00 지난연도수입 | C95: 중원 | D95: =IFERROR(VLOOKUP($B$92,[1]중원!$A:$G,COLUMN()-2,0),0) -> 0 | E95: =IFERROR(VLOOKUP($B$92,[1]중원!$A:$G,COLUMN()-2,0),0) -> 66260 | F95: =IFERROR(VLOOKUP($B$92,[1]중원!$A:$G,COLUMN()-2,0),0) -> 0 | G95: =IFERROR(VLOOKUP($B$92,[1]중원!$A:$G,COLUMN()-2,0),0) -> 66260 | H95: =IFERROR(VLOOKUP($B$92,[1]중원!$A:$G,COLUMN(),0),0) -> 0 | I95: =IFERROR(VLOOKUP($B$92,[1]중원!$A:$G,COLUMN(),0),0) -> 0 | J95: =E95-G95-I95 -> 0
A96: 225-00 지난연도수입 | C96: 분당 | D96: =IFERROR(VLOOKUP($B$92,[1]분당!$A:$G,COLUMN()-2,0),0) -> 300000 | E96: =IFERROR(VLOOKUP($B$92,[1]분당!$A:$G,COLUMN()-2,0),0) -> 822420 | F96: =IFERROR(VLOOKUP($B$92,[1]분당!$A:$G,COLUMN()-2,0),0) -> 300000 | G96: =IFERROR(VLOOKUP($B$92,[1]분당!$A:$G,COLUMN()-2,0),0) -> 522420 | H96: =IFERROR(VLOOKUP($B$92,[1]분당!$A:$G,COLUMN(),0),0) -> 0 | I96: =IFERROR(VLOOKUP($B$92,[1]분당!$A:$G,COLUMN(),0),0) -> 0 | J96: =E96-G96-I96 -> 300000
B97: 236-00 부담금 | D97: =SUM(D98:D101) -> 1581453820 | E97: =SUM(E98:E101) -> 7106864120 | F97: =SUM(F98:F101) -> 1907510 | G97: =SUM(G98:G101) -> 358222332 | H97: =SUM(H98:H101) -> 0 | I97: =SUM(I98:I101) -> 0 | J97: =SUM(J98:J101) -> 6748641788
C98: 본청 | D98: =IFERROR(VLOOKUP($B$97,[1]본청!$A:$G,COLUMN()-2,0),0) -> 952871760 | E98: =IFERROR(VLOOKUP($B$97,[1]본청!$A:$G,COLUMN()-2,0),0) -> 6471099700 | F98: =IFERROR(VLOOKUP($B$97,[1]본청!$A:$G,COLUMN()-2,0),0) -> 0 | G98: =IFERROR(VLOOKUP($B$97,[1]본청!$A:$G,COLUMN()-2,0),0) -> 349620522 | H98: =IFERROR(VLOOKUP($B$97,[1]본청!$A:$G,COLUMN(),0),0) -> 0 | I98: =IFERROR(VLOOKUP($B$97,[1]본청!$A:$G,COLUMN(),0),0) -> 0 | J98: =E98-G98-I98 -> 6121479178
A99: 225-00 지난연도수입 | B99: 225-000 지난년도수입 | C99: 수정 | D99: =IFERROR(VLOOKUP($B$97,[1]수정!$A:$G,COLUMN()-2,0),0) -> 121140 | E99: =IFERROR(VLOOKUP($B$97,[1]수정!$A:$G,COLUMN()-2,0),0) -> 1023190 | F99: =IFERROR(VLOOKUP($B$97,[1]수정!$A:$G,COLUMN()-2,0),0) -> 442030 | G99: =IFERROR(VLOOKUP($B$97,[1]수정!$A:$G,COLUMN()-2,0),0) -> 987580 | H99: =IFERROR(VLOOKUP($B$97,[1]수정!$A:$G,COLUMN(),0),0) -> 0 | I99: =IFERROR(VLOOKUP($B$97,[1]수정!$A:$G,COLUMN(),0),0) -> 0 | J99: =E99-G99-I99 -> 35610
A100: 225-00 지난연도수입 | C100: 중원 | D100: =IFERROR(VLOOKUP($B$97,[1]중원!$A:$G,COLUMN()-2,0),0) -> 532580 | E100: =IFERROR(VLOOKUP($B$97,[1]중원!$A:$G,COLUMN()-2,0),0) -> 3237170 | F100: =IFERROR(VLOOKUP($B$97,[1]중원!$A:$G,COLUMN()-2,0),0) -> 556740 | G100: =IFERROR(VLOOKUP($B$97,[1]중원!$A:$G,COLUMN()-2,0),0) -> 3237170 | H100: =IFERROR(VLOOKUP($B$97,[1]중원!$A:$G,COLUMN(),0),0) -> 0 | I100: =IFERROR(VLOOKUP($B$97,[1]중원!$A:$G,COLUMN(),0),0) -> 0 | J100: =E100-G100-I100 -> 0
...
