Workbook

Sheet 공영주차장총괄
B2: 공영주차장 총괄 현황
B3: 2026. 1. 1. 기준 , 주차지원과 031-729-3683
B4: 구분 | D4: 총계 | F4: 노외주차장 | L4: 노상주차장 | R4: 비고
F5: 소계 | H5: 노외 | J5: 소규모 | L5: 소계 | N5: 노상 | P5: 이면도로
D6: 개소 | E6: 면수 | F6: 개소 | G6: 면수 | H6: 개소 | I6: 면수 | J6: 개소 | K6: 면수 | L6: 개소 | M6: 면수 | N6: 개소 | O6: 면수 | P6: 개소 | Q6: 면수
B7: 총계 | D7: =F7+L7 -> 580 | E7: =G7+M7 -> 27647 | F7: =H7+J7 -> 305 | G7: =I7+K7 -> 21984 | H7: =H8+H12 -> 104 | I7: =I8+I12 -> 19007 | J7: =J8+J12 -> 201 | K7: =K8+K12 -> 2977 | L7: =N7+P7 -> 275 | M7: =O7+Q7 -> 5663 | N7: =N8+N12 -> 215 | O7: =O8+O12 -> 3688 | P7: =P8+P12 -> 60 | Q7: =Q8+Q12 -> 1975
B8: 성남 도시 개발 공사 관리 | C8: 소계 | D8: =F8+L8 -> 417 | E8: =G8+M8 -> 25607 | F8: =H8+J8 -> 280 | G8: =I8+K8 -> 21610 | H8: =H9+H10+H11 -> 104 | I8: =I9+I10+I11 -> 19007 | J8: =J9+J10+J11 -> 176 | K8: =K9+K10+K11 -> 2603 | L8: =N8+P8 -> 137 | M8: =O8+Q8 -> 3997 | N8: =N9+N10+N11 -> 77 | O8: =O9+O10+O11 -> 2022 | P8: =P9+P10+P11 -> 60 | Q8: =Q9+Q10+Q11 -> 1975
C9: 수정구 | D9: =H9+J9+N9+P9 -> 184 | E9: =G9+M9 -> 8018 | F9: =H9+J9 -> 139 | G9: =I9+K9 -> 7015 | H9: 44 | I9: 5868 | J9: ='공영주차장(소규모)'!C7 -> 95 | K9: ='공영주차장(소규모)'!G7 -> 1147 | L9: =N9+P9 -> 45 | M9: =O9+Q9 -> 1003 | N9: ='공영주차장(노상)'!C7+4 -> 16 | O9: ='공영주차장(노상)'!G7+52 -> 295 | P9: ='공영주차장(이면도로)'!C7 -> 29 | Q9: ='공영주차장(이면도로)'!G7 -> 708
C10: 중원구 | D10: =H10+J10+N10+P10 -> 201 | E10: =G10+M10 -> 11971 | F10: =H10+J10 -> 109 | G10: =I10+K10 -> 8977 | H10: 35 | I10: 7812 | J10: ='공영주차장(소규모)'!C103 -> 74 | K10: ='공영주차장(소규모)'!G103 -> 1165 | L10: =N10+P10 -> 92 | M10: =O10+Q10 -> 2994 | N10: ='공영주차장(노상)'!C20+7 -> 61 | O10: ='공영주차장(노상)'!G20+183 -> 1727 | P10: ='공영주차장(이면도로)'!C37 -> 31 | Q10: ='공영주차장(이면도로)'!G37 -> 1267
C11: 분당구 | D11: =H11+J11+N11+P11 -> 32 | E11: =G11+M11 -> 5618 | F11: =H11+J11 -> 32 | G11: =I11+K11 -> 5618 | H11: 25 | I11: 5327 | J11: ='공영주차장(소규모)'!C178 -> 7 | K11: ='공영주차장(소규모)'!G178 -> 291 | L11: =N11+P11 -> 0 | M11: =O11+Q11 -> 0
B12: 구청 관리 | C12: 소계 | D12: =F12+L12 -> 163 | E12: =G12+M12 -> 2040 | F12: =H12+J12 -> 25 | G12: =I12+K12 -> 374 | H12: =H13+H14+H15 -> 0 | I12: =I13+I14+I15 -> 0 | J12: =J13+J14+J15 -> 25 | K12: =K13+K14+K15 -> 374 | L12: =N12+P12 -> 138 | M12: =O12+Q12 -> 1666 | N12: =N13+N14+N15 -> 138 | O12: =O13+O14+O15 -> 1666 | P12: =P13+P14+P15 -> 0 | Q12: =Q13+Q14+Q15 -> 0
C13: 수정구 | D13: =F13+L13 -> 55 | E13: =G13+M13 -> 673 | F13: =H13+J13 -> 10 | G13: =I13+K13 -> 172 | J13: =나눔주차장!C7 -> 10 | K13: =나눔주차장!G7 -> 172 | L13: =N13+P13 -> 45 | M13: =O13+Q13 -> 501 | N13: ='노상주차장(무료)'!C7 -> 45 | O13: ='노상주차장(무료)'!G7 -> 501 | R13: 나눔주차장 포함
C14: 중원구 | D14: =F14+L14 -> 78 | E14: =G14+M14 -> 802 | F14: =H14+J14 -> 8 | G14: =I14+K14 -> 85 | J14: =나눔주차장!C18 -> 8 | K14: =나눔주차장!G18 -> 85 | L14: =N14+P14 -> 70 | M14: =O14+Q14 -> 717 | N14: ='노상주차장(무료)'!C53 -> 70 | O14: ='노상주차장(무료)'!G53 -> 717 | R14: 나눔주차장 포함
C15: 분당구 | D15: =F15+L15 -> 30 | E15: =G15+M15 -> 565 | F15: =H15+J15 -> 7 | G15: =I15+K15 -> 117 | J15: =나눔주차장!C27 -> 7 | K15: =나눔주차장!G27 -> 117 | L15: =N15+P15 -> 23 | M15: =O15+Q15 -> 448 | N15: ='노상주차장(무료)'!C124 -> 23 | O15: ='노상주차장(무료)'!G124 -> 448 | R15: 나눔주차장 포함

Sheet 공영주차장(노외)
A1: 974번지
B2: 공영주차장(노외주차장)
B3: 2026. 1. 1. 기준 , 주차지원과 031-729-3683
B4: 연번 | C4: 주차장명 | D4: 위치 | G4: 면수 | H4: 비고
D5: 구 | E5: 동 | F5: 지번 | H5: 층수 | I5: 구조 | J5: 연면적 | K5: 준공년도 | L5: 전화번호
B6: 총계 | C6: =C7+C51+C87+C109 -> 104 | G6: =G7+G51+G87+G109 -> 19007
B7: 소계 | C7: =COUNT(B8:B50) -> 43 | D7: 수정구 | G7: =SUM(G8:G50) -> 5659
B8: 1 | C8: 논골 공영주차장 | D8: 수정구 | E8: 단대동 | F8: 산164-3번지 | G8: 123 | H8: 지하5층 | I8: R/C구조 | J8: 5186.52 | K8: 1999.05.27 | L8: 736-5295
B9: 2 | C9: 단대동 제1 공영주차장 | D9: 수정구 | E9: 단대동 | F9: 27-1번지 | G9: 149 | H9: 지하2/지상1층 | I9: R/C구조 | J9: 4726.5 | K9: 2005.11.07 | L9: 731-8267
B10: 3 | C10: 희망로 공영주차장 | D10: 수정구 | E10: 단대동 | F10: 100-1번지 | G10: 57 | H10: 지하2층 | I10: R/C구조 | J10: 2572.11 | K10: 2013.07.31 | L10: 731-8695
B11: 4 | C11: 고등동공영주차장 | D11: 수정구 | E11: 고등동 | F11: 397-37번지 | G11: 45 | I11: 지평식 | J11: 1255 | K11: 2024.01.10.
B12: 5 | C12: 복정제1공영주차장 | D12: 수정구 | E12: 복정동 | F12: 634번지 | G12: 74 | I12: 지평식 | J12: 2207.56
B13: 6 | C13: 복정제3공영주차장 | D13: 수정구 | E13: 복정동 | F13: 673번지 | G13: 281 | H13: 지하1/지상4층 | I13: 철골식 | J13: 7197.65 | K13: 2004.10.25 | L13: 754-1785
B14: 7 | C14: 복정제4공영주차장 | D14: 수정구 | E14: 복정동 | F14: 707번지 | G14: 196 | H14: 지하1/지상2층 | I14: 철골식 | J14: 4626.57 | K14: 2004.10.04 | L14: 757-1781
B15: 8 | C15: 복정제5공영주차장 | D15: 수정구 | E15: 복정동 | F15: 688번지 | G15: 221 | H15: 지하2층/지상1층 | I15: R/C구조 | J15: 8496.56 | K15: 2015.10.07 | L15: 759-9658
B16: 9 | C16: 복정제6공영주차장 | D16: 수정구 | E16: 복정동 | F16: 649번지 | G16: 136 | H16: 지하2층 | I16: R/C구조 | J16: 5674.86 | K16: 2019.11.07. | L16: 721-0946
B17: 10 | C17: 산성동 제1 공영주차장 | D17: 수정구 | E17: 산성동 | F17: 2223번지 | G17: 105 | H17: 지하2/지상1층 | I17: R/C구조 | J17: 4179.69 | K17: 2001.12.11 | L17: 731-5156
B18: 11 | C18: 단대 공원 공영주차장 | D18: 수정구 | E18: 산성동 | F18: 507번지 외 2필지 | G18: 147 | H18: 지하2/지상1층 | I18: R/C구조 | J18: 4119.55 | K18: 1999.01.20 | L18: 747-9026
B19: 12 | C19: 산성동 제2 공영주차장 | D19: 수정구 | E19: 산성동 | F19: 1808번지 외 2필지 | G19: 116 | I19: 지평식 | J19: 7602 | L19: 736-5294
B20: 13 | C20: 산성역 환승주차장 | D20: 수정구 | E20: 산성동 | F20: 6번지 | G20: 222 | H20: 지하4/지상3층 | I20: R/C구조 | J20: 9549.81 | K20: 2013.06.19. | L20: 731-1886
B21: 14 | C21: 수진 제1 공영주차장 | D21: 수정구 | E21: 수진1동 | F21: 1293번지 외 4필지 | G21: 119 | H21: 지상3층 | I21: 철골식 | J21: 2363.2 | K21: 1998.01.30. | L21: 721-5486
B22: 15 | C22: 수진 제3 공영주차장 | D22: 수정구 | E22: 수진1동 | F22: 1280번지 외 4필지 | G22: 229 | H22: 지상5층 | I22: 철골식 | J22: 7519.33 | K22: 2006.07.21 | L22: 721-7136
B23: 16 | C23: 수진 제2 공영주차장 | D23: 수정구 | E23: 수진2동 | F23: 4510-3번지 | G23: 165 | H23: 지상5층 | I23: 철골식 | J23: 4451.77 | K23: 2002.07.04 | L23: 721-1060
B24: 17 | C24: 수진 제4 공영주차장 | D24: 수정구 | E24: 수진2동 | F24: 4671-2번지 외 2필지 | G24: 100 | I24: 지평식 | J24: 3471 | L24: 721-6852
B25: 18 | C25: 번성 공영주차장 | D25: 수정구 | E25: 수진2동 | F25: 3042-1번지 | G25: 180 | H25: 지하1/지상3층 | I25: R/C구조 | J25: 5656.46 | K25: 2008.11.08 | L25: 721-3249
B26: 19 | C26: 신흥 제1 공영주차장 | D26: 수정구 | E26: 신흥1동 | F26: 6593번지 | G26: 66 | H26: 지하1/지상1층 | I26: R/C구조 | J26: 2170.52 | K26: 1999.02.09 | L26: 754-5267
B27: 20 | C27: 신흥 제7 공영주차장 | D27: 수정구 | E27: 신흥1동 | F27: 5542-2번지 | G27: 275 | H27: 지하2/지상3층 | I27: R/C구조 | J27: 7547.4 | K27: 2004.12.28 | L27: 721-3998
B28: 21 | C28: 신흥 제9 공영주차장 | D28: 수정구 | E28: 신흥1동 | F28: 5491번지 | G28: 174 | H28: 지상4층 | I28: R/C구조 | J28: 6194.34 | K28: 1999.5.11 | L28: 721-1263
B29: 22 | C29: 신흥제10 공영주차장 | D29: 수정구 | E29: 신흥동 | F29: 2525번지 | G29: 74 | H29: 지하1/지상10층 | I29: 철골식 | J29: 1463.89 | K29: 2021.12.31. | L29: 746-1114
B30: 23 | C30: 신흥2동제1공영주차장 | D30: 수정구 | E30: 신흥동 | F30: 2440번지 | G30: 151 | I30: 지평식 | J30: 5400
B31: 24 | C31: 수정 공영주차장 | D31: 수정구 | E31: 신흥2동 | F31: 37번지 | G31: 85 | H31: 지상3층 | I31: 철골식 | J31: 1720 | K31: 1990.11.19 | L31: 752-1785
B32: 25 | C32: 신흥 3동 공영주차장 | D32: 수정구 | E32: 신흥3동 | F32: 2473번지 | G32: 66 | H32: 지상4층 | I32: 철골식 | J32: 1653.6 | K32: 2001.04.01 | L32: 741-0747
B33: 26 | C33: 양지 제1 공영주차장 | D33: 수정구 | E33: 양지동 | F33: 724번지 | G33: 180 | H33: 지상3층 | I33: 철골식 | J33: 3518 | K33: 1997.12.31 | L33: 744-1785
B34: 27 | C34: 양지 제2 공영주차장 | D34: 수정구 | E34: 양지동 | F34: 861번지 | G34: 112 | H34: 지하2/지상3층 | I34: R/C구조 | J34: 3747.58 | K34: 2013.08.01 | L34: 731-8736
B35: 28 | C35: 양지 제3 공영주차장 | D35: 수정구 | E35: 양지동 | F35: 724번지 | G35: 96 | H35: 지하2/지상1층 | I35: 철골식 | J35: 744.97 | K35: 2022.01.15. | L35: 731-2969
B36: 29 | C36: 아래숯골 공영주차장 | D36: 수정구 | E36: 태평1동 | F36: 6812번지 | G36: 151 | H36: 지하3/지상1층 | I36: R/C구조 | J36: 7366.06 | K36: 2009.10.09 | L36: 723-9569
B37: 30 | C37: 태평동 탄천변 공영주차장 | D37: 수정구 | E37: 태평1동 | F37: 7066-4번지 | G37: 109 | I37: 지평식 | J37: 22984 | L37: 721-5168
B38: 31 | C38: 건우 공영주차장 | D38: 수정구 | E38: 태평2동 | F38: 224-6번지 | G38: 115 | I38: 지평식 | J38: 4923 | K38: 2011.10.01 | L38: 721-5165
B39: 32 | C39: 태평2동 제1 공영주차장 | D39: 수정구 | E39: 태평2동 | F39: 3307-59번지 외 2필지 | G39: 107 | H39: 지상3층 | I39: 철골식 | J39: 2530 | K39: 2004.05.07 | L39: 721-1782
B40: 33 | C40: 태평 공영주차장 | D40: 수정구 | E40: 태평3동 | F40: 3752-4번지 | G40: 134 | H40: 지상3층 | I40: 철골식 | J40: 3858 | K40: 1992.10.10. | L40: 721-2362
B41: 34 | C41: 태평동 제1 공영주차장 | D41: 수정구 | E41: 태평3동 | F41: 4320번지 | G41: 116 | H41: 지하2/지상2층 | I41: R/C구조 | J41: 3944.17 | K41: 2002.01.25 | L41: 758-7781
B42: 35 | C42: 태평4동 공영주차장 | D42: 수정구 | E42: 태평4동 | F42: 산47-1번지 | G42: 90 | H42: 지하2/지상1층 | I42: R/C구조 | J42: 2797.5 | K42: 2003.08.22 | L42: 722-5087
B43: 36 | C43: 태평4동 제3 공영주차장 | D43: 수정구 | E43: 태평4동 | F43: 7289번지 | G43: 164 | H43: 지하2층 | I43: R/C구조 | J43: 5537.76 | K43: 2004.05.07 | L43: 723-7081
B44: 37 | C44: 태평4동 제1 공영주차장 | D44: 수정구 | E44: 태평4동 | F44: 7300-3번지 외 1필지 | G44: 95 | H44: 지상4층 | I44: R/C구조 | J44: 2787.47 | K44: 2003.06.23 | L44: 722-1787
B45: 38 | C45: 신촌동 공영주차장 | D45: 수정구 | E45: 신촌동 | F45: 206-5번지 | G45: 33 | I45: 지평식 | J45: 848.5 | K45: 2023.03.06.
B46: 39 | C46: 태평공원공영주차장 | D46: 수정구 | E46: 태평동 | F46: 산27-5번지 | G46: 120 | H46: 지하1층 | I46: R/C구조 | J46: 3718.9 | K46: 2023.06.27. | L46: 759-0869
B47: 40 | C47: 희망대제1공영주차장 | D47: 수정구 | E47: 신흥2동 | F47: 6977번지 | G47: 181 | H47: 지하3층/지상2층 | I47: R/C구조 | J47: 6234.36 | K47: 2023.11.30. | L47: 749-2223
B48: 41 | C48: 희망대제2공영주차장 | D48: 수정구 | E48: 신흥2동 | F48: 6964번지 | G48: 159 | H48: 지하1층/지상4층 | I48: R/C구조 | J48: 5144.19 | K48: 2023.11.30. | L48: 731-9647
B49: 42 | C49: 남한산성순환로양지동공영주차장 | D49: 수정구 | E49: 양지동 | F49: 880번지 | G49: 20 | I49: 지평식 | J49: 1399.5 | K49: 2025.8.25.
B50: 43 | C50: 위례서일로마을지하공영주차장 | D50: 수정구 | E50: 창곡동 | F50: 541번지 외 1필지 | G50: 121 | H50: 지하3층 | I50: R/C구조 | J50: 4638.34 | K50: 2025.9.12. | L50: 759-9321
B51: 소계 | C51: =COUNT(B52:B86) -> 35 | D51: 중원구 | G51: =SUM(G52:G86) -> 7812
B52: 1 | C52: 금광1동 제1 공영주차장 | D52: 중원구 | E52: 금광1동 | F52: 2450-3번지 | G52: 124 | H52: 지하2/지상3층 | I52: R/C구조 | J52: 4764.87 | K52: 2005.11.14 | L52: 731-8955
B53: 2 | C53: 금광 공영주차장 | D53: 중원구 | E53: 금광1동 | F53: 1795번지 | G53: 52 | H53: 지상3층 | I53: 철골식 | J53: 1560.9 | K53: 2003.12.30 | L53: 731-6146
B54: 3 | C54: 자혜 공영주차장 | D54: 중원구 | E54: 금광2동 | F54: 2513-8번지 | G54: 194 | H54: 지하4층 | I54: R/C구조 | J54: 7006.66 | K54: 2008.11.27 | L54: 736-0071
B55: 4 | C55: 금광2동 제1 공영주차장 | D55: 중원구 | E55: 금광2동 | F55: 3217번지 | G55: 285 | H55: 지하2층 | I55: R/C구조 | J55: 8443.92 | K55: 2003.05.23 | L55: 731-1859
B56: 5 | C56: 금광2동 제2 공영주차장 | D56: 중원구 | E56: 금광2동 | F56: 4635번지 | G56: 133 | H56: 지상5층 | I56: R/C구조 | J56: 4091.86 | K56: 2005.06.27 | L56: 731-1402
B57: 6 | C57: 상대원 제1 공영주차장 | D57: 중원구 | E57: 상대원1동 | F57: 152-1번지 | G57: 231 | H57: 지하4/지상1층 | I57: R/C구조 | J57: 10605.73 | K57: 2016.01.20 | L57: 731-6782
B58: 7 | C58: 상대원 제4 공영주차장 | D58: 중원구 | E58: 상대원1동 | F58: 1115번지 | G58: 283 | H58: 지하1/지상6층 | I58: 철골식 | J58: 7217.21 | K58: 1999.10.14 | L58: 741-1785
B59: 8 | C59: 대원 지하주차장 | D59: 중원구 | E59: 상대원2동 | F59: 4251번지 | G59: 153 | H59: 지하2층 | I59: R/C구조 | J59: 13975.89 | K59: 1997.10.27 | L59: 747-9027
B60: 9 | C60: 상대원 3동 공영주차장 | D60: 중원구 | E60: 상대원3동 | F60: 788번지 | G60: 110 | H60: 지상4층 | I60: 철골식 | J60: 2848.8 | K60: 2002.10.31 | L60: 731-7084
B61: 10 | C61: 모란다목적 공영주차장 | D61: 중원구 | E61: 성남동 | F61: 4931번지 | G61: 603 | I61: 지평식 | J61: 22563.4 | L61: 721-6738
B62: 11 | C62: 모란제2공영주차장 | D62: 중원구 | E62: 성남동 | F62: 4946-1번지 | G62: 100 | I62: 지평식 | J62: 3038 | K62: 2024.01.26
B63: 12 | C63: 성남동 제1 공영주차장 | D63: 중원구 | E63: 성남동 | F63: 2810번지 외 1필지 | G63: 382 | I63: 지평식 | J63: 15071.9 | L63: 758-2117
B64: 13 | C64: 성남동 제2 공영주차장 | D64: 중원구 | E64: 성남동 | F64: 2874번지 | G64: 253 | H64: 지하2/지상1층 | I64: R/C구조 | J64: 7713.64 | K64: 2007.07.05 | L64: 753-1784
B65: 14 | C65: 대원천 공영주차장 | D65: 중원구 | E65: 성남동 | F65: 4202번지 | G65: 218 | I65: 지평식 | J65: 14105 | L65: 781-1743
B66: 15 | C66: 성남동 대형 공영주차장 | D66: 중원구 | E66: 성남동 | F66: 4596번지 | G66: 717 | I66: 지평식 | J66: 89657 | K66: 2002.05.01 | L66: 722-3421
B67: 16 | C67: 은행1 공영주차장 | D67: 중원구 | E67: 은행1동 | F67: 1932-7번지 | G67: 150 | H67: 지하2층 | I67: R/C구조 | J67: 4783.2 | K67: 1999.07.14 | L67: 736-5293
B68: 17 | C68: 은행1동 제2 공영주차장 | D68: 중원구 | E68: 은행1동 | F68: 62-1번지 | G68: 132 | H68: 지하2층 | I68: R/C구조 | J68: 3882.85 | K68: 2003.07.23 | L68: 733-9273
B69: 18 | C69: 은행동 제5 공영주차장 | D69: 중원구 | E69: 은행1동 | F69: 1944번지 외 1필지 | G69: 289 | I69: 지평식 | J69: 14066.4 | L69: 745-4663
B70: 19 | C70: 은행2동 제3 공영주차장 | D70: 중원구 | E70: 은행2동 | F70: 1730-3번지 | G70: 218 | H70: 지하4층 | I70: R/C구조 | J70: 4689.4 | K70: 2004.10.13 | L70: 731-8469
B71: 20 | C71: 은행2동 제4 공영주차장 | D71: 중원구 | E71: 은행2동 | F71: 550-12번지 외 2필지 | G71: 230 | H71: 지하5층 | I71: R/C구조 | J71: 8504.85 | K71: 2007.01.14 | L71: 748-4694
B72: 21 | C72: 은행동 제6 공영주차장 | D72: 중원구 | E72: 은행2동 | F72: 2528번지 | G72: 94 | H72: 지하1/지상3 | I72: R/C구조 | J72: 3758.1 | K72: 2015.03.31 | L72: 733-0078
B73: 22 | C73: 은행동 제7 공영주차장 | D73: 중원구 | E73: 은행2동 | F73: 2517번지 | G73: 104 | H73: 지하1/지상3 | I73: R/C구조 | J73: 3919.94 | K73: 2015.03.31 | L73: 736-0078
B74: 23 | C74: 은행동 제8 공영주차장 | D74: 중원구 | E74: 은행2동 | F74: 2491번지 | G74: 142 | H74: 지하1/지상4층 | I74: R/C구조 | J74: 4375.89 | K74: 2015.07.10 | L74: 745-1822
B75: 24 | C75: 은행동 제9 공영주차장 | D75: 중원구 | E75: 은행2동 | F75: 2470번지 | G75: 134 | H75: 지하1/지상4층 | I75: R/C구조 | J75: 4798.82 | K75: 2015.12.04 | L75: 731-6173
B76: 25 | C76: 은행동 제10 공영주차장 | D76: 중원구 | E76: 은행2동 | F76: 2474번지 | G76: 221 | H76: 지하1/지상4층 | I76: R/C구조 | J76: 10473.83 | K76: 2016.01.25 | L76: 731-9173
B77: 26 | C77: 중앙동 제1 공영주차장 | D77: 중원구 | E77: 중앙동 | F77: 6-1번지 외 2필지 | G77: 252 | H77: 지하1/지상4층 | I77: 철골식 | J77: 6351.7 | K77: 1998.12.28 | L77: 731-8461
B78: 27 | C78: 중앙동 제2 공영주차장 | D78: 중원구 | E78: 중앙동 | F78: 2079번지 외 1필지 | G78: 123 | H78: 지하3층 | I78: R/C구조 | J78: 4114.38 | K78: 2002.04.09 | L78: 742-7710
B79: 28 | C79: 중앙동 제3 공영주차장 | D79: 중원구 | E79: 중앙동 | F79: 산16-4번지 | G79: 114 | I79: 지평식 | J79: 49802.3 | L79: 733-8902
B80: 29 | C80: 중앙동 제4 공영주차장 | D80: 중원구 | E80: 중앙동 | F80: 2169-1번지 외 2필지 | G80: 240 | H80: 지하3/지상1층 | I80: R/C구조 | J80: 7800.32 | K80: 2005.11.13 | L80: 741-8942
B81: 30 | C81: 해오름 공영주차장 | D81: 중원구 | E81: 중앙동 | F81: 1637번지 | G81: 540 | H81: 지하6/지상1층 | I81: R/C구조 | J81: 17608.46 | K81: 2007.11.21 | L81: 731-0577
B82: 31 | C82: 중앙동 제6 공영주차장 | D82: 중원구 | E82: 중앙동 | F82: 2993번지 | G82: 74 | H82: 지하1층/지상1층 | I82: R/C구조 | J82: 2450.48 | K82: 2023.02.01. | L82: 731-9861
B83: 32 | C83: 여수동 제2공영주차장 | D83: 중원구 | E83: 여수동 | F83: 539번지 | G83: 57 | I83: 지평식 | J83: 1617 | K83: 2022.06.01
B84: 33 | C84: 하대원동임시공영주차장 | D84: 중원구 | E84: 하대원동 | F84: 18번지 | G84: 151 | I84: 지평식 | J84: 4069.8 | K84: 2024.04.22.
B85: 34 | C85: 남한산성순환로은행동공영주차장 | D85: 중원구 | E85: 은행동 | F85: 542-1번지 | G85: 70 | I85: 지평식 | J85: 2722.8 | K85: 2025.08.25.
B86: 35 | C86: 수진역환승공영주차장 | D86: 중원구 | E86: 성남동 | F86: 2126번지 | G86: 639 | H86: 지하4층/지상7층 | I86: R/C구조 | J86: 30231.31 | K86: 2025.11.15. | L86: 721-6698
B87: 소계 | C87: =COUNT(B88:B108) -> 21 | D87: 분당구 | G87: =SUM(G88:G108) -> 4417
B88: 1 | C88: 오리역 환승주차장 | D88: 분당구 | E88: 구미동 | F88: 196번지 | G88: 75 | H88: 지하3/지상1층 | I88: R/C구조 | J88: 4350 | K88: 1997.04.03 | L88: 711-6580
B89: 2 | C89: 금곡동 공영주차장 | D89: 분당구 | E89: 금곡동 | F89: 169번지 | G89: 82 | I89: 지평식 | J89: 2262.2 | L89: 717-1764
B90: 3 | C90: 판교 공영주차장 | D90: 분당구 | E90: 백현동 | F90: 539번지 | G90: 747 | H90: 지하4/지상6 | I90: R/C구조 | J90: 23630.91 | K90: 2014.10.31 | L90: 8017-2600
B91: 4 | C91: 판교역 환승주차장 | D91: 분당구 | E91: 백현동 | F91: 539번지 | G91: 282 | H91: 지하1층 | I91: R/C구조 | J91: 11258.17 | K91: 2011.07.01 | L91: 701-5182
B92: 5 | C92: 점골 공영주차장 | D92: 분당구 | E92: 서현동 | F92: 332번지 | G92: 202 | H92: 지하2층 | I92: R/C구조 | J92: 7501.51 | K92: 2013.01.04 | L92: 701-3248
B93: 6 | C93: 서현역 환승주차장 | D93: 분당구 | E93: 서현동 | F93: 264번지 | G93: 529 | H93: 지하3/지상1층 | I93: R/C구조 | J93: 20219.48 | K93: 1994.08.31 | L93: 709-9968
B94: 7 | C94: 수내동 공영주차장 | D94: 분당구 | E94: 수내동 | F94: 119-1번지 | G94: 130 | H94: 지하1층 | I94: R/C구조 | J94: 3772.23 | K94: 2002.08.09 | L94: 718-7294
B95: 8 | C95: 수내제2공영주차장 | D95: 분당구 | E95: 수내동 | F95: 119-2번지 | G95: 140 | I95: 지평식 | J95: 3200 | L95: 719-8886
B96: 9 | C96: 수내역 환승주차장 | D96: 분당구 | E96: 수내동 | F96: 15-1번지 | G96: 519 | H96: 지하3층 | I96: R/C구조 | J96: 20204.7 | K96: 1996.06.25 | L96: 716-9325
B97: 10 | C97: 야탑역 제1 환승주차장 | D97: 분당구 | E97: 야탑동 | F97: 353-5번지 | G97: 109 | H97: 지하3/지상1층 | I97: R/C구조 | J97: 5720.54 | K97: 1997.04.03 | L97: 701-2952
B98: 11 | C98: 야탑역 제2 환승주차장 | D98: 분당구 | E98: 야탑동 | F98: 364-2번지 | G98: 120 | H98: 지하3/지상1층 | I98: R/C구조 | J98: 6232.02 | K98: 1997.04.03 | L98: 701-7451
B99: 12 | C99: 맛고을 공영주차장 | D99: 분당구 | E99: 야탑동 | F99: 385번지 | G99: 208 | H99: 지하3/지상1층 | I99: R/C구조 | J99: 8521.83 | K99: 2012.03.29 | L99: 701-4228
B100: 13 | C100: 판교제2 공영주차장 | D100: 분당구 | E100: 판교동 | F100: 574번지 | G100: 104 | I100: 지평식 | J100: 3653 | L100: 8016-8427
...

Sheet 공영주차장(노상)
B2: 공영주차장(노상주차장)
B3: 2026. 1. 1. 기준
B4: 연번 | C4: 주차장명 | D4: 위치 | G4: 면수 | H4: 비고
D5: 구 | E5: 동 | F5: 지번
B6: 총계 | C6: =SUM(C7+C20+C75) -> 77 | G6: =SUM(G7+G20+G75) -> 2022 | H6: 중앙지하상가 제외,상권지원과 부설 포함
B7: 소계 | C7: =COUNTA(B8:B19) -> 12 | D7: 수정구 | G7: =SUM(G8:G19) -> 243
B8: 1 | C8: 수상1 노상주차장 | D8: 수정구 | E8: 단대동 | F8: 158-3번지 | G8: 10 | H8: 산성대로 415(단대동 농협 앞)
B9: 2 | C9: 수상2 노상주차장 | D9: 수정구 | E9: 단대동 | F9: 423-22번지 | G9: 31 | H9: 산성대로 478(여성복지회관 앞)
B10: 3 | C10: 수상3 노상주차장 | D10: 수정구 | E10: 단대동 | F10: 47-3번지 | G10: 7 | H10: 산성대로 431
B11: 4 | C11: 수상4 노상주차장 | D11: 수정구 | E11: 단대동 | F11: 158-3번지 | G11: 14 | H11: 산성대로 415(새마을금고 앞)
B12: 5 | C12: 수상5 노상주차장 | D12: 수정구 | E12: 단대동 | F12: 161-6번지 | G12: 17 | H12: 산성대로395(단대오거리 KT 옆)
B13: 6 | C13: 수상1-2 노상주차장 | D13: 수정구 | E13: 단대동 | F13: 75번지 | G13: 7 | H13: 산성대로 451
B14: 7 | C14: 수상9, 10 노상주차장 | D14: 수정구 | E14: 수진1동 | F14: 2211번지 | G14: 32 | H14: 산성대로 195(으뜸카센타 앞)
B15: 8 | C15: 수상 11 노상주차장 | D15: 수정구 | E15: 수진1동 | F15: 2216번지 | G15: 30 | H15: 산성대로 191
B16: 9 | C16: 수상 11-1 노상주차장 | D16: 수정구 | E16: 수진1동 | F16: 2220번지 | G16: 22 | H16: 산성대로 183(천지주방 앞)
B17: 10 | C17: 수상7 노상주차장 | D17: 수정구 | E17: 신흥3동 | F17: 2495번지 | G17: 14 | H17: 산성대로 285(열쇠도매 앞)
B18: 11 | C18: 수상20 노상주차장 | D18: 수정구 | E18: 양지동 | F18: 547번지 | G18: 35 | H18: 산성대로 505(양지동사무소 옆)
B19: 12 | C19: 산성대로 589 노상주차장 | D19: 수정구 | E19: 양지동 | F19: 31번지 | G19: 24 | H19: 산성대로589(남한산성 입구 화로구이 앞)
B20: 소계 | C20: =COUNTA(C21:C74) -> 54 | D20: 중원구 | G20: =SUM(G21:G74) -> 1544
B21: 1 | C21: 중상86, 87 노상주차장 | D21: 중원구 | E21: 금광1동 | F21: 1370번지 | G21: 14 | H21: 광명로340(금광1동새마을금고앞)
B22: 2 | C22: 중상25, 26 노상주차장 | D22: 중원구 | E22: 금광2동 | F22: 4396번지 | G22: 26 | H22: 산성대로382번길2(포유전기 앞)
B23: 3 | C23: 중상27 노상주차장 | D23: 중원구 | E23: 금광2동 | F23: 4543번지 | G23: 27 | H23: 산성대로414-1(삼일부동산 앞)
B24: 4 | C24: 중상31 노상주차장 | D24: 중원구 | E24: 금광2동 | F24: 4790번지 | G24: 10 | H24: 산성대로464(필정형외과 앞)
B25: 5 | C25: 중상88 노상주차장 | D25: 중원구 | E25: 금광2동 | F25: 3128번지 | G25: 12 | H25: 광명로353(새마을금고 앞)
B26: 6 | C26: 중상89 노상주차장 | D26: 중원구 | E26: 금광2동 | F26: 3688번지 | G26: 13 | H26: 광명로331(금광프라자 약국 앞)
B27: 7 | C27: 중상33 노상주차장 | D27: 중원구 | E27: 상대원1동 | F27: 150번지 | G27: 50 | H27: 사기막골로52(파리크라상 앞)
B28: 8 | C28: 중상34, 35 노상주차장 | D28: 중원구 | E28: 상대원1동 | F28: 1125-7번지 | G28: 46 | H28: 박석로10(중앙사우나 앞)
B29: 9 | C29: 중상36 노상주차장 | D29: 중원구 | E29: 상대원1동 | F29: 1622번지 | G29: 20 | H29: 둔촌대로415(광성전기 앞)
B30: 10 | C30: 중상38, 39 노상주차장 | D30: 중원구 | E30: 상대원1동 | F30: 5438번지 | G30: 19 | H30: 둔촌대로424(한일시멘트 앞)
B31: 11 | C31: 중상40 노상주차장 | D31: 중원구 | E31: 상대원1동 | F31: 517-7번지 | G31: 20 | H31: 둔촌대로482(소방서 앞)
B32: 12 | C32: 중상41 노상주차장 | D32: 중원구 | E32: 상대원1동 | F32: 513-15번지 | G32: 17 | H32: 둔촌대로474(신한은행 앞)
... B48: 28 | C48: 중상66 노상주차장 | D48: 중원구 | E48: 성남동 | F48: 4092번지 | G48: 8 | H48: 둔촌대로125(삼화페인트 앞)
B49: 29 | C49: 모란1 노상주차장 | D49: 중원구 | E49: 성남동 | G49: 15 | H49: 성남동 4870번지 일대(모란가축시장앞)
B50: 30 | C50: 모란2 노상주차장 | D50: 중원구 | E50: 성남동 | G50: 24 | H50: 성남동 4870번지 일대(성남여수LH단지앞)
B51: 31 | C51: 모란4 노상주차장 | D51: 중원구 | E51: 성남동 | G51: 25 | H51: 성남동 4870번지 일대(모란다목적공영주차장앞)
B52: 32 | C52: 모란5 노상주차장 | D52: 중원구 | E52: 성남동 | G52: 13 | H52: 성남동 4870번지 일대(여수단독주택지앞)
B53: 33 | C53: 중상70,71 노상주차장 | D53: 중원구 | E53: 은행2동 | F53: 611번지 | G53: 14 | H53: 산성대로588(남한산성입구 밀레 앞)
B54: 34 | C54: 중상70-1 노상주차장 | D54: 중원구 | E54: 은행2동 | F54: 1637번지 | G54: 18 | H54: 산성대로492-1(연세내과 앞)
B55: 35 | C55: 중상70-2 노상주차장 | D55: 중원구 | E55: 은행2동 | F55: 1589번지 | G55: 22 | H55: 산성대로504번길1(25시 동물병원 앞)
B56: 36 | C56: 중상70-4, 5 노상주차장 | D56: 중원구 | E56: 은행2동 | F56: 978번지 | G56: 10 | H56: 산성대로540(산성쌈밥집 앞)
B57: 37 | C57: 중상70-6 노상주차장 | D57: 중원구 | E57: 은행2동 | F57: 722-4번지 | G57: 14 | H57: 산성대로546-1(신한은행 앞)
B58: 38 | C58: 중상70-7,8 노상주차장 | D58: 중원구 | E58: 은행2동 | F58: 664번지 | G58: 14 | H58: 산성대로566(함흥냉면 앞)
B59: 39 | C59: 중상13 노상주차장 | D59: 중원구 | E59: 중앙동 | F59: 802번지 | G59: 36 | H59: 산성대로282-1(신협 앞)
B60: 40 | C60: 중상14 노상주차장 | D60: 중원구 | E60: 중앙동 | F60: 774번지 | G60: 33 | H60: 산성대로288(세종여행사 앞)
B61: 41 | C61: 중상16 노상주차장 | D61: 중원구 | E61: 중앙동 | F61: 512번지 | G61: 23 | H61: 산성대로304(트리오치킨 앞)
B62: 42 | C62: 중상19, 20 노상주차장 | D62: 중원구 | E62: 중앙동 | F62: 316번지 | G62: 14 | H62: 산성대로334-2(옥동갈비탕 앞)
B63: 43 | C63: 중상21 노상주차장 | D63: 중원구 | E63: 중앙동 | F63: 173번지 | G63: 18 | H63: 산성대로334(세이브존 앞)
B64: 44 | C64: 중상22, 23 노상주차장 | D64: 중원구 | E64: 중앙동 | F64: 65번지 | G64: 17 | H64: 산성대로354-1(단대오거리정류장 앞)
... B68: 48 | C68: 중상50 노상주차장 | D68: 중원구 | E68: 하대원동 | F68: 121-7번지 | G68: 18 | H68: 둔촌대로227(혜성주방매니저 앞)
B69: 49 | C69: 중상51-53 노상주차장 | D69: 중원구 | E69: 하대원동 | G69: 28 | H69: 둔촌대로193번길(믿음교회앞)
B70: 50 | C70: 중상57, 58 노상주차장 | D70: 중원구 | E70: 하대원동 | F70: 153번지 | G70: 14 | H70: 둔촌대로258번길7(하대원방송고 앞)
A71: 1면ㄱ | B71: 51 | C71: 중상60, 63 노상주차장 | D71: 중원구 | E71: 하대원동 | F71: 235-2번지 | G71: 14 | H71: 둔촌대로352번길(성남냉동 앞)
B72: 52 | C72: 중상67 노상주차장 | D72: 중원구 | E72: 하대원동 | F72: 102번지 | G72: 13 | H72: 둔촌대로118(모란성당 앞)
B73: 53 | C73: 중상68, 69 노상주차장 | D73: 중원구 | E73: 하대원동 | F73: 104-5번지 | G73: 19 | H73: 둔촌대로140(진흥운수 앞)
B74: 54 | C74: 중상43 노상주차장 | D74: 중원구 | E74: 상대원동 | G74: 20 | H74: 둔촌대로365번길(추어탕집앞)
B75: 소계 | C75: =COUNT(B76:B87) -> 11 | G75: =SUM(G76:G86) -> 235 | H75: 상원지원과(부설)
B76: 1 | C76: 중앙1 노상주차장 | D76: 중원구 | E76: 성남동 | F76: 2126번지 | G76: 30 | H76: 중원구 산성대로208
B77: 2 | C77: 중앙2 노상주차장 | D77: 중원구 | E77: 성남동 | F77: 2106번지 | G77: 35 | H77: 중원구 산성대로220
B78: 3 | C78: 중앙3 노상주차장 | D78: 중원구 | E78: 성남동 | F78: 2064번지 | G78: 22 | H78: 중원구 산성대로230
B79: 4 | C79: 중앙4 노상주차장 | D79: 중원구 | E79: 성남동 | F79: 2013번지 | G79: 21 | H79: 중원구 산성대로238
B80: 5 | C80: 중앙5 노상주차장 | D80: 중원구 | E80: 중앙동 | F80: 1168번지 | G80: 13 | H80: 중원구 산성대로254-1
B81: 6 | C81: 중앙6 노상주차장 | D81: 중원구 | E81: 중앙동 | F81: 1012번지 | G81: 18 | H81: 중원구 산성대로264
B82: 7 | C82: 중앙7 노상주차장 | D82: 중원구 | E82: 중앙동 | F82: 1005번지 | G82: 44 | H82: 중원구 산성대로270-1
B83: 8 | C83: 중앙9 노상주차장 | D83: 수정구 | E83: 신흥3동 | G83: 10 | H83: 수정구 산성대로273
B84: 9 | C84: 중앙10 노상주차장 | D84: 수정구 | E84: 신흥1동 | G84: 13 | H84: 수정구 산성대로237
B85: 10 | C85: 중앙10-1 노상주차장 | D85: 수정구 | E85: 신흥1동 | G85: 9 | H85: 수정구 산성대로223
B86: 11 | C86: 중앙11 노상주차장 | D86: 수정구 | E86: 신흥1동 | G86: 20 | H86: 수정구 산성대로221

Sheet 공영주차장(소규모)정수화
B2: 공영주차장(소규모주차장) | L2: 성남도시개발공사 작성 2022.12.31. 기준
B3: 2023. 6. 30. 기준
B4: 연번 | C4: 주차장명 | D4: 위치 | G4: 면수 | H4: 면적 | I4: 비고
D5: 구 | E5: 동 | F5: 지번 | K5: 2023년 변동사항 | L5: 2021년 변동사항 | M5: 2022년 변동사항
B6: 총계 | C6: =SUM(C7+C104+C180) -> 178 | G6: =SUM(G7+G104+G180) -> 2835
B7: 소계 | C7: =COUNTA(C8:C102) -> 95 | D7: 수정구 | G7: =SUM(G8:G102) -> 1272
B8: 1 | C8: 단대동 41 소규모주차장 | D8: 수정구 | E8: 단대동 | F8: 41번지 | G8: 116 | H8: 2659
B9: 2 | C9: 복정동 634 소규모주차장 | D9: 수정구 | E9: 복정동 | F9: 634번지 | G9: 74
B10: 3 | C10: 단대동 33-1 소규모주차장 | D10: 수정구 | E10: 단대동 | F10: 33-1번지 | G10: 3 | H10: 55
B11: 4 | C11: 산성동 7 소규모주차장 | D11: 수정구 | E11: 산성동 | F11: 7번지 | G11: 95 | H11: 6288
B12: 5 | C12: 수진1동 2785 소규모주차장 | D12: 수정구 | E12: 수진1동 | F12: 2785번지 | G12: 2 | H12: 61.5
B13: 6 | C13: 수진1동 795 소규모주차장 | D13: 수정구 | E13: 수진1동 | F13: 795번지 | G13: 2 | H13: 59.8
B14: 7 | C14: 수진1동 767 소규모주차장 | D14: 수정구 | E14: 수진1동 | F14: 767번지 | G14: 6 | H14: 121
B15: 8 | C15: 수진1동 2545-1 소규모주차장 | D15: 수정구 | E15: 수진1동 | F15: 2545-1번지 | G15: 3 | H15: 91.9
B16: 9 | C16: 수진1동 1634 소규모주차장 | D16: 수정구 | E16: 수진1동 | F16: 1634번지 | G16: 2 | H16: 64.5
B17: 10 | C17: 수진1동 1502 소규모주차장 | D17: 수정구 | E17: 수진1동 | F17: 1502번지 | G17: 3 | H17: 65
B18: 11 | C18: 수진1동 2279 소규모주차장 | D18: 수정구 | E18: 수진1동 | F18: 2279번지 | G18: 3 | H18: 86.3
B19: 12 | C19: 수진1동 2674 소규모주차장 | D19: 수정구 | E19: 수진1동 | F19: 2674번지 | G19: 35 | H19: 1590
B20: 13 | C20: 수진1동 2325 소규모주차장 | D20: 수정구 | E20: 수진1동 | F20: 2325번지 | G20: 35 | H20: 842
B21: 14 | C21: 수진1동 2294 소규모주차장 | D21: 수정구 | E21: 수진1동 | F21: 2294번지 | G21: 84 | H21: 291.6
... B27: 20 | C27: 수진2동 3393 소규모주차장 | D27: 수정구 | E27: 수진2동 | F27: 3393번지 | G27: 4 | H27: 139.8
B28: 21 | C28: 수진2동 4758-6 소규모주차장 | D28: 수정구 | E28: 수진2동 | F28: 4758-6번지 | G28: 83 | H28: 2593 | L28: 30면 증설
B29: 22 | C29: 수진2동 4763-10 소규모주차장 | D29: 수정구 | E29: 수진2동 | F29: 4763-10번지 | G29: 24 | H29: 745
B30: 23 | C30: 신흥1동 4676 소규모주차장 | D30: 수정구 | E30: 신흥1동 | F30: 4676번지 | G30: 3 | H30: 59.5
B31: 24 | C31: 신흥1동 4881 소규모주차장 | D31: 수정구 | E31: 신흥1동 | F31: 4881번지 | G31: 3 | H31: 76.4
B32: 25 | C32: 신흥1동 5878 소규모주차장 | D32: 수정구 | E32: 신흥1동 | F32: 5878번지 | G32: 6 | H32: 82
B33: 26 | C33: 신흥1동 4835 소규모주차장 | D33: 수정구 | E33: 신흥1동 | F33: 4835번지 | G33: 3 | H33: 61.2
B34: 27 | C34: 신흥1동 6213 소규모주차장 | D34: 수정구 | E34: 신흥1동 | F34: 6213번지 | G34: 4 | H34: 75
B35: 28 | C35: 신흥1동 4715 소규모주차장 | D35: 수정구 | E35: 신흥1동 | F35: 4715번지 | G35: 3 | H35: 74.3
B36: 29 | C36: 신흥1동 4232 소규모주차장 | D36: 수정구 | E36: 신흥1동 | F36: 4232번지 | G36: 12 | H36: 320
B37: 30 | C37: 신흥1동 5362 소규모주차장 | D37: 수정구 | E37: 신흥1동 | F37: 5362번지 | G37: 7 | H37: 126.3
B38: 31 | C38: 신흥1동 5041 소규모주차장 | D38: 수정구 | E38: 신흥1동 | F38: 5041번지 | G38: 3 | H38: 63.5
B39: 32 | C39: 신흥2동 93-1 소규모주차장 | D39: 수정구 | E39: 신흥2동 | F39: 93-1번지 | G39: 10 | H39: 287
B40: 33 | C40: 신흥2동 115-1 소규모주차장 | D40: 수정구 | E40: 신흥2동 | F40: 115-1번지 | G40: 2 | H40: 75.1
... B50: 43 | C50: 태평1동 5190-3 소규모주차장 | D50: 수정구 | E50: 태평1동 | F50: 5190-3번지 | G50: 12 | H50: 260.9
B51: 44 | C51: 태평2동 1180 소규모주차장 | D51: 수정구 | E51: 태평2동 | F51: 1180번지 | G51: 72 | H51: 1920 | I51: 주택과 관리
B52: 45 | C52: 태평2동 2703 소규모주차장 | D52: 수정구 | E52: 태평2동 | F52: 2703번지 | G52: 9 | H52: 208
B53: 46 | C53: 태평2동 3182 소규모주차장 | D53: 수정구 | E53: 태평2동 | F53: 3182번지 | G53: 22 | H53: 540
B54: 47 | C54: 태평2동 3409-15 소규모주차장 | D54: 수정구 | E54: 태평2동 | F54: 3409-15번지 | G54: 17 | H54: 287
B55: 48 | C55: 태평2동 3273-1 소규모주차장 | D55: 수정구 | E55: 태평2동 | F55: 3273-1번지 | G55: 29 | H55: 1592
B56: 49 | C56: 태평2동 3304 소규모주차장 | D56: 수정구 | E56: 태평2동 | F56: 3304번지 | G56: 5 | H56: 63.25
B57: 50 | C57: 태평2동 3307-19 소규모주차장 | D57: 수정구 | E57: 태평2동 | F57: 3307-19번지 | G57: 6 | H57: 75.9
B58: 51 | C58: 태평2동 3307-47 소규모주차장 | D58: 수정구 | E58: 태평2동 | F58: 3307-47번지 | G58: 42 | H58: 63.25
B59: 52 | C59: 태평2동 3307-59 소규모주차장 | D59: 수정구 | E59: 태평2동 | F59: 3307-59번지 | G59: 5 | H59: 770
B60: 53 | C60: 태평2동 3483 소규모주차장 | D60: 수정구 | E60: 태평2동 | F60: 3483번지 | G60: 15 | H60: 372.4
B61: 54 | C61: 태평2동 346 소규모주차장 | D61: 수정구 | E61: 태평2동 | F61: 346번지 | G61: 3 | H61: 64.8
B62: 55 | C62: 태평2동 376 소규모주차장 | D62: 수정구 | E62: 태평2동 | F62: 376번지 | G62: 3 | H62: 64.5
B63: 56 | C63: 태평2동 615 소규모주차장 | D63: 수정구 | E63: 태평2동 | F63: 615번지 | G63: 3 | H63: 67.1
... B101: 94 | C101: 태평4동 2559 소규모주차장 | D101: 수정구 | E101: 태평4동 | F101: 2559번지 | G101: 2 | H101: 64.5
B102: 95 | C102: 태평4동 7314-5 소규모주찾아 | D102: 수정구 | E102: 태평4동 | F102: 7314-5번지 | G102: 6 | H102: 143.3 | L102: 신규
B103: 96 | C103: 태평4동 7290 소규모주차장 | D103: 수정구 | E103: 태평4동 | F103: 7290번지 | G103: 7 | H103: 233
B104: 소계 | C104: =COUNT(B105:B179) -> 75 | D104: 중원구 | G104: =SUM(G105:G179) -> 1122
B105: 1 | C105: 금광1동 170 소규모주차장 | D105: 중원구 | E105: 금광1동 | F105: 170번지 | G105: 20 | H105: 328.9 | L105: 5면 폐지
B106: 2 | C106: 금광1동 1378 소규모주차장 | D106: 중원구 | E106: 금광1동 | F106: 1378번지 | G106: 12 | H106: 164.45
B107: 3 | C107: 금광2동 3169 소규모주차장 | D107: 중원구 | E107: 금광2동 | F107: 3169번지 | G107: 7 | H107: 88.55
B108: 4 | C108: 금광2동 3209-11 소규모주차장 | D108: 중원구 | E108: 금광2동 | F108: 3209-11번지 | G108: 20 | H108: 332.9
B109: 5 | C109: 금광2동 3253 소규모주차장 | D109: 중원구 | E109: 금광2동 | F109: 3253번지 | G109: 12 | H109: 151.8
B110: 6 | C110: 금광2동 3257 소규모주차장 | D110: 중원구 | E110: 금광2동 | F110: 3257번지 | G110: 12 | H110: 151.8
B111: 7 | C111: 금광2동3350 소규모주차장 | D111: 중원구 | E111: 금광2동 | F111: 3350번지 | G111: 9 | H111: 60
B112: 8 | C112: 금광2동 3385 소규모주차장 | D112: 중원구 | E112: 금광2동 | F112: 3385번지 | G112: 10 | H112: 139.15
B113: 9 | C113: 금광2동 3410 소규모주차장 | D113: 중원구 | E113: 금광2동 | F113: 3410번지 | G113: 3 | H113: 37.95
B114: 10 | C114: 금광2동 3417 소규모주차장 | D114: 중원구 | E114: 금광2동 | F114: 3417번지 | G114: 10 | H114: 126.5
B115: 11 | C115: 금광2동 3425 소규모주차장 | D115: 중원구 | E115: 금광2동 | F115: 3245번지 | G115: 34 | H115: 430.1
B116: 12 | C116: 금광2동 3426 소규모주차장 | D116: 중원구 | E116: 금광2동 | F116: 3246번지 | G116: 17 | H116: 215.05
B117: 13 | C117: 금광2동 3439 소규모주차장 | D117: 중원구 | E117: 금광2동 | F117: 3439번지 | G117: 9 | H117: 113.85
... B125: 21 | C125: 금광2동 2953 소규모주차장 | D125: 중원구 | E125: 금광2동 | F125: 2953번지 | G125: 5 | H125: 165.3
B126: 22 | C126: 금광2동 2910 소규모주차장 | D126: 중원구 | E126: 금광2동 | F126: 2910번지 | G126: 20 | H126: 583.1 | L126: 신규
B127: 23 | C127: 성남동 4176 소규모주차장 | D127: 중원구 | E127: 성남동 | F127: 4176번지 | G127: 42 | H127: 1171
B128: 24 | C128: 성남동 2404 소규모주차장 | D128: 중원구 | E128: 성남동 | F128: 2404번지 | G128: 7 | H128: 225 | L128: 3면 폐지
B129: 25 | C129: 상대원1동 125-1 소규모주차장 | D129: 중원구 | E129: 상대원1동 | F129: 125-1번지 | G129: 26 | H129: 847
B130: 26 | C130: 상대원1동 359-3 소규모주차장 | D130: 중원구 | E130: 상대원1동 | F130: 359-3번지 | G130: 36 | H130: 881
B131: 27 | C131: 상대원1동 913 소규모주차장 | D131: 중원구 | E131: 상대원1동 | F131: 913번지 | G131: 13 | H131: 367.6
B132: 28 | C132: 상대원1동 1488 소규모주차장 | D132: 중원구 | E132: 상대원1동 | F132: 1488번지 | G132: 15 | H132: 164.45
B133: 29 | C133: 상대원1동 1584 소규모주차장 | D133: 중원구 | E133: 상대원1동 | F133: 1584번지 | G133: 8 | H133: 261.9
B134: 30 | C134: 상대원1동 1659 소규모주차장 | D134: 중원구 | E134: 상대원1동 | F134: 1659번지 | G134: 8 | H134: 215.9
B135: 31 | C135: 상대원1동 1769 소규모주차장 | D135: 중원구 | E135: 상대원1동 | F135: 1769번지 | G135: 12 | H135: 291.4
B136: 32 | C136: 상대원1동 1108 소규모주차장 | D136: 중원구 | E136: 상대원1동 | F136: 1108번지 | G136: 3 | H136: 109.8
B137: 33 | C137: 상대원1동 1319-1,2,3 소규모주차장 | D137: 중원구 | E137: 상대원1동 | F137: 1319-1,2,3번지 | G137: 8 | H137: 288.2
B138: 34 | C138: 상대원1동 1100 소규모주차장 | D138: 중원구 | E138: 상대원1동 | F138: 1100번지 | G138: 2 | H138: 70.4
B139: 35 | C139: 상대원1동 1381-2 소규모주차장 | D139: 중원구 | E139: 상대원1동 | F139: 1381-2번지 | G139: 8 | H139: 261 | L139: 누락
B140: 36 | C140: 상대원1동 1647-2 소규모주차장 | D140: 중원구 | E140: 상대원1동 | F140: 1647-2번지 | G140: 4 | H140: 146.5 | L140: 누락
B141: 37 | C141: 상대원1동 1381-6 소규모주차장 | D141: 중원구 | E141: 상대원3동 | F141: 1381-6번지 | G141: 10 | H141: 261
B142: 38 | C142: 상대원2동 4718 소규모주차장 | D142: 중원구 | E142: 상대원2동 | F142: 4718번지 | G142: 3 | H142: 65.5
B143: 39 | C143: 상대원2동 5083 소규모주차장 | D143: 중원구 | E143: 상대원2동 | F143: 5083번지 | G143: 3 | H143: 65.5
B144: 40 | C144: 상대원2동 2990-10 소규모주차장 | D144: 중원구 | E144: 상대원2동 | F144: 2990-10번지 | G144: 16 | H144: 429
B145: 41 | C145: 상대원2동 2991-7 소규모주차장 | D145: 중원구 | E145: 상대원2동 | F145: 2991-7번지 | G145: 7 | H145: 216 | L145: 1면 폐지
B146: 42 | C146: 상대원2동 2992-5 소규모주차장 | D146: 중원구 | E146: 상대원2동 | F146: 2992-5번지 | G146: 9 | H146: 287
B147: 43 | C147: 상대원2동 2994-9 소규모주차장 | D147: 중원구 | E147: 상대원2동 | F147: 2994-9번지 | G147: 10 | H147: 244.1
B148: 44 | C148: 상대원2동 2995-8 소규모주차장 | D148: 중원구 | E148: 상대원2동 | F148: 2995-8번지 | G148: 6 | H148: 268.1
B149: 45 | C149: 상대원2동 5004 소규모주차장 | D149: 중원구 | E149: 상대원2동 | F149: 5004번지 | G149: 40 | H149: 955.3
B150: 46 | C150: 상대원2동 5233-1 소규모주차장 | D150: 중원구 | E150: 상대원2동 | F150: 5233-1번지 | G150: 16 | H150: 421
B151: 47 | C151: 상대원3동 2419 소규모주차장 | D151: 중원구 | E151: 상대원3동 | F151: 2419번지 | G151: 3 | H151: 78.7
B152: 48 | C152: 상대원3동 808 소규모주차장 | D152: 중원구 | E152: 상대원3동 | F152: 808번지 | G152: 35 | H152: 739.6
B153: 49 | C153: 상대원3동 814 소규모주차장 | D153: 중원구 | E153: 상대원3동 | F153: 814번지 | G153: 43 | H153: 1042
B154: 50 | C154: 상대원3동 823 소규모주차장 | D154: 중원구 | E154: 상대원3동 | F154: 823번지 | G154: 12 | H154: 327
B155: 51 | C155: 상대원3동 825 소규모주차장 | D155: 중원구 | E155: 상대원3동 | F155: 825번지 | G155: 17 | H155: 323
B156: 52 | C156: 상대원3동 844 소규모주차장 | D156: 중원구 | E156: 상대원3동 | F156: 844번지 | G156: 9 | H156: 253.9
B157: 53 | C157: 상대원3동 855 소규모주차장 | D157: 중원구 | E157: 상대원3동 | F157: 855번지 | G157: 16 | H157: 152.6
... B177: 73 | C177: 은행2동 2499 소규모주차장 | D177: 중원구 | E177: 은행2동 | F177: 2499번지 | G177: 23 | H177: 300
B178: 74 | C178: 여수동 654 소규모주차장 | D178: 중원구 | E178: 여수동 | F178: 654번지 | G178: 10 | H178: 351.3 | L178: 2021.3.18. 준공
...

Sheet 공영주차장(소규모)
B2: 공영주차장(소규모주차장)
B3: 2026. 1. 1. 기준
B4: 연번 | C4: 주차장명 | D4: 위치 | G4: 면수 | H4: 면적 | I4: 비고
D5: 구 | E5: 동 | F5: 지번
B6: 총계 | C6: =SUM(C7+C103+C178) -> 176 | G6: =SUM(G7+G103+G178) -> 2603
B7: 소계 | C7: =COUNTA(C8:C102) -> 95 | D7: 수정구 | G7: =SUM(G8:G102) -> 1147
B8: 1 | C8: 단대동 41 소규모주차장 | D8: 수정구 | E8: 단대동 | F8: 41번지 | G8: 116 | H8: 2659
B9: 2 | C9: 단대동 33-1 소규모주차장 | D9: 수정구 | E9: 단대동 | F9: 33-1번지 | G9: 3 | H9: 55
B10: 3 | C10: 산성동 7 소규모주차장 | D10: 수정구 | E10: 산성동 | F10: 7번지 | G10: 95 | H10: 6288
B11: 4 | C11: 수진1동 2785 소규모주차장 | D11: 수정구 | E11: 수진1동 | F11: 2785번지 | G11: 2 | H11: 61.5
B12: 5 | C12: 수진1동 795 소규모주차장 | D12: 수정구 | E12: 수진1동 | F12: 795번지 | G12: 2 | H12: 59.8
B13: 6 | C13: 수진1동 767 소규모주차장 | D13: 수정구 | E13: 수진1동 | F13: 767번지 | G13: 5 | H13: 121
B14: 7 | C14: 수진1동 2545-1 소규모주차장 | D14: 수정구 | E14: 수진1동 | F14: 2545-1번지 | G14: 3 | H14: 91.9
B15: 8 | C15: 수진1동 1634 소규모주차장 | D15: 수정구 | E15: 수진1동 | F15: 1634번지 | G15: 2 | H15: 64.5
B16: 9 | C16: 수진1동 1502 소규모주차장 | D16: 수정구 | E16: 수진1동 | F16: 1502번지 | G16: 3 | H16: 65
B17: 10 | C17: 수진1동 2279 소규모주차장 | D17: 수정구 | E17: 수진1동 | F17: 2279번지 | G17: 3 | H17: 86.3
B18: 11 | C18: 수진1동 2674 소규모주차장 | D18: 수정구 | E18: 수진1동 | F18: 2674번지 | G18: 21 | H18: 1590
B19: 12 | C19: 수진1동 2325 소규모주차장 | D19: 수정구 | E19: 수진1동 | F19: 2325번지 | G19: 35 | H19: 842
... B102: 95 | C102: 신촌동 214-29 소규모주차장 | D102: 수정구 | E102: 신촌동 | F102: 214-29번지 | G102: 9 | H102: 322
B103: 소계 | C103: =COUNT(B104:B177) -> 74 | D103: 중원구 | G103: =SUM(G104:G177) -> 1165
B104: 1 | C104: 금광1동 170 소규모주차장 | D104: 중원구 | E104: 금광1동 | F104: 170번지 | G104: 20 | H104: 328.9
B105: 2 | C105: 금광1동 1378 소규모주차장 | D105: 중원구 | E105: 금광1동 | F105: 1378번지 | G105: 12 | H105: 164.45
B106: 3 | C106: 금광1동 661 소규모주차장 | D106: 중원구 | E106: 금광1동 | F106: 661번지 | G106: 17 | H106: 783.6
B107: 4 | C107: 금광1동 1935 소규모주차장 | D107: 중원구 | E107: 금광1동 | F107: 1935번지 | G107: 18 | H107: 629.4
B108: 5 | C108: 금광1동 1590 소규모주차장 | D108: 중원구 | E108: 금광1동 | F108: 1590번지 | G108: 102 | H108: 2500
B109: 6 | C109: 금광2동 3169 소규모주차장 | D109: 중원구 | E109: 금광2동 | F109: 3169번지 | G109: 7 | H109: 88.55
B110: 7 | C110: 금광2동 3209-11 소규모주차장 | D110: 중원구 | E110: 금광2동 | F110: 3209-11번지 | G110: 20 | H110: 332.9
B111: 8 | C111: 금광2동 3253 소규모주차장 | D111: 중원구 | E111: 금광2동 | F111: 3253번지 | G111: 11 | H111: 151.8
B112: 9 | C112: 금광2동 3257 소규모주차장 | D112: 중원구 | E112: 금광2동 | F112: 3257번지 | G112: 12 | H112: 151.8
B113: 10 | C113: 금광2동 3350 소규모주차장 | D113: 중원구 | E113: 금광2동 | F113: 3350번지 | G113: 9 | H113: 60
B114: 11 | C114: 금광2동 3385 소규모주차장 | D114: 중원구 | E114: 금광2동 | F114: 3385번지 | G114: 10 | H114: 139.15
B115: 12 | C115: 금광2동 3410 소규모주차장 | D115: 중원구 | E115: 금광2동 | F115: 3410번지 | G115: 3 | H115: 37.95
... B177: 74 | C177: 중앙동 2195 소규모주차장 | D177: 중원구 | E177: 중앙동 | F177: 2195번지 | G177: 2 | H177: 53.2
B178: 소계 | C178: =COUNTA(C179:C185) -> 7 | D178: 분당구 | G178: =SUM(G179:G185) -> 291
B179: 1 | C179: 백현동599 소규모주차장 | D179: 분당구 | E179: 백현동 | F179: 599번지 | G179: 30 | H179: 832.7
B180: 2 | C180: 분당동 125 소규모주차장 | D180: 분당구 | E180: 분당동 | F180: 125번지 | G180: 42 | H180: 556.6
B181: 3 | C181: 운중동 1024 소규모주차장 | D181: 분당구 | E181: 운중동 | F181: 1024번지 | G181: 47 | H181: 1159.4
B182: 4 | C182: 운중동 1041 소규모주차장 | D182: 분당구 | E182: 운중동 | F182: 1041번지 | G182: 50 | H182: 1216.7
B183: 5 | C183: 운중동 884 소규모주차장 | D183: 분당구 | E183: 운중동 | F183: 884번지 | G183: 42 | H183: 1255.1
B184: 6 | C184: 운중동 1002-4 소규모주차장 | D184: 분당구 | E184: 운중동 | F184: 1002-4번지 | G184: 38 | H184: 1242.3
B185: 7 | C185: 정자동 251-2 소규모주차장 | D185: 분당구 | E185: 정자동 | F185: 251-3번지 | G185: 42 | H185: 3324

Sheet 공영주차장(소규모)(24.2.취합원본)
B2: 공영주차장(소규모주차장)
B3: 2024. 2. 1. 기준
B4: 연번 | C4: 주차장명 | D4: 위치 | G4: 면수 | H4: 면적 | I4: 요금부과 여부 (부과/미부과) | J4: 관리부서 | K4: 비고
D5: 구 | E5: 동 | F5: 지번 | M5: 2023년 변동사항 | N5: 2022년 변동사항
B6: 총계 | C6: =SUM(C7+C103+C182) -> 176 | G6: =SUM(G7+G103+G182) -> 2677
B7: 소계 | C7: =COUNTA(C8:C102) -> 95 | D7: 수정구 | G7: =SUM(G8:G102) -> 1191
B8: 1 | C8: 단대동 41 소규모주차장 | D8: 수정구 | E8: 단대동 | F8: 41번지 | G8: 116 | H8: 2659 | I8: 부과 | J8: 노상주차처 (견인거주자팀)
B9: 2 | C9: 단대동 33-1 소규모주차장 | D9: 수정구 | E9: 단대동 | F9: 33-1번지 | G9: 3 | H9: 55 | I9: 부과 | J9: 노상주차처 (견인거주자팀)
B10: 3 | C10: 산성동 7 소규모주차장 | D10: 수정구 | E10: 산성동 | F10: 7번지 | G10: 95 | H10: 6288 | I10: 부과 | J10: 노상주차처 (견인거주자팀)
B11: 4 | C11: 수진1동 2785 소규모주차장 | D11: 수정구 | E11: 수진1동 | F11: 2785번지 | G11: 2 | H11: 61.5 | I11: 부과 | J11: 노상주차처 (견인거주자팀)
B12: 5 | C12: 수진1동 795 소규모주차장 | D12: 수정구 | E12: 수진1동 | F12: 795번지 | G12: 2 | H12: 59.8 | I12: 부과 | J12: 노상주차처 (견인거주자팀)
B13: 6 | C13: 수진1동 767 소규모주차장 | D13: 수정구 | E13: 수진1동 | F13: 767번지 | G13: 6 | H13: 121 | I13: 부과 | J13: 노상주차처 (견인거주자팀)
B14: 7 | C14: 수진1동 2545-1 소규모주차장 | D14: 수정구 | E14: 수진1동 | F14: 2545-1번지 | G14: 3 | H14: 91.9 | I14: 부과 | J14: 노상주차처 (견인거주자팀)
B15: 8 | C15: 수진1동 1634 소규모주차장 | D15: 수정구 | E15: 수진1동 | F15: 1634번지 | G15: 2 | H15: 64.5 | I15: 부과 | J15: 노상주차처 (견인거주자팀)
B16: 9 | C16: 수진1동 1502 소규모주차장 | D16: 수정구 | E16: 수진1동 | F16: 1502번지 | G16: 3 | H16: 65 | I16: 부과 | J16: 노상주차처 (견인거주자팀)
B17: 10 | C17: 수진1동 2279 소규모주차장 | D17: 수정구 | E17: 수진1동 | F17: 2279번지 | G17: 3 | H17: 86.3 | I17: 부과 | J17: 노상주차처 (견인거주자팀)
B18: 11 | C18: 수진1동 2674 소규모주차장 | D18: 수정구 | E18: 수진1동 | F18: 2674번지 | G18: 33 | H18: 1590 | I18: 부과 | J18: 노상주차처 (견인거주자팀) | K18: 2면 폐지(24.1.1.)
B19: 12 | C19: 수진1동 2325 소규모주차장 | D19: 수정구 | E19: 수진1동 | F19: 2325번지 | G19: 35 | H19: 842 | I19: 부과 | J19: 노상주차처 (견인거주자팀)
B20: 13 | C20: 수진1동 2294 소규모주차장 | D20: 수정구 | E20: 수진1동 | F20: 2294번지 | G20: 82 | H20: 291.6 | I20: 부과 | J20: 노상주차처 (견인거주자팀) | K20: 2면 폐지(24.1.1.)
B21: 14 | C21: 수진1동 2132 소규모주차장 | D21: 수정구 | E21: 수진1동 | F21: 2132번지 | G21: 40 | H21: 425.5 | I21: 부과 | J21: 노상주차처 (견인거주자팀) | K21: 1면 폐지(24.1.1.)
B22: 15 | C22: 수진1동 2533 소규모주차장 | D22: 수정구 | E22: 수진1동 | F22: 2533번지 | G22: 3 | H22: 66.8 | I22: 부과 | J22: 노상주차처 (견인거주자팀)
B23: 16 | C23: 수진1동 2320 소규모주차장 | D23: 수정구 | E23: 수진1동 | F23: 2320번지 | G23: 8 | H23: 56.5 | I23: 부과 | J23: 노상주차처 (견인거주자팀)
B24: 17 | C24: 수진1동 1669 소규모주차장 | D24: 수정구 | E24: 수진1동 | F24: 1669번지 | G24: 3 | H24: 61.2 | I24: 부과 | J24: 노상주차처 (견인거주자팀)
B25: 18 | C25: 수진2동 4498 소규모주차장 | D25: 수정구 | E25: 수진2동 | F25: 4498번지 | G25: 2 | H25: 67.8 | I25: 부과 | J25: 노상주차처 (견인거주자팀)
B26: 19 | C26: 수진2동 3393 소규모주차장 | D26: 수정구 | E26: 수진2동 | F26: 3393번지 | G26: 4 | H26: 139.8 | I26: 부과 | J26: 노상주차처 (견인거주자팀)
B27: 20 | C27: 수진2동 4758-6 소규모주차장 | D27: 수정구 | E27: 수진2동 | F27: 4758-6번지 | G27: 83 | H27: 2593 | I27: 부과 | J27: 노상주차처 (견인거주자팀)
B28: 21 | C28: 수진2동 4763-10 소규모주차장 | D28: 수정구 | E28: 수진2동 | F28: 4763-10번지 | G28: 24 | H28: 745 | I28: 부과 | J28: 노상주차처 (견인거주자팀) | K28: 신규유료화 | M28: 신규 유료화
B29: 22 | C29: 신흥1동 4676 소규모주차장 | D29: 수정구 | E29: 신흥1동 | F29: 4676번지 | G29: 3 | H29: 59.5 | I29: 부과 | J29: 노상주차처 (견인거주자팀)
B30: 23 | C30: 신흥1동 4881 소규모주차장 | D30: 수정구 | E30: 신흥1동 | F30: 4881번지 | G30: 3 | H30: 76.4 | I30: 부과 | J30: 노상주차처 (견인거주자팀)
B31: 24 | C31: 신흥1동 5878 소규모주차장 | D31: 수정구 | E31: 신흥1동 | F31: 5878번지 | G31: 6 | H31: 82 | I31: 부과 | J31: 노상주차처 (견인거주자팀)
B32: 25 | C32: 신흥1동 4835 소규모주차장 | D32: 수정구 | E32: 신흥1동 | F32: 4835번지 | G32: 3 | H32: 61.2 | I32: 부과 | J32: 노상주차처 (견인거주자팀)
B33: 26 | C33: 신흥1동 6213 소규모주차장 | D33: 수정구 | E33: 신흥1동 | F33: 6213번지 | G33: 4 | H33: 75 | I33: 부과 | J33: 노상주차처 (견인거주자팀)
B34: 27 | C34: 신흥1동 4715 소규모주차장 | D34: 수정구 | E34: 신흥1동 | F34: 4715번지 | G34: 3 | H34: 74.3 | I34: 부과 | J34: 노상주차처 (견인거주자팀)
B35: 28 | C35: 신흥1동 4232 소규모주차장 | D35: 수정구 | E35: 신흥1동 | F35: 4232번지 | G35: 12 | H35: 320 | I35: 부과 | J35: 노상주차처 (견인거주자팀)
B36: 29 | C36: 신흥1동 5362 소규모주차장 | D36: 수정구 | E36: 신흥1동 | F36: 5362번지 | G36: 7 | H36: 126.3 | I36: 부과 | J36: 노상주차처 (견인거주자팀)
B37: 30 | C37: 신흥1동 5041 소규모주차장 | D37: 수정구 | E37: 신흥1동 | F37: 5041번지 | G37: 3 | H37: 63.5 | I37: 부과 | J37: 노상주차처 (견인거주자팀)
B38: 31 | C38: 신흥2동 93-1 소규모주차장 | D38: 수정구 | E38: 신흥2동 | F38: 93-1번지 | G38: 9 | H38: 287 | I38: 부과 | J38: 노상주차처 (견인거주자팀) | K38: 1면 폐지(24.1.1.)
B39: 32 | C39: 신흥2동 115-1 소규모주차장 | D39: 수정구 | E39: 신흥2동 | F39: 115-1번지 | G39: 2 | H39: 75.1 | I39: 부과 | J39: 노상주차처 (견인거주자팀)
B40: 33 | C40: 신흥2동 122-3 소규모주차장 | D40: 수정구 | E40: 신흥2동 | F40: 122-3번지 | G40: 5 | H40: 131.6 | I40: 부과 | J40: 노상주차처 (견인거주자팀) | K40: 1면 폐지(24.1.1.)
B41: 34 | C41: 신흥2동 58 소규모주차장 | D41: 수정구 | E41: 신흥2동 | F41: 58번지 | G41: 19 | H41: 570.3 | I41: 부과 | J41: 노상주차처 (견인거주자팀) | K41: 2면 폐지(24.1.1.)
B42: 35 | C42: 신흥2동 44 소규모주차장 | D42: 수정구 | E42: 신흥2동 | F42: 44번지 | G42: 15 | H42: 440 | I42: 부과 | J42: 노상주차처 (견인거주자팀)
B43: 36 | C43: 양지동 63 소규모주차장 | D43: 수정구 | E43: 양지동 | F43: 63번지 | G43: 15 | H43: 345.3 | I43: 부과 | J43: 노상주차처 (견인거주자팀)
B44: 37 | C44: 양지동 342 소규모주차장 | D44: 수정구 | E44: 양지동 | F44: 342번지 | G44: 12 | H44: 289 | I44: 부과 | J44: 노상주차처 (견인거주자팀)
B45: 38 | C45: 양지동 744 소규모주차장 | D45: 수정구 | E45: 양지동 | F45: 744번지 | G45: 9 | H45: 421.5 | I45: 부과 | J45: 노상주차처 (견인거주자팀)
B46: 39 | C46: 양지동 473 소규모주차장 | D46: 수정구 | E46: 양지동 | F46: 473번지 | G46: 6 | H46: 193.4 | I46: 부과 | J46: 노상주차처 (견인거주자팀)
B47: 40 | C47: 태평1동 5774 소규모주차장 | D47: 수정구 | E47: 태평1동 | F47: 5774번지 | G47: 2 | H47: 64.5 | I47: 부과 | J47: 노상주차처 (견인거주자팀) | K47: 1면 폐지(24.1.1.)
B48: 41 | C48: 태평1동 5611-1 소규모주차장 | D48: 수정구 | E48: 태평1동 | F48: 5611-1번지 | G48: 6 | H48: 109.8 | I48: 부과 | J48: 노상주차처 (견인거주자팀)
B49: 42 | C49: 태평1동 5190-3 소규모주차장 | D49: 수정구 | E49: 태평1동 | F49: 5190-3번지 | G49: 12 | H49: 260.9 | I49: 부과 | J49: 노상주차처 (견인거주자팀)
B50: 43 | C50: 태평2동 1180 소규모주차장 | D50: 수정구 | E50: 태평2동 | F50: 1180번지 | G50: 72 | H50: 1920 | I50: 부과 | J50: 노상주차처 (견인거주자팀) | K50: 주택과 관리
B51: 44 | C51: 태평2동 2703 소규모주차장 | D51: 수정구 | E51: 태평2동 | F51: 2703번지 | G51: 9 | H51: 208 | I51: 부과 | J51: 노상주차처 (견인거주자팀)
B52: 45 | C52: 태평2동 3182 소규모주차장 | D52: 수정구 | E52: 태평2동 | F52: 3182번지 | G52: 22 | H52: 540 | I52: 부과 | J52: 노상주차처 (견인거주자팀)
B53: 46 | C53: 태평2동 3409-15 소규모주차장 | D53: 수정구 | E53: 태평2동 | F53: 3409-15번지 | G53: 17 | H53: 287 | I53: 부과 | J53: 노상주차처 (견인거주자팀)
B54: 47 | C54: 태평2동 3273-1 소규모주차장 | D54: 수정구 | E54: 태평2동 | F54: 3273-1번지 | G54: 29 | H54: 1592 | I54: 부과 | J54: 노상주차처 (견인거주자팀)
B55: 48 | C55: 태평2동 3304 소규모주차장 | D55: 수정구 | E55: 태평2동 | F55: 3304번지 | G55: 5 | H55: 63.25 | I55: 부과 | J55: 노상주차처 (견인거주자팀)
B56: 49 | C56: 태평2동 3307-19 소규모주차장 | D56: 수정구 | E56: 태평2동 | F56: 3307-19번지 | G56: 6 | H56: 75.9 | I56: 부과 | J56: 노상주차처 (견인거주자팀)
B57: 50 | C57: 태평2동 3307-47 소규모주차장 | D57: 수정구 | E57: 태평2동 | F57: 3307-47번지 | G57: 41 | H57: 63.25 | I57: 부과 | J57: 노상주차처 (견인거주자팀) | K57: 1면 폐지(24.1.1.)
B58: 51 | C58: 태평2동 3307-59 소규모주차장 | D58: 수정구 | E58: 태평2동 | F58: 3307-59번지 | G58: 5 | H58: 770 | I58: 부과 | J58: 노상주차처 (견인거주자팀)
B59: 52 | C59: 태평2동 3483 소규모주차장 | D59: 수정구 | E59: 태평2동 | F59: 3483번지 | G59: 15 | H59: 372.4 | I59: 부과 | J59: 노상주차처 (견인거주자팀)
B60: 53 | C60: 태평2동 346 소규모주차장 | D60: 수정구 | E60: 태평2동 | F60: 346번지 | G60: 3 | H60: 64.8 | I60: 부과 | J60: 노상주차처 (견인거주자팀)
B61: 54 | C61: 태평2동 376 소규모주차장 | D61: 수정구 | E61: 태평2동 | F61: 376번지 | G61: 3 | H61: 64.5 | I61: 부과 | J61: 노상주차처 (견인거주자팀)
B62: 55 | C62: 태평2동 615 소규모주차장 | D62: 수정구 | E62: 태평2동 | F62: 615번지 | G62: 3 | H62: 67.1 | I62: 부과 | J62: 노상주차처 (견인거주자팀)
B63: 56 | C63: 태평2동 651 소규모주차장 | D63: 수정구 | E63: 태평2동 | F63: 651번지 | G63: 4 | H63: 70.4 | I63: 부과 | J63: 노상주차처 (견인거주자팀) | K63: 1면 폐지(24.1.1.)
B64: 57 | C64: 태평2동 635 소규모주차장 | D64: 수정구 | E64: 태평2동 | F64: 635번지 | G64: 3 | H64: 67.8 | I64: 부과 | J64: 노상주차처 (견인거주자팀)
B65: 58 | C65: 태평2동 699 소규모주차장 | D65: 수정구 | E65: 태평2동 | F65: 699번지 | G65: 2 | H65: 65.8 | I65: 부과 | J65: 노상주차처 (견인거주자팀)
B66: 59 | C66: 태평2동 725,6,7 소규모주차장 | D66: 수정구 | E66: 태평2동 | F66: 725번지 | G66: 11 | H66: 253.1 | I66: 부과 | J66: 노상주차처 (견인거주자팀)
B67: 60 | C67: 태평2동 733 소규모주차장 | D67: 수정구 | E67: 태평2동 | F67: 733번지 | G67: 6 | H67: 157 | I67: 부과 | J67: 노상주차처 (견인거주자팀)
B68: 61 | C68: 태평2동 874 소규모주차장 | D68: 수정구 | E68: 태평2동 | F68: 874번지 | G68: 6 | H68: 132.5 | I68: 부과 | J68: 노상주차처 (견인거주자팀)
B69: 62 | C69: 태평2동 961 소규모주차장 | D69: 수정구 | E69: 태평2동 | F69: 961번지 | G69: 3 | H69: 63.5 | I69: 부과 | J69: 노상주차처 (견인거주자팀)
B70: 63 | C70: 태평2동 1066 소규모주차장 | D70: 수정구 | E70: 태평2동 | F70: 1066번지 | G70: 3 | H70: 60.5 | I70: 부과 | J70: 노상주차처 (견인거주자팀)
B71: 64 | C71: 태평2동 1086,1087 소규모주차장 | D71: 수정구 | E71: 태평2동 | F71: 1086번지 | G71: 6 | H71: 125 | I71: 부과 | J71: 노상주차처 (견인거주자팀)
B72: 65 | C72: 태평2동 1092 소규모주차장 | D72: 수정구 | E72: 태평2동 | F72: 1092번지 | G72: 2 | H72: 58.5 | I72: 부과 | J72: 노상주차처 (견인거주자팀)
B73: 66 | C73: 태평2동 1108 소규모주차장 | D73: 수정구 | E73: 태평2동 | F73: 1108번지 | G73: 2 | H73: 61.5 | I73: 부과 | J73: 노상주차처 (견인거주자팀)
B74: 67 | C74: 태평2동 1176 소규모주차장 | D74: 수정구 | E74: 태평2동 | F74: 1176번지 | G74: 3 | H74: 53.6 | I74: 부과 | J74: 노상주차처 (견인거주자팀)
B75: 68 | C75: 태평2동 1254 소규모주차장 | D75: 수정구 | E75: 태평2동 | F75: 1254번지 | G75: 3 | H75: 66.1 | I75: 부과 | J75: 노상주차처 (견인거주자팀)
... B82: 75 | C82: 태평3동 3591 소규모주차장 | D82: 수정구 | E82: 태평3동 | F82: 3591번지 | G82: 11 | H82: 139.15 | I82: 부과 | J82: 노상주차처 (견인거주자팀)
B83: 76 | C83: 태평3동 3608 소규모주차장 | D83: 수정구 | E83: 태평3동 | F83: 3608,9번지 | G83: 9 | H83: 289 | I83: 부과 | J83: 노상주차처 (견인거주자팀) | K83: 1면 폐지(24.1.1.)
B84: 77 | C84: 태평3동 4939 소규모주차장 | D84: 수정구 | E84: 태평3동 | F84: 4939번지 | G84: 2 | H84: 66.1 | I84: 부과 | J84: 노상주차처 (견인거주자팀) | K84: 1면 폐지(24.1.1.)
B85: 78 | C85: 태평3동 4799 소규모주차장 | D85: 수정구 | E85: 태평3동 | F85: 4799번지 | G85: 2 | H85: 66.1 | I85: 부과 | J85: 노상주차처 (견인거주자팀)
B86: 79 | C86: 태평3동 4303-11 소규모주차장 | D86: 수정구 | E86: 태평3동 | F86: 4303-11번지 | G86: 8 | H86: 211.6 | I86: 부과 | J86: 노상주차처 (견인거주자팀)
B87: 80 | C87: 태평4동 47-1 소규모주차장 | D87: 수정구 | E87: 태평4동 | F87: 47-1번지 | G87: 89 | H87: 2798 | I87: 부과 | J87: 노상주차처 (견인거주자팀)
B88: 81 | C88: 태평4동 2067 소규모주차장 | D88: 수정구 | E88: 태평4동 | F88: 2067번지 | G88: 5 | H88: 69.8 | I88: 부과 | J88: 노상주차처 (견인거주자팀)
B89: 82 | C89: 태평4동 7299-5 소규모주차장 | D89: 수정구 | E89: 태평4동 | F89: 7299-5번지 | G89: 7 | H89: 169.8 | I89: 부과 | J89: 노상주차처 (견인거주자팀)
B90: 83 | C90: 태평4동 7328-3 소규모주차장 | D90: 수정구 | E90: 태평4동 | F90: 7328번지 | G90: 8 | H90: 101.2 | I90: 부과 | J90: 노상주차처 (견인거주자팀) | K90: 주차장명 변경 | M90: 주차장명 변경(태평4동 7328 → 태평4동 7328-3)
B91: 84 | C91: 태평4동 27,28 소규모주차장 | D91: 수정구 | E91: 태평4동 | F91: 27번지 | G91: 5 | H91: 128.1 | I91: 부과 | J91: 노상주차처 (견인거주자팀)
B92: 85 | C92: 태평4동 338 소규모주차장 | D92: 수정구 | E92: 태평4동 | F92: 338번지 | G92: 3 | H92: 65.1 | I92: 부과 | J92: 노상주차처 (견인거주자팀)
B93: 86 | C93: 태평4동 1421 소규모주차장 | D93: 수정구 | E93: 태평4동 | F93: 1421번지 | G93: 2 | H93: 73.1 | I93: 부과 | J93: 노상주차처 (견인거주자팀)
B94: 87 | C94: 태평4동 1434 소규모주차장 | D94: 수정구 | E94: 태평4동 | F94: 1434번지 | G94: 2 | H94: 65.1 | I94: 부과 | J94: 노상주차처 (견인거주자팀)
B95: 88 | C95: 태평4동 1571 소규모주차장 | D95: 수정구 | E95: 태평4동 | F95: 1571번지 | G95: 3 | H95: 65.5 | I95: 부과 | J95: 노상주차처 (견인거주자팀)
B96: 89 | C96: 태평4동 1636 소규모주차장 | D96: 수정구 | E96: 태평4동 | F96: 1636번지 | G96: 3 | H96: 64.1 | I96: 부과 | J96: 노상주차처 (견인거주자팀)
B97: 90 | C97: 태평4동 2127 소규모주차장 | D97: 수정구 | E97: 태평4동 | F97: 2127번지 | G97: 2 | H97: 64.1 | I97: 부과 | J97: 노상주차처 (견인거주자팀)
B98: 91 | C98: 태평4동 1841 소규모주차장 | D98: 수정구 | E98: 태평4동 | F98: 1841번지 | G98: 2 | H98: 64.1 | I98: 부과 | J98: 노상주차처 (견인거주자팀)
B99: 92 | C99: 태평4동 1679 소규모주차장 | D99: 수정구 | E99: 태평4동 | F99: 1679번지 | G99: 2 | H99: 73.7 | I99: 부과 | J99: 노상주차처 (견인거주자팀)
B100: 93 | C100: 태평4동 2559 소규모주차장 | D100: 수정구 | E100: 태평4동 | F100: 2559번지 | G100: 2 | H100: 64.5 | I100: 부과 | J100: 노상주차처 (견인거주자팀)
B101: 94 | C101: 태평4동 7314-5 소규모주차장 | D101: 수정구 | E101: 태평4동 | F101: 7314-5번지 | G101: 6 | H101: 143.6 | I101: 부과 | J101: 노상주차처 (견인거주자팀)
B102: 95 | C102: 태평4동 7290 소규모주차장 | D102: 수정구 | E102: 태평4동 | F102: 7290번지 | G102: 7 | H102: 233 | I102: 부과 | J102: 노상주차처 (견인거주자팀)
B103: 소계 | C103: =COUNT(B104:B181) -> 74 | D103: 중원구 | G103: =SUM(G104:G181) -> 1195
B104: 1 | C104: 금광1동 170 소규모주차장 | D104: 중원구 | E104: 금광1동 | F104: 170번지 | G104: 20 | H104: 328.9 | I104: 부과 | J104: 노상주차처 (견인거주자팀)
B105: 2 | C105: 금광1동 1378 소규모주차장 | D105: 중원구 | E105: 금광1동 | F105: 1378번지 | G105: 12 | H105: 164.45 | I105: 부과 | J105: 노상주차처 (견인거주자팀)
B106: 3 | C106: 금광1동 661 소규모주차장 | D106: 중원구 | E106: 금광1동 | F106: 661번지 | G106: 17 | H106: 783.6 | I106: 부과 | J106: 노상주차처 (견인거주자팀) | K106: 신규유료화 | M106: 신규유료화
B107: 4 | C107: 금광1동 1935 소규모주차장 | D107: 중원구 | E107: 금광1동 | F107: 1935번지 | G107: 18 | H107: 629.4 | I107: 부과 | J107: 노상주차처 (견인거주자팀) | K107: 신규유료화 | M107: 신규유료화
...

Sheet 공영주차장(이면도로)정수화
B2: 공영주차장(이면도로주차장) | K2: 성남도시개발공사 작성 2022. 12. 31.기준 | L2: 성남도시개발공사 작성 2022. 12. 31.기준
B3: 2023. 6. 30. 기준
B4: 연번 | C4: 주차장명 | D4: 위치 | G4: 면수 | H4: 상세위치 | I4: 비고
D5: 구 | E5: 동 | F5: 지번 | K5: 2023년 변동사항 | L5: 2021년 변동사항 | M5: 2022년 변동사항
B6: 총계 | C6: =SUM(C7+C36) -> 63 | G6: =SUM(G7+G36) -> 2223
B7: 소계 | C7: =COUNTA(B8:B35) -> 28 | D7: 수정구 | G7: =SUM(G8:G35) -> 675
B8: 1 | C8: 단대동 2 이면도로주차장 | D8: 수정구 | E8: 단대동 | F8: 2번지 | G8: 13 | H8: 수정로466번길(논골성보고교 뒤)
B9: 2 | C9: 단대동 논골민속길 이면도로주차장 | D9: 수정구 | E9: 단대동 | G9: 34 | H9: 논골 민속길(논골닭죽촌 앞)
B10: 3 | C10: 단대동 182 이면도로주차장 | D10: 수정구 | E10: 단대동 | G10: 33 | H10: 전화국길-단대길(미도A) | L10: 4면 폐지
B11: 4 | C11: 단대동 57 이면도로주차장 | D11: 수정구 | E11: 단대동 | G11: 40 | H11: 상원여중길(민방위교육관 위)
B12: 5 | C12: 단대동 1구간 이면도로주차장 | D12: 수정구 | E12: 단대동 | G12: 21 | H12: 문원길(문원중)
B13: 6 | C13: 복정동 긴담불길 이면도로주차장 | D13: 수정구 | E13: 복정동 | G13: 16 | H13: 복정제1주차장 위 | L13: 2면 폐지
B14: 7 | C14: 산성동 1-4 이면도로주차장 | D14: 수정구 | E14: 산성동 | G14: 29 | H14: 산성동서길(변전소 이면)
B15: 8 | C15: 산성동 51 이면도로주차장 | D15: 수정구 | E15: 산성동 | G15: 23 | H15: 산성중앙10길(버스종점 위)
B16: 9 | C16: 산성동 511 이면도로주차장 | D16: 수정구 | E16: 산성동 | G16: 86 | H16: 산성동서길(단대공원)
B17: 10 | C17: 수진2동 배움, 청운, 학당길 이면도로주차장 | D17: 수정구 | E17: 수진2동 | G17: 36 | H17: 풍생고등학교 뒤 ~ 수진초등학교 | L17: 5면 폐지
B18: 11 | C18: 수진2동 삼부 이면도로주차장 | D18: 수정구 | E18: 수진2동 | G18: 60 | H18: 세모란길 ~ 산오름길
B19: 12 | C19: 수진2동 풍생고 이면도로주차장 | D19: 수정구 | E19: 수진2동 | G19: 13 | H19: 풍생고 정문 위
B20: 13 | C20: 수진2동 청학건강길 이면도로주차장 | D20: 수정구 | E20: 수진2동 | G20: 24 | H20: 청학길 ~ 건강길(볼링장 뒤) | L20: 3면 폐지
B21: 14 | C21: 신흥2동 81-2 이면도로주차장 | D21: 수정구 | E21: 신흥2동 | G21: 13 | H21: 영장터널 옆 대로변
B22: 15 | C22: 신흥2동 116 이면도로주차장 | D22: 수정구 | E22: 신흥2동 | G22: 4 | H22: 성남초교 건너편
B23: 16 | C23: 신흥3동 2843-1 이면도로주차장 | D23: 수정구 | E23: 신흥3동 | G23: 28 | H23: 신흥2동 사무소 위 버스정류장 | L23: 16면 폐지
B24: 17 | C24: 양지동 양짓말길 이면도로주차장 | D24: 수정구 | E24: 양지동 | G24: 13 | H24: 양짓말길
B25: 18 | C25: 양지동 양짓말1길 이면도로주차장 | D25: 수정구 | E25: 양지동 | G25: 13 | H25: 양짓말1길 | L25: 3면 폐지
B26: 19 | C26: 양지동 시범 이면도로주차장 | D26: 수정구 | E26: 양지동 | G26: 34 | H26: 남한정길(을지대 담장) | L26: 4면 폐지
B27: 20 | C27: 태평1동 1구간 이면도로주차장 | D27: 수정구 | E27: 태평1동 | G27: 19 | H27: 장길 ~ 녹지길(통계청 뒤) | L27: 5면 폐지
B28: 21 | C28: 태평1동 독정천 이면도로주차장 | D28: 수정구 | E28: 태평1동 | G28: 18 | H28: 수정로 독정천 | L28: 4면 폐지
B29: 22 | C29: 태평1동 아래숯골길 이면도로주차장 | D29: 수정구 | E29: 태평1동 | G29: 8 | H29: 아래숯골길(남문주유소 밑)
B30: 23 | C30: 태평1동 태중6길 이면도로주차장 | D30: 수정구 | E30: 태평1동 | G30: 20 | H30: 태중6길(태평중학교 뒤) | L30: 1면 폐지
B31: 24 | C31: 태평2동 시범 이면도로주차장 | D31: 수정구 | E31: 태평2동 | G31: 5 | H31: 태평시범길 | L31: 1면 폐지
B32: 25 | C32: 태평4동 1구간 이면도로주차장 | D32: 수정구 | E32: 태평4동 | G32: 6 | H32: 충장, 새롬길(성남초등학교 뒤) | L32: 2면 폐지
B33: 26 | C33: 태평4동 시범 이면도로주차장 | D33: 수정구 | E33: 태평4동 | G33: 25 | H33: 만송길(선경아파트)
B34: 27 | C34: 태평4동 충헌탑 이면도로주차장 | D34: 수정구 | E34: 태평4동 | G34: 17 | H34: 현충탑 | L34: 2021.6월 면 조정
B35: 28 | C35: 창곡동 위례서일로1길 이면도로주차장 | D35: 수정구 | E35: 창곡동 | G35: 24 | H35: 창곡동 545 | L35: 2021.6월 면 조정
B36: 소계 | C36: =COUNTA(B37:B71) -> 35 | D36: 중원구 | G36: =SUM(G37:G71) -> 1548
B37: 1 | C37: 금광2동 3949 이면도로주차장 | D37: 중원구 | E37: 금광2동 | G37: 20 | H37: 금이길(삼익A)
B38: 2 | C38: 금광2동 신구대학길 이면도로주차장 | D38: 중원구 | E38: 금광2동 | G38: 17 | H38: 신구대학길(신구대담장)
B39: 3 | C39: 상대원1동 둔촌대로 457 이면도로주차장 | D39: 중원구 | E39: 상대원1동 | G39: 54 | H39: 샤니 앞
B40: 4 | C40: 상대원1동 갈마치로1구간 이면도로주차장 | D40: 중원구 | E40: 상대원1동 | G40: 26 | H40: 공단로 끝 쌍용트윈타워 이면
B41: 5 | C41: 상대원1동 둔촌대로497 이면도로주차장 | D41: 중원구 | E41: 상대원1동 | G41: 30 | H41: 쌍용레미콘앞 | L41: 2면 폐지
B42: 6 | C42: 상대원1동 사기막골1구간 이면도로주차장 | D42: 중원구 | E42: 상대원1동 | G42: 11 | H42: 공단로 사기막골1구간
B43: 7 | C43: 상대원1동 사기막1길 이면도로주차장 | D43: 중원구 | E43: 상대원1동 | G43: 12 | H43: 사기막1길(이일천진입로) | L43: 3면 폐지(15면→12면)
B44: 8 | C44: 상대원1동 사기막골로 62 이면도로주차장 | D44: 중원구 | E44: 상대원1동 | G44: 25 | H44: 공단 아파트형 공장 밑
B45: 9 | C45: 상대원1동 사기막골로105 이면도로주차장 | D45: 중원구 | E45: 상대원1동 | G45: 14 | H45: 이일천 지나 좌회전 끝
B46: 10 | C46: 상대원1동 산등성길 이면도로주차장 | D46: 중원구 | E46: 상대원1동 | G46: 44 | H46: 산등성길(빠리바게트)
B47: 11 | C47: 상대원2동 1구간 이면도로주차장 | D47: 중원구 | E47: 상대원2동 | F47: 3001-3번지 | G47: 76 | H47: 상이길-대원공원길(상대원고개) | L47: 3면 폐지
B48: 12 | C48: 상대원2동 2구간 이면도로주차장 | D48: 중원구 | E48: 상대원2동 | F48: 3152번지 | G48: 102 | H48: 상이길-대원공원길(대각선방향)
B49: 13 | C49: 상대원2동 3구간 이면도로주차장 | D49: 중원구 | E49: 상대원2동 | F49: 3702번지 | G49: 23 | H49: 대원공원길(놀이터) | L49: 1면 폐지
B50: 14 | C50: 상대원2동 4구간 이면도로주차장 | D50: 중원구 | E50: 상대원2동 | F50: 4738번지 | G50: 50 | H50: 대원공원길(배수지~노인정) | L50: 2면 폐지
B51: 15 | C51: 상대원3동 156 이면도로주차장 | D51: 중원구 | E51: 상대원3동 | F51: 156번지 | G51: 38 | H51: 서원길-늘푸른2길(구보건소옆) | L51: 1면 폐지
B52: 16 | C52: 상대원3동 보람길 이면도로주차장 | D52: 중원구 | E52: 상대원3동 | F52: 822번지 | G52: 15 | H52: 보람길(선경A후문쪽담)
B53: 17 | C53: 성남동 59-4 이면도로주차장 | D53: 중원구 | E53: 성남동 | F53: 2960번지 | G53: 25 | H53: 중원길(실내체육관~테니스장) | L53: 2면 폐지
B54: 18 | C54: 성남동 국민주택길 이면도로주차장 | D54: 중원구 | E54: 성남동 | F54: 2303번지 | G54: 58 | H54: 국민주택길(운동장모텔촌)
B55: 19 | C55: 성남동 모란3길 이면도로주차장 | D55: 중원구 | E55: 성남동 | F55: 3611번지 | G55: 9 | H55: 모란3길(동물병원골목) | L55: 7면 폐지
B56: 20 | C56: 성남동 시범 이면도로주차장 | D56: 중원구 | E56: 성남동 | F56: 3074번지 | G56: 35 | H56: 운동장 뒷길(보조구장담장)
B57: 21 | C57: 은행1동 공원길 이면도로주차장 | D57: 중원구 | E57: 은행1동 | F57: 2351번지 | G57: 144 | H57: 은행공원길(중부초위) | L57: 13면 폐지(157면→144면)
B58: 22 | C58: 은행1동 시범 이면도로주차장 | D58: 중원구 | E58: 은행1동 | F58: 2018번지 | G58: 3 | H58: 해닮길(동사무소옆) | L58: 4면 폐지
B59: 23 | C59: 은행2동 1구간 이면도로주차장 | D59: 중원구 | E59: 은행2동 | F59: 715번지 | G59: 23 | H59: 한마음길(은행초교밑) | L59: 2면 폐지
B60: 24 | C60: 은행2동 2구간 이면도로주차장 | D60: 중원구 | E60: 은행2동 | F60: 965번지 | G60: 16 | H60: 빛여울23길(은행중~절터)
B61: 25 | C61: 은행2동 시범 이면도로주차장 | D61: 중원구 | E61: 은행2동 | F61: 757번지 | G61: 8 | H61: 남은길(은행중~은행주공밑) | L61: 2면 폐지
B62: 26 | C62: 중앙동 1구간 이면도로주차장 | D62: 중원구 | E62: 중앙동 | F62: 2233번지 | G62: 19 | H62: 축복1길(터널옆쪽)
B63: 27 | C63: 중앙동 가지구 이면도로주차장 | D63: 중원구 | E63: 중앙동 | F63: 2074번지 | G63: 144 | H63: 가지구길-희망길 | L63: 11면 폐지
B64: 28 | C64: 중앙동 축복길 이면도로주차장 | D64: 중원구 | E64: 중앙동 | F64: 2195번지 | G64: 24 | H64: 축복길(터널위쪽) | L64: 2면 폐지
B65: 29 | C65: 하대원동 9-7 이면도로주차장 | D65: 중원구 | E65: 하대원동 | F65: 130-22번지 | G65: 69 | H65: 충민길(성남공고뒤)
B66: 30 | C66: 하대원동 검단뒷길 이면도로주차장 | D66: 중원구 | E66: 하대원동 | F66: 107번지 | G66: 105 | H66: 중원도서관~검단초교뒤 | I66: 공원과 관리 | L66: 12면 폐지
B67: 31 | C67: 하대원동 둔천대로268번길 이면도로주차장 | D67: 중원구 | E67: 하대원동 | F67: 292번지 | G67: 25 | H67: 둔촌대로268번길(공고이면)
B68: 32 | C68: 하대원동 산19 이면도로주차장 | D68: 중원구 | E68: 하대원동 | F68: 115-22번지 | G68: 80 | H68: 검단초등1길(성원A~성일여고) | L68: 1면 폐지
B69: 33 | C69: 하대원동 시범 이면도로주차장 | D69: 중원구 | E69: 하대원동 | F69: 130-22번지 | G69: 146 | H69: 능골길(낙원택시) | L69: 2면 폐지
B70: 34 | C70: 하대원동 폐도부지(상) 이면도로주차장 | D70: 중원구 | E70: 하대원동 | F70: 162번지 | G70: 34 | H70: 마지길(영성여중 뒤)
B71: 35 | C71: 하대원동 폐도부지(하) 이면도로주차장 | D71: 중원구 | E71: 하대원동 | F71: 146-1번지 | G71: 24 | H71: 마지길(야채시장위)

Sheet 공영주차장(이면도로)
B2: 공영주차장(이면도로주차장)
B3: 2026. 1. 1. 기준
B4: 연번 | C4: 주차장명 | D4: 위치 | G4: 면수 | H4: 상세위치 | I4: 비고
D5: 구 | E5: 동 | F5: 지번
B6: 총계 | C6: =SUM(C7+C37) -> 60 | G6: =SUM(G7+G37) -> 1975
B7: 소계 | C7: =COUNTA(B8:B36) -> 29 | D7: 수정구 | G7: =SUM(G8:G36) -> 708
B8: 1 | C8: 단대동 2 이면도로주차장 | D8: 수정구 | E8: 단대동 | G8: 13 | H8: 수정로466번길(논골성보고교 뒤)
B9: 2 | C9: 단대동 논골민속길 이면도로주차장 | D9: 수정구 | E9: 단대동 | G9: 34 | H9: 논골 민속길(논골닭죽촌 앞)
B10: 3 | C10: 단대동 182 이면도로주차장 | D10: 수정구 | E10: 단대동 | G10: 33 | H10: 전화국길-단대길(미도A)
B11: 4 | C11: 단대동 57 이면도로주차장 | D11: 수정구 | E11: 단대동 | G11: 40 | H11: 상원여중길(민방위교육관 위)
B12: 5 | C12: 단대동 1구간 이면도로주차장 | D12: 수정구 | E12: 단대동 | G12: 21 | H12: 문원길(문원중)
B13: 6 | C13: 복정동 긴담불길 이면도로주차장 | D13: 수정구 | E13: 복정동 | G13: 16 | H13: 복정제1주차장 위
B14: 7 | C14: 산성동 1-4 이면도로주차장 | D14: 수정구 | E14: 산성동 | G14: 29 | H14: 산성동서길(변전소 이면)
B15: 8 | C15: 산성동 51 이면도로주차장 | D15: 수정구 | E15: 산성동 | G15: 23 | H15: 산성중앙10길(버스종점 위)
B16: 9 | C16: 산성동 511 이면도로주차장 | D16: 수정구 | E16: 산성동 | G16: 86 | H16: 산성동서길(단대공원)
B17: 10 | C17: 수진2동 배움, 청운, 학당길 이면도로주차장 | D17: 수정구 | E17: 수진2동 | G17: 35 | H17: 풍생고등학교 뒤 ~ 수진초등학교
B18: 11 | C18: 수진2동 삼부 이면도로주차장 | D18: 수정구 | E18: 수진2동 | G18: 60 | H18: 세모란길 ~ 산오름길
B19: 12 | C19: 수진2동 풍생고 이면도로주차장 | D19: 수정구 | E19: 수진2동 | G19: 13 | H19: 풍생고 정문 위
... B36: 29 | C36: 태평3동 건우 이면도로주차장 | D36: 수정구 | E36: 태평3동 | G36: 34 | H36: 건우공영
B37: 소계 | C37: =COUNTA(B38:B68) -> 31 | D37: 중원구 | G37: =SUM(G38:G68) -> 1267
B38: 1 | C38: 금광1동 황송길 이면도로주차장 | D38: 중원구 | E38: 금광2동 | G38: 9 | H38: 금광1동 2427, 대원중 부근
B39: 2 | C39: 금광2동 삼익 이면도로주차장 | D39: 중원구 | E39: 금광2동 | G39: 20 | H39: 금이길(삼익A)
B40: 3 | C40: 금광2동 신구대학길 이면도로주차장 | D40: 중원구 | E40: 금광2동 | G40: 16 | H40: 신구대학길(신구대담장)
B41: 4 | C41: 상대원1동 둔촌대로 457 이면도로주차장 | D41: 중원구 | E41: 상대원1동 | G41: 40 | H41: 샤니 앞
B42: 5 | C42: 상대원1동 갈마치로1구간 이면도로주차장 | D42: 중원구 | E42: 상대원1동 | G42: 26 | H42: 공단로 끝 쌍용트윈타워 이면
B43: 6 | C43: 상대원1동 둔촌대로497 이면도로주차장 | D43: 중원구 | E43: 상대원1동 | G43: 30 | H43: 쌍용레미콘앞
B44: 7 | C44: 상대원1동 사기막골1구간 이면도로주차장 | D44: 중원구 | E44: 상대원1동 | G44: 11 | H44: 공단로 사기막골1구간
B45: 8 | C45: 상대원1동 사기막1길 이면도로주차장 | D45: 중원구 | E45: 상대원1동 | G45: 12 | H45: 사기막1길(이일천진입로)
B46: 9 | C46: 상대원1동 사기막골로105 이면도로주차장 | D46: 중원구 | E46: 상대원1동 | G46: 14 | H46: 이일천 지나 좌회전 끝
B47: 10 | C47: 상대원1동 산등성길 이면도로주차장 | D47: 중원구 | E47: 상대원1동 | G47: 44 | H47: 산등성길(빠리바게트)
B48: 11 | C48: 상대원3동 156 이면도로주차장 | D48: 중원구 | E48: 상대원3동 | F48: 156번지 | G48: 38 | H48: 서원길-늘푸른2길(구보건소옆)
B49: 12 | C49: 상대원3동 보람길 이면도로주차장 | D49: 중원구 | E49: 상대원3동 | F49: 822번지 | G49: 15 | H49: 보람길(선경A후문쪽담)
B50: 13 | C50: 성남동 59-4 이면도로주차장 | D50: 중원구 | E50: 성남동 | F50: 2960번지 | G50: 25 | H50: 중원길(실내체육관~테니스장)
B51: 14 | C51: 성남동 국민주택길 이면도로주차장 | D51: 중원구 | E51: 성남동 | F51: 2303번지 | G51: 58 | H51: 국민주택길(운동장모텔촌)
B52: 15 | C52: 성남동 모란3길 이면도로주차장 | D52: 중원구 | E52: 성남동 | F52: 3611번지 | G52: 9 | H52: 모란3길(동물병원골목)
B53: 16 | C53: 성남동 시범 이면도로주차장 | D53: 중원구 | E53: 성남동 | F53: 3074번지 | G53: 35 | H53: 운동장 뒷길(보조구장담장)
B54: 17 | C54: 은행1동 공원길 이면도로주차장 | D54: 중원구 | E54: 은행1동 | F54: 2351번지 | G54: 146 | H54: 은행공원길(중부초위)
B55: 18 | C55: 은행1동 시범 이면도로주차장 | D55: 중원구 | E55: 은행1동 | F55: 2018번지 | G55: 3 | H55: 해닮길(동사무소옆)
B56: 19 | C56: 은행2동 1구간 이면도로주차장 | D56: 중원구 | E56: 은행2동 | F56: 715번지 | G56: 23 | H56: 한마음길(은행초교밑)
B57: 20 | C57: 은행2동 2구간 이면도로주차장 | D57: 중원구 | E57: 은행2동 | F57: 965번지 | G57: 16 | H57: 빛여울23길(은행중~절터)
B58: 21 | C58: 은행2동 시범 이면도로주차장 | D58: 중원구 | E58: 은행2동 | F58: 757번지 | G58: 7 | H58: 남은길(은행중~은행주공밑)
B59: 22 | C59: 중앙동 1구간 이면도로주차장 | D59: 중원구 | E59: 중앙동 | F59: 2233번지 | G59: 19 | H59: 축복1길(터널옆쪽)
... B62: 25 | C62: 하대원동 9-7 이면도로주차장 | D62: 중원구 | E62: 하대원동 | F62: 130-22번지 | G62: 69 | H62: 충민길(성남공고뒤)
B63: 26 | C63: 하대원동 검단뒷길 이면도로주차장 | D63: 중원구 | E63: 하대원동 | F63: 107번지 | G63: 105 | H63: 중원도서관~검단초교뒤 | I63: 공원과 관리
B64: 27 | C64: 하대원동 둔천대로268번길 이면도로주차장 | D64: 중원구 | E64: 하대원동 | F64: 292번지 | G64: 25 | H64: 둔촌대로268번길(공고이면)
B65: 28 | C65: 하대원동 산19 이면도로주차장 | D65: 중원구 | E65: 하대원동 | F65: 115-22번지 | G65: 80 | H65: 검단초등1길(성원A~성일여고)
B66: 29 | C66: 하대원동 시범 이면도로주차장 | D66: 중원구 | E66: 하대원동 | F66: 130-22번지 | G66: 146 | H66: 능골길(낙원택시)
B67: 30 | C67: 하대원동 폐도부지(상) 이면도로주차장 | D67: 중원구 | E67: 하대원동 | F67: 162번지 | G67: 34 | H67: 마지길(영성여중 뒤)
B68: 31 | C68: 하대원동 폐도부지(하) 이면도로주차장 | D68: 중원구 | E68: 하대원동 | F68: 146-1번지 | G68: 24 | H68: 마지길(야채시장위)

Sheet 공영주차장(이면도로)(24.2.취합원본)
B2: 공영주차장(이면도로주차장) | N2: 성남도시개발공사 작성 2024. 2. 1.기준
B3: 2024. 2. 1. 기준
B4: 연번 | C4: 주차장명 | D4: 위치 | G4: 면수 | H4: 상세위치 | I4: 요금부과 여부 (부과/미부과) | J4: 관리부서 | K4: 비고
D5: 구 | E5: 동 | F5: 지번 | M5: 2023년 변동사항 | N5: 2022년 변동사항
B6: 총계 | C6: =SUM(C7+C36) -> 60 | G6: =SUM(G7+G36) -> 1983
B7: 소계 | C7: =COUNTA(B8:B35) -> 28 | D7: 수정구 | G7: =SUM(G8:G35) -> 675
B8: 1 | C8: 단대동 2 이면도로주차장 | D8: 수정구 | E8: 단대동 | F8: 2번지 | G8: 13 | H8: 수정로466번길(논골성보고교 뒤) | I8: 부과 | J8: 노상주차처 (견인거주자팀)
B9: 2 | C9: 단대동 논골민속길 이면도로주차장 | D9: 수정구 | E9: 단대동 | G9: 34 | H9: 논골 민속길(논골닭죽촌 앞) | I9: 부과 | J9: 노상주차처 (견인거주자팀)
B10: 3 | C10: 단대동 182 이면도로주차장 | D10: 수정구 | E10: 단대동 | G10: 33 | H10: 전화국길-단대길(미도A) | I10: 부과 | J10: 노상주차처 (견인거주자팀)
B11: 4 | C11: 단대동 57 이면도로주차장 | D11: 수정구 | E11: 단대동 | G11: 40 | H11: 상원여중길(민방위교육관 위) | I11: 부과 | J11: 노상주차처 (견인거주자팀)
B12: 5 | C12: 단대동 1구간 이면도로주차장 | D12: 수정구 | E12: 단대동 | G12: 21 | H12: 문원길(문원중) | I12: 부과 | J12: 노상주차처 (견인거주자팀)
B13: 6 | C13: 복정동 긴담불길 이면도로주차장 | D13: 수정구 | E13: 복정동 | G13: 16 | H13: 복정제1주차장 위 | I13: 부과 | J13: 노상주차처 (견인거주자팀)
B14: 7 | C14: 산성동 1-4 이면도로주차장 | D14: 수정구 | E14: 산성동 | G14: 29 | H14: 산성동서길(변전소 이면) | I14: 부과 | J14: 노상주차처 (견인거주자팀)
B15: 8 | C15: 산성동 51 이면도로주차장 | D15: 수정구 | E15: 산성동 | G15: 23 | H15: 산성중앙10길(버스종점 위) | I15: 부과 | J15: 노상주차처 (견인거주자팀)
B16: 9 | C16: 산성동 511 이면도로주차장 | D16: 수정구 | E16: 산성동 | G16: 86 | H16: 산성동서길(단대공원) | I16: 부과 | J16: 노상주차처 (견인거주자팀)
B17: 10 | C17: 수진2동 배움, 청운, 학당길 이면도로주차장 | D17: 수정구 | E17: 수진2동 | G17: 36 | H17: 풍생고등학교 뒤 ~ 수진초등학교 | I17: 부과 | J17: 노상주차처 (견인거주자팀)
B18: 11 | C18: 수진2동 삼부 이면도로주차장 | D18: 수정구 | E18: 수진2동 | G18: 60 | H18: 세모란길 ~ 산오름길 | I18: 부과 | J18: 노상주차처 (견인거주자팀)
B19: 12 | C19: 수진2동 풍생고 이면도로주차장 | D19: 수정구 | E19: 수진2동 | G19: 13 | H19: 풍생고 정문 위 | I19: 부과 | J19: 노상주차처 (견인거주자팀)
B20: 13 | C20: 수진2동 청학건강길 이면도로주차장 | D20: 수정구 | E20: 수진2동 | G20: 24 | H20: 청학길 ~ 건강길(볼링장 뒤) | I20: 부과 | J20: 노상주차처 (견인거주자팀)
... B35: 28 | C35: 창곡동 위례서일로1 이면도로주차장 | D35: 수정구 | E35: 창곡동 | G35: 24 | H35: 창곡동 545 | I35: 부과 | J35: 노상주차처 (견인거주자팀)
B36: 소계 | C36: =COUNTA(B37:B72) -> 32 | D36: 중원구 | G36: =SUM(G37:G72) -> 1308
B37: 1 | C37: 금광1동 황송길 이면도로주차장 | D37: 중원구 | E37: 금광2동 | G37: 9 | H37: 금광1동 2427, 대원중 부근 | K37: 신규유료화 | M37: 신규유료화
B38: 2 | C38: 금광2동 삼익 이면도로주차장 | D38: 중원구 | E38: 금광2동 | G38: 20 | H38: 금이길(삼익A) | I38: 부과 | J38: 노상주차처 (견인거주자팀) | K38: 주차장명 변경 | M38: 주차장명 변경(금광2동 3949 → 금광2동 삼익)
B39: 3 | C39: 금광2동 신구대학길 이면도로주차장 | D39: 중원구 | E39: 금광2동 | G39: 17 | H39: 신구대학길(신구대담장) | I39: 부과 | J39: 노상주차처 (견인거주자팀)
B40: 4 | C40: 상대원1동 둔촌대로 457 이면도로주차장 | D40: 중원구 | E40: 상대원1동 | G40: 54 | H40: 샤니 앞 | I40: 부과 | J40: 노상주차처 (견인거주자팀)
B41: 5 | C41: 상대원1동 갈마치로1구간 이면도로주차장 | D41: 중원구 | E41: 상대원1동 | G41: 26 | H41: 공단로 끝 쌍용트윈타워 이면 | I41: 부과 | J41: 노상주차처 (견인거주자팀)
B42: 6 | C42: 상대원1동 둔촌대로497 이면도로주차장 | D42: 중원구 | E42: 상대원1동 | G42: 30 | H42: 쌍용레미콘앞 | I42: 부과 | J42: 노상주차처 (견인거주자팀)
B43: 7 | C43: 상대원1동 사기막골1구간 이면도로주차장 | D43: 중원구 | E43: 상대원1동 | G43: 11 | H43: 공단로 사기막골1구간 | I43: 부과 | J43: 노상주차처 (견인거주자팀)
B44: 8 | C44: 상대원1동 사기막1길 이면도로주차장 | D44: 중원구 | E44: 상대원1동 | G44: 12 | H44: 사기막1길(이일천진입로) | I44: 부과 | J44: 노상주차처 (견인거주자팀)
B45: 9 | C45: 상대원1동 사기막골로 62 이면도로주차장 | D45: 중원구 | E45: 상대원1동 | G45: 25 | H45: 공단 아파트형 공장 밑 | I45: 부과 | J45: 노상주차처 (견인거주자팀)
B46: 10 | C46: 상대원1동 사기막골로105 이면도로주차장 | D46: 중원구 | E46: 상대원1동 | G46: 14 | H46: 이일천 지나 좌회전 끝 | I46: 부과 | J46: 노상주차처 (견인거주자팀)
B47: 11 | C47: 상대원1동 산등성길 이면도로주차장 | D47: 중원구 | E47: 상대원1동 | G47: 44 | H47: 산등성길(빠리바게트) | I47: 부과 | J47: 노상주차처 (견인거주자팀)
C48: 상대원2동 1구간 이면도로주차장 | D48: 중원구 | E48: 상대원2동 | F48: 3001-3번지 | H48: 상이길-대원공원길(상대원고개) | K48: 주차장 폐지 | M48: 주차장 폐지(상대원2구역 재개발)
C49: 상대원2동 2구간 이면도로주차장 | D49: 중원구 | E49: 상대원2동 | F49: 3152번지 | H49: 상이길-대원공원길(대각선방향) | K49: 주차장 폐지 | M49: 주차장 폐지(상대원2구역 재개발)
C50: 상대원2동 3구간 이면도로주차장 | D50: 중원구 | E50: 상대원2동 | F50: 3702번지 | H50: 대원공원길(놀이터) | K50: 주차장 폐지 | M50: 주차장 폐지(상대원2구역 재개발)
C51: 상대원2동 4구간 이면도로주차장 | D51: 중원구 | E51: 상대원2동 | F51: 4738번지 | H51: 대원공원길(배수지~노인정) | K51: 주차장 폐지 | M51: 주차장 폐지(상대원2구역 재개발)
B52: 12 | C52: 상대원3동 156 이면도로주차장 | D52: 중원구 | E52: 상대원3동 | F52: 156번지 | G52: 38 | H52: 서원길-늘푸른2길(구보건소옆) | I52: 부과 | J52: 노상주차처 (견인거주자팀)
B53: 13 | C53: 상대원3동 보람길 이면도로주차장 | D53: 중원구 | E53: 상대원3동 | F53: 822번지 | G53: 15 | H53: 보람길(선경A후문쪽담) | I53: 부과 | J53: 노상주차처 (견인거주자팀)
B54: 14 | C54: 성남동 59-4 이면도로주차장 | D54: 중원구 | E54: 성남동 | F54: 2960번지 | G54: 25 | H54: 중원길(실내체육관~테니스장) | I54: 부과 | J54: 노상주차처 (견인거주자팀)
B55: 15 | C55: 성남동 국민주택길 이면도로주차장 | D55: 중원구 | E55: 성남동 | F55: 2303번지 | G55: 58 | H55: 국민주택길(운동장모텔촌) | I55: 부과 | J55: 노상주차처 (견인거주자팀)
B56: 16 | C56: 성남동 모란3길 이면도로주차장 | D56: 중원구 | E56: 성남동 | F56: 3611번지 | G56: 9 | H56: 모란3길(동물병원골목) | I56: 부과 | J56: 노상주차처 (견인거주자팀)
B57: 17 | C57: 성남동 시범 이면도로주차장 | D57: 중원구 | E57: 성남동 | F57: 3074번지 | G57: 35 | H57: 운동장 뒷길(보조구장담장) | I57: 부과 | J57: 노상주차처 (견인거주자팀)
B58: 18 | C58: 은행1동 공원길 이면도로주차장 | D58: 중원구 | E58: 은행1동 | F58: 2351번지 | G58: 146 | H58: 은행공원길(중부초위) | I58: 부과 | J58: 노상주차처 (견인거주자팀) | K58: 2면 증설 | M58: 2면 증설(버스정류장 폐지)
B59: 19 | C59: 은행1동 시범 이면도로주차장 | D59: 중원구 | E59: 은행1동 | F59: 2018번지 | G59: 3 | H59: 해닮길(동사무소옆) | I59: 부과 | J59: 노상주차처 (견인거주자팀)
B60: 20 | C60: 은행2동 1구간 이면도로주차장 | D60: 중원구 | E60: 은행2동 | F60: 715번지 | G60: 23 | H60: 한마음길(은행초교밑) | I60: 부과 | J60: 노상주차처 (견인거주자팀)
B61: 21 | C61: 은행2동 2구간 이면도로주차장 | D61: 중원구 | E61: 은행2동 | F61: 965번지 | G61: 16 | H61: 빛여울23길(은행중~절터) | I61: 부과 | J61: 노상주차처 (견인거주자팀)
B62: 22 | C62: 은행2동 시범 이면도로주차장 | D62: 중원구 | E62: 은행2동 | F62: 757번지 | G62: 8 | H62: 남은길(은행중~은행주공밑) | I62: 부과 | J62: 노상주차처 (견인거주자팀)
B63: 23 | C63: 중앙동 1구간 이면도로주차장 | D63: 중원구 | E63: 중앙동 | F63: 2233번지 | G63: 19 | H63: 축복1길(터널옆쪽) | I63: 부과 | J63: 노상주차처 (견인거주자팀)
B64: 24 | C64: 중앙동 가지구 이면도로주차장 | D64: 중원구 | E64: 중앙동 | F64: 2074번지 | G64: 144 | H64: 가지구길-희망길 | I64: 부과 | J64: 노상주차처 (견인거주자팀)
B65: 25 | C65: 중앙동 축복길 이면도로주차장 | D65: 중원구 | E65: 중앙동 | F65: 2195번지 | G65: 24 | H65: 축복길(터널위쪽) | I65: 부과 | J65: 노상주차처 (견인거주자팀)
B66: 26 | C66: 하대원동 9-7 이면도로주차장 | D66: 중원구 | E66: 하대원동 | F66: 130-22번지 | G66: 69 | H66: 충민길(성남공고뒤) | I66: 부과 | J66: 노상주차처 (견인거주자팀)
B67: 27 | C67: 하대원동 검단뒷길 이면도로주차장 | D67: 중원구 | E67: 하대원동 | F67: 107번지 | G67: 105 | H67: 중원도서관~검단초교뒤 | I67: 부과 | J67: 노상주차처 (견인거주자팀) | K67: 공원과 관리
B68: 28 | C68: 하대원동 둔천대로268번길 이면도로주차장 | D68: 중원구 | E68: 하대원동 | F68: 292번지 | G68: 25 | H68: 둔촌대로268번길(공고이면) | I68: 부과 | J68: 노상주차처 (견인거주자팀)
B69: 29 | C69: 하대원동 산19 이면도로주차장 | D69: 중원구 | E69: 하대원동 | F69: 115-22번지 | G69: 80 | H69: 검단초등1길(성원A~성일여고) | I69: 부과 | J69: 노상주차처 (견인거주자팀)
B70: 30 | C70: 하대원동 시범 이면도로주차장 | D70: 중원구 | E70: 하대원동 | F70: 130-22번지 | G70: 146 | H70: 능골길(낙원택시) | I70: 부과 | J70: 노상주차처 (견인거주자팀)
B71: 31 | C71: 하대원동 폐도부지(상) 이면도로주차장 | D71: 중원구 | E71: 하대원동 | F71: 162번지 | G71: 34 | H71: 마지길(영성여중 뒤) | I71: 부과 | J71: 노상주차처 (견인거주자팀)
B72: 32 | C72: 하대원동 폐도부지(하) 이면도로주차장 | D72: 중원구 | E72: 하대원동 | F72: 146-1번지 | G72: 24 | H72: 마지길(야채시장위) | I72: 부과 | J72: 노상주차처 (견인거주자팀)

Sheet 노상주차장(무료)
B2: 노상주차장(무료)
B3: 2026. 1. 1. 기준
B4: 연번 | C4: 주차장명 | D4: 위치 | G4: 면수 | H4: 비고
D5: 구 | E5: 동 | F5: 지번
B6: 총계 | C6: =C7+C53+C124 -> 138 | G6: =G7+G53+G124 -> 1666
B7: 소계 | C7: =COUNT(B8:B52) -> 45 | D7: 수정구 | G7: =SUM(G8:G52) -> 501
B8: 1 | D8: 수정구 | E8: 단대동 | F8: 71-8번지 | G8: 12 | H8: 단대로16번길(단대동 71-8 ~ 74-6)
B9: 2 | D9: 수정구 | E9: 단대동 | F9: 189번지 | G9: 10 | H9: 희망로506번길(단대동 192 ~ 190-8)
B10: 3 | D10: 수정구 | E10: 단대동 | F10: 192번지 | G10: 9 | H10: 성남혜은학교 희망아파트 사이(단대동 126)
B11: 4 | D11: 수정구 | E11: 산성동 | F11: 2138번지 | G11: 21 | H11: 수정남로268번길(산성동 2138 ~ 2180)
B12: 5 | D12: 수정구 | E12: 수진1동 | F12: 2795번지 | G12: 23 | H12: 제일로102번길(수진1동 2795 ~ 2809)
B13: 6 | D13: 수정구 | E13: 수진1동 | F13: 2536번지 | G13: 9 | H13: 제일로102번길(수진1동 2543 ~ 2536)
B14: 7 | D14: 수정구 | E14: 수진1동 | F14: 2528번지 | G14: 13 | H14: 제일로102번길(수진1동 2528 ~ 2535)
B15: 8 | D15: 수정구 | E15: 수진2동 | F15: 4603번지 | G15: 3 | H15: 성남대로1209번길(수진2동 4603 ~ 4604)
B16: 9 | D16: 수정구 | E16: 수진2동 | F16: 4606-1번지 | G16: 2 | H16: 성남대로1209번길(수진2동 4606-1)
B17: 10 | D17: 수정구 | E17: 수진2동 | F17: 3809번지 | G17: 15 | H17: 성남대로1194번길( 수진2동 3809 ~ 3821)
B18: 11 | D18: 수정구 | E18: 신흥1동 | F18: 6004번지 | G18: 5 | H18: 탄리로42번길(신흥1동 6004 ~ 6062)
B19: 12 | D19: 수정구 | E19: 신흥1동 | F19: 6062번지 | G19: 9 | H19: 수정로154번길(신흥동 6062 ~ 6051)
... B52: 46 | D52: 수정구 | E52: 태평동 | F52: 6812번지 | G52: 10 | H52: 2025.06. 성남대로 1259번길 설치완료
B53: 소계 | C53: =COUNT(B54:B123) -> 70 | D53: 중원구 | G53: =SUM(G54:G123) -> 717
B54: 1 | D54: 중원구 | E54: 금광1동 | F54: 151번지 | G54: 2 | H54: 금상로57번길 8-20 (금광1동 151번지)~금상로57번길 8-16 (금광1동 153번지)
A55: 2 | B55: 2 | D55: 중원구 | E55: 금광2동 | F55: 4198번지 | G55: 3 | H55: 자혜로8번길 21 (금광2동 4198번지)
B56: 3 | D56: 중원구 | E56: 금광2동 | F56: 4613번지 | G56: 5 | H56: 산성대로 428 (금광2동 4613번지)~산성대로 432-1(금광2동 4617번지)
B57: 4 | D57: 중원구 | E57: 금광2동 | F57: 3710번지 | G57: 2 | H57: 중원구 광명로 311 (금광2동 3710번지)
B58: 5 | D58: 중원구 | E58: 금광2동 | F58: 3770번지 | G58: 4 | H58: 산성대로382번길 17(금광2동 3770번지)~산성대로382번길 27(금광2동 3787번지)
B59: 6 | D59: 중원구 | E59: 금광2동 | F59: 4285번지 | G59: 2 | H59: 산성대로396번길 16(금광2동 4285번지)~산성대로390번길 15(금광2동 4290번지)
B60: 7 | D60: 중원구 | E60: 금광2동 | F60: 2919번지 | G60: 6 | H60: 자혜로44번길 17 (금광2동 2919번지)~금빛로85번길 6 (금광2동 2941번지)
B61: 8 | D61: 중원구 | E61: 금광2동 | F61: 3003번지 | G61: 11 | H61: 광명로323번길 16(금광2동 3003번지)~광명로323번길 25-1(금광2동 3903번지)
B62: 9 | D62: 중원구 | E62: 상대원1동 | F62: 1649번지 | G62: 10 | H62: 박석로41번길 35 (상대원1동)~ 둔촌대로413번길37(상대원1동 1649번지) / 박석로41번길(상대원1동 1644 ~ 1649)
B63: 10 | D63: 중원구 | E63: 상대원1동 | F63: 1634번지 | G63: 6 | H63: 박석로49번길 27 (상대원1동 1629번지)~둔촌대로413번길 39(상대원1동 1634번지) / 둔촌대로413번길 (상대원1동 1629 ~ 1649)
B64: 11 | D64: 중원구 | E64: 상대원1동 | F64: 1639번지 | G64: 2 | H64: 박석로49번길 33 (상대원1동 1639번지)
B65: 12 | D65: 중원구 | E65: 상대원1동 | F65: 1486번지 | G65: 6 | H65: 둔촌대로413번길 46 (상대원1동 1486번지)~박석로41번길 20-13(상대원1동 1477-1) / 박석로49번길 (상대원1동 1486 ~ 1477-1)
B66: 13 | D66: 중원구 | E66: 상대원1동 | F66: 1680번지 | G66: 6 | H66: 박석로33번길 35 (상대원1동 1680번지)~박석로33번길 43 (상대원1동 1908번지) / 박석로33번길( 상대원1동 1680 ~ 1908)
B67: 14 | D67: 중원구 | E67: 상대원1동 | F67: 1665번지 | G67: 2 | H67: 박석로33번길 29 (상대원1동 1665번지)
... B123: 70 | D123: 중원구 | E123: 하대원동 | F123: 222-4번지 | G123: 7 | H123: 둔촌대로 353 (하대원동 222-4번지)~둔촌대로 355 (하대원동 222-5번지)
B124: 소계 | C124: =COUNT(B125:B147) -> 23 | G124: =SUM(G125:G147) -> 448
B125: 1 | D125: 분당구 | E125: 구미동 | F125: 274-2번지 | G125: 26 | H125: 구미로192번길(구미동 274-2번지 앞)
B126: 2 | D126: 분당구 | E126: 분당동 | F126: 69번지 | G126: 24 | H126: 장안로41번길(장안타운 건영(아) 101동 ~ 108동)
B127: 3 | D127: 분당구 | E127: 분당둥 | F127: 199-3번지 | G127: 10 | H127: 장안로25번길(장안타운122동~123동) -> (112x 122o)
B128: 4 | D128: 분당구 | E128: 삼평동 | F128: 695번지 | G128: 15 | H128: 대왕판교로712번길(한국파스퇴르연구소 주변)
B129: 5 | D129: 분당구 | E129: 삼평동 | F129: 692번지 | G129: 18 | H129: 판교로289번길(삼평동 694-2 ~ 694-1)
B130: 6 | D130: 분당구 | E130: 삼평동 | F130: 700번지 | G130: 6 | H130: 판교로319번길(삼평동 699)
B131: 7 | D131: 분당구 | E131: 서현동 | F131: 294번지 | G131: 8 | H131: 돌마로486번길(효자촌 212동 ~ 임광종합상가 건너편)
B132: 8 | D132: 분당구 | E132: 서현동 | F132: 94-1번지 | G132: 21 | H132: 중앙공원로40번길(우성상가앞버스정류장~우성아파트버스정류장)
B133: 9 | D133: 분당구 | E133: 수내동 | F133: 54번지 | G133: 24 | H133: 내정로166번길(파크타운 120동 ~ 127동)
B134: 10 | D134: 분당구 | E134: 수내동 | F134: 75번지 | G134: 32 | H134: 돌마로366번길(푸른마을 201동 ~ 310동)
B135: 11 | D135: 분당구 | E135: 야탑동 | F135: 151번지 | G135: 50 | H135: 판교로(야탑3 치안센터건너편 ~ 부치골교 입구)
B136: 12 | D136: 분당구 | E136: 야탑동 | F136: 148번지 | G136: 14 | H136: 판교로715번길(분당테크노파크 B동입구)
... B147: 23 | D147: 분당구 | E147: 이매동 | F147: 128-6번지 | G147: 12 | H147: 2025.6. 성남대로 692번길 일대 설치완료

Sheet 노상주차장(24.2.취합원본)
B2: 노상주차장(무료) | J2: 구청 경제교통과 작성 2022. 12. 31.
B3: 2023. 6. 30. 기준
B4: 연번 | C4: 주차장명 | D4: 위치 | G4: 면수 | H4: 관리여부 (O/X) | I4: 비고
D5: 구 | E5: 동 | F5: 지번 | J5: 2021년 변동사항 | K5: 2022년 변동사항
B6: 총계 | C6: =C7+C53+C135 -> 147 | G6: =G7+G53+G135 -> 1643
B7: 소계 | C7: =COUNT(B8:B52) -> 45 | D7: 수정구 | G7: =SUM(G8:G52) -> 499
B8: 1 | D8: 수정구 | E8: 단대동 | F8: 71-8번지 | G8: 12 | I8: 단대로16번길(단대동 71-8 ~ 74-6)
B9: 2 | D9: 수정구 | E9: 단대동 | F9: 189번지 | G9: 10 | I9: 희망로506번길(단대동 192 ~ 190-8)
B10: 3 | D10: 수정구 | E10: 단대동 | F10: 192번지 | G10: 9 | I10: 성남혜은학교 희망아파트 사이(단대동 126)
B11: 4 | D11: 수정구 | E11: 산성동 | F11: 2138번지 | G11: 21 | I11: 수정남로268번길(산성동 2138 ~ 2180)
B12: 5 | D12: 수정구 | E12: 수진1동 | F12: 2795번지 | G12: 23 | I12: 제일로102번길(수진1동 2795 ~ 2809)
B13: 6 | D13: 수정구 | E13: 수진1동 | F13: 2536번지 | G13: 9 | I13: 제일로102번길(수진1동 2543 ~ 2536)
B14: 7 | D14: 수정구 | E14: 수진1동 | F14: 2528번지 | G14: 13 | I14: 제일로102번길(수진1동 2528 ~ 2535)
B15: 8 | D15: 수정구 | E15: 수진2동 | F15: 4603번지 | G15: 3 | I15: 성남대로1209번길(수진2동 4603 ~ 4604)
B16: 9 | D16: 수정구 | E16: 수진2동 | F16: 4606-1번지 | G16: 2 | I16: 성남대로1209번길(수진2동 4606-1)
B17: 10 | D17: 수정구 | E17: 수진2동 | F17: 3809번지 | G17: 15 | I17: 성남대로1194번길( 수진2동 3809 ~ 3821)
B18: 11 | D18: 수정구 | E18: 신흥1동 | F18: 6004번지 | G18: 5 | I18: 탄리로42번길(신흥1동 6004 ~ 6062)
B19: 12 | D19: 수정구 | E19: 신흥1동 | F19: 6062번지 | G19: 9 | I19: 수정로154번길(신흥동 6062 ~ 6051)
... B28: 21 | D28: 수정구 | E28: 양지동 | F28: 310번지 | G28: 22 | I28: 논골로24번길( 양지동 310 ~ 479)
B29: 22 | D29: 수정구 | E29: 양지동 | F29: 402번지 | G29: 12 | I29: 산성대로515번길(양지동 402 ~ 517) | J29: 2면 폐지/21.11.02.
B30: 23 | D30: 수정구 | E30: 양지동 | F30: 20번지 | G30: 7 | I30: 산성대로595번길(양지동 20 ~ 24)
B31: 24 | D31: 수정구 | E31: 양지동 | F31: 72번지 | G31: 12 | I31: 수정로578번길(양지동 72 ~ 84)
B32: 25 | D32: 수정구 | E32: 양지동 | F32: 37번지 | G32: 12 | I32: 산성대로581번길(양지동 37 ~ 72)
B33: 26 | D33: 수정구 | E33: 태평1동 | F33: 7200-1번지 | G33: 21 | I33: 수정로35번길(태평동 7200-1 ~ 7263-15)
B34: 27 | D34: 수정구 | E34: 태평1동 | F34: 6533번지 | G34: 2 | I34: 성남대로1250번길(태평1동 6533)
B35: 28 | D35: 수정구 | E35: 태평2동 | F35: 3311번지 | G35: 16 | I35: 탄리로96번길(태평2동 3311 ~ 3469)
B36: 29 | D36: 수정구 | E36: 태평3동 | F36: 4406번지 | G36: 18 | I36: 제일로224번길(태평3동 4406 ~ 4647)
B37: 30 | D37: 수정구 | E37: 태평3동 | F37: 4535번지 | G37: 17 | I37: 남문로43번길(태평3동 4535 ~ 4550)
B38: 31 | D38: 수정구 | E38: 태평3동 | F38: 4647번지 | G38: 10 | I38: 태평로38번길(태평3동 4647 ~ 4654)
B39: 32 | D39: 수정구 | E39: 태평3동 | F39: 4655번지 | G39: 10 | I39: 태평로38번길(태평3동 4655 ~ 4662)
B40: 33 | D40: 수정구 | E40: 태평3동 | F40: 5082번지 | G40: 2 | I40: 태평로38번길(태평3동 5082 ~ 5089)
B41: 34 | D41: 수정구 | E41: 태평3동 | F41: 4792번지 | G41: 1 | I41: 태평로48번길(태평3동 4792 ~ 4936)
... B52: 45 | D52: 수정구 | E52: 태평3동 | F52: 3536-1번지 | G52: 5 | I52: 탄리로81번길(태평3동 3536-1 ~ 3536-3)
B53: 소계 | C53: =COUNT(B54:B134) -> 81 | D53: 중원구 | G53: =SUM(G54:G134) -> 726
B54: 1 | D54: 중원구 | E54: 금광1동 | F54: 151번지 | G54: 2 | H54: o | I54: 금상로57번길 8-20 (금광1동 151번지)~금상로57번길 8-16 (금광1동 153번지)
B55: 2 | D55: 중원구 | E55: 금광1동 | F55: 2427번지 | G55: 0 | H55: x | I55: 황송로 2427 | J55: 23.10. 유료화(최종9면)
A56: 2 | B56: 3 | D56: 중원구 | E56: 금광2동 | F56: 4198번지 | G56: 3 | H56: o | I56: 자혜로8번길 21 (금광2동 4198번지)
B57: 4 | D57: 중원구 | E57: 금광2동 | F57: 4613번지 | G57: 5 | H57: o | I57: 산성대로 428 (금광2동 4613번지)~산성대로 432-1(금광2동 4617번지)
B58: 5 | D58: 중원구 | E58: 금광2동 | F58: 3710번지 | G58: 2 | H58: o | I58: 중원구 광명로 311 (금광2동 3710번지)
B59: 6 | D59: 중원구 | E59: 금광2동 | F59: 3770번지 | G59: 4 | H59: o | I59: 산성대로382번길 17(금광2동 3770번지)~산성대로382번길 27(금광2동 3787번지) | J59: 금광2동 3770 주변 5면 미존재 / 금광2동 3787 4면만 존재 (폐지 확인요청)
B60: 7 | D60: 중원구 | E60: 금광2동 | F60: 4285번지 | G60: 2 | H60: o | I60: 산성대로396번길 16(금광2동 4285번지)~산성대로390번길 15(금광2동 4290번지)
B61: 8 | D61: 중원구 | E61: 금광2동 | F61: 2919번지 | G61: 6 | H61: o | I61: 자혜로44번길 17 (금광2동 2919번지)~금빛로85번길 6 (금광2동 2941번지)
B62: 9 | D62: 중원구 | E62: 금광2동 | F62: 3003번지 | G62: 11 | H62: o | I62: 광명로323번길 16(금광2동 3003번지)~광명로323번길 25-1(금광2동 3903번지)
B63: 10 | D63: 중원구 | E63: 상대원1동 | F63: 1649번지 | G63: 10 | H63: o | I63: 박석로41번길 35 (상대원1동)~ 둔촌대로413번길37(상대원1동 1649번지) / 박석로41번길(상대원1동 1644 ~ 1649)
B64: 11 | D64: 중원구 | E64: 상대원1동 | F64: 1634번지 | G64: 6 | H64: o | I64: 박석로49번길 27 (상대원1동 1629번지)~둔촌대로413번길 39(상대원1동 1634번지) / 둔촌대로413번길 (상대원1동 1629 ~ 1649)
B65: 12 | D65: 중원구 | E65: 상대원1동 | F65: 1639번지 | G65: 2 | H65: o | I65: 박석로49번길 33 (상대원1동 1639번지)
B66: 13 | D66: 중원구 | E66: 상대원1동 | F66: 1486번지 | G66: 6 | H66: o | I66: 둔촌대로413번길 46 (상대원1동 1486번지)~박석로41번길 20-13(상대원1동 1477-1) / 박석로49번길 (상대원1동 1486 ~ 1477-1)
B67: 14 | D67: 중원구 | E67: 상대원1동 | F67: 1680번지 | G67: 6 | H67: o | I67: 박석로33번길 35 (상대원1동 1680번지)~박석로33번길 43 (상대원1동 1908번지) / 박석로33번길( 상대원1동 1680 ~ 1908)
B68: 15 | D68: 중원구 | E68: 상대원1동 | F68: 1665번지 | G68: 2 | H68: o | I68: 박석로33번길 29 (상대원1동 1665번지)
B69: 16 | D69: 중원구 | E69: 상대원1동 | F69: 1664번지 | G69: 13 | H69: o | I69: 둔촌대로401번길 36-1(상대원1동 1664번지)~둔촌대로401번길 24(상대원1동 1685번지) / 둔촌대로401번길(상대원1동 1664 ~ 1685)
B70: 17 | D70: 중원구 | E70: 상대원1동 | F70: 1766번지 | G70: 5 | H70: o | I70: 둔촌대로389번길 36 (상대원1동 1766번지)~박석로33번길 46 (상대원1동 1772번지) / 둔촌대로389번길( 상대원1동 1766 ~ 1772)
B71: 18 | D71: 중원구 | E71: 상대원1동 | F71: 1910번지 | G71: 5 | H71: o | I71: 박석로33번길 47 (상대원1동 1910번지) ~둔촌대로389번길22(상대원1동 1915-1번지) / 둔촌대로389번길(상대원1동 1910 ~ 1915-1)
... B86: 33 | D86: 중원구 | E86: 상대원1동 | F86: 344-12번지 | G86: 22 | H86: o | I86: 둔촌대로541번길20(상대원1동 344-12번지)
B87: 34 | D87: 중원구 | E87: 상대원2동 | F87: 4314번지 | G87: 0 | H87: x | I87: 희망로343번길 40(상대원2동 4314번지)~희망로343번길 36-1(상대원2동 4288번지) / 희망로343번길( 상대원2동 4314 ~ 4288) | J87: 재개발로 인한 주차면 미존재
B88: 35 | D88: 중원구 | E88: 상대원2동 | F88: 3619번지 | G88: 0 | H88: x | I88: 희망로367번길 31(상대원2동 3619번지)~희망로359번길 30-1(상대원2동 3626번지) / 희망로367번길(상대원2동 3619 ~ 3626) | J88: 재개발로 인한 주차면 미존재
B89: 36 | D89: 중원구 | E89: 상대원2동 | F89: 4049번지 | G89: 0 | H89: x | I89: 희망로359번길 41(상대원2동 4049번지)~희망로343번길 40-5(상대원2동 4684번지)/ 희망로359번길( 상대원2동 4049 ~ 4684) | J89: 재개발로 인한 주차면 미존재
B90: 37 | D90: 중원구 | E90: 상대원2동 | F90: 3184번지 | G90: 0 | H90: x | I90: 희망로375번길 11(상대원2동 3184번지)~희망로375번길27-1(상대원2동 3341번지) / 희망로375번길(상대원2동 3184 ~ 3341) | J90: 재개발로 인한 주차면 미존재
B91: 38 | D91: 중원구 | E91: 상대원2동 | F91: 3161번지 | G91: 0 | H91: x | I91: 희망로 367(상대원2동 3161번지)~희망로367번길 32(상대원2동 3392번지)/희망로367번길(상대원2동 3161 ~ 3392) | J91: 재개발로 인한 주차면 미존재
B92: 39 | D92: 중원구 | E92: 상대원2동 | F92: 3263번지 | G92: 0 | H92: x | I92: 희망로375번길 19-2 (상대원2동 3263번지)~희망로367번길18-2(상대원2동 3271번지) / 희망로367번길 (상대원2동 3263 ~ 3271) | J92: 재개발로 인한 주차면 미존재
B93: 40 | D93: 중원구 | E93: 상대원2동 | F93: 3400번지 | G93: 0 | H93: x | I93: 희망로 361 (상대원2동 3400번지)~희망로359번길 27 (상대원2동 3866번지)/ 희망로359번길(상대원2동 3400 ~ 3866) | J93: 재개발로 인한 주차면 미존재
B94: 41 | D94: 중원구 | E94: 상대원2동 | F94: 4939번지 | G94: 0 | H94: x | I94: 희망로327번길 26-4 (상대원2동 4939번지)~희망로335번길23-1(상대원2동 4946번지)/희망로327번길(상대원2동 4939 ~ 4946) | J94: 재개발로 인한 주차면 미존재
B95: 42 | D95: 중원구 | E95: 상대원2동 | F95: 5233번지 | G95: 0 | H95: x | I95: 희망로327번길 25-7 (상대원2동 5233번지)~희망로327번길25-1(상대원2동 5238번지) / 희망로327번길( 상대원2동 5233 ~ 5238) | J95: 재개발로 인한 주차면 미존재
B96: 43 | D96: 중원구 | E96: 상대원2동 | F96: 5446번지 | G96: 8 | H96: o | I96: 둔촌대로 388번길(상대원2동 5446번지)
B97: 44 | D97: 중원구 | E97: 상대원3동 | F97: 804번지 | G97: 6 | H97: o | I97: 박석로94번길 8-3 (상대원3동 804번지)~박석로94번길 18 (상대원3동 819번지) / 박석로94번길(상대원3동 804 ~ 819)
B98: 45 | D98: 중원구 | E98: 상대원3동 | F98: 819-4번지 | G98: 9 | H98: o | I98: 박석로94번길 20 (상대원3동 819-4번지)~박석로86번길 19 (상대원3동 820-5번지) / 금상로96번길(상대원3동 819-4 ~ 820-5)
B99: 46 | D99: 중원구 | E99: 상대원3동 | F99: 2992-3번지 | G99: 6 | H99: o | I99: 금상로57번길 5-1 (상대원3동 2992-3번지)~희망로392번길 14-12 (상대원3동 2993-24번지)/ 희망로380번길(상대원3동 2992-3 ~ 2992-34)
B100: 47 | D100: 중원구 | E100: 상대원3동 | F100: 2096번지 | G100: 11 | H100: o | I100: 박석로79번길 1 (상대원3동 2096번지)~박석로79번길 9-1(상대원3동 2116번지)/박석로79번길(상대원3동 2096 ~ 2116)
B101: 48 | D101: 중원구 | E101: 상대원3동 | F101: 2141번지 | G101: 9 | H101: o | I101: 박석로 83-2 (상대원3동 2141번지)~박석로85번길 13 (상대원3동 2206번지)/박석로85번길(상대원3동 2141 ~2206)
B102: 49 | D102: 중원구 | E102: 상대원3동 | F102: 2304번지 | G102: 15 | H102: o | I102: 박석로93번길 2 (상대원3동 2304번지)~박석로93번길 34 (상대원3동 2370번지) / 박석로93번길(상대원3동 2304 ~ 2370)
B103: 50 | D103: 중원구 | E103: 상대원3동 | F103: 881-1번지 | G103: 18 | H103: o | I103: 금상로96번길 26(상대원3동 881-1번지)~박석로 78(상대원3동 856번지) / 금상로96번길(상대원3동 881-1 ~ 856)
B104: 51 | D104: 중원구 | E104: 상대원3동 | F104: 2997-18번지 | G104: 8 | H104: o | I104: 희망로360번길7-4(상대원3동 2997-18번지)~희망로380번길12(상대원3동 2997-24번지) / 희망로360번길(상대원동 2997-18 ~ 2997-24)
B105: 52 | D105: 중원구 | E105: 상대원3동 | F105: 2361번지 | G105: 8 | H105: o | I105: 금상로40번길 1 (상대원3동 2361번지)~박석로93번길 32-1 (상대원3동 2370번지) / 금상로40번길(상대원동 2361 ~ 2370)
B106: 53 | D106: 중원구 | E106: 상대원3동 | F106: 2705번지 | G106: 2 | H106: o | I106: 박석로85번길 31 (상대원3동 2705번지)
B107: 54 | D107: 중원구 | E107: 상대원3동 | F107: 1753번지 | G107: 34 | H107: o | I107: 박석로49번길 39(상대원3동 1753번지)~희망로326번길 12(상대원3동 1898번지) / 희망로326번길(상대원동 1753 ~ 1898)
... B126: 73 | D126: 중원구 | E126: 은행2동 | F126: 722-19번지 | G126: 12 | H126: o | I126: 산성대로552번길 8 (은행2동 722-19번지)~은이로7번길 15 (은행2동 734번지) / 은이로7번길 (은행2동 722-19 ~ 734)
B127: 74 | D127: 중원구 | E127: 은행2동 | F127: 550-1번지 | G127: 21 | H127: o | I127: 산성대로552번길 2 ~ 순환로453번길 54 (은행2동 550-1번지) | J127: 해당 주차장 노상주차장인지 확인요청 (공간정보시스템상 해당 도로 성남시 소유)
B128: 75 | D128: 중원구 | E128: 중앙동 | F128: 2324번지 | G128: 13 | H128: o | I128: 광명로 246-1 (중앙동 2324번지)~광명로 238-3 (중앙동 2369번지)
B129: 76 | D129: 중원구 | E129: 하대원동 | F129: 101-8번지 | G129: 2 | H129: o | I129: 둔촌대로 108 (하대원동 101-8번지)~둔촌대로 110 (하대원동 101-9번지) / 둔촌대로(하대원동 101-8 ~ 101-9)
B130: 77 | D130: 중원구 | E130: 하대원동 | F130: 120-1번지 | G130: 0 | H130: x | I130: 둔촌대로217번길 10 (하대원동 120-1번지)~원터로17번길 11 (하대원동 121-16번지) | J130: 엘리프성남더에듀 공사로 인한 주차면 미존재
B131: 78 | D131: 중원구 | E131: 하대원동 | F131: 115-3번지 | G131: 9 | H131: o | I131: 원터로18번길 19 (하대원동 115-3번지)
B132: 79 | D132: 중원구 | E132: 하대원동 | F132: 132-3번지 | G132: 7 | H132: o | I132: 시민로5번길 15 (하대원동 132-3번지)~둔촌대로 291 (하대원동 132-6번지)
B133: 80 | D133: 중원구 | E133: 하대원동 | F133: 138-3번지 | G133: 3 | H133: o | I133: 시민로6번길 13-1 (하대원동 138-3번지)
B134: 81 | D134: 중원구 | E134: 하대원동 | F134: 222-4번지 | G134: 7 | H134: o | I134: 둔촌대로 353 (하대원동 222-4번지)~둔촌대로 355 (하대원동 222-5번지)
B135: 소계 | C135: =COUNT(B136:B158) -> 21 | G135: =SUM(G136:G158) -> 418
B136: 1 | D136: 분당구 | E136: 구미동 | F136: 274-2번지 | G136: 26 | H136: O | I136: 구미로192번길(구미동 274-2번지 앞)
B137: 2 | D137: 분당구 | E137: 분당동 | F137: 69번지 | G137: 25 | H137: O | I137: 장안로41번길(장안타운 건영(아) 101동 ~ 108동)
B138: 3 | D138: 분당구 | E138: 분당둥 | F138: 199-3번지 | G138: 10 | H138: O | I138: 장안로25번길(장안타운122동~123동) -> (112x 122o)
B139: 4 | D139: 분당구 | E139: 삼평동 | F139: 695번지 | G139: 15 | H139: O | I139: 대왕판교로712번길(한국파스퇴르연구소 주변)
B140: 5 | D140: 분당구 | E140: 삼평동 | F140: 692번지 | G140: 18 | H140: O | I140: 판교로289번길(삼평동 694-2 ~ 694-1)
B141: 6 | D141: 분당구 | E141: 삼평동 | F141: 700번지 | G141: 6 | H141: O | I141: 판교로319번길(삼평동 699)
B142: 7 | D142: 분당구 | E142: 서현동 | F142: 294번지 | G142: 8 | H142: O | I142: 돌마로486번길(효자촌 212동 ~ 임광종합상가 건너편)
B143: 8 | D143: 분당구 | E143: 서현동 | F143: 94-1번지 | G143: 21 | H143: O | I143: 중앙공원로40번길(우성상가앞버스정류장~우성아파트버스정류장)
B144: 9 | D144: 분당구 | E144: 수내동 | F144: 54번지 | G144: 24 | H144: O | I144: 내정로166번길(파크타운 120동 ~ 127동)
B145: 10 | D145: 분당구 | E145: 수내동 | F145: 75번지 | G145: 32 | H145: O | I145: 돌마로366번길(푸른마을 201동 ~ 310동)
B146: 11 | D146: 분당구 | E146: 야탑동 | F146: 151번지 | G146: 50 | H146: O | I146: 판교로(야탑3 치안센터건너편 ~ 부치골교 입구)
B147: 12 | D147: 분당구 | E147: 야탑동 | F147: 148번지 | G147: 14 | H147: O | I147: 판교로715번길(분당테크노파크 B동입구)
... B156: 21 | D156: 분당구 | E156: 서현동 | F156: 306-1~312-3 | G156: 25 | H156: O | I156: 불정로 376번길 (기존 목록에 없어서 추가)

Sheet 나눔주차장
B2: 주택가 나눔주차장 현황
B3: 2026. 1. 1. 기준
B4: 연번 | C4: 주차장명 | D4: 위치 | G4: 면수 | H4: 비고
D5: 구 | E5: 동 | F5: 지번
B6: 총계 | C6: =C7+C18+C27 -> 25 | G6: =G7+G18+G27 -> 374
B7: 소계 | C7: =COUNT(B8:B17) -> 10 | D7: 수정구 | G7: =SUM(G8:G17) -> 172
B8: 1 | C8: 나눔주차장 | D8: 수정구 | E8: 수진동 | F8: 4536(등 6필지) | G8: 34
B9: 2 | C9: 나눔주차장 | D9: 수정구 | E9: 창곡동 | F9: 561 | G9: 29
B10: 3 | C10: 나눔주차장 | D10: 수정구 | E10: 신흥동 | F10: 6946 | G10: 14
B11: 4 | C11: 나눔주차장 | D11: 수정구 | E11: 오야동 | F11: 250-13 | G11: 10
B12: 5 | C12: 나눔주차장 | D12: 수정구 | E12: 복정동 | F12: 639-2 | G12: 12
B13: 6 | C13: 나눔주차장 | D13: 수정구 | E13: 복정동 | F13: 700-3 | G13: 8
B14: 7 | C14: 나눔주차장 | D14: 수정구 | E14: 복정동 | F14: 700-11 | G14: 14
B15: 8 | C15: 나눔주차장 | D15: 수정구 | E15: 상적동 | F15: 294-4 | G15: 19
B16: 9 | C16: 나눔주차장 | D16: 수정구 | E16: 상적동 | F16: 337-11 | G16: 20
B17: 10 | C17: 나눔주차장 | D17: 수정구 | E17: 상적동 | F17: 21-11번지 | G17: 12
B18: 소계 | C18: =COUNT(B19:B26) -> 8 | D18: 중원구 | G18: =SUM(G19:G26) -> 85
B19: 1 | C19: 나눔주차장 | D19: 중원구 | E19: 상대원동 | F19: 1410번지 | G19: 19
B20: 2 | C20: 나눔주차장 | D20: 중원구 | E20: 상대원동 | F20: 1577번지 | G20: 7
B21: 3 | C21: 나눔주차장 | D21: 중원구 | E21: 상대원동 | F21: 926-5번지 | G21: 3
B22: 4 | C22: 나눔주차장 | D22: 중원구 | E22: 중앙동 | F22: 2320번지 | G22: 3
B23: 5 | C23: 나눔주차장 | D23: 중원구 | E23: 갈현동 | F23: 203-3번지 | G23: 15
B24: 6 | C24: 나눔주차장 | D24: 중원구 | E24: 갈현동 | F24: 207-20번지 | G24: 12
B25: 7 | C25: 나눔주차장 | D25: 중원구 | E25: 갈현동 | F25: 238-9번지 | G25: 17
B26: 8 | C26: 나눔주차장 | D26: 중원구 | E26: 갈현동 | F26: 248번지 | G26: 9
B27: 소계 | C27: =COUNT(B28:B34) -> 7 | D27: 분당구 | G27: =SUM(G28:G34) -> 117
B28: 1 | C28: 나눔주차장 | D28: 분당구 | E28: 정자동 | F28: 33-4번지 | G28: 6
B29: 2 | C29: 나눔주차장 | D29: 분당구 | E29: 운중동 | F29: 1030-4 | G29: 10
B30: 3 | C30: 나눔주차장 | D30: 분당구 | E30: 운중동 | F30: 1026-2 | G30: 10
B31: 4 | C31: 나눔주차장 | D31: 분당구 | E31: 운중동 | F31: 1026-3 | G31: 9
B32: 5 | C32: 나눔주차장 | D32: 분당구 | E32: 운중동 | F32: 1027-2 | G32: 10
B33: 6 | C33: 나눔주차장 | D33: 분당구 | E33: 이매동 | F33: 321 | G33: 43
B34: 7 | C34: 나눔주차장 | D34: 분당구 | E34: 운중동 | F34: 968 | G34: 29
