Workbook

Sheet 총괄표
A1: 2021년 시군 정류소전광판(BIT) 설치현황 총괄표
A3: ※ 노란색 부분만 작성할 것 [ 세부 작성방법 ] 1. 정류소 현황 - BIS등록 정류소 : 현재 시군에서 버스 인허가를 통해 운송관리시스템에 등록한 정류소 자료임(수량 변경 불가, 행정구역이 틀린경우 "시군별 BIT설치지점"에 추가/수정 가능) 도내 전체 시내/시외/마을버스 및 서울/인천 광역버스가 정차하는 모든 정류소 임 - 시군 정류소담당자 관리 현황과 불일치 하는 경우 운송관리시스템에서 중복 정류소 수정 및 삭제할 것 ☞ 작성내용 : 자체 관리중인 정류소 유형별(쉘터, 표지, 무표지) 수량 기입(소계는 BIS등록 정류소와 일치, 미확인 정류소는 무표지로 일괄 처리) 2. '21년 정류소, BIT설치현황 - 최근 시군 정류소, BIT 설치현황을 취합한 자료로 참고할 것 3. 시군별 시트에 작성한 내용을 총괄표에 작성
A6: 시 군 | B6: 정류소 현황 | G6: '21년 정류소전광판 설치현황 | P6: 정류소 현황 | U6: '20년 정류소전광판 설치현황 | AD6: 정류소 현황 | AI6: '20년 정류소전광판 설치현황
B7: BIS 등록 ('21. 6월말 기준) | C7: 21.12월말 기준 | G7: 21.12월말 기준 | P7: BIS 등록 | Q7: '21. 6월말 기준 | U7: '21. 6월말 기준 | AD7: BIS 등록 | AE7: 설치형태 | AI7: '20. 6월말 기준
C8: 소계 | D8: 쉘터 (쉘터+표지) | E8: 표지 | F8: 무표지 | G8: 소계 | H8: LED 단독 | I8: LCD 단독 | J8: LED+LCD 복합 | K8: 기타 | O8: 보급율 | Q8: 소계 | R8: 쉘터 (쉘터+표지) | S8: 표지 | T8: 무표지 | U8: 소계 | V8: LED 단독 | W8: LCD 단독 | X8: LED+LCD 복합 | Y8: 기타 | AC8: 보급율 | AE8: 소계 | AF8: 쉘터 (쉘터+표지) | AG8: 표지 | AH8: 무표지 | AI8: 소계 | AJ8: LED 단독 | AK8: LCD 단독 | AL8: LED+LCD 복합 | AM8: 기타 | AQ8: 보급율
K9: 소계 | L9: 알뜰형 | M9: 임대형 (음성) | N9: 기타 | Y9: 소계 | Z9: 알뜰형 | AA9: 임대형 (음성) | AB9: 기타 | AM9: 소계 | AN9: 알뜰형 | AO9: 임대형 (음성) | AP9: 기타
B10: =SUM(B11:B41) -> 34701 | C10: =SUM(C11:C41) -> #REF! | D10: =SUM(D11:D41) -> #REF! | E10: =SUM(E11:E41) -> #REF! | F10: =SUM(F11:F41) -> #REF! | G10: =SUM(G11:G41) -> 12902 | H10: =SUM(H11:H41) -> 5595 | I10: =SUM(I11:I41) -> 5312 | ... N10: =SUM(N11:N41) -> 4 | O10: =G10/B10 -> 0.37180485 | P10: =SUM(P11:P41) -> 34787 | Q10: =SUM(Q11:Q41) -> 34674 | R10: =SUM(R11:R41) -> 17760 | S10: =SUM(S11:S41) -> 9404 | T10: =SUM(T11:T41) -> 7510 | U10: =SUM(U11:U41) -> 14183 | V10: =SUM(V11:V41) -> 6258 | W10: =SUM(W11:W41) -> 5894 | ... AB10: =SUM(AB11:AB41) -> 9 | AC10: =U10/P10 -> 0.40770978 | AD10: =SUM(AD11:AD41) -> 0 | AE10: =SUM(AE11:AE41) -> 0 | AF10: =SUM(AF11:AF41) -> 0 | AG10: =SUM(AG11:AG41) -> 0 | AH10: =SUM(AH11:AH41) -> 0 | AI10: =SUM(AI11:AI41) -> 0 | AJ10: =SUM(AJ11:AJ41) -> 0 | AK10: =SUM(AK11:AK41) -> 0 | ... AP10: =SUM(AP11:AP41) -> 0 | AQ10: =AI10/AD10 -> #DIV/0!
A11: 수원시 | B11: =수원!$C$9 -> 1441 | C11: =SUM(D11:F11) -> 1441 | D11: =수원!$D$9 -> 846 | E11: =수원!$E$9 -> 316 | F11: =수원!$F$9 -> 279 | G11: =SUM(H11:K11) -> 1010 | H11: =수원!$J$9 -> 380 | I11: =수원!$K$9 -> 174 | J11: =수원!$L$9 -> 363 | K11: =SUM(L11:N11) -> 93 | L11: =수원!$M$9 -> 93 | M11: =수원!$N$9 -> 0 | N11: =수원!$O$9 -> 0 | O11: =G11/B11 -> 0.70090215 | P11: 1447 | Q11: 1447 | R11: 929 | S11: 434 | T11: 84 | U11: 1024 | V11: 395 | W11: 180 | X11: 357 | Y11: 92 | Z11: 92 | AA11: 0 | AB11: 0 | AC11: 0.70767104 | AE11: =SUM(AF11:AH11) -> 0 | AI11: =SUM(AJ11:AM11) -> 0 | AM11: =SUM(AN11:AP11) -> 0 | AQ11: =AI11/AD11 -> #DIV/0!
A12: 고양시 | B12: =고양!$C$9 -> 2269 | C12: =SUM(D12:F12) -> 2269 | D12: =고양!$D$9 -> 1183 | E12: =고양!$E$9 -> 909 | F12: =고양!$F$9 -> 177 | G12: =SUM(H12:K12) -> 1044 | H12: =고양!$J$9 -> 751 | I12: =고양!$K$9 -> 262 | J12: =고양!$L$9 -> 31 | K12: =SUM(L12:N12) -> 0 | L12: =고양!$M$9 -> 0 | M12: =고양!$N$9 -> 0 | N12: =고양!$O$9 -> 0 | O12: =G12/B12 -> 0.46011459 | P12: 2317 | Q12: 2233 | R12: 1184 | S12: 919 | T12: 130 | U12: 1097 | V12: 807 | W12: 290 | X12: 0 | Y12: 0 | Z12: 0 | AA12: 0 | AB12: 0 | AC12: 0.47345706 | AE12: =SUM(AF12:AH12) -> 0 | AI12: =SUM(AJ12:AM12) -> 0 | AM12: =SUM(AN12:AP12) -> 0 | AQ12: =AI12/AD12 -> #DIV/0!
A13: 용인시 | B13: =용인!$C$9 -> 2642 | C13: =SUM(D13:F13) -> 2638 | D13: =용인!$D$9 -> 1401 | E13: =용인!$E$9 -> 894 | F13: =용인!$F$9 -> 343 | G13: =SUM(H13:K13) -> 957 | H13: =용인!$J$9 -> 196 | I13: =용인!$K$9 -> 758 | J13: =용인!$L$9 -> 3 | K13: =SUM(L13:N13) -> 0 | L13: =용인!$M$9 -> 0 | M13: =용인!$N$9 -> 0 | N13: =용인!$O$9 -> 0 | O13: =G13/B13 -> 0.36222559 | P13: 2642 | Q13: 2650 | R13: 1431 | S13: 881 | T13: 338 | U13: 963 | V13: 239 | W13: 722 | X13: 2 | Y13: 0 | Z13: 0 | AA13: 0 | AB13: 0 | AC13: 0.36449659 | AE13: =SUM(AF13:AH13) -> 0 | AI13: =SUM(AJ13:AM13) -> 0 | AM13: =SUM(AN13:AP13) -> 0 | AQ13: =AI13/AD13 -> #DIV/0!
A14: 성남시 | B14: =성남!$C$8 -> 1348 | C14: =SUM(D14:F14) -> #REF! | D14: =성남!#REF! -> #REF! | E14: =성남!#REF! -> #REF! | F14: =성남!#REF! -> #REF! | O14: =G14/B14 -> 0 | P14: 1299 | Q14: 1299 | R14: 796 | S14: 384 | T14: 119 | U14: 932 | V14: 388 | W14: 542 | X14: 2 | Y14: 0 | Z14: 0 | AA14: 0 | AB14: 0 | AC14: 0.71747498 | AE14: =SUM(AF14:AH14) -> 0 | AI14: =SUM(AJ14:AM14) -> 0 | AM14: =SUM(AN14:AP14) -> 0 | AQ14: =AI14/AD14 -> #DIV/0!
A15: 부천시 | B15: =부천!$C$9 -> 1100 | C15: =SUM(D15:F15) -> 1100 | D15: =부천!$D$9 -> 731 | E15: =부천!$E$9 -> 313 | F15: =부천!$F$9 -> 56 | G15: =SUM(H15:K15) -> 839 | H15: =부천!$J$9 -> 506 | I15: =부천!$K$9 -> 287 | J15: =부천!$L$9 -> 46 | K15: =SUM(L15:N15) -> 0 | L15: =부천!$M$9 -> 0 | M15: =부천!$N$9 -> 0 | N15: =부천!$O$9 -> 0 | O15: =G15/B15 -> 0.76272727 | P15: 1104 | Q15: 1104 | R15: 735 | S15: 311 | T15: 58 | U15: 841 | V15: 511 | W15: 284 | X15: 46 | Y15: 0 | Z15: 0 | AA15: 0 | AB15: 0 | AC15: 0.76177536 | AE15: =SUM(AF15:AH15) -> 0 | AI15: =SUM(AJ15:AM15) -> 0 | AM15: =SUM(AN15:AP15) -> 0 | AQ15: =AI15/AD15 -> #DIV/0!
A16: 화성시 | B16: =화성!$C$9 -> 2741 | C16: =SUM(D16:F16) -> 2741 | D16: =화성!$D$9 -> 957 | E16: =화성!$E$9 -> 157 | F16: =화성!$F$9 -> 1627 | G16: =SUM(H16:K16) -> 1114 | H16: =화성!$J$9 -> 534 | I16: =화성!$K$9 -> 313 | J16: =화성!$L$9 -> 198 | K16: =SUM(L16:N16) -> 69 | L16: =화성!$M$9 -> 66 | M16: =화성!$N$9 -> 0 | N16: =화성!$O$9 -> 3 | O16: =G16/B16 -> 0.40642101 | P16: 2763 | Q16: 2763 | R16: 1075 | S16: 162 | T16: 1526 | U16: 1177 | V16: 546 | W16: 317 | X16: 237 | Y16: 77 | Z16: 69 | AA16: 0 | AB16: 8 | AC16: 0.42598625 | AE16: =SUM(AF16:AH16) -> 0 | AI16: =SUM(AJ16:AM16) -> 0 | AM16: =SUM(AN16:AP16) -> 0 | AQ16: =AI16/AD16 -> #DIV/0!
A17: 안산시 | B17: =안산!$C$9 -> 1216 | C17: =SUM(D17:F17) -> 1216 | D17: =안산!$D$9 -> 838 | E17: =안산!$E$9 -> 259 | F17: =안산!$F$9 -> 119 | G17: =SUM(H17:K17) -> 817 | H17: =안산!$J$9 -> 650 | I17: =안산!$K$9 -> 149 | J17: =안산!$L$9 -> 10 | K17: =SUM(L17:N17) -> 8 | L17: =안산!$M$9 -> 8 | M17: =안산!$N$9 -> 0 | N17: =안산!$O$9 -> 0 | O17: =G17/B17 -> 0.671875 | P17: 1205 | Q17: 1205 | R17: 829 | S17: 258 | T17: 118 | U17: 832 | V17: 664 | W17: 150 | X17: 10 | Y17: 8 | Z17: 8 | AA17: 0 | AB17: 0 | AC17: 0.69045643 | AE17: =SUM(AF17:AH17) -> 0 | AI17: =SUM(AJ17:AM17) -> 0 | AM17: =SUM(AN17:AP17) -> 0 | AQ17: =AI17/AD17 -> #DIV/0!
A18: 남양주시 | B18: =남양주!$C$9 -> 1784 | C18: =SUM(D18:F18) -> 1784 | D18: =남양주!$D$9 -> 991 | E18: =남양주!$E$9 -> 525 | F18: =남양주!$F$9 -> 268 | G18: =SUM(H18:K18) -> 925 | H18: =남양주!$J$9 -> 249 | I18: =남양주!$K$9 -> 0 | J18: =남양주!$L$9 -> 676 | K18: =SUM(L18:N18) -> 0 | L18: =남양주!$M$9 -> 0 | M18: =남양주!$N$9 -> 0 | N18: =남양주!$O$9 -> 0 | O18: =G18/B18 -> 0.51849776 | P18: 1786 | Q18: 1786 | R18: 994 | S18: 525 | T18: 267 | U18: 927 | V18: 251 | W18: 0 | X18: 676 | Y18: 0 | Z18: 0 | AA18: 0 | AB18: 0 | AC18: 0.51903695 | AE18: =SUM(AF18:AH18) -> 0 | AI18: =SUM(AJ18:AM18) -> 0 | AM18: =SUM(AN18:AP18) -> 0 | AQ18: =AI18/AD18 -> #DIV/0!
A19: 안양시 | B19: =안양!$C$9 -> 721 | C19: =SUM(D19:F19) -> 704 | D19: =안양!$D$9 -> 456 | E19: =안양!$E$9 -> 199 | F19: =안양!$F$9 -> 49 | G19: =SUM(H19:K19) -> 354 | H19: =안양!$J$9 -> 93 | I19: =안양!$K$9 -> 255 | J19: =안양!$L$9 -> 6 | K19: =SUM(L19:N19) -> 0 | L19: =안양!$M$9 -> 0 | M19: =안양!$N$9 -> 0 | N19: =안양!$O$9 -> 0 | O19: =G19/B19 -> 0.49098474 | P19: 705 | Q19: 705 | R19: 458 | S19: 197 | T19: 50 | U19: 361 | V19: 100 | W19: 255 | X19: 6 | Y19: 0 | Z19: 0 | AA19: 0 | AB19: 0 | AC19: 0.51205674 | AE19: =SUM(AF19:AH19) -> 0 | AI19: =SUM(AJ19:AM19) -> 0 | AM19: =SUM(AN19:AP19) -> 0 | AQ19: =AI19/AD19 -> #DIV/0!
A20: 평택시 | B20: =평택!$C$9 -> 1815 | C20: =SUM(D20:F20) -> 1808 | D20: =평택!$D$9 -> 1031 | E20: =평택!$E$9 -> 392 | F20: =평택!$F$9 -> 385 | G20: =SUM(H20:K20) -> 499 | H20: =평택!$J$9 -> 296 | I20: =평택!$K$9 -> 183 | J20: =평택!$L$9 -> 19 | K20: =SUM(L20:N20) -> 1 | L20: =평택!$M$9 -> 1 | M20: =평택!$N$9 -> 0 | N20: =평택!$O$9 -> 0 | O20: =G20/B20 -> 0.27493113 | P20: 1815 | Q20: 1815 | R20: 1031 | S20: 393 | T20: 391 | U20: 504 | V20: 302 | W20: 183 | X20: 19 | Y20: 0 | Z20: 0 | AA20: 0 | AB20: 0 | AC20: 0.27768595 | AE20: =SUM(AF20:AH20) -> 0 | AI20: =SUM(AJ20:AM20) -> 0 | AM20: =SUM(AN20:AP20) -> 0 | AQ20: =AI20/AD20 -> #DIV/0!
A21: 시흥시 | B21: =시흥!$C$9 -> 1050 | C21: =SUM(D21:F21) -> 1050 | D21: =시흥!$D$9 -> 644 | E21: =시흥!$E$9 -> 332 | F21: =시흥!$F$9 -> 74 | G21: =SUM(H21:K21) -> 622 | H21: =시흥!$J$9 -> 62 | I21: =시흥!$K$9 -> 557 | J21: =시흥!$L$9 -> 1 | K21: =SUM(L21:N21) -> 2 | L21: =시흥!$M$9 -> 2 | M21: =시흥!$N$9 -> 0 | N21: =시흥!$O$9 -> 0 | O21: =G21/B21 -> 0.59238095 | P21: 1045 | Q21: 1045 | R21: 680 | S21: 324 | T21: 41 | U21: 638 | V21: 68 | W21: 567 | X21: 1 | Y21: 2 | Z21: 2 | AA21: 0 | AB21: 0 | AC21: 0.61052632 | AE21: =SUM(AF21:AH21) -> 0 | AI21: =SUM(AJ21:AM21) -> 0 | AM21: =SUM(AN21:AP21) -> 0 | AQ21: =AI21/AD21 -> #DIV/0!
A22: 파주시 | B22: =파주!$C$9 -> 2003 | C22: =SUM(D22:F22) -> 2003 | D22: =파주!$D$9 -> 882 | E22: =파주!$E$9 -> 395 | F22: =파주!$F$9 -> 726 | G22: =SUM(H22:K22) -> 496 | H22: =파주!$J$9 -> 51 | I22: =파주!$K$9 -> 398 | J22: =파주!$L$9 -> 8 | K22: =SUM(L22:N22) -> 39 | L22: =파주!$M$9 -> 0 | M22: =파주!$N$9 -> 39 | N22: =파주!$O$9 -> 0 | O22: =G22/B22 -> 0.24762856 | P22: 1971 | Q22: 1971 | R22: 881 | S22: 397 | T22: 693 | U22: 494 | V22: 49 | W22: 398 | X22: 8 | Y22: 39 | Z22: 0 | AA22: 39 | AB22: 0 | AC22: 0.2506342 | AE22: =SUM(AF22:AH22) -> 0 | AI22: =SUM(AJ22:AM22) -> 0 | AM22: =SUM(AN22:AP22) -> 0 | AQ22: =AI22/AD22 -> #DIV/0!
A23: 의정부시 | B23: =의정부!$C$9 -> 692 | C23: =SUM(D23:F23) -> 692 | D23: =의정부!$D$9 -> 271 | E23: =의정부!$E$9 -> 418 | F23: =의정부!$F$9 -> 3 | G23: =SUM(H23:K23) -> 319 | H23: =의정부!$J$9 -> 65 | I23: =의정부!$K$9 -> 253 | J23: =의정부!$L$9 -> 1 | K23: =SUM(L23:N23) -> 0 | L23: =의정부!$M$9 -> 0 | M23: =의정부!$N$9 -> 0 | N23: =의정부!$O$9 -> 0 | O23: =G23/B23 -> 0.46098266 | P23: 701 | Q23: 701 | R23: 270 | S23: 418 | T23: 13 | U23: 324 | V23: 68 | W23: 256 | X23: 0 | Y23: 0 | Z23: 0 | AA23: 0 | AB23: 0 | AC23: 0.46219686 | AE23: =SUM(AF23:AH23) -> 0 | AI23: =SUM(AJ23:AM23) -> 0 | AM23: =SUM(AN23:AP23) -> 0 | AQ23: =AI23/AD23 -> #DIV/0!
A24: 김포시 | B24: =김포!$C$9 -> 1137 | C24: =SUM(D24:F24) -> 1099 | D24: =김포!$D$9 -> 580 | E24: =김포!$E$9 -> 189 | F24: =김포!$F$9 -> 330 | G24: =SUM(H24:K24) -> 359 | H24: =김포!$J$9 -> 213 | I24: =김포!$K$9 -> 128 | J24: =김포!$L$9 -> 18 | K24: =SUM(L24:N24) -> 0 | L24: =김포!$M$9 -> 0 | M24: =김포!$N$9 -> 0 | N24: =김포!$O$9 -> 0 | O24: =G24/B24 -> 0.31574318 | P24: 1113 | Q24: 1113 | R24: 584 | S24: 198 | T24: 331 | U24: 375 | V24: 227 | W24: 143 | X24: 5 | Y24: 0 | Z24: 0 | AA24: 0 | AB24: 0 | AC24: 0.33692722 | AE24: =SUM(AF24:AH24) -> 0 | AI24: =SUM(AJ24:AM24) -> 0 | AM24: =SUM(AN24:AP24) -> 0 | AQ24: =AI24/AD24 -> #DIV/0!
A25: 광주시 | B25: =광주!$C$9 -> 1148 | C25: =SUM(D25:F25) -> 1142 | D25: =광주!$D$9 -> 544 | E25: =광주!$E$9 -> 598 | F25: =광주!$F$9 -> 0 | G25: =SUM(H25:K25) -> 312 | H25: =광주!$J$9 -> 312 | I25: =광주!$K$9 -> 0 | J25: =광주!$L$9 -> 0 | K25: =SUM(L25:N25) -> 0 | L25: =광주!$M$9 -> 0 | M25: =광주!$N$9 -> 0 | N25: =광주!$O$9 -> 0 | O25: =G25/B25 -> 0.271777 | P25: 1171 | Q25: 1171 | R25: 537 | S25: 634 | T25: 0 | U25: 343 | V25: 343 | W25: 0 | X25: 0 | Y25: 0 | Z25: 0 | AA25: 0 | AB25: 0 | AC25: 0.29291204 | AE25: =SUM(AF25:AH25) -> 0 | AI25: =SUM(AJ25:AM25) -> 0 | AM25: =SUM(AN25:AP25) -> 0 | AQ25: =AI25/AD25 -> #DIV/0!
A26: 광명시 | B26: =광명!$C$9 -> 440 | C26: =SUM(D26:F26) -> 437 | D26: =광명!$D$9 -> 253 | E26: =광명!$E$9 -> 139 | F26: =광명!$F$9 -> 45 | G26: =SUM(H26:K26) -> 317 | H26: =광명!$J$9 -> 94 | I26: =광명!$K$9 -> 204 | J26: =광명!$L$9 -> 3 | K26: =SUM(L26:N26) -> 16 | L26: =광명!$M$9 -> 0 | M26: =광명!$N$9 -> 16 | N26: =광명!$O$9 -> 0 | O26: =G26/B26 -> 0.72045455 | P26: 436 | Q26: 436 | R26: 253 | S26: 139 | T26: 44 | U26: 300 | V26: 77 | W26: 204 | X26: 3 | Y26: 16 | Z26: 0 | AA26: 16 | AB26: 0 | AC26: 0.68807339 | AE26: =SUM(AF26:AH26) -> 0 | AI26: =SUM(AJ26:AM26) -> 0 | AM26: =SUM(AN26:AP26) -> 0 | AQ26: =AI26/AD26 -> #DIV/0!
A27: 군포시 | B27: =군포!$C$9 -> 429 | C27: =SUM(D27:F27) -> 429 | D27: =군포!$D$9 -> 317 | E27: =군포!$E$9 -> 106 | F27: =군포!$F$9 -> 6 | G27: =SUM(H27:K27) -> 249 | H27: =군포!$J$9 -> 80 | I27: =군포!$K$9 -> 169 | J27: =군포!$L$9 -> 0 | K27: =SUM(L27:N27) -> 0 | L27: =군포!$M$9 -> 0 | M27: =군포!$N$9 -> 0 | N27: =군포!$O$9 -> 0 | O27: =G27/B27 -> 0.58041958 | P27: 429 | Q27: 429 | R27: 318 | S27: 105 | T27: 6 | U27: 249 | V27: 82 | W27: 167 | X27: 0 | Y27: 0 | Z27: 0 | AA27: 0 | AB27: 0 | AC27: 0.58041958 | AE27: =SUM(AF27:AH27) -> 0 | AI27: =SUM(AJ27:AM27) -> 0 | AM27: =SUM(AN27:AP27) -> 0 | AQ27: =AI27/AD27 -> #DIV/0!
A28: 하남시 | B28: =하남!$C$9 -> 553 | C28: =SUM(D28:F28) -> 550 | D28: =하남!$D$9 -> 335 | E28: =하남!$E$9 -> 140 | F28: =하남!$F$9 -> 75 | G28: =SUM(H28:K28) -> 283 | H28: =하남!$J$9 -> 102 | I28: =하남!$K$9 -> 52 | J28: =하남!$L$9 -> 92 | K28: =SUM(L28:N28) -> 37 | L28: =하남!$M$9 -> 37 | M28: =하남!$N$9 -> 0 | N28: =하남!$O$9 -> 0 | O28: =G28/B28 -> 0.51175407 | P28: 561 | Q28: 561 | R28: 344 | S28: 141 | T28: 76 | U28: 292 | V28: 112 | W28: 51 | X28: 92 | Y28: 37 | Z28: 37 | AA28: 0 | AB28: 0 | AC28: 0.52049911 | AE28: =SUM(AF28:AH28) -> 0 | AI28: =SUM(AJ28:AM28) -> 0 | AM28: =SUM(AN28:AP28) -> 0 | AQ28: =AI28/AD28 -> #DIV/0!
A29: 오산시 | B29: =오산!$C$9 -> 395 | C29: =SUM(D29:F29) -> 395 | D29: =오산!$D$9 -> 269 | E29: =오산!$E$9 -> 65 | F29: =오산!$F$9 -> 61 | G29: =SUM(H29:K29) -> 209 | H29: =오산!$J$9 -> 10 | I29: =오산!$K$9 -> 0 | J29: =오산!$L$9 -> 199 | K29: =SUM(L29:N29) -> 0 | L29: =오산!$M$9 -> 0 | M29: =오산!$N$9 -> 0 | N29: =오산!$O$9 -> 0 | O29: =G29/B29 -> 0.52911392 | P29: 396 | Q29: 396 | R29: 269 | S29: 66 | T29: 61 | U29: 209 | V29: 10 | W29: 0 | X29: 199 | Y29: 0 | Z29: 0 | AA29: 0 | AB29: 0 | AC29: 0.52777778 | AE29: =SUM(AF29:AH29) -> 0 | AI29: =SUM(AJ29:AM29) -> 0 | AM29: =SUM(AN29:AP29) -> 0 | AQ29: =AI29/AD29 -> #DIV/0!
A30: 양주시 | B30: =양주!$C$9 -> 1496 | C30: =SUM(D30:F30) -> 1496 | D30: =양주!$D$9 -> 665 | E30: =양주!$E$9 -> 319 | F30: =양주!$F$9 -> 512 | G30: =SUM(H30:K30) -> 439 | H30: =양주!$J$9 -> 435 | I30: =양주!$K$9 -> 0 | J30: =양주!$L$9 -> 0 | K30: =SUM(L30:N30) -> 4 | L30: =양주!$M$9 -> 4 | M30: =양주!$N$9 -> 0 | N30: =양주!$O$9 -> 0 | O30: =G30/B30 -> 0.2934492 | P30: 1496 | Q30: 1496 | R30: 666 | S30: 315 | T30: 515 | U30: 453 | V30: 449 | W30: 0 | X30: 0 | Y30: 4 | Z30: 4 | AA30: 0 | AB30: 0 | AC30: 0.30280749 | AE30: =SUM(AF30:AH30) -> 0 | AI30: =SUM(AJ30:AM30) -> 0 | AM30: =SUM(AN30:AP30) -> 0 | AQ30: =AI30/AD30 -> #DIV/0!
A31: 이천시 | B31: =이천!$C$9 -> 1138 | C31: =SUM(D31:F31) -> 1138 | D31: =이천!$D$9 -> 397 | E31: =이천!$E$9 -> 394 | F31: =이천!$F$9 -> 347 | G31: =SUM(H31:K31) -> 288 | H31: =이천!$J$9 -> 23 | I31: =이천!$K$9 -> 253 | J31: =이천!$L$9 -> 0 | K31: =SUM(L31:N31) -> 12 | L31: =이천!$M$9 -> 12 | M31: =이천!$N$9 -> 0 | N31: =이천!$O$9 -> 0 | O31: =G31/B31 -> 0.25307557 | P31: 1180 | Q31: 1180 | R31: 415 | S31: 402 | T31: 363 | U31: 307 | V31: 41 | W31: 253 | X31: 0 | Y31: 13 | Z31: 13 | AA31: 0 | AB31: 0 | AC31: 0.26016949 | AE31: =SUM(AF31:AH31) -> 0 | AI31: =SUM(AJ31:AM31) -> 0 | AM31: =SUM(AN31:AP31) -> 0 | AQ31: =AI31/AD31 -> #DIV/0!
A32: 구리시 | B32: =구리!$C$9 -> 307 | C32: =SUM(D32:F32) -> 307 | D32: =구리!$D$9 -> 220 | E32: =구리!$E$9 -> 82 | F32: =구리!$F$9 -> 5 | G32: =SUM(H32:K32) -> 207 | H32: =구리!$J$9 -> 101 | I32: =구리!$K$9 -> 95 | J32: =구리!$L$9 -> 0 | K32: =SUM(L32:N32) -> 11 | L32: =구리!$M$9 -> 11 | M32: =구리!$N$9 -> 0 | N32: =구리!$O$9 -> 0 | O32: =G32/B32 -> 0.6742671 | P32: 308 | Q32: 308 | R32: 221 | S32: 82 | T32: 5 | U32: 207 | V32: 101 | W32: 95 | X32: 0 | Y32: 11 | Z32: 11 | AA32: 0 | AB32: 0 | AC32: 0.67207792 | AE32: =SUM(AF32:AH32) -> 0 | AI32: =SUM(AJ32:AM32) -> 0 | AM32: =SUM(AN32:AP32) -> 0 | AQ32: =AI32/AD32 -> #DIV/0!
A33: 안성시 | B33: =안성!$C$9 -> 1196 | C33: =SUM(D33:F33) -> 1196 | D33: =안성!$D$9 -> 499 | E33: =안성!$E$9 -> 110 | F33: =안성!$F$9 -> 587 | G33: =SUM(H33:K33) -> 229 | H33: =안성!$J$9 -> 52 | I33: =안성!$K$9 -> 177 | J33: =안성!$L$9 -> 0 | K33: =SUM(L33:N33) -> 0 | L33: =안성!$M$9 -> 0 | M33: =안성!$N$9 -> 0 | N33: =안성!$O$9 -> 0 | O33: =G33/B33 -> 0.19147157 | P33: 1217 | Q33: 1217 | R33: 516 | S33: 112 | T33: 589 | U33: 300 | V33: 62 | W33: 238 | X33: 0 | Y33: 0 | Z33: 0 | AA33: 0 | AB33: 0 | AC33: 0.24650781 | AE33: =SUM(AF33:AH33) -> 0 | AI33: =SUM(AJ33:AM33) -> 0 | AM33: =SUM(AN33:AP33) -> 0 | AQ33: =AI33/AD33 -> #DIV/0!
A34: 포천시 | B34: =포천!$C$9 -> 1122 | C34: =SUM(D34:F34) -> 1122 | D34: =포천!$D$9 -> 462 | E34: =포천!$E$9 -> 238 | F34: =포천!$F$9 -> 422 | G34: =SUM(H34:K34) -> 266 | H34: =포천!$J$9 -> 147 | I34: =포천!$K$9 -> 110 | J34: =포천!$L$9 -> 0 | K34: =SUM(L34:N34) -> 9 | L34: =포천!$M$9 -> 9 | M34: =포천!$N$9 -> 0 | N34: =포천!$O$9 -> 0 | O34: =G34/B34 -> 0.23707665 | P34: 1119 | Q34: 1119 | R34: 472 | S34: 233 | T34: 414 | U34: 277 | V34: 162 | W34: 106 | X34: 0 | Y34: 9 | Z34: 9 | AA34: 0 | AB34: 0 | AC34: 0.24754245 | AE34: =SUM(AF34:AH34) -> 0 | AI34: =SUM(AJ34:AM34) -> 0 | AM34: =SUM(AN34:AP34) -> 0 | AQ34: =AI34/AD34 -> #DIV/0!
A35: 의왕시 | B35: =의왕!$C$9 -> 371 | C35: =SUM(D35:F35) -> 371 | D35: =의왕!$D$9 -> 255 | E35: =의왕!$E$9 -> 46 | F35: =의왕!$F$9 -> 70 | G35: =SUM(H35:K35) -> 221 | H35: =의왕!$J$9 -> 0 | I35: =의왕!$K$9 -> 221 | J35: =의왕!$L$9 -> 0 | K35: =SUM(L35:N35) -> 0 | L35: =의왕!$M$9 -> 0 | M35: =의왕!$N$9 -> 0 | N35: =의왕!$O$9 -> 0 | O35: =G35/B35 -> 0.59568733 | P35: 381 | Q35: 381 | R35: 258 | S35: 50 | T35: 73 | U35: 220 | V35: 0 | W35: 180 | X35: 40 | Y35: 0 | Z35: 0 | AA35: 0 | AB35: 0 | AC35: 0.57742782 | AE35: =SUM(AF35:AH35) -> 0 | AI35: =SUM(AJ35:AM35) -> 0 | AM35: =SUM(AN35:AP35) -> 0 | AQ35: =AI35/AD35 -> #DIV/0!
A36: 양평군 | B36: =양평!$C$9 -> 1051 | C36: =SUM(D36:F36) -> 1044 | D36: =양평!$D$9 -> 460 | E36: =양평!$E$9 -> 582 | F36: =양평!$F$9 -> 2 | G36: =SUM(H36:K36) -> 65 | H36: =양평!$J$9 -> 29 | I36: =양평!$K$9 -> 36 | J36: =양평!$L$9 -> 0 | K36: =SUM(L36:N36) -> 0 | L36: =양평!$M$9 -> 0 | M36: =양평!$N$9 -> 0 | N36: =양평!$O$9 -> 0 | O36: =G36/B36 -> 0.061845861 | P36: 1079 | Q36: 1042 | R36: 459 | S36: 581 | T36: 2 | U36: 75 | V36: 40 | W36: 35 | X36: 0 | Y36: 0 | Z36: 0 | AA36: 0 | AB36: 0 | AC36: 0.069508804 | AE36: =SUM(AF36:AH36) -> 0 | AI36: =SUM(AJ36:AM36) -> 0 | AM36: =SUM(AN36:AP36) -> 0 | AQ36: =AI36/AD36 -> #DIV/0!
A37: 여주시 | B37: =여주!$C$9 -> 1121 | C37: =SUM(D37:F37) -> 1121 | D37: =여주!$D$9 -> 85 | E37: =여주!$E$9 -> 0 | F37: =여주!$F$9 -> 1036 | G37: =SUM(H37:K37) -> 86 | H37: =여주!$J$9 -> 48 | I37: =여주!$K$9 -> 37 | J37: =여주!$L$9 -> 0 | K37: =SUM(L37:N37) -> 1 | L37: =여주!$M$9 -> 0 | M37: =여주!$N$9 -> 0 | N37: =여주!$O$9 -> 1 | O37: =G37/B37 -> 0.076717217 | P37: 1140 | Q37: 1140 | R37: 466 | S37: 29 | T37: 645 | U37: 86 | V37: 48 | W37: 37 | X37: 0 | Y37: 1 | Z37: 0 | AA37: 0 | AB37: 1 | AC37: 0.075438596 | AE37: =SUM(AF37:AH37) -> 0 | AI37: =SUM(AJ37:AM37) -> 0 | AM37: =SUM(AN37:AP37) -> 0 | AQ37: =AI37/AD37 -> #DIV/0!
A38: 동두천시 | B38: =동두천!$C$9 -> 357 | C38: =SUM(D38:F38) -> 356 | D38: =동두천!$D$9 -> 145 | E38: =동두천!$E$9 -> 153 | F38: =동두천!$F$9 -> 58 | G38: =SUM(H38:K38) -> 100 | H38: =동두천!$J$9 -> 66 | I38: =동두천!$K$9 -> 34 | J38: =동두천!$L$9 -> 0 | K38: =SUM(L38:N38) -> 0 | L38: =동두천!$M$9 -> 0 | M38: =동두천!$N$9 -> 0 | N38: =동두천!$O$9 -> 0 | O38: =G38/B38 -> 0.28011204 | P38: 354 | Q38: 354 | R38: 150 | S38: 154 | T38: 50 | U38: 100 | V38: 66 | W38: 34 | X38: 0 | Y38: 0 | Z38: 0 | AA38: 0 | AB38: 0 | AC38: 0.28248588 | AE38: =SUM(AF38:AH38) -> 0 | AI38: =SUM(AJ38:AM38) -> 0 | AM38: =SUM(AN38:AP38) -> 0 | AQ38: =AI38/AD38 -> #DIV/0!
A39: 가평군 | B39: =가평!$C$9 -> 875 | C39: =SUM(D39:F39) -> 875 | D39: =가평!$D$9 -> 288 | E39: =가평!$E$9 -> 450 | F39: =가평!$F$9 -> 137 | G39: =SUM(H39:K39) -> 107 | H39: =가평!$J$9 -> 9 | I39: =가평!$K$9 -> 95 | J39: =가평!$L$9 -> 3 | K39: =SUM(L39:N39) -> 0 | L39: =가평!$M$9 -> 0 | M39: =가평!$N$9 -> 0 | N39: =가평!$O$9 -> 0 | O39: =G39/B39 -> 0.12228571 | P39: 863 | Q39: 863 | R39: 288 | S39: 450 | T39: 125 | U39: 107 | V39: 9 | W39: 95 | X39: 3 | Y39: 0 | Z39: 0 | AA39: 0 | AB39: 0 | AC39: 0.1239861 | AE39: =SUM(AF39:AH39) -> 0 | AI39: =SUM(AJ39:AM39) -> 0 | AM39: =SUM(AN39:AP39) -> 0 | AQ39: =AI39/AD39 -> #DIV/0!
A40: 과천시 | B40: =과천!$C$9 -> 109 | C40: =SUM(D40:F40) -> 105 | D40: =과천!$D$9 -> 70 | E40: =과천!$E$9 -> 16 | F40: =과천!$F$9 -> 19 | G40: =SUM(H40:K40) -> 57 | H40: =과천!$J$9 -> 41 | I40: =과천!$K$9 -> 0 | J40: =과천!$L$9 -> 0 | K40: =SUM(L40:N40) -> 16 | L40: =과천!$M$9 -> 0 | M40: =과천!$N$9 -> 16 | N40: =과천!$O$9 -> 0 | O40: =G40/B40 -> 0.52293578 | P40: 105 | Q40: 105 | R40: 70 | S40: 16 | T40: 19 | U40: 57 | V40: 41 | W40: 0 | X40: 0 | Y40: 16 | Z40: 0 | AA40: 16 | AB40: 0 | AC40: 0.54285714 | AE40: =SUM(AF40:AH40) -> 0 | AI40: =SUM(AJ40:AM40) -> 0 | AM40: =SUM(AN40:AP40) -> 0 | AQ40: =AI40/AD40 -> #DIV/0!
A41: 연천군 | B41: =연천!$C$9 -> 634 | C41: =SUM(D41:F41) -> 634 | D41: =연천!$D$9 -> 175 | E41: =연천!$E$9 -> 97 | F41: =연천!$F$9 -> 362 | G41: =SUM(H41:K41) -> 112 | H41: =연천!$J$9 -> 0 | I41: =연천!$K$9 -> 112 | J41: =연천!$L$9 -> 0 | K41: =SUM(L41:N41) -> 0 | L41: =연천!$M$9 -> 0 | M41: =연천!$N$9 -> 0 | N41: =연천!$O$9 -> 0 | O41: =G41/B41 -> 0.17665615 | P41: 639 | Q41: 639 | R41: 181 | S41: 94 | T41: 364 | U41: 112 | V41: 0 | W41: 112 | X41: 0 | Y41: 0 | Z41: 0 | AA41: 0 | AB41: 0 | AC41: 0.17527387 | AE41: =SUM(AF41:AH41) -> 0 | AI41: =SUM(AJ41:AM41) -> 0 | AM41: =SUM(AN41:AP41) -> 0 | AQ41: =AI41/AD41 -> #DIV/0!

Sheet 수원
A1: 수원시 정류소전광판(BIT) 설치지점 현황
A3: ※ 노란색 부분만 작성할 것 [작성방법] 1. 정류소 타입(쉘터, 표지, 무표지)를 기입할 것 2. 정류소별 BIT 설치 세부현황을 기입할 것(정류소번호, ID로 매칭해서 반드시 기재할 것) - 1개 정류소에 BIT 유형별로 설치된 경우 모든 수량 표기할 것 - 사례1 (수원역 정류소(20000001) 1곳에 LED 3개, LCD 2개 있는 경우) : BIT설치여부 1 / LED 3 / LCD 2 ※ 버스기반정보상에 등록된 ID와 번호를 참고하여 시군 센터내부에 매칭 테이블을 관리하고 있으므로 반드시 작성할 것 3. 해당 시군 관할 정류소가 아닌 경우 시군명 변경하고 관할 정류소가 누락된 경우 인접 시군 현황을 참고하여 추가 작성할 것 4. 비고란에 정류소미존재 기재된 경우 운송관리시스템에서 확인 후 정류소 반영
P5: (단위 : 개소)
A6: NO | B6: 시군 | C6: 정류소 | I6: 정류소전광판(BIT)
C7: 정류소명 | D7: 정류소 타입 | G7: 정류소번호 (5자리) | H7: 정류소ID (9자리) | I7: BIT 설치여부 | J7: BIT 유형 | P7: 비고
D8: 쉘터 (쉘터+표지) | E8: 표지 | F8: 무표지 | J8: LED | K8: LCD | L8: LED+LCD 복합형 | M8: 알뜰형 | N8: 임대형 (음성) | O8: 기타
C9: =COUNTA(C10:C1450) -> 1441 | D9: =COUNT(D10:D1450) -> 846 | E9: =COUNT(E10:E1450) -> 316 | F9: =COUNT(F10:F1450) -> 279 | I9: =COUNT(I10:I1450) -> 1010 | J9: =COUNT(J10:J1450) -> 380 | K9: =COUNT(K10:K1450) -> 174 | L9: =COUNT(L10:L1450) -> 363 | M9: =COUNT(M10:M1450) -> 93 | N9: =COUNT(N10:N1450) -> 0 | O9: =COUNT(O10:O1450) -> 0
A10: 1 | B10: 수원시 | C10: 권선구청 | D10: 1 | G10: 2831 | H10: 201000313 | I10: 1 | J10: 1
A11: 2 | B11: 수원시 | C11: 중보들공원 | D11: 1 | G11: 2052 | H11: 201000344
A12: 3 | B12: 수원시 | C12: 남수원초등학교 | D12: 1 | G12: 2829 | H12: 201000345 | I12: 1 | M12: 1
A13: 4 | B13: 수원시 | C13: 신미주아파트 | E13: 1 | G13: 2875 | H13: 201000379 | I13: 1 | J13: 1
A14: 5 | B14: 수원시 | C14: 휴먼스카이벨리 | E14: 1 | G14: 2018 | H14: 201000335 | I14: 1 | M14: 1
A15: 6 | B15: 수원시 | C15: 농수산물시장 | E15: 1 | G15: 2257 | H15: 201000055 | I15: 1 | K15: 1
A16: 7 | B16: 수원시 | C16: 곡반중학교 | D16: 1 | G16: 2291 | H16: 201000268 | I16: 1 | J16: 1
A17: 8 | B17: 수원시 | C17: 이목동차고지.이목동입구 | F17: 1 | G17: 1070 | H17: 200000165
A18: 9 | B18: 수원시 | C18: 경기도건설본부.경기도동물위생시험소.칠보마을7단지 | D18: 1 | G18: 2840 | H18: 201000337 | I18: 1 | K18: 1
A19: 10 | B19: 수원시 | C19: 백선교회 | D19: 1 | G19: 1263 | H19: 200000292 | I19: 1 | L19: 1
A20: 11 | B20: 수원시 | C20: 화서역 | D20: 1 | G20: 3175 | H20: 202000089 | I20: 1 | L20: 1
A21: 12 | B21: 수원시 | C21: 한양수자인파크원아파트.금호초등학교 | D21: 1 | G21: 2862 | H21: 201000358 | I21: 1 | K21: 1
A22: 13 | B22: 수원시 | C22: 수원은혜교회.한양수자인파크원아파트 | D22: 1 | G22: 2861 | H22: 201000357 | I22: 1 | K22: 1
A23: 14 | B23: 수원시 | C23: 삼익아파트 | E23: 1 | G23: 2876 | H23: 201000377 | I23: 1 | J23: 1
A24: 15 | B24: 수원시 | C24: 수원산업단지 | D24: 1 | G24: 2849 | H24: 201000348 | I24: 1 | L24: 1
A25: 16 | B25: 수원시 | C25: 화서역 | D25: 1 | G25: 3176 | H25: 202000090 | I25: 1 | L25: 1
A26: 17 | B26: 수원시 | C26: 원천삼성1차아파트.팩토리월드 | D26: 1 | G26: 4251 | H26: 203000242 | I26: 1 | L26: 1
A27: 18 | B27: 수원시 | C27: 산업단지중앙로 | D27: 1 | G27: 2853 | H27: 201000353 | I27: 1 | L27: 1
A28: 19 | B28: 수원시 | C28: 광교노인복지관 | E28: 1 | G28: 4187 | H28: 203000181 | I28: 1 | J28: 1
A29: 20 | B29: 수원시 | C29: 문암골 | E29: 1 | G29: 1196 | H29: 200000004
A30: 21 | B30: 수원시 | C30: 고색삼거리 | E30: 1 | G30: 2141 | H30: 201000065 | I30: 1 | L30: 1
A31: 22 | B31: 수원시 | C31: 우방아파트 | D31: 1 | G31: 2106 | H31: 201000137 | I31: 1 | J31: 1
A32: 23 | B32: 수원시 | C32: 동원고교.해우재입구 | D32: 1 | G32: 1268 | H32: 200000293 | I32: 1 | J32: 1
A33: 24 | B33: 수원시 | C33: 한국전력경기사업본부.한라시그마팰리스 | D33: 1 | G33: 3147 | H33: 202000082 | I33: 1 | L33: 1
A34: 25 | B34: 수원시 | C34: 동원고교.해우재입구 | D34: 1 | G34: 1253 | H34: 200000276 | I34: 1 | J34: 1
A35: 26 | B35: 수원시 | C35: 농수산물사거리 | E35: 1 | G35: 2882 | H35: 201000382 | I35: 1 | L35: 1
A36: 27 | B36: 수원시 | C36: 권선보성.두산동아.신우아파트 | E36: 1 | G36: 2883 | H36: 201000383 | I36: 1 | L36: 1
A37: 28 | B37: 수원시 | C37: 우림.대한아파트 | D37: 1 | G37: 2848 | H37: 201000350 | I37: 1 | J37: 1
A38: 29 | B38: 수원시 | C38: 원천신미주아파트 | D38: 1 | G38: 4249 | H38: 203000244 | I38: 1 | L38: 1
A39: 30 | B39: 수원시 | C39: 한마루.한국아파트 | D39: 1 | G39: 1271 | H39: 200000283 | I39: 1 | L39: 1
A40: 31 | B40: 수원시 | C40: 경기도립수원의료원.두견마을 | D40: 1 | G40: 1251 | H40: 200000266 | I40: 1 | L40: 1
A41: 32 | B41: 수원시 | C41: 홈플러스서수원점 | D41: 1 | G41: 2864 | H41: 201000359 | I41: 1 | K41: 1
A42: 33 | B42: 수원시 | C42: 솔대체육공원 | D42: 1 | G42: 2852 | H42: 201000354 | I42: 1 | J42: 1
A43: 34 | B43: 수원시 | C43: 입북동삼거리 | E43: 1 | G43: 2950 | H43: 201000185
A44: 35 | B44: 수원시 | C44: 조원고등학교 | D44: 1 | G44: 1249 | H44: 200000245
A45: 36 | B45: 수원시 | C45: 오현초등학교 | D45: 1 | G45: 2839 | H45: 201000327 | I45: 1 | L45: 1
A46: 37 | B46: 수원시 | C46: 원천신미주아파트 | D46: 1 | G46: 4248 | H46: 203000243 | I46: 1 | L46: 1
A47: 38 | B47: 수원시 | C47: 월드메르디앙 | E47: 1 | G47: 3172 | H47: 202000092 | I47: 1 | L47: 1
A48: 39 | B48: 수원시 | C48: 당수동 | E48: 1 | G48: 2867 | H48: 201000372
A49: 40 | B49: 수원시 | C49: 밤꽃마을뜨란채아파트 | E49: 1 | G49: 1247 | H49: 200000241
A50: 41 | B50: 수원시 | C50: 권선초등학교 | E50: 1 | G50: 2860 | H50: 201000265 | I50: 1 | K50: 1
A51: 42 | B51: 수원시 | C51: 삼성DigitalCity홍보관 | D51: 1 | G51: 4203 | H51: 203000185 | I51: 1 | L51: 1
A52: 43 | B52: 수원시 | C52: 영통뜨란채아파트 | D52: 1 | G52: 4194 | H52: 203000183 | I52: 1 | J52: 1
A53: 44 | B53: 수원시 | C53: 매향동 | E53: 1 | G53: 3062 | H53: 202000081 | I53: 1 | M53: 1
A54: 45 | B54: 수원시 | C54: 세류3동주민센터.버드내노인복지회관 | D54: 1 | G54: 2188 | H54: 201000112 | I54: 1 | J54: 1
A55: 46 | B55: 수원시 | C55: 국립축산과학원 | D55: 1 | G55: 2069 | H55: 201000260 | I55: 1 | L55: 1
A56: 47 | B56: 수원시 | C56: 동성아울렛 | E56: 1 | G56: 1239 | H56: 200000271 | I56: 1 | L56: 1
A57: 48 | B57: 수원시 | C57: 정자초교사거리 | D57: 1 | G57: 1240 | H57: 200000265 | I57: 1 | L57: 1
A58: 49 | B58: 수원시 | C58: 금곡동강남아파트 | D58: 1 | G58: 2836 | H58: 201000322 | I58: 1 | J58: 1
A59: 50 | B59: 수원시 | C59: 구운동하이마트 | D59: 1 | G59: 2837 | H59: 201000318 | I59: 1 | J59: 1
A60: 51 | B60: 수원시 | C60: 입북동주민센터 | E60: 1 | G60: 2286 | H60: 201000310 | I60: 1 | L60: 1
A61: 52 | B61: 수원시 | C61: 웅비아파트 | D61: 1 | G61: 2284 | H61: 201000312 | I61: 1 | J61: 1
A62: 53 | B62: 수원시 | C62: 광교더샵주상복합 | D62: 1 | G62: 4202 | H62: 203000189 | I62: 1 | M62: 1
A63: 54 | B63: 수원시 | C63: 광교더샵주상복합 | D63: 1 | G63: 4201 | H63: 203000188 | I63: 1 | M63: 1
A64: 55 | B64: 수원시 | C64: 한국은행 | D64: 1 | G64: 1232 | H64: 200000202 | I64: 1 | L64: 1
A65: 56 | B65: 수원시 | C65: 입북동입구 | D65: 1 | G65: 2044 | H65: 201000076 | I65: 1 | J65: 1
A66: 57 | B66: 수원시 | C66: 전원아파트.한라녹턴아파트 | E66: 1 | G66: 2198 | H66: 201000074 | I66: 1 | L66: 1
A67: 58 | B67: 수원시 | C67: 큰갓띠 | E67: 1 | G67: 2027 | H67: 201000073
A68: 59 | B68: 수원시 | C68: 평동 | E68: 1 | G68: 2152 | H68: 201000068 | I68: 1 | L68: 1
A69: 60 | B69: 수원시 | C69: 자동차매매센터 | E69: 1 | G69: 2145 | H69: 201000066 | I69: 1 | L69: 1
A70: 61 | B70: 수원시 | C70: 고색역.고색초교.태산아파트 | E70: 1 | G70: 2122 | H70: 201000018 | I70: 1 | J70: 1
A71: 62 | B71: 수원시 | C71: 수원여자대학입구 | E71: 1 | G71: 2067 | H71: 201000017 | I71: 1 | J71: 1
A72: 63 | B72: 수원시 | C72: 가게앞.평동 | E72: 1 | G72: 2153 | H72: 201000015
A73: 64 | B73: 수원시 | C73: 매교역3번출구.성원아파트 | E73: 1 | G73: 2194 | H73: 201000269 | I73: 1 | L73: 1
A74: 65 | B74: 수원시 | C74: 수원가구거리 | D74: 1 | G74: 2245 | H74: 201000110 | I74: 1 | L74: 1
A75: 66 | B75: 수원시 | C75: 세류2동주민센터 | D75: 1 | G75: 2180 | H75: 201000342 | I75: 1 | J75: 1
A76: 67 | B76: 수원시 | C76: 가온마을4단지.서수원칠보체육관 | D76: 1 | G76: 2025 | H76: 201000100 | I76: 1 | K76: 1
A77: 68 | B77: 수원시 | C77: 칠보고등학교.칠보중학교.극동스타클래스 | D77: 1 | G77: 2024 | H77: 201000099 | I77: 1 | K77: 1
A78: 69 | B78: 수원시 | C78: 신미주아파트 | E78: 1 | G78: 2033 | H78: 201000095 | I78: 1 | J78: 1
A79: 70 | B79: 수원시 | C79: 수원센트럴타운1단지.유천교 | D79: 1 | G79: 2178 | H79: 201000086 | I79: 1 | J79: 1
A80: 71 | B80: 수원시 | C80: 수원센트럴타운1.2단지 | E80: 1 | G80: 2172 | H80: 201000085 | I80: 1 | L80: 1
A81: 72 | B81: 수원시 | C81: 세류현대아파트 | E81: 1 | G81: 2211 | H81: 201000081 | I81: 1 | L81: 1
A82: 73 | B82: 수원시 | C82: 수원농협권선지점 | E82: 1 | G82: 2204 | H82: 201000080 | I82: 1 | L82: 1
A83: 74 | B83: 수원시 | C83: 세권사거리 | E83: 1 | G83: 2220 | H83: 201000079 | I83: 1 | L83: 1
A84: 75 | B84: 수원시 | C84: 고색파출소.종합공구단지 | D84: 1 | G84: 2137 | H84: 201000064 | I84: 1 | J84: 1
A85: 76 | B85: 수원시 | C85: 고색동입구.고색삼거리 | E85: 1 | G85: 2142 | H85: 201000063 | I85: 1 | L85: 1
A86: 77 | B86: 수원시 | C86: 자동차매매센터 | E86: 1 | G86: 2144 | H86: 201000062 | I86: 1 | L86: 1
A87: 78 | B87: 수원시 | C87: 평동행정복지센터 | D87: 1 | G87: 2150 | H87: 201000061 | I87: 1 | J87: 1
A88: 79 | B88: 수원시 | C88: 평동 | D88: 1 | G88: 2151 | H88: 201000060 | I88: 1 | J88: 1
A89: 80 | B89: 수원시 | C89: 가게앞.평동 | D89: 1 | G89: 2154 | H89: 201000059 | I89: 1 | J89: 1
A90: 81 | B90: 수원시 | C90: 농수산물시장 | E90: 1 | G90: 2258 | H90: 201000056 | I90: 1 | L90: 1
A91: 82 | B91: 수원시 | C91: 권선시장앞 | E91: 1 | G91: 2236 | H91: 201000053 | I91: 1 | L91: 1
A92: 83 | B92: 수원시 | C92: 새터마을 | D92: 1 | G92: 2174 | H92: 201000049 | I92: 1 | J92: 1
A93: 84 | B93: 수원시 | C93: 세류중학교.아세아시멘트 | D93: 1 | G93: 2165 | H93: 201000048 | I93: 1 | L93: 1
A94: 85 | B94: 수원시 | C94: 권선중학교 | D94: 1 | G94: 2208 | H94: 201000042 | I94: 1 | J94: 1
A95: 86 | B95: 수원시 | C95: 공군관사 | D95: 1 | G95: 2206 | H95: 201000041 | I95: 1 | J95: 1
A96: 87 | B96: 수원시 | C96: 웃거리 | D96: 1 | G96: 2120 | H96: 201000034 | I96: 1 | J96: 1
A97: 88 | B97: 수원시 | C97: 웃거리 | D97: 1 | G97: 2119 | H97: 201000031 | I97: 1 | L97: 1
A98: 89 | B98: 수원시 | C98: 휴먼스카이벨리 | E98: 1 | G98: 2047 | H98: 201000027 | I98: 1 | M98: 1
A99: 90 | B99: 수원시 | C99: 대명고등학교 | D99: 1 | G99: 2015 | H99: 201000026 | I99: 1 | J99: 1
A100: 91 | B100: 수원시 | C100: 중보들공원 | D100: 1 | G100: 2157 | H100: 201000021
A101: 92 | B101: 수원시 | C101: 만석공원테니스장 | D101: 1 | G101: 1110 | H101: 200000154 | I101: 1 | J101: 1
A102: 93 | B102: 수원시 | C102: 연세수요양병원.송죽희성연인아파트 | D102: 1 | G102: 1115 | H102: 200000153 | I102: 1 | J102: 1
...

Sheet 고양
A1: 고양시 정류소전광판(BIT) 설치지점 현황
A3: ※ 노란색 부분만 작성할 것 [작성방법] 1. 정류소 타입(쉘터, 표지, 무표지)를 기입할 것 2. 정류소별 BIT 설치 세부현황을 기입할 것(정류소번호, ID로 매칭해서 반드시 기재할 것) - 1개 정류소에 BIT 유형별로 설치된 경우 모든 수량 표기할 것 - 사례1 (수원역 정류소(20000001) 1곳에 LED 3개, LCD 2개 있는 경우) : BIT설치여부 1 / LED 3 / LCD 2 ※ 버스기반정보상에 등록된 ID와 번호를 참고하여 시군 센터내부에 매칭 테이블을 관리하고 있으므로 반드시 작성할 것 3. 해당 시군 관할 정류소가 아닌 경우 시군명 변경하고 관할 정류소가 누락된 경우 인접 시군 현황을 참고하여 추가 작성할 것 4. 비고란에 정류소미존재 기재된 경우 운송관리시스템에서 확인 후 정류소 반영
P5: (단위 : 개소)
A6: NO | B6: 시군 | C6: 정류소 | I6: 정류소전광판(BIT)
C7: 정류소명 | D7: 정류소 타입 | G7: 정류소번호 (5자리) | H7: 정류소ID (9자리) | I7: BIT 설치여부 | J7: BIT 유형 | P7: 비고
D8: 쉘터 (쉘터+표지) | E8: 표지 | F8: 무표지 | J8: LED | K8: LCD | L8: LED+LCD 복합형 | M8: 알뜰형 | N8: 임대형 (음성) | O8: 기타
C9: =COUNTA(C10:C2278) -> 2269 | D9: =COUNT(D10:D2278) -> 1183 | E9: =COUNT(E10:E2278) -> 909 | F9: =COUNT(F10:F2278) -> 177 | I9: =COUNT(I10:I2278) -> 1044 | J9: =COUNT(J10:J2278) -> 751 | K9: =COUNT(K10:K2278) -> 262 | L9: =COUNT(L10:L2278) -> 31 | M9: =COUNT(M10:M2278) -> 0 | N9: =COUNT(N10:N2278) -> 0 | O9: =COUNT(O10:O2278) -> 0
A10: 1 | B10: 고양시 | C10: 섬말다리 | D10: 1 | G10: 19001 | H10: 218000490 | I10: 1 | J10: 1
A11: 2 | B11: 고양시 | C11: 섬말다리 | D11: 1 | G11: 19002 | H11: 218000338 | I11: 1 | J11: 1
A12: 3 | B12: 고양시 | C12: 신주택 | D12: 1 | G12: 19003 | H12: 218000201 | I12: 1 | J12: 1
A13: 4 | B13: 고양시 | C13: 신주택 | D13: 1 | G13: 19004 | H13: 218000187 | I13: 1 | J13: 1
A14: 5 | B14: 고양시 | C14: 삼성당 | D14: 1 | G14: 19005 | H14: 218000200 | I14: 1 | J14: 1
A15: 6 | B15: 고양시 | C15: 삼성당 | D15: 1 | G15: 19006 | H15: 218000188 | I15: 1 | J15: 1
A16: 7 | B16: 고양시 | C16: 대곡역(중) | D16: 1 | G16: 19007 | H16: 218000012 | I16: 1 | J16: 1
A17: 8 | B17: 고양시 | C17: 삼성당다리 | D17: 1 | G17: 19008 | H17: 218000199 | I17: 1 | J17: 1
A18: 9 | B18: 고양시 | C18: 삼성당다리 | D18: 1 | G18: 19009 | H18: 218000189 | I18: 1 | J18: 1
A19: 10 | B19: 고양시 | C19: 대곡역(중) | D19: 1 | G19: 19010 | H19: 218000202 | I19: 1 | J19: 1
A20: 11 | B20: 고양시 | C20: 나루터 | D20: 1 | G20: 19011 | H20: 218000034 | I20: 1 | J20: 1 | P20: 쉘터+표지=>쉘터로 통합
A21: 12 | B21: 고양시 | C21: 나루터 | D21: 1 | G21: 19012 | H21: 218000033 | I21: 1 | J21: 1
A22: 13 | B22: 고양시 | C22: 삼화연립 | E22: 1 | G22: 19013 | H22: 218000198 | I22: 1 | J22: 1
A23: 14 | B23: 고양시 | C23: 삼화연립 | D23: 1 | G23: 19014 | H23: 218000190
A24: 15 | B24: 고양시 | C24: 능곡삼거리.금호아파트 | E24: 1 | G24: 19015 | H24: 218000191 | I24: 1 | K24: 1
A25: 16 | B25: 고양시 | C25: 서원 | E25: 1 | G25: 19016 | H25: 218000238
A26: 17 | B26: 고양시 | C26: 허스A | D26: 1 | G26: 19017 | H26: 218000343 | I26: 1 | K26: 1
A27: 18 | B27: 고양시 | C27: 능곡초교 | D27: 1 | G27: 19018 | H27: 218000197 | I27: 1 | K27: 1
A28: 19 | B28: 고양시 | C28: 능곡초등학교 | E28: 1 | G28: 19019 | H28: 218000192 | I28: 1 | J28: 1
A29: 20 | B29: 고양시 | C29: 서원 | E29: 1 | G29: 19020 | H29: 218000035
A30: 21 | B30: 고양시 | C30: 대림.양우아파트 | E30: 1 | G30: 19021 | H30: 218000342 | I30: 1 | J30: 1
A31: 22 | B31: 고양시 | C31: 새마을 | D31: 1 | G31: 19022 | H31: 218000237 | I31: 1 | J31: 1
A32: 23 | B32: 고양시 | C32: 새마을 | E32: 1 | G32: 19023 | H32: 218000036
A33: 24 | B33: 고양시 | C33: 능곡시장 | D33: 1 | G33: 19024 | H33: 218000196 | I33: 1 | K33: 1
A34: 25 | B34: 고양시 | C34: 능곡역.능곡시장 | D34: 1 | G34: 19025 | H34: 218000193 | I34: 1 | J34: 1
A35: 26 | B35: 고양시 | C35: 토당육교교차로 | D35: 1 | G35: 19026 | H35: 218000354 | I35: 1 | J35: 1
A36: 27 | B36: 고양시 | C36: 토당육교교차로 | D36: 1 | G36: 19027 | H36: 218000353 | I36: 1 | K36: 1
A37: 28 | B37: 고양시 | C37: 능곡화원 | D37: 1 | G37: 19028 | H37: 218000007 | I37: 1 | J37: 1
A38: 29 | B38: 고양시 | C38: 능곡화원 | D38: 1 | G38: 19029 | H38: 218000207 | I38: 1 | J38: 1
A39: 30 | B39: 고양시 | C39: 원당중학교 | D39: 1 | G39: 19030 | H39: 218000004 | I39: 1 | K39: 1
A40: 31 | B40: 고양시 | C40: 원당중학교 | D40: 1 | G40: 19031 | H40: 218000005 | I40: 1 | K40: 1
A41: 32 | B41: 고양시 | C41: 맨돌 | D41: 1 | G41: 19032 | H41: 218000006 | I41: 1 | K41: 1
A42: 33 | B42: 고양시 | C42: 맨돌 | D42: 1 | G42: 19033 | H42: 218000208 | I42: 1 | J42: 1
A43: 34 | B43: 고양시 | C43: 능곡병원 | D43: 1 | G43: 19034 | H43: 218000489 | I43: 1 | J43: 1
A44: 35 | B44: 고양시 | C44: 능곡병원 | D44: 1 | G44: 19035 | H44: 218000018 | I44: 1 | J44: 1
A45: 36 | B45: 고양시 | C45: 능곡전화국 | E45: 1 | G45: 19036 | H45: 218000194 | I45: 1 | J45: 1
A46: 37 | B46: 고양시 | C46: 행주초등학교 | E46: 1 | G46: 19037 | H46: 218000038 | I46: 1 | J46: 1
A47: 38 | B47: 고양시 | C47: 행주초등학교 | D47: 1 | G47: 19038 | H47: 218000235 | I47: 1 | J47: 1
A48: 39 | B48: 고양시 | C48: 능곡전화국 | E48: 1 | G48: 19039 | H48: 218000195 | I48: 1 | J48: 1
A49: 40 | B49: 고양시 | C49: 행주산성 | D49: 1 | G49: 19040 | H49: 218000236 | I49: 1 | J49: 1
A50: 41 | B50: 고양시 | C50: 행주산성 | D50: 1 | G50: 19041 | H50: 218000037 | I50: 1 | J50: 1
A51: 42 | B51: 고양시 | C51: 능곡고교 | D51: 1 | G51: 19042 | H51: 218000009 | I51: 1 | K51: 1
A52: 43 | B52: 고양시 | C52: 능곡고교 | D52: 1 | G52: 19043 | H52: 218000205 | I52: 1 | J52: 1 | P52: 쉘터+표지=>쉘터로 통합
A53: 44 | B53: 고양시 | C53: 행주동행정복지센터.능곡전화국 | D53: 1 | G53: 19044 | H53: 218000008 | I53: 1 | K53: 1
A54: 45 | B54: 고양시 | C54: 별빛공원 | D54: 1 | G54: 19045 | H54: 218000010 | I54: 1 | J54: 1 | P54: 쉘터+표지=>쉘터로 통합
A55: 46 | B55: 고양시 | C55: 행주동행정복지센터.능곡전화국 | D55: 1 | G55: 19046 | H55: 218000206 | I55: 1 | K55: 1
A56: 47 | B56: 고양시 | C56: 능곡중학교 | D56: 1 | G56: 19047 | H56: 218000016 | I56: 1 | J56: 1
A57: 48 | B57: 고양시 | C57: 능곡중학교 | D57: 1 | G57: 19048 | H57: 218000017 | I57: 1 | J57: 1
A58: 49 | B58: 고양시 | C58: 토당고가.별빛마을9단지 | D58: 1 | G58: 19049 | H58: 218000039 | I58: 1 | K58: 1
A59: 50 | B59: 고양시 | C59: 별빛공원 | E59: 1 | G59: 19050 | H59: 218000204
A60: 51 | B60: 고양시 | C60: 토당고가.별빛마을9단지 | D60: 1 | G60: 19051 | H60: 218000234 | I60: 1 | K60: 1
A61: 52 | B61: 고양시 | C61: 행신도서관 | D61: 1 | G61: 19052 | H61: 218000147 | I61: 1 | J61: 1
A62: 53 | B62: 고양시 | C62: 행신도서관 | D62: 1 | G62: 19053 | H62: 218000133 | I62: 1 | J62: 1
A63: 54 | B63: 고양시 | C63: 토당초등학교.우창프라자 | D63: 1 | G63: 19054 | H63: 218000083 | I63: 1 | J63: 1
A64: 55 | B64: 고양시 | C64: 토당초등학교.우창프라자 | D64: 1 | G64: 19055 | H64: 218000082 | I64: 1 | J64: 1
A65: 56 | B65: 고양시 | C65: 물구리 | E65: 1 | G65: 19056 | H65: 218000527
A66: 57 | B66: 고양시 | C66: 양조장입구 | D66: 1 | G66: 19057 | H66: 218000003 | I66: 1 | J66: 1
A67: 58 | B67: 고양시 | C67: 행주산성입구.행주내동 | D67: 1 | G67: 19058 | H67: 218000211 | I67: 1 | J67: 1
A68: 59 | B68: 고양시 | C68: 행주산성입구.행주내동 | D68: 1 | G68: 19059 | H68: 218000303 | I68: 1 | J68: 1
A69: 60 | B69: 고양시 | C69: 은빛마을6단지 | D69: 1 | G69: 19060 | H69: 218000011 | I69: 1 | K69: 1
A70: 61 | B70: 고양시 | C70: 고양경찰서앞.고양어린이박물관 | D70: 1 | G70: 19061 | H70: 218000013 | I70: 1 | K70: 1
A71: 62 | B71: 고양시 | C71: 별빛마을7단지 | D71: 1 | G71: 19062 | H71: 218000203 | I71: 1 | K71: 1
A72: 63 | B72: 고양시 | C72: 고양경찰서앞.고양어린이박물관 | D72: 1 | G72: 19063 | H72: 218000020 | I72: 1 | K72: 1
A73: 64 | B73: 고양시 | C73: 화정역.롯데마트 | D73: 1 | G73: 19064 | H73: 218000019 | I73: 1 | J73: 1
A74: 65 | B74: 고양시 | C74: 고양경찰서(중) | D74: 1 | G74: 19065 | H74: 218000316 | I74: 1 | L74: 1 | P74: 중앙차선/LED1+LCD1
A75: 66 | B75: 고양시 | C75: 행신동삼거리 | D75: 1 | G75: 19066 | H75: 218000084 | I75: 1 | J75: 1
A76: 67 | B76: 고양시 | C76: 별빛마을8단지.롯데마트 | D76: 1 | G76: 19067 | H76: 218000014 | I76: 1 | K76: 1
A77: 68 | B77: 고양시 | C77: 고양시청.덕양구보건소 | E77: 1 | G77: 19068 | H77: 218000117 | I77: 1 | J77: 1
A78: 69 | B78: 고양시 | C78: 고양시청 | D78: 1 | G78: 19069 | H78: 218000346 | I78: 1 | J78: 1
A79: 70 | B79: 고양시 | C79: 화정역.덕양구청 | D79: 1 | G79: 19070 | H79: 218000099 | I79: 1 | K79: 1
A80: 71 | B80: 고양시 | C80: 옥빛마을16단지 | D80: 1 | G80: 19071 | H80: 218000232 | I80: 1 | K80: 1
A81: 72 | B81: 고양시 | C81: 행신동삼거리.무원마을10단지 | D81: 1 | G81: 19072 | H81: 218000081 | I81: 1 | K81: 1
A82: 73 | B82: 고양시 | C82: 덕양구청 | D82: 1 | G82: 19073 | H82: 218000072 | I82: 1 | J82: 1
A83: 74 | B83: 고양시 | C83: 고양시청.덕양구보건소 | D83: 1 | G83: 19074 | H83: 218000112 | I83: 1 | J83: 1
A84: 75 | B84: 고양시 | C84: 근린공원 | D84: 1 | G84: 19075 | H84: 218000073 | I84: 1 | J84: 1
A85: 76 | B85: 고양시 | C85: 고양어울림누리.달빛마을1단지 | D85: 1 | G85: 19076 | H85: 218000068 | I85: 1 | J85: 1
A86: 77 | B86: 고양시 | C86: 고양어울림누리.달빛마을1단지 | D86: 1 | G86: 19077 | H86: 218000103 | I86: 1 | J86: 1
A87: 78 | B87: 고양시 | C87: 근린공원 | E87: 1 | G87: 19078 | H87: 218000098 | I87: 1 | J87: 1
A88: 79 | B88: 고양시 | C88: 고양시청 | D88: 1 | G88: 19079 | H88: 218000345 | I88: 1 | J88: 1
A89: 80 | B89: 고양시 | C89: 성사2동행정복지센터 | D89: 1 | G89: 19080 | H89: 218000067 | I89: 1 | J89: 1
A90: 81 | B90: 고양시 | C90: 성사2동행정복지센터 | D90: 1 | G90: 19081 | H90: 218000104 | I90: 1 | J90: 1
A91: 82 | B91: 고양시 | C91: 화정동단독주택단지 | D91: 1 | G91: 19082 | H91: 218000100 | I91: 1 | J91: 1
A92: 83 | B92: 고양시 | C92: 화정동단독주택단지 | D92: 1 | G92: 19083 | H92: 218000071 | I92: 1 | J92: 1
A93: 84 | B93: 고양시 | C93: 행신SK뷰아파트 | D93: 1 | G93: 19084 | H93: 218000085 | I93: 1 | J93: 1
A94: 85 | B94: 고양시 | C94: 신원당마을7단지 | D94: 1 | G94: 19085 | H94: 218000092 | I94: 1 | K94: 1
A95: 86 | B95: 고양시 | C95: 샘터마을2단지.신능중학교 | D95: 1 | G95: 19086 | H95: 218000126 | I95: 1 | J95: 1
A96: 87 | B96: 고양시 | C96: 신원당마을7단지 | D96: 1 | G96: 19087 | H96: 218000093 | I96: 1 | K96: 1
A97: 88 | B97: 고양시 | C97: 샘터마을2단지.신능중학교 | D97: 1 | G97: 19088 | H97: 218000118 | I97: 1 | K97: 1
A98: 89 | B98: 고양시 | C98: 고양시청.덕양구보건소치매안심센터 | D98: 1 | G98: 19089 | H98: 218000105 | I98: 1 | J98: 1
A99: 90 | B99: 고양시 | C99: 샘터3단지.고양시교통정보센터 | D99: 1 | G99: 19090 | H99: 218000127 | I99: 1 | J99: 1
A100: 91 | B100: 고양시 | C100: 명지병원.달빛마을3단지 | D100: 1 | G100: 19091 | H100: 218000101 | I100: 1 | K100: 1
A101: 92 | B101: 고양시 | C101: 명지병원.은빛마을5단지 | D101: 1 | G101: 19092 | H101: 218000070 | I101: 1 | K101: 1
A102: 93 | B102: 고양시 | C102: 고양시청.주교동.덕양구보건소치매안심센터 | D102: 1 | G102: 19093 | H102: 218000066 | I102: 1 | K102: 1
...

Sheet 용인
A1: 정류소전광판(BIT) 설치지점 현황
A3: ※ 노란색 부분만 작성할 것 [작성방법] 1. 정류소 타입(쉘터, 표지, 무표지)를 기입할 것 2. 정류소별 BIT 설치 세부현황을 기입할 것(정류소번호, ID로 매칭해서 반드시 기재할 것) - 1개 정류소에 BIT 유형별로 설치된 경우 모든 수량 표기할 것 - 사례1 (수원역 정류소(20000001) 1곳에 LED 3개, LCD 2개 있는 경우) : BIT설치여부 1 / LED 3 / LCD 2 ※ 버스기반정보상에 등록된 ID와 번호를 참고하여 시군 센터내부에 매칭 테이블을 관리하고 있으므로 반드시 작성할 것 3. 해당 시군 관할 정류소가 아닌 경우 시군명 변경하고 관할 정류소가 누락된 경우 인접 시군 현황을 참고하여 추가 작성할 것 4. 비고란에 정류소미존재 기재된 경우 운송관리시스템에서 확인 후 정류소 반영
P5: (단위 : 개소)
A6: NO | B6: 시군 | C6: 정류소 | I6: 정류소전광판(BIT)
C7: 정류소명 | D7: 정류소 타입 | G7: 정류소번호 (5자리) | H7: 정류소ID (9자리) | I7: BIT 설치여부 | J7: BIT 유형 | P7: 비고
D8: 쉘터 (쉘터+표지) | E8: 표지 | F8: 무표지 | J8: LED | K8: LCD | L8: LED+LCD 복합형 | M8: 알뜰형 | N8: 임대형 (음성) | O8: 기타
C9: =COUNTA(C10:C2651) -> 2642 | D9: =COUNT(D10:D2651) -> 1401 | E9: =COUNT(E10:E2651) -> 894 | F9: =COUNT(F10:F2651) -> 343 | I9: =COUNT(I10:I2651) -> 957 | J9: =COUNT(J10:J2651) -> 196 | K9: =COUNT(K10:K2651) -> 758 | L9: =COUNT(L10:L2651) -> 3 | M9: =COUNT(M10:M2651) -> 0 | N9: =COUNT(N10:N2651) -> 0 | O9: =COUNT(O10:O2651) -> 0
A10: 1 | B10: 용인시 | C10: 55사단앞.삼성쉐르빌아파트 | D10: 1 | G10: 47348 | H10: 228001154 | I10: 1 | K10: 1
A11: 2 | B11: 용인시 | C11: 55사단앞.삼성쉐르빌아파트 | D11: 1 | G11: 47534 | H11: 228001155 | I11: 1 | K11: 1
A12: 3 | B12: 용인시 | C12: BA펜션 | E12: 1 | G12: 47925 | H12: 228002003
A13: 4 | B13: 용인시 | C13: KT수지지사.물류센터 | D13: 1 | G13: 29762 | H13: 228000981 | I13: 1 | K13: 1
A14: 5 | B14: 용인시 | C14: KT수지지사.물류센터 | D14: 1 | G14: 29763 | H14: 228001380 | I14: 1 | J14: 1
A15: 6 | B15: 용인시 | C15: LG3차아파트 | D15: 1 | G15: 29015 | H15: 228000862 | I15: 1 | K15: 1
A16: 7 | B16: 용인시 | C16: LG빌리지1차 | D16: 1 | G16: 29028 | H16: 228000863 | I16: 1 | K16: 1
A17: 8 | B17: 용인시 | C17: LG빌리지1차 | D17: 1 | G17: 29025 | H17: 228000858 | I17: 1 | K17: 1
A18: 9 | B18: 용인시 | C18: LG빌리지2차.두산기술원 | D18: 1 | G18: 29037 | H18: 228001037 | I18: 1 | K18: 1
A19: 10 | B19: 용인시 | C19: LG빌리지2차.두산기술원 | D19: 1 | G19: 29748 | H19: 228001047 | I19: 1 | J19: 1
A20: 11 | B20: 용인시 | C20: LG빌리지2차아파트.강남아파트 | D20: 1 | G20: 29035 | H20: 228000864 | I20: 1 | K20: 1
A21: 12 | B21: 용인시 | C21: LG빌리지2차아파트.강남아파트 | E21: 1 | G21: 29033 | H21: 228000857 | I21: 1 | K21: 1
A22: 13 | B22: 용인시 | C22: LG빌리지3차 | D22: 1 | G22: 29016 | H22: 228000859 | I22: 1 | K22: 1
A23: 14 | B23: 용인시 | C23: LG빌리지5차 | D23: 1 | G23: 29020 | H23: 228000967 | I23: 1 | K23: 1
A24: 15 | B24: 용인시 | C24: LG빌리지5차 | D24: 1 | G24: 29019 | H24: 228000956 | I24: 1 | K24: 1
A25: 16 | B25: 용인시 | C25: LG빌리지6차.성복동주민센터 | D25: 1 | G25: 29007 | H25: 228000861 | I25: 1 | K25: 1
A26: 17 | B26: 용인시 | C26: LG자이1차.5차후문 | D26: 1 | G26: 56408 | H26: 228003387 | I26: 1 | K26: 1
A27: 18 | B27: 용인시 | C27: LG자이1차.5차후문 | D27: 1 | G27: 56409 | H27: 228003388 | I27: 1 | K27: 1
A28: 19 | B28: 용인시 | C28: LG자이2차아파트 | D28: 1 | G28: 56404 | H28: 228003383 | I28: 1 | K28: 1
A29: 20 | B29: 용인시 | C29: LG자이2차아파트 | D29: 1 | G29: 56406 | H29: 228003385 | I29: 1 | K29: 1
A30: 21 | B30: 용인시 | C30: LG전자물류센터 | E30: 1 | G30: 47167 | H30: 228001478
A31: 22 | B31: 용인시 | C31: LG전자물류센터 | E31: 1 | G31: 47170 | H31: 228001464
A32: 23 | B32: 용인시 | C32: MBC드라마세트장 | F32: 1 | G32: 47922 | H32: 228002016
A33: 24 | B33: 용인시 | C33: SK아파트 | E33: 1 | G33: 56374 | H33: 228003329 | I33: 1 | K33: 1
A34: 25 | B34: 용인시 | C34: SK아파트 | D34: 1 | G34: 56373 | H34: 228003328
A35: 26 | B35: 용인시 | C35: SK아파트.e편한세상 | E35: 1 | G35: 47763 | H35: 228001146
A36: 27 | B36: 용인시 | C36: SM루빌 | E36: 1 | G36: 56416 | H36: 228003395
A37: 28 | B37: 용인시 | C37: 가곡마을회관 | E37: 1 | G37: 47472 | H37: 228001448
A38: 29 | B38: 용인시 | C38: 가리산 | D38: 1 | G38: 29699 | H38: 228000639
A39: 30 | B39: 용인시 | C39: 가리산 | E39: 1 | G39: 29700 | H39: 228001237
A40: 31 | B40: 용인시 | C40: 가재월리 | D40: 1 | G40: 47500 | H40: 228001618
A41: 32 | B41: 용인시 | C41: 가재월리 | D41: 1 | G41: 47501 | H41: 228001617
A42: 33 | B42: 용인시 | C42: 가재월리 | E42: 1 | G42: 29656 | H42: 228000544
A43: 34 | B43: 용인시 | C43: 가재월리 | E43: 1 | G43: 29657 | H43: 228000569
A44: 35 | B44: 용인시 | C44: 가재월사거리 | E44: 1 | G44: 47662 | H44: 228001245
A45: 36 | B45: 용인시 | C45: 가재월사거리 | E45: 1 | G45: 47755 | H45: 228002111
A46: 37 | B46: 용인시 | C46: 가좌리 | E46: 1 | G46: 47499 | H46: 228001619
A47: 38 | B47: 용인시 | C47: 가좌리.석실 | D47: 1 | G47: 29662 | H47: 228000568
A48: 39 | B48: 용인시 | C48: 가좌리.석실 | D48: 1 | G48: 29663 | H48: 228000545
A49: 40 | B49: 용인시 | C49: 가좌리.태평촌 | D49: 1 | G49: 29666 | H49: 228000546
A50: 41 | B50: 용인시 | C50: 가좌리.태평촌 | D50: 1 | G50: 29667 | H50: 228000567
A51: 42 | B51: 용인시 | C51: 가창리 | E51: 1 | G51: 47118 | H51: 228000492
A52: 43 | B52: 용인시 | C52: 가창보건진료소 | E52: 1 | G52: 56687 | H52: 228003589
A53: 44 | B53: 용인시 | C53: 가향가든 | E53: 1 | G53: 56647 | H53: 228002345
A54: 45 | B54: 용인시 | C54: 가향가든 | E54: 1 | G54: 56648 | H54: 228002346
A55: 46 | B55: 용인시 | C55: 가현마을.신갈성당 | D55: 1 | G55: 29238 | H55: 228000805 | I55: 1 | K55: 1
A56: 47 | B56: 용인시 | C56: 가현마을.신갈성당 | D56: 1 | G56: 29237 | H56: 228000811 | I56: 1 | K56: 1
A57: 48 | B57: 용인시 | C57: 갈곡초등학교 | E57: 1 | G57: 56329 | H57: 228003284
A58: 49 | B58: 용인시 | C58: 갈담 | E58: 1 | G58: 56729 | H58: 228002250
A59: 50 | B59: 용인시 | C59: 갈담 | F59: 1 | G59: 56728 | H59: 228002249
A60: 51 | B60: 용인시 | C60: 갈담2리마을회관 | E60: 1 | G60: 47999 | H60: 228002152
A61: 52 | B61: 용인시 | C61: 갈담2리마을회관 | E61: 1 | G61: 47998 | H61: 228002151
A62: 53 | B62: 용인시 | C62: 갈담3교 | E62: 1 | G62: 56727 | H62: 228002248
A63: 54 | B63: 용인시 | C63: 갈담3교 | F63: 1 | G63: 56726 | H63: 228002247
A64: 55 | B64: 용인시 | C64: 갈담5교 | E64: 1 | G64: 56725 | H64: 228002246
A65: 56 | B65: 용인시 | C65: 갈담5교 | F65: 1 | G65: 56724 | H65: 228002245
A66: 57 | B66: 용인시 | C66: 갈담6교 | E66: 1 | G66: 56730 | H66: 228002288
A67: 58 | B67: 용인시 | C67: 갈담6교 | F67: 1 | G67: 56731 | H67: 228002289
A68: 59 | B68: 용인시 | C68: 갈담리 | D68: 1 | G68: 29529 | H68: 228000338 | I68: 1 | K68: 1
A69: 60 | B69: 용인시 | C69: 갈담리 | D69: 1 | G69: 29531 | H69: 228000303 | I69: 1 | K69: 1
A70: 61 | B70: 용인시 | C70: 갈담사거리 | E70: 1 | G70: 56732 | H70: 228002290
A71: 62 | B71: 용인시 | C71: 갈담사거리 | E71: 1 | G71: 56733 | H71: 228002291
A72: 63 | B72: 용인시 | C72: 갈보리기도원.마을회관 | D72: 1 | G72: 56475 | H72: 228003454
A73: 64 | B73: 용인시 | C73: 갈보리기도원.마을회관 | F73: 1 | G73: 56474 | H73: 228003453
A74: 65 | B74: 용인시 | C74: 갈월 | E74: 1 | G74: 47412 | H74: 228001397
A75: 66 | B75: 용인시 | C75: 갈천마을 | D75: 1 | G75: 47194 | H75: 228000141 | I75: 1 | K75: 1
A76: 67 | B76: 용인시 | C76: 갈천마을.주공아파트 | D76: 1 | G76: 29337 | H76: 228000146 | I76: 1 | K76: 1
A77: 68 | B77: 용인시 | C77: 갈천신일아파트 | E77: 1 | G77: 56587 | H77: 228003356
A78: 69 | B78: 용인시 | C78: 갈현마을.현대홈타운 | D78: 1 | G78: 29187 | H78: 228001099 | I78: 1 | K78: 1
A79: 70 | B79: 용인시 | C79: 강남대역.강남대입구 | D79: 1 | G79: 29306 | H79: 228000694 | I79: 1 | J79: 1
A80: 71 | B80: 용인시 | C80: 강남대역.강남대입구 | D80: 1 | G80: 29307 | H80: 228000684 | I80: 1 | L80: 3 | P80: LED2, LCD1
A81: 72 | B81: 용인시 | C81: 강남대입구 | D81: 1 | G81: 29315 | H81: 228002982 | I81: 1 | K81: 1
A82: 73 | B82: 용인시 | C82: 강남대입구 | D82: 1 | G82: 29314 | H82: 228002983 | I82: 1 | K82: 1
A83: 74 | B83: 용인시 | C83: 강남대학교입구 | E83: 1 | H83: 242500980
A84: 75 | B84: 용인시 | C84: 강남마을1.2단지 | D84: 1 | G84: 56105 | H84: 228003030
A85: 76 | B85: 용인시 | C85: 강남마을1.2단지 | F85: 1 | G85: 56096 | H85: 228003011
A86: 77 | B86: 용인시 | C86: 강남마을3단지 | E86: 1 | G86: 56094 | H86: 228003009
A87: 78 | B87: 용인시 | C87: 강남마을3단지 | D87: 1 | G87: 56093 | H87: 228003008
A88: 79 | B88: 용인시 | C88: 강남마을4단지 | D88: 1 | G88: 56118 | H88: 228003052 | I88: 1 | K88: 1
A89: 80 | B89: 용인시 | C89: 강남마을5단지 | D89: 1 | G89: 47756 | H89: 228003039 | I89: 1 | K89: 1
A90: 81 | B90: 용인시 | C90: 강남마을5단지 | E90: 1 | G90: 56330 | H90: 228003285
A91: 82 | B91: 용인시 | C91: 강남마을7단지 | D91: 1 | G91: 56112 | H91: 228003038 | I91: 1 | K91: 1
A92: 83 | B92: 용인시 | C92: 강남마을8단지.주공그린마트 | D92: 1 | G92: 56119 | H92: 228003053 | I92: 1 | K92: 1
A93: 84 | B93: 용인시 | C93: 강남마을8단지.한라비발디 | D93: 1 | G93: 56111 | H93: 228003037 | I93: 1 | K93: 1
A94: 85 | B94: 용인시 | C94: 강남마을8단지.한라비발디 | D94: 1 | G94: 56132 | H94: 228003079 | I94: 1 | K94: 1
A95: 86 | B95: 용인시 | C95: 강남마을9단지 | D95: 1 | G95: 56106 | H95: 228003031
A96: 87 | B96: 용인시 | C96: 강남마을9단지정문 | D96: 1 | G96: 56128 | H96: 228003071
A97: 88 | B97: 용인시 | C97: 강남병원 | D97: 1 | G97: 56268 | H97: 228003223
A98: 89 | B98: 용인시 | C98: 강남병원.GS슈퍼마켓 | E98: 1 | G98: 56266 | H98: 228003221
A99: 90 | B99: 용인시 | C99: 강남병원6주차장 | E99: 1 | G99: 56738 | H99: 228001962
A100: 91 | B100: 용인시 | C100: 강동냉장 | D100: 1 | G100: 29141 | H100: 228001111 | I100: 1 | K100: 1
A101: 92 | B101: 용인시 | C101: 강동냉장 | D101: 1 | G101: 29140 | H101: 228001116
A102: 93 | B102: 용인시 | C102: 강정마을 | D102: 1 | G102: 56679 | H102: 228002280
...

Sheet 성남
A1: 성남시 버스정보안내단말기 설치현황(2026. 1. 기준)
F4: (단위 : 개소)
A5: NO | B5: 시군 | C5: 정류소 | E5: 정류소전광판(BIT)
C6: 정류소명 | D6: 정류소번호 (5자리) | E6: BIT 설치여부 | F6: 비고
C8: =COUNTA(C9:C1356) -> 1348 | E8: =COUNT(E9:E1344) -> 1009
A9: 1 | B9: 성남시 | C9: 판교제2테크노밸리 | D9: 5001 | E9: 1
A10: 2 | B10: 성남시 | C10: 판교제2테크노밸리 | D10: 5002 | E10: 1
A11: 3 | B11: 성남시 | C11: 동산마을입구 | D11: 5003 | E11: 1
A12: 4 | B12: 성남시 | C12: 동산마을입구 | D12: 5004 | E12: 1
A13: 5 | B13: 성남시 | C13: 고등동행정복지센터.판교밸리자이아파트 | D13: 5005 | E13: 1
A14: 6 | B14: 성남시 | C14: 시흥사거리 | D14: 5006 | E14: 1
A15: 7 | B15: 성남시 | C15: 시흥사거리.고등공공주택지구 | D15: 5007 | E15: 1
A16: 8 | B16: 성남시 | C16: 고등동우체국,성남농협 대왕지점 | D16: 5008 | E16: 1
A17: 9 | B17: 성남시 | C17: 시흥사거리 | D17: 5009 | E17: 1
A18: 10 | B18: 성남시 | C18: 시흥사거리.고등공공주택지구 | D18: 5010 | E18: 1
A19: 11 | B19: 성남시 | C19: 등자리 | D19: 5011 | E19: 1
A20: 12 | B20: 성남시 | C20: 공군아파트 | D20: 5012 | E20: 1
... A31: 23 | B31: 성남시 | C31: 여수대교 | D31: 5023 | E31: 1
A32: 24 | B32: 성남시 | C32: 여수대교 | D32: 5024
A33: 25 | B33: 성남시 | C33: 동서울대학교 | D33: 5025 | E33: 1
A34: 26 | B34: 성남시 | C34: 복정동행정복지센터 | D34: 5026 | E34: 1
A35: 27 | B35: 성남시 | C35: 복정동행정복지센터 | D35: 5027 | E35: 1
A36: 28 | B36: 성남시 | C36: 복우물.웃말입구 | D36: 5028 | E36: 1
A37: 29 | B37: 성남시 | C37: 수진리고개.태평고개 | D37: 5029 | E37: 1
A38: 30 | B38: 성남시 | C38: 가천대역.가천대학교 | D38: 5030 | E38: 1
A39: 31 | B39: 성남시 | C39: 복우물.웃말입구 | D39: 5031 | E39: 1
A40: 32 | B40: 성남시 | C40: 수진리고개.태평고개 | D40: 5032 | E40: 1
A41: 33 | B41: 성남시 | C41: 성남수정경찰서 | D41: 5033 | E41: 1
A42: 34 | B42: 성남시 | C42: 태평고개 | D42: 5034 | E42: 1
A43: 35 | B43: 성남시 | C43: 성남고등공공주택지구.서편 | D43: 5035 | E43: 1
A44: 36 | B44: 성남시 | C44: 모란고개 | D44: 5036 | E44: 1
... A58: 50 | B58: 성남시 | C58: 태평오거리 | D58: 5050 | E58: 1
A59: 51 | B59: 성남시 | C59: 태평오거리 | D59: 5051
A60: 52 | B60: 성남시 | C60: 수성교.소방서 | D60: 5052 | E60: 1
A61: 53 | B61: 성남시 | C61: 중앙파출소 | D61: 5053 | E61: 1
A62: 54 | B62: 성남시 | C62: 중앙파출소 | D62: 5054
A63: 55 | B63: 성남시 | C63: 태평역(마을) | D63: 5055
A64: 56 | B64: 성남시 | C64: 태평역(마을) | D64: 5056
A65: 57 | B65: 성남시 | C65: 태평2동행정복지센터 | D65: 5057 | E65: 1
A66: 58 | B66: 성남시 | C66: 태평2동행정복지센터 | D66: 5058 | E66: 1
A67: 59 | B67: 성남시 | C67: MD아파트 | D67: 5059 | E67: 1
A68: 60 | B68: 성남시 | C68: 위례자연앤래미안e편한세상.위례힐스테이트 | D68: 5060 | E68: 1
A69: 61 | B69: 성남시 | C69: 성남시의료원.신흥1동행정복지센터.성남아트리움 | D69: 5061 | E69: 1
A70: 62 | B70: 성남시 | C70: 성남시의료원.신흥1동행정복지센터.성남아트리움 | D70: 5062 | E70: 1
A71: 63 | B71: 성남시 | C71: 성남시의료원정문 | D71: 5063 | E71: 1
A72: 64 | B72: 성남시 | C72: 태평4동행정복지센터.금빛초교 | D72: 5064 | E72: 1
A73: 65 | B73: 성남시 | C73: 꽃마을 | D73: 5065 | E73: 1
A74: 66 | B74: 성남시 | C74: 밸리마을 | D74: 5066
A75: 67 | B75: 성남시 | C75: 밸리마을 | D75: 5067
A76: 68 | B76: 성남시 | C76: 포레스티아서문.신흥2동행정복지센터.산성역자이2단지 | D76: 5068 | E76: 1
A77: 69 | B77: 성남시 | C77: 위례동행정복지센터.위례보미리즌빌 | D77: 5069 | E77: 1
A78: 70 | B78: 성남시 | C78: 수진역.성호시장.성일중고입구 | D78: 5070 | E78: 1
A79: 71 | B79: 성남시 | C79: 신흥시장.수정보건소 | D79: 5071 | E79: 1
A80: 72 | B80: 성남시 | C80: 신흥시장.수정보건소.보훈회관 | D80: 5072 | E80: 1
A81: 73 | B81: 성남시 | C81: 태평제일교회 | D81: 5073 | E81: 1
A82: 74 | B82: 성남시 | C82: 태평제일교회 | D82: 5074 | E82: 1
A83: 75 | B83: 성남시 | C83: 위례119안전센터.위례포레스트부영 | D83: 5075 | E83: 1
A84: 76 | B84: 성남시 | C84: 위례119안전센터.위례포레스트부영 | D84: 5076 | E84: 1
A85: 77 | B85: 성남시 | C85: 가천대 | D85: 5077 | E85: 1
A86: 78 | B86: 성남시 | C86: 성남초교사거리 | D86: 5078 | E86: 1
A87: 79 | B87: 성남시 | C87: 성남여자중학교 | D87: 5079 | E87: 1
... A92: 84 | B92: 성남시 | C92: 위례자이후문 | D92: 5084 | E92: 1
A93: 85 | B93: 성남시 | C93: 수진동성당 | D93: 5085
A94: 86 | B94: 성남시 | C94: 수정구청.포레스티아서문 | D94: 5086 | E94: 1
A95: 87 | B95: 성남시 | C95: 가천대 | D95: 5088 | E95: 1
A96: 88 | B96: 성남시 | C96: 희망대공원 | D96: 5089 | E96: 1
A97: 89 | B97: 성남시 | C97: 셀레스빌아파트.포레스티아중문 | D97: 5090 | E97: 1
A98: 90 | B98: 성남시 | C98: 산성역.포레스티아동문 | D98: 5091 | E98: 1
A99: 91 | B99: 성남시 | C99: 산성역.포레스티아동문 | D99: 5092 | E99: 1
A100: 92 | B100: 성남시 | C100: 성남북초등학교.산성동행정복지센터.산성역자이4단지 | D100: 5093 | E100: 1
A101: 93 | B101: 성남시 | C101: 성남북초등학교.산성동행정복지센터.산성역자이4단지 | D101: 5094 | E101: 1
A102: 94 | B102: 성남시 | C102: 하나로문구 | D102: 5096
A103: 95 | B103: 성남시 | C103: 성남우체국 | D103: 5097 | E103: 1
A104: 96 | B104: 성남시 | C104: 청구아파트 | D104: 5098 | E104: 1
A105: 97 | B105: 성남시 | C105: 하나로문구 | D105: 5099
A106: 98 | B106: 성남시 | C106: 한국폴리텍대학 | D106: 5100
A107: 99 | B107: 성남시 | C107: 한국폴리텍대학 | D107: 5101
A108: 100 | B108: 성남시 | C108: 성남혜은학교.수정청소년수련관 | D108: 5102 | E108: 1
A109: 101 | B109: 성남시 | C109: 성남혜은학교.수정유스센터.산성역자이3단지 | D109: 5103 | E109: 1
A110: 102 | B110: 성남시 | C110: 산성동 | D110: 5104
A111: 103 | B111: 성남시 | C111: 세이브존.성남시박물관 | D111: 5105 | E111: 1
A112: 104 | B112: 성남시 | C112: 산성동 | D112: 5106
A113: 105 | B113: 성남시 | C113: SK주유소 | D113: 5107
A114: 106 | B114: 성남시 | C114: 성남세무서.미도아파트 | D114: 5108 | E114: 1
A115: 107 | B115: 성남시 | C115: 단대오거리역.세이브존.성남시박물관 | D115: 5109 | E115: 1
A116: 108 | B116: 성남시 | C116: 성남세무서.미도아파트 | D116: 5110 | E116: 1
A117: 109 | B117: 성남시 | C117: 민속마을.선경아파트 | D117: 5112 | E117: 1
A118: 110 | B118: 성남시 | C118: 위례역푸르지오4단지 | D118: 5113 | E118: 1
A119: 111 | B119: 성남시 | C119: 민속마을.선경아파트 | D119: 5114 | E119: 1
A120: 112 | B120: 성남시 | C120: 단대동행정복지센터.성남만남지역자활센터 | D120: 5115 | E120: 1
A121: 113 | B121: 성남시 | C121: 민속마을 | D121: 5116 | E121: 1
A122: 114 | B122: 성남시 | C122: 논골 | D122: 5118 | E122: 1
A123: 115 | B123: 성남시 | C123: 금광시장 | D123: 5120 | E123: 1
A124: 116 | B124: 성남시 | C124: 남한산성입구역.법원검찰청 | D124: 5121 | E124: 1
A125: 117 | B125: 성남시 | C125: 상원여중 | D125: 5122 | E125: 1
... A127: 119 | B127: 성남시 | C127: 상원초등학교.양지동청소년문화의집 | D127: 5125 | E127: 1
A128: 120 | B128: 성남시 | C128: 양지근린공원 | D128: 5126
A129: 121 | B129: 성남시 | C129: 을지대학교 | D129: 5129 | E129: 1
A130: 122 | B130: 성남시 | C130: 남한산성공원입구 | D130: 5131 | E130: 1
A131: 123 | B131: 성남시 | C131: 남한산성공원입구 | D131: 5133
...

Sheet 부천
A1: 부천시 정류소전광판(BIT) 설치지점 현황
A3: ※ 노란색 부분만 작성할 것 [작성방법] 1. 정류소 타입(쉘터, 표지, 무표지)를 기입할 것 2. 정류소별 BIT 설치 세부현황을 기입할 것(정류소번호, ID로 매칭해서 반드시 기재할 것) - 1개 정류소에 BIT 유형별로 설치된 경우 모든 수량 표기할 것 - 사례1 (수원역 정류소(20000001) 1곳에 LED 3개, LCD 2개 있는 경우) : BIT설치여부 1 / LED 3 / LCD 2 ※ 버스기반정보상에 등록된 ID와 번호를 참고하여 시군 센터내부에 매칭 테이블을 관리하고 있으므로 반드시 작성할 것 3. 해당 시군 관할 정류소가 아닌 경우 시군명 변경하고 관할 정류소가 누락된 경우 인접 시군 현황을 참고하여 추가 작성할 것 4. 비고란에 정류소미존재 기재된 경우 운송관리시스템에서 확인 후 정류소 반영
P5: (단위 : 개소)
A6: NO | B6: 시군 | C6: 정류소 | I6: 정류소전광판(BIT)
C7: 정류소명 | D7: 정류소 타입 | G7: 정류소번호 (5자리) | H7: 정류소ID (9자리) | I7: BIT 설치여부 | J7: BIT 유형 | P7: 비고
D8: 쉘터 (쉘터+표지) | E8: 표지 | F8: 무표지 | J8: LED | K8: LCD | L8: LED+LCD 복합형 | M8: 알뜰형 | N8: 임대형 (음성) | O8: 기타
C9: =COUNTA(C10:C1109) -> 1100 | D9: =COUNT(D10:D1109) -> 731 | E9: =COUNT(E10:E1109) -> 313 | F9: =COUNT(F10:F1109) -> 56 | I9: =COUNT(I10:I1109) -> 839 | J9: =COUNT(J10:J1109) -> 506 | K9: =COUNT(K10:K1109) -> 287 | L9: =COUNT(L10:L1109) -> 46 | M9: =COUNT(M10:M1109) -> 0 | N9: =COUNT(N10:N1109) -> 0 | O9: =COUNT(O10:O1109) -> 0
A10: 1 | B10: 부천시 | C10: 중앙그린빌아파트 | D10: 1 | G10: 11519 | H10: 210000542 | I10: 1 | K10: 1
A11: 2 | B11: 부천시 | C11: 심곡동양파라곤 | D11: 1 | G11: 12449 | H11: 211000223 | I11: 1 | K11: 1
A12: 3 | B12: 부천시 | C12: 보강빌라.대흥아트빌 | E12: 1 | G12: 12452 | H12: 211000225 | I12: 1 | J12: 1
A13: 4 | B13: 부천시 | C13: 제일주유소 | E13: 1 | G13: 13304 | H13: 212000316 | I13: 1 | K13: 1
A14: 5 | B14: 부천시 | C14: 신작동사거리 | D14: 1 | G14: 13315 | H14: 212000346
A15: 6 | B15: 부천시 | C15: 오쇠교 | E15: 1 | G15: 13321 | H15: 212000363
A16: 7 | B16: 부천시 | C16: 제일주유소 | E16: 1 | G16: 13264 | H16: 212000313 | I16: 1 | K16: 1
A17: 8 | B17: 부천시 | C17: 중앙그린빌아파트 | D17: 1 | G17: 11520 | H17: 210000543 | I17: 1 | K17: 1
A18: 9 | B18: 부천시 | C18: 상1주민지원센터입구 | E18: 1 | G18: 11517 | H18: 210000539 | I18: 1 | J18: 1
A19: 10 | B19: 부천시 | C19: 부천시청 | D19: 1 | G19: 11179 | H19: 210000482 | I19: 1 | J19: 1
A20: 11 | B20: 부천시 | C20: 송내역.로데오거리 | D20: 1 | G20: 11074 | H20: 210000537 | I20: 1 | J20: 1
A21: 12 | B21: 부천시 | C21: 천화사.심원고등학교 | D21: 1 | G21: 11476 | H21: 210000454 | I21: 1 | J21: 1
A22: 13 | B22: 부천시 | C22: 부천역북부(기점) | E22: 1 | G22: 11461 | H22: 210000481 | I22: 1 | L22: 2
A23: 14 | B23: 부천시 | C23: 한양아파트 | E23: 1 | G23: 11474 | H23: 210000126 | I23: 1 | J23: 1
A24: 15 | B24: 부천시 | C24: 그린타운앞.유베이스 | D24: 1 | G24: 11521 | H24: 210000545 | I24: 1 | J24: 1
A25: 16 | B25: 부천시 | C25: 동원아파트 | E25: 1 | G25: 13212 | H25: 212000241 | I25: 1 | J25: 1
A26: 17 | B26: 부천시 | C26: 진성그린아파트 | F26: 1 | G26: 11465 | H26: 210000428
A27: 18 | B27: 부천시 | C27: 역곡상상시장(마을) | E27: 1 | G27: 11407 | H27: 210000417
A28: 19 | B28: 부천시 | C28: 풍림아파트.부천다문화지원센터 | D28: 1 | G28: 11509 | H28: 210000474 | I28: 1 | K28: 1
A29: 20 | B29: 부천시 | C29: 은데미공원 | D29: 1 | G29: 13186 | H29: 212000196 | I29: 1 | J29: 1
A30: 21 | B30: 부천시 | C30: 부천시민학습원 | D30: 1 | G30: 11433 | H30: 210000403 | I30: 1 | K30: 1
A31: 22 | B31: 부천시 | C31: 스타필드시티부천 | D31: 1 | G31: 12192 | H31: 211000186 | I31: 1 | L31: 1
A32: 23 | B32: 부천시 | C32: 종합운동장 | D32: 1 | G32: 11368 | H32: 210000095 | I32: 1 | K32: 1
A33: 24 | B33: 부천시 | C33: 오정동경인OBS방송국 | D33: 1 | G33: 13054 | H33: 212000008 | I33: 1 | J33: 1
A34: 25 | B34: 부천시 | C34: 역곡감리교회.역곡2동성당 | E34: 1 | G34: 11411 | H34: 210000412 | I34: 1 | J34: 1
A35: 26 | B35: 부천시 | C35: 소새울역.소사국민체육센터 | D35: 1 | G35: 12163 | H35: 211000152 | I35: 1 | K35: 1
A36: 27 | B36: 부천시 | C36: 부천테크노파크1단지 | D36: 1 | G36: 13219 | H36: 212000222 | I36: 1 | K36: 1
A37: 28 | B37: 부천시 | C37: 부천테크노파크1.2단지 | D37: 1 | G37: 13218 | H37: 212000204 | I37: 1 | J37: 1
A38: 29 | B38: 부천시 | C38: 웅진플레이도시.상동호수공원 | D38: 1 | G38: 11496 | H38: 210000494
A39: 30 | B39: 부천시 | C39: KT부천지사사거리 | D39: 1 | G39: 11234 | H39: 210000013 | I39: 1 | J39: 1
A40: 31 | B40: 부천시 | C40: 당아래지하차도 | D40: 1 | G40: 11347 | H40: 210000079 | I40: 1 | K40: 1
A41: 32 | B41: 부천시 | C41: 여월휴먼시아3단지 | D41: 1 | G41: 13251 | H41: 212000303 | I41: 1 | K41: 1
A42: 33 | B42: 부천시 | C42: 여월단독주택 | E42: 1 | G42: 13253 | H42: 212000305 | I42: 1 | K42: 1
A43: 34 | B43: 부천시 | C43: 여월휴먼시아2.3단지 | D43: 1 | G43: 13254 | H43: 212000306 | I43: 1 | J43: 1
A44: 35 | B44: 부천시 | C44: 팰리스카운티정문 | D44: 1 | G44: 11514 | H44: 210000541 | I44: 1 | K44: 1
A45: 36 | B45: 부천시 | C45: 현대맨션 | E45: 1 | G45: 12451 | H45: 211000224
A46: 37 | B46: 부천시 | C46: 소새울역.소사국민체육센터 | D46: 1 | G46: 12162 | H46: 211000151 | I46: 1 | J46: 1
A47: 38 | B47: 부천시 | C47: 트레지움1단지.다니엘병원 | D47: 1 | G47: 11193 | H47: 210000065 | I47: 1 | K47: 1
A48: 39 | B48: 부천시 | C48: 나성빌딩.위브트레지움2단지 | D48: 1 | G48: 11217 | H48: 210000178 | I48: 1 | J48: 1
A49: 40 | B49: 부천시 | C49: 풍림아파트.산림욕장삼거리 | D49: 1 | G49: 11359 | H49: 210000261 | I49: 1 | J49: 1
A50: 41 | B50: 부천시 | C50: 송내역남부 | E50: 1 | G50: 12444 | H50: 211000095 | I50: 1 | J50: 1
A51: 42 | B51: 부천시 | C51: 소사어울마당.소사푸르지오 | D51: 1 | G51: 12462 | H51: 211000235 | I51: 1 | J51: 1
A52: 43 | B52: 부천시 | C52: 한국화장품연수원.부천아트벙커B39 | D52: 1 | G52: 13015 | H52: 212000041 | I52: 1 | K52: 1
A53: 44 | B53: 부천시 | C53: 천화사.심원고등학교 | D53: 1 | G53: 11482 | H53: 210000455 | I53: 1 | J53: 1
A54: 45 | B54: 부천시 | C54: 시온고등학교 | D54: 1 | G54: 12160 | H54: 211000216 | I54: 1 | K54: 1
A55: 46 | B55: 부천시 | C55: 소새울역.양우아파트 | E55: 1 | G55: 12175 | H55: 211000217
A56: 47 | B56: 부천시 | C56: 역곡역북부 | D56: 1 | G56: 11405 | H56: 210000484
A57: 48 | B57: 부천시 | C57: 역곡2주민지원센터 | E57: 1 | G57: 11417 | H57: 210000434 | I57: 1 | J57: 1
A58: 49 | B58: 부천시 | C58: 써미트빌.진달래마을 | D58: 1 | G58: 11063 | H58: 210000211 | I58: 1 | K58: 1
A59: 50 | B59: 부천시 | C59: 여월휴먼시아2.3단지 | D59: 1 | G59: 13255 | H59: 212000307 | I59: 1 | J59: 1
A60: 51 | B60: 부천시 | C60: 여월휴먼시아4.5단지 | D60: 1 | G60: 13256 | H60: 212000308 | I60: 1 | K60: 1
A61: 52 | B61: 부천시 | C61: 여월휴먼시아4.5단지 | D61: 1 | G61: 13257 | H61: 212000309 | I61: 1 | K61: 1
A62: 53 | B62: 부천시 | C62: 삼거리.고강아파트입구 | E62: 1 | G62: 13237 | H62: 212000253 | I62: 1 | J62: 1
A63: 54 | B63: 부천시 | C63: 동양철강 | D63: 1 | G63: 13371 | H63: 212000255
A64: 55 | B64: 부천시 | C64: 원종e편한세상아파트 | E64: 1 | G64: 13379 | H64: 212000257
A65: 56 | B65: 부천시 | C65: 원종초등학교 | F65: 1 | G65: 13244 | H65: 212000260
A66: 57 | B66: 부천시 | C66: 오정물류단지1단지 | D66: 1 | G66: 13369 | H66: 212000261
A67: 58 | B67: 부천시 | C67: 고강동철탑(시계지점) | D67: 1 | G67: 13230 | H67: 212000246
A68: 59 | B68: 부천시 | C68: 원종e편한세상아파트 | E68: 1 | G68: 13378 | H68: 212000147
A69: 60 | B69: 부천시 | C69: 원종고등학교 | E69: 1 | G69: 13233 | H69: 212000249
A70: 61 | B70: 부천시 | C70: 원종주공아파트 | E70: 1 | G70: 13234 | H70: 212000250 | I70: 1 | J70: 1
A71: 62 | B71: 부천시 | C71: 원종동금호어울림 | E71: 1 | G71: 13235 | H71: 212000251 | I71: 1 | J71: 1
A72: 63 | B72: 부천시 | C72: 대림아파트 | D72: 1 | G72: 11491 | H72: 210000487 | I72: 1 | J72: 1
A73: 64 | B73: 부천시 | C73: 포도마을사거리.현대백화점.이마트 | D73: 1 | G73: 11492 | H73: 210000488 | I73: 1 | J73: 1
A74: 65 | B74: 부천시 | C74: 고강동철탑(시계지점) | D74: 1 | G74: 13228 | H74: 212000244
A75: 66 | B75: 부천시 | C75: 삼거리 | D75: 1 | G75: 13229 | H75: 212000245 | I75: 1 | J75: 1
A76: 67 | B76: 부천시 | C76: 부천정보산업고교 | D76: 1 | G76: 11468 | H76: 210000189 | I76: 1 | J76: 1
A77: 68 | B77: 부천시 | C77: 도당소공원 | D77: 1 | G77: 13303 | H77: 212000186 | I77: 1 | K77: 1
A78: 69 | B78: 부천시 | C78: 소사어울마당사거리 | D78: 1 | G78: 12106 | H78: 211000135 | I78: 1 | K78: 1
A79: 70 | B79: 부천시 | C79: 가톨릭대학교정문 | E79: 1 | G79: 11426 | H79: 210000422 | I79: 1 | J79: 1
A80: 71 | B80: 부천시 | C80: 풍림아파트.부천다문화지원센터 | E80: 1 | G80: 11513 | H80: 210000437 | I80: 1 | K80: 1
A81: 72 | B81: 부천시 | C81: 삼화연립주택 | D81: 1 | G81: 13182 | H81: 212000209 | I81: 1 | J81: 1
A82: 73 | B82: 부천시 | C82: 농협중앙회 | E82: 1 | G82: 11317 | H82: 210000385 | I82: 1 | J82: 1
A83: 74 | B83: 부천시 | C83: 오쇠교 | E83: 1 | G83: 13320 | H83: 212000364
A84: 75 | B84: 부천시 | C84: 원종초등학교 | D84: 1 | G84: 13308 | H84: 212000338
A85: 76 | B85: 부천시 | C85: 부천소사푸르지오 | D85: 1 | G85: 12177 | H85: 211000182 | I85: 1 | K85: 1
A86: 77 | B86: 부천시 | C86: 소사어울마당삼거리 | E86: 1 | G86: 12194 | H86: 211000173
A87: 78 | B87: 부천시 | C87: 여월휴먼시아3단지 | D87: 1 | G87: 13250 | H87: 212000302 | I87: 1 | J87: 1
A88: 79 | B88: 부천시 | C88: 쌍용3차.부천아트벙커B39 | D88: 1 | G88: 13262 | H88: 212000314 | I88: 1 | K88: 1
A89: 80 | B89: 부천시 | C89: 쌍용3차.부천아트벙커B39 | D89: 1 | G89: 13263 | H89: 212000315 | I89: 1 | K89: 1
A90: 81 | B90: 부천시 | C90: 장말.문예사거리 | E90: 1 | G90: 11443 | H90: 210000489
A91: 82 | B91: 부천시 | C91: 수주중학교 | E91: 1 | G91: 13236 | H91: 212000252
A92: 83 | B92: 부천시 | C92: 동양철강 | D92: 1 | G92: 13370 | H92: 212000263
A93: 84 | B93: 부천시 | C93: 원종종합시장 | E93: 1 | G93: 13306 | H93: 212000336 | I93: 1 | K93: 1
A94: 85 | B94: 부천시 | C94: 월산장미아파트 | E94: 1 | G94: 13376 | H94: 212000243
A95: 86 | B95: 부천시 | C95: 소사공영차고지 | F95: 1 | G95: 12446 | H95: 211000220
A96: 87 | B96: 부천시 | C96: 여월휴먼시아1단지.까치울중학교 | D96: 1 | G96: 13249 | H96: 212000310 | I96: 1 | K96: 1
A97: 88 | B97: 부천시 | C97: 금호한양상가.유베이스 | D97: 1 | G97: 11522 | H97: 210000544 | I97: 1 | J97: 1
A98: 89 | B98: 부천시 | C98: 동원아파트 | E98: 1 | G98: 13213 | H98: 212000242 | I98: 1 | J98: 1
A99: 90 | B99: 부천시 | C99: 롯데아파트 | E99: 1 | G99: 13309 | H99: 212000334 | I99: 1 | J99: 1
A100: 91 | B100: 부천시 | C100: 상1주민지원센터입구 | D100: 1 | G100: 11515 | H100: 210000538 | I100: 1 | J100: 1
A101: 92 | B101: 부천시 | C101: 범박휴먼시아1단지 | D101: 1 | G101: 12510 | H101: 211000210
A102: 93 | B102: 부천시 | C102: 춘의가구거리 | D102: 1 | G102: 11488 | H102: 210000080 | I102: 1 | K102: 1
...

Sheet 화성
A1: 화성시 정류소전광판(BIT) 설치지점 현황
A3: ※ 노란색 부분만 작성할 것 [작성방법] 1. 정류소 타입(쉘터, 표지, 무표지)를 기입할 것 2. 정류소별 BIT 설치 세부현황을 기입할 것(정류소번호, ID로 매칭해서 반드시 기재할 것) - 1개 정류소에 BIT 유형별로 설치된 경우 모든 수량 표기할 것 - 사례1 (수원역 정류소(20000001) 1곳에 LED 3개, LCD 2개 있는 경우) : BIT설치여부 1 / LED 3 / LCD 2 ※ 버스기반정보상에 등록된 ID와 번호를 참고하여 시군 센터내부에 매칭 테이블을 관리하고 있으므로 반드시 작성할 것 3. 해당 시군 관할 정류소가 아닌 경우 시군명 변경하고 관할 정류소가 누락된 경우 인접 시군 현황을 참고하여 추가 작성할 것 4. 비고란에 정류소미존재 기재된 경우 운송관리시스템에서 확인 후 정류소 반영
P5: (단위 : 개소)
A6: NO | B6: 시군 | C6: 정류소 | I6: 정류소전광판(BIT)
C7: 정류소명 | D7: 정류소 타입 | G7: 정류소번호 (5자리) | H7: 정류소ID (9자리) | I7: BIT 설치여부 | J7: BIT 유형 | P7: 비고
D8: 쉘터 (쉘터+표지) | E8: 표지 | F8: 무표지 | J8: LED | K8: LCD | L8: LED+LCD 복합형 | M8: 알뜰형 | N8: 임대형 (음성) | O8: 기타
C9: =COUNTA(C10:C2750) -> 2741 | D9: =COUNT(D10:D2750) -> 957 | E9: =COUNT(E10:E2750) -> 157 | F9: =COUNT(F10:F2750) -> 1627 | I9: =COUNT(I10:I2750) -> 1114 | J9: =COUNT(J10:J2750) -> 534 | K9: =COUNT(K10:K2750) -> 313 | L9: =COUNT(L10:L2750) -> 198 | M9: =COUNT(M10:M2750) -> 66 | N9: =COUNT(N10:N2750) -> 0 | O9: =COUNT(O10:O2750) -> 3
A10: 1 | B10: 화성시 | C10: 힐스테이트.호반5차 | D10: 1 | G10: 55490 | H10: 233001620 | I10: 1 | L10: 1
A11: 2 | B11: 화성시 | C11: 흥법사입구 | D11: 1 | G11: 36217 | H11: 233000574 | I11: 1 | J11: 1
A12: 3 | B12: 화성시 | C12: 휴먼시아5.6블럭 | F12: 1 | G12: 55082 | H12: 233002108
A13: 4 | B13: 화성시 | C13: 휴먼빌 | F13: 1 | G13: 55544 | H13: 233003148
A14: 5 | B14: 화성시 | C14: 효행초등학교정문 | D14: 1 | G14: 55244 | H14: 233002245 | I14: 1 | K14: 1
A15: 6 | B15: 화성시 | C15: 효행초등학교(공항버스) | F15: 1 | G15: 55466 | H15: 233002283
A16: 7 | B16: 화성시 | C16: 효행초.한신더휴에듀파크 | D16: 1 | G16: 55424 | H16: 233003097 | I16: 1 | K16: 1
A17: 8 | B17: 화성시 | C17: 효행초.한신더휴에듀파크 | D17: 1 | G17: 55425 | H17: 233003098 | I17: 1 | K17: 1
A18: 9 | B18: 화성시 | C18: 효원납골공원 | D18: 1 | G18: 37860 | H18: 233001819 | I18: 1 | J18: 1
A19: 10 | B19: 화성시 | C19: 효성헤링턴플레이스 | F19: 1 | G19: 55035 | H19: 233002061
A20: 11 | B20: 화성시 | C20: 황새말앞 | D20: 1 | G20: 55700 | H20: 233001374 | I20: 1 | J20: 1
A21: 12 | B21: 화성시 | C21: 황새말앞 | F21: 1 | G21: 55699 | H21: 233001373
A22: 13 | B22: 화성시 | C22: 황계동입구 | D22: 1 | G22: 36323 | H22: 233000699 | I22: 1 | J22: 1
A23: 14 | B23: 화성시 | C23: 황계동 | D23: 1 | G23: 36322 | H23: 233000700 | I23: 1 | K23: 1
A24: 15 | B24: 화성시 | C24: 황계동 | D24: 1 | G24: 36321 | H24: 233000697 | I24: 1 | K24: 1
A25: 16 | B25: 화성시 | C25: 화수초등학교 | F25: 1 | G25: 36987 | H25: 233001413
A26: 17 | B26: 화성시 | C26: 화수사거리 | F26: 1 | G26: 37491 | H26: 233001117
A27: 18 | B27: 화성시 | C27: 화수사거리 | F27: 1 | G27: 36699 | H27: 233001553
A28: 19 | B28: 화성시 | C28: 화수사거리 | F28: 1 | G28: 36891 | H28: 233000452
A29: 20 | B29: 화성시 | C29: 화수농원앞 | F29: 1 | G29: 37832 | H29: 233001806
A30: 21 | B30: 화성시 | C30: 화수농원 | F30: 1 | G30: 37826 | H30: 233001800
A31: 22 | B31: 화성시 | C31: 화수3리입구 | F31: 1 | G31: 37830 | H31: 233001804
A32: 23 | B32: 화성시 | C32: 화수3리입구 | F32: 1 | G32: 37828 | H32: 233001802
A33: 24 | B33: 화성시 | C33: 화수3리노인회관 | F33: 1 | G33: 37829 | H33: 233001803
A34: 25 | B34: 화성시 | C34: 화수3리 | F34: 1 | G34: 36988 | H34: 233001412
A35: 26 | B35: 화성시 | C35: 화수2리입구 | F35: 1 | G35: 37831 | H35: 233001805
A36: 27 | B36: 화성시 | C36: 화수2리입구 | F36: 1 | G36: 37827 | H36: 233001801
... A38: 29 | B38: 화성시 | C38: 화수2리 | F38: 1 | G38: 37440 | H38: 233000453
A39: 30 | B39: 화성시 | C39: 화수1리입구 | D39: 1 | G39: 37493 | H39: 233001113 | I39: 1 | K39: 1
A40: 31 | B40: 화성시 | C40: 화수1리 | F40: 1 | G40: 55024 | H40: 233002054
A41: 32 | B41: 화성시 | C41: 화성푸드통합지원센터(로컬푸드직매장) | D41: 1 | G41: 36082 | H41: 233000826 | I41: 1 | K41: 1
A42: 33 | B42: 화성시 | C42: 화성푸드통합지원센터(로컬푸드직매장) | D42: 1 | G42: 36086 | H42: 233000795 | I42: 1 | J42: 1
A43: 34 | B43: 화성시 | C43: 화성중앙병원.발안초등학교 | E43: 1 | G43: 37269 | H43: 233001026 | I43: 1 | L43: 1
A44: 35 | B44: 화성시 | C44: 화성중고등학교 | D44: 1 | G44: 37256 | H44: 233000924 | I44: 1 | K44: 1
A45: 36 | B45: 화성시 | C45: 화성중고등학교 | D45: 1 | G45: 37255 | H45: 233000526 | I45: 1 | K45: 1
A46: 37 | B46: 화성시 | C46: 화성종합운동장 | F46: 1 | G46: 55083 | H46: 233002109
A47: 38 | B47: 화성시 | C47: 화성종합경기타운사거리 | F47: 1 | G47: 55095 | H47: 233002099
A48: 39 | B48: 화성시 | C48: 화성종합경기타운사거리 | F48: 1 | G48: 55079 | H48: 233002100
A49: 40 | B49: 화성시 | C49: 화성종합경기타운 | D49: 1 | G49: 55098 | H49: 233002151 | I49: 1 | J49: 1
A50: 41 | B50: 화성시 | C50: 화성종합경기타운 | D50: 1 | G50: 55368 | H50: 233002152 | I50: 1 | J50: 1
A51: 42 | B51: 화성시 | C51: 화성제일병원 | F51: 1 | G51: 37409 | H51: 233001527
A52: 43 | B52: 화성시 | C52: 화성제일병원 | F52: 1 | G52: 55651 | H52: 233002788
A53: 44 | B53: 화성시 | C53: 화성운수차고지 | F53: 1 | G53: 37123 | H53: 233002292
A54: 45 | B54: 화성시 | C54: 화성운수차고지 | F54: 1 | G54: 37133 | H54: 233002293
A55: 46 | B55: 화성시 | C55: 화성시청후문 | D55: 1 | G55: 36510 | H55: 233001001 | I55: 1 | J55: 1
A56: 47 | B56: 화성시 | C56: 화성시청후문 | D56: 1 | G56: 36507 | H56: 233001000 | I56: 1 | J56: 1
A57: 48 | B57: 화성시 | C57: 화성시청 | D57: 1 | G57: 36028 | H57: 233000189 | I57: 1 | J57: 1
A58: 49 | B58: 화성시 | C58: 화성시청 | D58: 1 | G58: 36977 | H58: 233001435 | I58: 1 | L58: 1
A59: 50 | B59: 화성시 | C59: 화성시보건소앞 | D59: 1 | G59: 36844 | H59: 233000385 | I59: 1 | J59: 1
A60: 51 | B60: 화성시 | C60: 화성시보건소앞 | D60: 1 | G60: 36875 | H60: 233000388 | I60: 1 | J60: 1
A61: 52 | B61: 화성시 | C61: 화성시보건소앞 | F61: 1 | G61: 55716 | H61: 233002970
A62: 53 | B62: 화성시 | C62: 화성시남부복지관 | F62: 1 | G62: 37018 | H62: 233001940
A63: 54 | B63: 화성시 | C63: 화성시남부복지관 | F63: 1 | G63: 37023 | H63: 233001891
A64: 55 | B64: 화성시 | C64: 화성소방서.향남홈플러스 | D64: 1 | G64: 37991 | H64: 233001955 | I64: 1 | K64: 1
A65: 56 | B65: 화성시 | C65: 화성소방서.향남홈플러스 | D65: 1 | G65: 37903 | H65: 233001860 | I65: 1 | J65: 1 | P65: LED2
A66: 57 | B66: 화성시 | C66: 화성서부경찰서 | D66: 1 | G66: 55093 | H66: 233002121 | I66: 1 | K66: 1
A67: 58 | B67: 화성시 | C67: 화성서부경찰서 | F67: 1 | G67: 37751 | H67: 233002120
A68: 59 | B68: 화성시 | C68: 화성새마을회관 | F68: 1 | G68: 55429 | H68: 233003102
A69: 60 | B69: 화성시 | C69: 화성새마을회관 | F69: 1 | G69: 55428 | H69: 233003101
A70: 61 | B70: 화성시 | C70: 화성보건소 | F70: 1 | G70: 55397 | H70: 233002689
A71: 62 | B71: 화성시 | C71: 주공11단지후문 | D71: 1 | G71: 55725 | H71: 233002674 | I71: 1 | J71: 1
A72: 63 | B72: 화성시 | C72: 화성미디어센터 | F72: 1 | G72: 55313 | H72: 233002558
A73: 64 | B73: 화성시 | C73: 화성문화원.향남환승터미널 | D73: 1 | G73: 37286 | H73: 233002101 | I73: 1 | K73: 1
A74: 65 | B74: 화성시 | C74: 화성그린환경센터 | F74: 1 | G74: 55025 | H74: 233002984
A75: 66 | B75: 화성시 | C75: 화성그린환경센터 | F75: 1 | G75: 55049 | H75: 233002083
A76: 67 | B76: 화성시 | C76: 화산삼거리 | D76: 1 | G76: 37474 | H76: 233001011 | I76: 1 | K76: 1
A77: 68 | B77: 화성시 | C77: 화산삼거리 | D77: 1 | G77: 36701 | H77: 233001554 | I77: 1 | K77: 1
A78: 69 | B78: 화성시 | C78: 화산2리마을회관 | F78: 1 | G78: 37391 | H78: 233001360
A79: 70 | B79: 화성시 | C79: 화산1리종점 | F79: 1 | G79: 36941 | H79: 233001252
A80: 71 | B80: 화성시 | C80: 화산1리입구 | D80: 1 | G80: 37475 | H80: 233001010 | I80: 1 | K80: 1
A81: 72 | B81: 화성시 | C81: 화산1리마을회관 | F81: 1 | G81: 37513 | H81: 233001251
A82: 73 | B82: 화성시 | C82: 화산1리마을회관 | F82: 1 | G82: 36940 | H82: 233001253
A83: 74 | B83: 화성시 | C83: 화산1리 | F83: 1 | G83: 37432 | H83: 233000483
A84: 75 | B84: 화성시 | C84: 화산1리 | F84: 1 | G84: 36786 | H84: 233001185
A85: 76 | B85: 화성시 | C85: 화리현리 | F85: 1 | G85: 37559 | H85: 233001480
A86: 77 | B86: 화성시 | C86: 화리현리 | F86: 1 | G86: 37716 | H86: 233001694
A87: 78 | B87: 화성시 | C87: 화당리 | F87: 1 | G87: 36884 | H87: 233000462
A88: 79 | B88: 화성시 | C88: 화당리 | F88: 1 | G88: 36899 | H88: 233000441
A89: 80 | B89: 화성시 | C89: 화남초 | D89: 1 | G89: 55590 | H89: 233002066 | I89: 1 | J89: 1
A90: 81 | B90: 화성시 | C90: 화남아파트 | E90: 1 | G90: 37985 | H90: 233002001 | I90: 1 | L90: 1
A91: 82 | B91: 화성시 | C91: 화남아파트 | E91: 1 | G91: 55604 | H91: 233002679 | I91: 1 | L91: 1
A92: 83 | B92: 화성시 | C92: 홍법리마을회관 | F92: 1 | G92: 37632 | H92: 233002654
A93: 84 | B93: 화성시 | C93: 홍법리 | F93: 1 | G93: 37778 | H93: 233002656
A94: 85 | B94: 화성시 | C94: 홍법리 | F94: 1 | G94: 37635 | H94: 233002655
A95: 86 | B95: 화성시 | C95: 홈플러스병점점 | E95: 1 | G95: 36062 | H95: 233000077 | I95: 1 | L95: 1
A96: 87 | B96: 화성시 | C96: 홈플러스.벌말초교 | D96: 1 | G96: 36351 | H96: 233000100 | I96: 1 | J96: 1
A97: 88 | B97: 화성시 | C97: 홈플러스 | D97: 1 | G97: 55037 | H97: 233002062 | I97: 1 | J97: 1
A98: 89 | B98: 화성시 | C98: 호현리.상기1리 | D98: 1 | G98: 36067 | H98: 233000564 | I98: 1 | K98: 1
A99: 90 | B99: 화성시 | C99: 호수부영6차.호수공원행복주택 | D99: 1 | G99: 55500 | H99: 233001699 | I99: 1 | L99: 1
A100: 91 | B100: 화성시 | C100: 호수부영5차.아이파크 | D100: 1 | G100: 55502 | H100: 233001741 | I100: 1 | L100: 1
A101: 92 | B101: 화성시 | C101: 호수부영4차.아이파크 | D101: 1 | G101: 55504 | H101: 233001753 | I101: 1 | L101: 1
A102: 93 | B102: 화성시 | C102: 호수부영3차.우미린2차 | D102: 1 | G102: 55420 | H102: 233003093 | I102: 1 | L102: 1
A103: 94 | B103: 화성시 | C103: 호수부영3차 | D103: 1 | G103: 55567 | H103: 233001954 | I103: 1 | L103: 1
...

Sheet 안산
A1: 안산시 정류소전광판(BIT) 설치지점 현황
A3: ※ 노란색 부분만 작성할 것 [작성방법] 1. 정류소 타입(쉘터, 표지, 무표지)를 기입할 것 2. 정류소별 BIT 설치 세부현황을 기입할 것(정류소번호, ID로 매칭해서 반드시 기재할 것) - 1개 정류소에 BIT 유형별로 설치된 경우 모든 수량 표기할 것 - 사례1 (수원역 정류소(20000001) 1곳에 LED 3개, LCD 2개 있는 경우) : BIT설치여부 1 / LED 3 / LCD 2 ※ 버스기반정보상에 등록된 ID와 번호를 참고하여 시군 센터내부에 매칭 테이블을 관리하고 있으므로 반드시 작성할 것 3. 해당 시군 관할 정류소가 아닌 경우 시군명 변경하고 관할 정류소가 누락된 경우 인접 시군 현황을 참고하여 추가 작성할 것 4. 비고란에 정류소미존재 기재된 경우 운송관리시스템에서 확인 후 정류소 반영
P5: (단위 : 개소)
A6: NO | B6: 시군 | C6: 정류소 | I6: 정류소전광판(BIT)
C7: 정류소명 | D7: 정류소 타입 | G7: 정류소번호 (5자리) | H7: 정류소ID (9자리) | I7: BIT 설치여부 | J7: BIT 유형 | P7: 비고
D8: 쉘터 (쉘터+표지) | E8: 표지 | F8: 무표지 | J8: LED | K8: LCD | L8: LED+LCD 복합형 | M8: 알뜰형 | N8: 임대형 (음성) | O8: 기타
C9: =COUNTA(C10:C1225) -> 1216 | D9: =COUNT(D10:D1225) -> 838 | E9: =COUNT(E10:E1225) -> 259 | F9: =COUNT(F10:F1225) -> 119 | I9: =COUNT(I10:I1225) -> 814 | J9: =COUNT(J10:J1225) -> 650 | K9: =COUNT(K10:K1225) -> 149 | L9: =COUNT(L10:L1225) -> 10 | M9: =COUNT(M10:M1225) -> 8 | N9: =COUNT(N10:N1225) -> 0 | O9: =COUNT(O10:O1225) -> 0
A10: 1 | B10: 안산시 | C10: 삼천리마을앞 | D10: 1 | G10: 17346 | H10: 216000321
A11: 2 | B11: 안산시 | C11: 아메리칸스탠다드코리아 | D11: 1 | G11: 18376 | H11: 217000355
A12: 3 | B12: 안산시 | C12: 나루터 | F12: 1 | G12: 18441 | H12: 217000573
A13: 4 | B13: 안산시 | C13: 대화페인트앞 | D13: 1 | G13: 18021 | H13: 217000187
A14: 5 | B14: 안산시 | C14: 대원산업 | E14: 1 | G14: 18633 | H14: 217000675
A15: 6 | B15: 안산시 | C15: 새중앙교회 | F15: 1 | G15: 18613 | H15: 217000662
A16: 7 | B16: 안산시 | C16: 신길.삼익아파트 | D16: 1 | G16: 18628 | H16: 217000671
A17: 8 | B17: 안산시 | C17: 삼화페인트 | E17: 1 | G17: 18565 | H17: 217000580
A18: 9 | B18: 안산시 | C18: 대호프랜트 | E18: 1 | G18: 18566 | H18: 217000600
A19: 10 | B19: 안산시 | C19: 화랑초교 | D19: 1 | G19: 18590 | H19: 217000642 | I19: 1 | J19: 1
A20: 11 | B20: 안산시 | C20: 안산청소년키움센타 | E20: 1 | G20: 17394 | H20: 216000658
A21: 12 | B21: 안산시 | C21: 일성신약옆건너편 | E21: 1 | G21: 18097 | H21: 217000322 | I21: 1 | J21: 1
A22: 13 | B22: 안산시 | C22: 학현초등학교 | E22: 1 | G22: 17342 | H22: 216000344 | I22: 1 | M22: 1
A23: 14 | B23: 안산시 | C23: 그린빌16단지 | D23: 1 | G23: 18210 | H23: 217000118 | I23: 1 | J23: 1
A24: 15 | B24: 안산시 | C24: 푸르지오3차 | D24: 1 | G24: 18345 | H24: 217000274 | I24: 1 | K24: 1
A25: 16 | B25: 안산시 | C25: 서해아파트앞 | E25: 1 | G25: 17307 | H25: 216000285 | I25: 1 | J25: 1
A26: 17 | B26: 안산시 | C26: 선우빌라 | D26: 1 | G26: 17272 | H26: 216000265 | I26: 1 | K26: 1
A27: 18 | B27: 안산시 | C27: 구봉도입구 | D27: 1 | G27: 18408 | H27: 217000379 | I27: 1 | K27: 1
A28: 19 | B28: 안산시 | C28: 비취사우나 | D28: 1 | G28: 17258 | H28: 216000174
A29: 20 | B29: 안산시 | C29: 기숙사단지앞 | D29: 1 | G29: 18120 | H29: 217000454 | I29: 1 | J29: 1
A30: 21 | B30: 안산시 | C30: 선부휴먼빌아파트 | D30: 1 | G30: 18463 | H30: 217000462 | I30: 1 | J30: 1
A31: 22 | B31: 안산시 | C31: 신한전기 | E31: 1 | G31: 18471 | H31: 217000443
A32: 23 | B32: 안산시 | C32: 대덕GDS | E32: 1 | G32: 18487 | H32: 217000040 | I32: 1 | J32: 1
A33: 24 | B33: 안산시 | C33: 풍산전기(주) | E33: 1 | G33: 18080 | H33: 217000035
A34: 25 | B34: 안산시 | C34: 군자주공11단지 | D34: 1 | G34: 18203 | H34: 217000198 | I34: 1 | J34: 1
A35: 26 | B35: 안산시 | C35: 정재초등학교 | D35: 1 | G35: 17205 | H35: 216000197 | I35: 1 | K35: 1
A36: 27 | B36: 안산시 | C36: 한국신문잉크 | E36: 1 | G36: 18385 | H36: 217000364
A37: 28 | B37: 안산시 | C37: 황금목장 | F37: 1 | G37: 18508 | H37: 217000549
A38: 29 | B38: 안산시 | C38: 황금목장 | F38: 1 | G38: 18510 | H38: 217000547
A39: 30 | B39: 안산시 | C39: 안산문화글로벌광장 | D39: 1 | G39: 18496 | H39: 217000486 | I39: 1 | K39: 1
A40: 31 | B40: 안산시 | C40: 대부교회 | F40: 1 | G40: 18429 | H40: 217000399
A41: 32 | B41: 안산시 | C41: 방아머리선착장 | D41: 1 | G41: 18414 | H41: 217000373 | I41: 1 | J41: 1
A42: 33 | B42: 안산시 | C42: 어촌민속전시관 | D42: 1 | G42: 18457 | H42: 217000425
A43: 34 | B43: 안산시 | C43: 청소년수련원 | D43: 1 | G43: 18453 | H43: 217000421
A44: 35 | B44: 안산시 | C44: 아침농장.열린교회 | F44: 1 | G44: 18449 | H44: 217000417
A45: 36 | B45: 안산시 | C45: 21세기병원 | D45: 1 | G45: 18331 | H45: 217000022 | I45: 1 | J45: 1
A46: 37 | B46: 안산시 | C46: 와동중학교 | D46: 1 | G46: 18319 | H46: 217000080 | I46: 1 | J46: 1
A47: 38 | B47: 안산시 | C47: 관산중학교 | D47: 1 | G47: 18142 | H47: 217000222 | I47: 1 | J47: 1
A48: 39 | B48: 안산시 | C48: 양상동종점 | F48: 1 | G48: 17055 | H48: 216000333
A49: 40 | B49: 안산시 | C49: 한샘앞건너편 | E49: 1 | G49: 18534 | H49: 217000448
A50: 41 | B50: 안산시 | C50: 방아머리제1주차장 | E50: 1 | G50: 18533 | H50: 217000568
A51: 42 | B51: 안산시 | C51: 화정동입구 | E51: 1 | G51: 18600 | H51: 217000649 | I51: 1 | J51: 1
A52: 43 | B52: 안산시 | C52: 선부3동행정복지센터 | D52: 1 | G52: 18588 | H52: 217000629 | I52: 1 | J52: 1
A53: 44 | B53: 안산시 | C53: 산정현교회 | D53: 1 | G53: 18601 | H53: 217000643 | I53: 1 | J53: 1
A54: 45 | B54: 안산시 | C54: 시곡중학교 | D54: 1 | G54: 17152 | H54: 216000208 | I54: 1 | J54: 1
A55: 46 | B55: 안산시 | C55: 부광약품 | E55: 1 | G55: 18527 | H55: 217000532
A56: 47 | B56: 안산시 | C56: 신양금속 | E56: 1 | G56: 18528 | H56: 217000575 | I56: 1 | J56: 1
A57: 48 | B57: 안산시 | C57: 서래가든 | D57: 1 | G57: 18532 | H57: 217000410 | I57: 1 | J57: 1
A58: 49 | B58: 안산시 | C58: 호원초등학교 | E58: 1 | G58: 18498 | H58: 217000470
A59: 50 | B59: 안산시 | C59: 의류타운사거리 | D59: 1 | G59: 17333 | H59: 216000377 | I59: 1 | J59: 1
A60: 51 | B60: 안산시 | C60: 호원초등학교 | E60: 1 | G60: 18499 | H60: 217000467
A61: 52 | B61: 안산시 | C61: 화이트비취모텔 | F61: 1 | G61: 18506 | H61: 217000542
A62: 53 | B62: 안산시 | C62: 팔곡주유소건너편 | D62: 1 | G62: 17352 | H62: 216000361 | I62: 1 | J62: 1
A63: 54 | B63: 안산시 | C63: 당전 | F63: 1 | G63: 18545 | H63: 217000608
A64: 55 | B64: 안산시 | C64: 종근당바이오 | D64: 1 | G64: 18372 | H64: 217000351
A65: 56 | B65: 안산시 | C65: 석탑마을 | D65: 1 | G65: 17332 | H65: 216000653 | I65: 1 | J65: 1
A66: 57 | B66: 안산시 | C66: 남사리 | F66: 1 | G66: 18537 | H66: 217000601
A67: 58 | B67: 안산시 | C67: 남사리 | D67: 1 | G67: 18538 | H67: 217000609
A68: 59 | B68: 안산시 | C68: 샛터삼거리 | F68: 1 | G68: 18540 | H68: 217000603 | I68: 1 | J68: 1
A69: 60 | B69: 안산시 | C69: 샛터삼거리 | F69: 1 | G69: 18541 | H69: 217000604
A70: 61 | B70: 안산시 | C70: 북동삼거리 | F70: 1 | G70: 18542 | H70: 217000605
A71: 62 | B71: 안산시 | C71: 쌍계사 | D71: 1 | G71: 18543 | H71: 217000606
A72: 63 | B72: 안산시 | C72: 한샘앞 | E72: 1 | G72: 18468 | H72: 217000449
A73: 64 | B73: 안산시 | C73: 상록구청.상록수보건소 | D73: 1 | G73: 17324 | H73: 216000332 | I73: 1 | J73: 1
A74: 65 | B74: 안산시 | C74: 진양테크 | E74: 1 | G74: 18475 | H74: 217000439
A75: 66 | B75: 안산시 | C75: 삼영기공 | E75: 1 | G75: 18396 | H75: 217000474
A76: 67 | B76: 안산시 | C76: 해양중학교 | D76: 1 | G76: 17347 | H76: 216000349 | I76: 1 | J76: 1
A77: 68 | B77: 안산시 | C77: 푸르지오9단지 | D77: 1 | G77: 17348 | H77: 216000350 | I77: 1 | J77: 1
A78: 69 | B78: 안산시 | C78: 학현초등학교 | D78: 1 | G78: 17341 | H78: 216000345 | I78: 1 | J78: 1
A79: 70 | B79: 안산시 | C79: 종현동정보화마을 | D79: 1 | G79: 18513 | H79: 217000537 | I79: 1 | K79: 1
A80: 71 | B80: 안산시 | C80: 방아머리 | D80: 1 | G80: 18413 | H80: 217000536 | I80: 1 | J80: 1
A81: 72 | B81: 안산시 | C81: 에스켐텍 | E81: 1 | G81: 18514 | H81: 217000534
A82: 73 | B82: 안산시 | C82: 디에스테크 | E82: 1 | G82: 18515 | H82: 217000533 | I82: 1 | J82: 1
A83: 74 | B83: 안산시 | C83: 원곡중학교 | D83: 1 | G83: 18517 | H83: 217000334 | I83: 1 | J83: 1
A84: 75 | B84: 안산시 | C84: 이화공작소 | D84: 1 | G84: 18518 | H84: 217000526
A85: 76 | B85: 안산시 | C85: 서준 | E85: 1 | G85: 18519 | H85: 217000525
A86: 77 | B86: 안산시 | C86: 원당길입구 | D86: 1 | G86: 18520 | H86: 217000522 | I86: 1 | J86: 1
A87: 78 | B87: 안산시 | C87: 영전사거리 | F87: 1 | G87: 18500 | H87: 217000554
A88: 79 | B88: 안산시 | C88: 대부소방서 | F88: 1 | G88: 18502 | H88: 217000552
A89: 80 | B89: 안산시 | C89: 모베이스전자 | E89: 1 | G89: 18561 | H89: 217000598 | I89: 1 | K89: 1
A90: 81 | B90: 안산시 | C90: 대남초등학교 | F90: 1 | G90: 18539 | H90: 217000602
A91: 82 | B91: 안산시 | C91: 두우현 | F91: 1 | G91: 18544 | H91: 217000607
A92: 83 | B92: 안산시 | C92: 푸르지오7차후문 | D92: 1 | G92: 17353 | H92: 216000353 | I92: 1 | J92: 1
A93: 84 | B93: 안산시 | C93: 신양금속 | E93: 1 | G93: 18497 | H93: 217000574
A94: 85 | B94: 안산시 | C94: 은광교회 | F94: 1 | G94: 18617 | H94: 217000661
A95: 86 | B95: 안산시 | C95: 중부흥슈퍼 | F95: 1 | G95: 18614 | H95: 217000658
A96: 87 | B96: 안산시 | C96: 창동연립 | D96: 1 | G96: 18592 | H96: 217000638 | I96: 1 | J96: 1
A97: 88 | B97: 안산시 | C97: 고잔동행정복지센터 | D97: 1 | G97: 18596 | H97: 217000639 | I97: 1 | J97: 1
A98: 89 | B98: 안산시 | C98: 고잔동행정복지센터 | D98: 1 | G98: 18593 | H98: 217000640 | I98: 1 | J98: 1
A99: 90 | B99: 안산시 | C99: 원일주택 | D99: 1 | G99: 18635 | H99: 217000677 | I99: 1 | J99: 1
A100: 91 | B100: 안산시 | C100: 고잔역뒤편 | D100: 1 | G100: 18584 | H100: 217000624 | I100: 1 | J100: 1
A101: 92 | B101: 안산시 | C101: 석탑마을 | D101: 1 | G101: 17392 | H101: 216000654 | I101: 1 | J101: 1
A102: 93 | B102: 안산시 | C102: 창동연립 | D102: 1 | G102: 18595 | H102: 217000637 | I102: 1 | J102: 1
...

Sheet 남양주
A1: 남양주시 정류소전광판(BIT) 설치지점 현황
A3: ※ 노란색 부분만 작성할 것 [작성방법] 1. 정류소 타입(쉘터, 표지, 무표지)를 기입할 것 2. 정류소별 BIT 설치 세부현황을 기입할 것(정류소번호, ID로 매칭해서 반드시 기재할 것) - 1개 정류소에 BIT 유형별로 설치된 경우 모든 수량 표기할 것 - 사례1 (수원역 정류소(20000001) 1곳에 LED 3개, LCD 2개 있는 경우) : BIT설치여부 1 / LED 3 / LCD 2 ※ 버스기반정보상에 등록된 ID와 번호를 참고하여 시군 센터내부에 매칭 테이블을 관리하고 있으므로 반드시 작성할 것 3. 해당 시군 관할 정류소가 아닌 경우 시군명 변경하고 관할 정류소가 누락된 경우 인접 시군 현황을 참고하여 추가 작성할 것 4. 비고란에 정류소미존재 기재된 경우 운송관리시스템에서 확인 후 정류소 반영
P5: (단위 : 개소)
A6: NO | B6: 시군 | C6: 정류소 | I6: 정류소전광판(BIT)
C7: 정류소명 | D7: 정류소 타입 | G7: 정류소번호 (5자리) | H7: 정류소ID (9자리) | I7: BIT 설치여부 | J7: BIT 유형 | P7: 비고
D8: 쉘터 (쉘터+표지) | E8: 표지 | F8: 무표지 | J8: LED | K8: LCD | L8: LED+LCD 복합형 | M8: 알뜰형 | N8: 임대형 (음성) | O8: 기타
C9: =COUNTA(C10:C1793) -> 1784 | D9: =COUNT(D10:D1793) -> 991 | E9: =COUNT(E10:E1793) -> 525 | F9: =COUNT(F10:F1793) -> 268 | I9: =COUNT(I10:I1793) -> 925 | J9: =COUNT(J10:J1793) -> 249 | K9: =COUNT(K10:K1793) -> 0 | L9: =COUNT(L10:L1793) -> 676 | M9: =COUNT(M10:M1793) -> 0 | N9: =COUNT(N10:N1793) -> 0 | O9: =COUNT(O10:O1793) -> 0
A10: 1 | B10: 남양주시 | C10: 동부센트레빌아파트 | D10: 1 | G10: 49267 | H10: 222001261 | I10: 1 | L10: 1
A11: 2 | B11: 남양주시 | C11: 양정역.백천사입구 | F11: 1 | G11: 23685 | H11: 222001054
A12: 3 | B12: 남양주시 | C12: 영남아파트 | D12: 1 | G12: 23856 | H12: 222001172
A13: 4 | B13: 남양주시 | C13: 남양휴튼아파트.진접우체국.풍양보건소입구 | D13: 1 | G13: 23965 | H13: 222001356 | I13: 1 | L13: 1
A14: 5 | B14: 남양주시 | C14: 코오롱아파트 | D14: 1 | G14: 49266 | H14: 222001260 | I14: 1 | L14: 1
A15: 6 | B15: 남양주시 | C15: 회관앞 | D15: 1 | G15: 49191 | H15: 222000986
A16: 7 | B16: 남양주시 | C16: 자연앤이편한세상2차 | D16: 1 | G16: 49125 | H16: 222001024 | I16: 1 | J16: 1
A17: 8 | B17: 남양주시 | C17: 경동빌라 | F17: 1 | G17: 49126 | H17: 222001023
A18: 9 | B18: 남양주시 | C18: 군장리종점 | E18: 1 | G18: 49112 | H18: 222001020
A19: 10 | B19: 남양주시 | C19: 용화사 | E19: 1 | G19: 49115 | H19: 222000999
A20: 11 | B20: 남양주시 | C20: 섬마을 | D20: 1 | G20: 49116 | H20: 222000998 | I20: 1 | J20: 1
A21: 12 | B21: 남양주시 | C21: 회관앞 | E21: 1 | G21: 49117 | H21: 222000858
A22: 13 | B22: 남양주시 | C22: 백봉초등학교 | D22: 1 | G22: 49135 | H22: 222001047 | I22: 1 | L22: 1
A23: 14 | B23: 남양주시 | C23: 중흥2차아파트앞 | D23: 1 | G23: 49138 | H23: 222001044 | I23: 1 | L23: 1
A24: 15 | B24: 남양주시 | C24: 화성아파트앞 | E24: 1 | G24: 49139 | H24: 222001043
A25: 16 | B25: 남양주시 | C25: 금호어울림아파트앞 | E25: 1 | G25: 49141 | H25: 222001041
A26: 17 | B26: 남양주시 | C26: 금호어울림아파트앞 | E26: 1 | G26: 49142 | H26: 222001040
A27: 18 | B27: 남양주시 | C27: 평내상업지구 | E27: 1 | G27: 49143 | H27: 222001039
A28: 19 | B28: 남양주시 | C28: 원차산 | D28: 1 | G28: 49133 | H28: 222000250 | I28: 1 | J28: 1
A29: 20 | B29: 남양주시 | C29: 두산1차아파트 | D29: 1 | G29: 49134 | H29: 222000243 | I29: 1 | J29: 1 | P29: LED1, LCD1
A30: 21 | B30: 남양주시 | C30: 하팔당마을 | E30: 1 | G30: 23467 | H30: 222000216
A31: 22 | B31: 남양주시 | C31: 수동농협창고 | F31: 1 | G31: 49120 | H31: 222000834
A32: 23 | B32: 남양주시 | C32: 대명루첸1차아파트 | D32: 1 | G32: 23485 | H32: 222000771 | I32: 1 | J32: 1
A33: 24 | B33: 남양주시 | C33: 대명루첸1차아파트 | E33: 1 | G33: 23486 | H33: 222000768
A34: 25 | B34: 남양주시 | C34: 보학마을.라온프라이빗아파트 | D34: 1 | G34: 49123 | H34: 222000744 | I34: 1 | J34: 1
A35: 26 | B35: 남양주시 | C35: 리버타운 | E35: 1 | G35: 49128 | H35: 222000063
A36: 27 | B36: 남양주시 | C36: 금남3리 | D36: 1 | G36: 49129 | H36: 222000059 | I36: 1 | L36: 1
A37: 28 | B37: 남양주시 | C37: 가람의집 | E37: 1 | G37: 49130 | H37: 222000056
A38: 29 | B38: 남양주시 | C38: 백월리 | F38: 1 | G38: 49132 | H38: 222000049
A39: 30 | B39: 남양주시 | C39: 남양주제2청사.남양주경찰서.남양주보건소 | D39: 1 | G39: 49060 | H39: 222000947
A40: 31 | B40: 남양주시 | C40: 동연평교차로 | E40: 1 | G40: 49061 | H40: 222000942
A41: 32 | B41: 남양주시 | C41: 부대앞 | F41: 1 | G41: 49063 | H41: 222000940
A42: 33 | B42: 남양주시 | C42: 샛터마을 | D42: 1 | G42: 49064 | H42: 222000939
A43: 34 | B43: 남양주시 | C43: 광릉초교후문 | E43: 1 | G43: 49067 | H43: 222000927
A44: 35 | B44: 남양주시 | C44: 광릉초교후문 | D44: 1 | G44: 49068 | H44: 222000924 | I44: 1 | J44: 1
A45: 36 | B45: 남양주시 | C45: 돌머리교 | F45: 1 | G45: 49208 | H45: 222001158
A46: 37 | B46: 남양주시 | C46: 주공3.4단지 | E46: 1 | G46: 23896 | H46: 222001111
A47: 38 | B47: 남양주시 | C47: 스키장입구사거리 | D47: 1 | G47: 49233 | H47: 222001204 | I47: 1 | J47: 1
A48: 39 | B48: 남양주시 | C48: 진벌리차고지 | E48: 1 | G48: 49204 | H48: 222001119
A49: 40 | B49: 남양주시 | C49: 뒷골 | E49: 1 | G49: 23932 | H49: 222001352
A50: 41 | B50: 남양주시 | C50: 삼성프라자.지안빌딩 | D50: 1 | G50: 23962 | H50: 222001363 | I50: 1 | L50: 1
A51: 42 | B51: 남양주시 | C51: 남양주종합촬영소 | D51: 1 | G51: 23933 | H51: 222001347 | I51: 1 | L51: 1
A52: 43 | B52: 남양주시 | C52: 가마골 | E52: 1 | G52: 23853 | H52: 222001094
A53: 44 | B53: 남양주시 | C53: 가마골 | E53: 1 | G53: 23854 | H53: 222001093
A54: 45 | B54: 남양주시 | C54: 대운식당앞 | F54: 1 | G54: 49248 | H54: 222001176
A55: 46 | B55: 남양주시 | C55: 진접고.화봉초교.신안인스빌아파트 | D55: 1 | G55: 23983 | H55: 222001376 | I55: 1 | L55: 1
A56: 47 | B56: 남양주시 | C56: 편한마트앞 | E56: 1 | G56: 49234 | H56: 222001202 | I56: 1 | J56: 1
A57: 48 | B57: 남양주시 | C57: 삼각골 | F57: 1 | G57: 49211 | H57: 222001160
A58: 49 | B58: 남양주시 | C58: 신도브래뉴아파트 | D58: 1 | G58: 23961 | H58: 222001365 | I58: 1 | L58: 1
A59: 50 | B59: 남양주시 | C59: 청소년도움센터앞 | F59: 1 | G59: 49098 | H59: 222001010
A60: 51 | B60: 남양주시 | C60: 회관앞 | E60: 1 | G60: 49072 | H60: 222000996
A61: 52 | B61: 남양주시 | C61: 대성학원 | D61: 1 | G61: 49077 | H61: 222000988
A62: 53 | B62: 남양주시 | C62: 경기도노인전문병원.펜션 | E62: 1 | G62: 49081 | H62: 222000983
A63: 54 | B63: 남양주시 | C63: 주공아파트 | D63: 1 | G63: 49044 | H63: 222000679 | I63: 1 | J63: 1
A64: 55 | B64: 남양주시 | C64: 남양주농업기술센터 | D64: 1 | G64: 23296 | H64: 222000668 | I64: 1 | L64: 1
A65: 56 | B65: 남양주시 | C65: 남양주제2청사.남양주경찰서.남양주보건소 | D65: 1 | G65: 23158 | H65: 222000660
A66: 57 | B66: 남양주시 | C66: 지둔리마을회관 | F66: 1 | G66: 49209 | H66: 222001164
A67: 58 | B67: 남양주시 | C67: 신촌.축동마을 | D67: 1 | G67: 49217 | H67: 222001192
A68: 59 | B68: 남양주시 | C68: 녹촌리 | F68: 1 | G68: 49054 | H68: 222001035
A69: 60 | B69: 남양주시 | C69: 롯데캐슬 | D69: 1 | G69: 49062 | H69: 222000941 | I69: 1 | L69: 1
A70: 61 | B70: 남양주시 | C70: 덕소초등학교.와부농협본점 | F70: 1 | G70: 23398 | H70: 222000884
A71: 62 | B71: 남양주시 | C71: 환경사업소 | E71: 1 | G71: 49035 | H71: 222000860
A72: 63 | B72: 남양주시 | C72: 기도원 | F72: 1 | G72: 49036 | H72: 222000859
A73: 64 | B73: 남양주시 | C73: 송천리종점 | F73: 1 | G73: 49038 | H73: 222000837
A74: 65 | B74: 남양주시 | C74: 다윗동산.(구)유스타운 | E74: 1 | G74: 49042 | H74: 222000812
A75: 66 | B75: 남양주시 | C75: 현대우림아파트 | D75: 1 | G75: 23829 | H75: 222001072 | I75: 1 | L75: 1
A76: 67 | B76: 남양주시 | C76: 양오초중교.두산대림아파트 | D76: 1 | G76: 23833 | H76: 222001076 | I76: 1 | L76: 1 | P76: LED1, LCD1
A77: 68 | B77: 남양주시 | C77: 빛과소금교회앞 | D77: 1 | G77: 23837 | H77: 222001067 | I77: 1 | L77: 1
A78: 69 | B78: 남양주시 | C78: 어냄이삼거리 | E78: 1 | G78: 23844 | H78: 222001081
A79: 70 | B79: 남양주시 | C79: 신우아파트 | D79: 1 | G79: 23848 | H79: 222001063 | I79: 1 | L79: 1
A80: 71 | B80: 남양주시 | C80: 일신건영아파트 | E80: 1 | G80: 23840 | H80: 222001082
A81: 72 | B81: 남양주시 | C81: 빛과소금교회앞 | E81: 1 | G81: 23842 | H81: 222001084
A82: 73 | B82: 남양주시 | C82: 장자말 | D82: 1 | G82: 23845 | H82: 222001079 | I82: 1 | L82: 1
A83: 74 | B83: 남양주시 | C83: 양오초중교.두산대림아파트 | D83: 1 | G83: 23846 | H83: 222001077 | I83: 1 | L83: 1
A84: 75 | B84: 남양주시 | C84: 삭다니입구.쌍용아파트 | D84: 1 | G84: 23847 | H84: 222001075 | I84: 1 | L84: 1 | P84: LED1, LCD1
A85: 76 | B85: 남양주시 | C85: 신우아파트 | D85: 1 | G85: 23849 | H85: 222001062 | I85: 1 | L85: 1
A86: 77 | B86: 남양주시 | C86: 현대우림아파트 | E86: 1 | G86: 23830 | H86: 222001073
A87: 78 | B87: 남양주시 | C87: 판곡중.판곡고.LH호평1단지 | D87: 1 | G87: 23831 | H87: 222001071 | I87: 1 | L87: 1
A88: 79 | B88: 남양주시 | C88: 삭다니입구.쌍용아파트 | D88: 1 | G88: 23832 | H88: 222001074 | I88: 1 | L88: 1 | P88: LED1, LCD1
A89: 80 | B89: 남양주시 | C89: 장자말 | D89: 1 | G89: 23834 | H89: 222001078 | I89: 1 | J89: 1
A90: 81 | B90: 남양주시 | C90: 어냄이삼거리 | E90: 1 | G90: 23835 | H90: 222001080
A91: 82 | B91: 남양주시 | C91: 신도아파트.KT앞 | D91: 1 | G91: 23838 | H91: 222001068 | I91: 1 | L91: 1
A92: 83 | B92: 남양주시 | C92: 일신건영아파트 | D92: 1 | G92: 23839 | H92: 222001069 | I92: 1 | J92: 1
A93: 84 | B93: 남양주시 | C93: 주리골 | E93: 1 | G93: 23864 | H93: 222001106
A94: 85 | B94: 남양주시 | C94: 주리골입구 | D94: 1 | G94: 23897 | H94: 222001121 | I94: 1 | J94: 1
A95: 86 | B95: 남양주시 | C95: 반도유보라아파트 | D95: 1 | G95: 49206 | H95: 222001150 | I95: 1 | L95: 1
A96: 87 | B96: 남양주시 | C96: 삼각골 | F96: 1 | G96: 49239 | H96: 222001161
A97: 88 | B97: 남양주시 | C97: 지둔교 | F97: 1 | G97: 49232 | H97: 222001163
A98: 89 | B98: 남양주시 | C98: 늘푸른마을앞 | F98: 1 | G98: 49231 | H98: 222001166
A99: 90 | B99: 남양주시 | C99: 다산2동주민센터.양정초교.한화아파트 | D99: 1 | G99: 23924 | H99: 222001322
A100: 91 | B100: 남양주시 | C100: 다산2동주민센터.양정초교.한화아파트 | D100: 1 | G100: 23930 | H100: 222001323 | I100: 1 | L100: 1
A101: 92 | B101: 남양주시 | C101: 가운휴먼시아.도농해링턴타워.새마을금고다산본점(중) | D101: 1 | G101: 23931 | H101: 222001319 | I101: 1 | L101: 1 | P101: LED2, LCD1
A102: 93 | B102: 남양주시 | C102: 접동마을 | D102: 1 | G102: 23860 | H102: 222001118
...

Sheet 안양
A1: 안양시 정류소전광판(BIT) 설치지점 현황
A3: ※ 노란색 부분만 작성할 것 [작성방법] 1. 정류소 타입(쉘터, 표지, 무표지)를 기입할 것 2. 정류소별 BIT 설치 세부현황을 기입할 것(정류소번호, ID로 매칭해서 반드시 기재할 것) - 1개 정류소에 BIT 유형별로 설치된 경우 모든 수량 표기할 것 - 사례1 (수원역 정류소(20000001) 1곳에 LED 3개, LCD 2개 있는 경우) : BIT설치여부 1 / LED 3 / LCD 2 ※ 버스기반정보상에 등록된 ID와 번호를 참고하여 시군 센터내부에 매칭 테이블을 관리하고 있으므로 반드시 작성할 것 3. 해당 시군 관할 정류소가 아닌 경우 시군명 변경하고 관할 정류소가 누락된 경우 인접 시군 현황을 참고하여 추가 작성할 것 4. 비고란에 정류소미존재 기재된 경우 운송관리시스템에서 확인 후 정류소 반영
P5: (단위 : 개소)
A6: NO | B6: 시군 | C6: 정류소 | I6: 정류소전광판(BIT)
C7: 정류소명 | D7: 정류소 타입 | G7: 정류소번호 (5자리) | H7: 정류소ID (9자리) | I7: BIT 설치여부 | J7: BIT 유형 | P7: 비고
D8: 쉘터 (쉘터+표지) | E8: 표지 | F8: 무표지 | J8: LED | K8: LCD | L8: LED+LCD 복합형 | M8: 알뜰형 | N8: 임대형 (음성) | O8: 기타
C9: =COUNTA(C10:C730) -> 721 | D9: =COUNTA(D10:D730) -> 456 | E9: =COUNTA(E10:E730) -> 199 | F9: =COUNTA(F10:F730) -> 49 | I9: =COUNTA(I10:I730) -> 354 | J9: =COUNTA(J10:J730) -> 93 | K9: =COUNTA(K10:K730) -> 255 | L9: =COUNTA(L10:L730) -> 6 | M9: =COUNTA(M10:M730) -> 0 | N9: =COUNTA(N10:N730) -> 0 | O9: =COUNTA(O10:O730) -> 0
A10: 1 | B10: 안양시 | C10: 사회복지관 | E10: 1 | G10: 9235 | H10: 208000261
A11: 2 | B11: 안양시 | C11: 효성아파트.종점 | E11: 1 | G11: 9231 | H11: 208000264
A12: 3 | B12: 안양시 | C12: 오뚜기식품.두산벤처다임 | D12: 1 | G12: 10164 | H12: 209000029 | I12: 1 | K12: 1
A13: 4 | B13: 안양시 | C13: 현대아파트.안양서중학교 | D13: 1 | G13: 9222 | H13: 208000245
A14: 5 | B14: 안양시 | C14: 초원세경아파트 | D14: 1 | G14: 10123 | H14: 209000073 | I14: 1 | K14: 1
A15: 6 | B15: 안양시 | C15: 청원놀이터 | D15: 1 | G15: 9217 | H15: 208000207 | I15: 1 | K15: 1
A16: 7 | B16: 안양시 | C16: 안양문화원.소방서 | E16: 1 | G16: 9155 | H16: 208000050
A17: 8 | B17: 안양시 | C17: 용강빌라 | D17: 1 | G17: 9023 | H17: 208000109 | I17: 1 | K17: 1
A18: 9 | B18: 안양시 | C18: 만안평생교육센터 | D18: 1 | G18: 9168 | H18: 208000175 | I18: 1 | K18: 1
A19: 10 | B19: 안양시 | C19: 효성아파트입구 | D19: 1 | G19: 9233 | H19: 208000262
A20: 11 | B20: 안양시 | C20: 대림대학 | D20: 1 | G20: 10002 | H20: 209000003 | I20: 1 | K20: 1
A21: 12 | B21: 안양시 | C21: 내촌마을 | D21: 1 | G21: 10056 | H21: 209000015 | I21: 1 | K21: 1
A22: 13 | B22: 안양시 | C22: 충훈1교 | D22: 1 | G22: 9044 | H22: 208000208 | I22: 1 | K22: 1
A23: 14 | B23: 안양시 | C23: 평촌고등학교 | D23: 1 | G23: 10190 | H23: 209000206
A24: 15 | B24: 안양시 | C24: 안양1번가 | E24: 1 | G24: 9220 | H24: 208000244
A25: 16 | B25: 안양시 | C25: 목련마을 | D25: 1 | G25: 10194 | H25: 209000221 | I25: 1 | J25: 1
A26: 17 | B26: 안양시 | C26: 부안중학교 | D26: 1 | G26: 10202 | H26: 209000233 | I26: 1 | J26: 1
A27: 18 | B27: 안양시 | C27: 한림대병원 | D27: 1 | G27: 10201 | H27: 209000231 | I27: 1 | K27: 1
A28: 19 | B28: 안양시 | C28: 태영아파트 | D28: 1 | G28: 10209 | H28: 209000243 | I28: 1 | K28: 1
A29: 20 | B29: 안양시 | C29: 호계삼거리.디오슈페리움 | D29: 1 | G29: 10210 | H29: 209000240 | I29: 1 | K29: 1
A30: 21 | B30: 안양시 | C30: 힐스테이트에코평촌.부안중학교 | D30: 1 | G30: 10203 | H30: 209000234 | I30: 1 | K30: 1
A31: 22 | B31: 안양시 | C31: 차고지입구 | D31: 1 | G31: 9214 | H31: 208000236
A32: 23 | B32: 안양시 | C32: 관악장애인종합복지관 | D32: 1 | G32: 9215 | H32: 208000233
A33: 24 | B33: 안양시 | C33: 성원아파트3동 | D33: 1 | G33: 9216 | H33: 208000230 | I33: 1 | J33: 1
A34: 25 | B34: 안양시 | C34: 안양예술공원 | D34: 1 | G34: 9115 | H34: 208000033 | I34: 1 | K34: 1
A35: 26 | B35: 안양시 | C35: 장애인복지회관 | D35: 1 | G35: 9142 | H35: 208000031
A36: 27 | B36: 안양시 | C36: 평촌공고 | D36: 1 | G36: 10131 | H36: 209000184 | I36: 1 | J36: 1
A37: 28 | B37: 안양시 | C37: 학원가사거리.먹자골목 | E37: 1 | G37: 10104 | H37: 209000174 | I37: 1 | J37: 1
A38: 29 | B38: 안양시 | C38: 평촌학원가.먹자거리 | D38: 1 | G38: 10108 | H38: 209000173 | I38: 1 | K38: 1
A39: 30 | B39: 안양시 | C39: 자유공원.평촌아트홀 | D39: 1 | G39: 10116 | H39: 209000172 | I39: 1 | J39: 1
A40: 31 | B40: 안양시 | C40: 농수산물도매시장 | D40: 1 | G40: 10158 | H40: 209000169 | I40: 1 | K40: 1
A41: 32 | B41: 안양시 | C41: 초원한양아파트 | D41: 1 | G41: 10143 | H41: 209000167 | I41: 1 | K41: 1
A42: 33 | B42: 안양시 | C42: 동안고등학교정문 | D42: 1 | G42: 10145 | H42: 209000166 | I42: 1 | K42: 1
A43: 34 | B43: 안양시 | C43: 한신아파트 | D43: 1 | G43: 10142 | H43: 209000161 | I43: 1 | K43: 1
A44: 35 | B44: 안양시 | C44: 한신아파트 | D44: 1 | G44: 10144 | H44: 209000158
A45: 36 | B45: 안양시 | C45: 한전.호계체육관 | D45: 1 | G45: 10041 | H45: 209000156 | I45: 1 | J45: 1
A46: 37 | B46: 안양시 | C46: 한전.호계체육관 | D46: 1 | G46: 10038 | H46: 209000155 | I46: 1 | K46: 1
A47: 38 | B47: 안양시 | C47: 안양우편물류센터후문 | D47: 1 | G47: 10023 | H47: 209000148
A48: 39 | B48: 안양시 | C48: 삼신아파트 | E48: 1 | G48: 10054 | H48: 209000144 | I48: 1 | K48: 1
A49: 40 | B49: 안양시 | C49: 부흥고등학교 | D49: 1 | G49: 10020 | H49: 209000134 | I49: 1 | J49: 1
A50: 41 | B50: 안양시 | C50: 농수산물시장 | D50: 1 | G50: 10147 | H50: 209000129 | I50: 1 | K50: 1
A51: 42 | B51: 안양시 | C51: 방축사거리 | D51: 1 | G51: 10064 | H51: 209000126 | I51: 1 | J51: 1
A52: 43 | B52: 안양시 | C52: 호계중학교.신기사거리 | D52: 1 | G52: 10071 | H52: 209000125 | I52: 1 | K52: 1
A53: 44 | B53: 안양시 | C53: 무궁화태영아파트 | D53: 1 | G53: 10078 | H53: 209000124 | I53: 1 | J53: 1
A54: 45 | B54: 안양시 | C54: 한성병원.호계3동행정복지센터 | D54: 1 | G54: 10098 | H54: 209000121 | I54: 1 | K54: 1
A55: 46 | B55: 안양시 | C55: 경원여객안양차고지 | F55: 1 | G55: 10019 | H55: 209000120
A56: 47 | B56: 안양시 | C56: 효성티앤씨.진영레미콘 | D56: 1 | G56: 10015 | H56: 209000119 | I56: 1 | K56: 1
A57: 48 | B57: 안양시 | C57: 경원여객안양차고지 | F57: 1 | G57: 10018 | H57: 209000117
A58: 49 | B58: 안양시 | C58: 민백마을 | D58: 1 | G58: 10163 | H58: 209000114 | I58: 1 | K58: 1
A59: 50 | B59: 안양시 | C59: 나눔초등학교.오뚜기식품.두산번체다임 | D59: 1 | G59: 10168 | H59: 209000113 | I59: 1 | K59: 1
A60: 51 | B60: 안양시 | C60: 평촌동행정복지센터.인덕원대우아파트 | D60: 1 | G60: 10174 | H60: 209000112 | I60: 1 | K60: 1
A61: 52 | B61: 안양시 | C61: 안양시청 | D61: 1 | G61: 10095 | H61: 209000108 | I61: 1 | K61: 1
A62: 53 | B62: 안양시 | C62: 평촌노인정 | E62: 1 | G62: 10176 | H62: 209000104
A63: 54 | B63: 안양시 | C63: 법원검찰청.평촌역 | D63: 1 | G63: 10126 | H63: 209000098 | I63: 1 | K63: 1
A64: 55 | B64: 안양시 | C64: 봄빛병원 | E64: 1 | G64: 10077 | H64: 209000096
A65: 56 | B65: 안양시 | C65: 동안경찰서.범계역 | D65: 1 | G65: 10046 | H65: 209000094 | I65: 1 | K65: 1
A66: 57 | B66: 안양시 | C66: 경기게임마이스터고등학교 | D66: 1 | G66: 10028 | H66: 209000092 | I66: 1 | K66: 1
A67: 58 | B67: 안양시 | C67: 동안구청.달안초등학교 | D67: 1 | G67: 10044 | H67: 209000091 | I67: 1 | K67: 1
A68: 59 | B68: 안양시 | C68: 목련선경아파트 | D68: 1 | G68: 10062 | H68: 209000090 | I68: 1 | L68: 2 | P68: LED1+LCD1
A69: 60 | B69: 안양시 | C69: 범계중학교 | D69: 1 | G69: 10070 | H69: 209000089 | I69: 1 | K69: 1
A70: 61 | B70: 안양시 | C70: 무궁화코오롱.건영아파트 | D70: 1 | G70: 10087 | H70: 209000087 | I70: 1 | K70: 1
A71: 62 | B71: 안양시 | C71: 경기게임마이스터고등학교 | D71: 1 | G71: 10030 | H71: 209000081 | I71: 1 | K71: 1
A72: 63 | B72: 안양시 | C72: 호계소방파출소 | D72: 1 | G72: 10118 | H72: 209000080 | I72: 1 | K72: 1
A73: 64 | B73: 안양시 | C73: 평촌역 | D73: 1 | G73: 10132 | H73: 209000075 | I73: 1 | K73: 1
A74: 65 | B74: 안양시 | C74: 평안동행정복지센터 | D74: 1 | G74: 10138 | H74: 209000074 | I74: 1 | J74: 1
A75: 66 | B75: 안양시 | C75: 향촌현대아파트 | D75: 1 | G75: 10125 | H75: 209000072 | I75: 1 | J75: 1
A76: 67 | B76: 안양시 | C76: 은하수벽산아파트 | D76: 1 | G76: 10031 | H76: 209000069 | I76: 1 | K76: 1
A77: 68 | B77: 안양시 | C77: 부흥동행정복지센터 | D77: 1 | G77: 10027 | H77: 209000068 | I77: 1 | K77: 1
A78: 69 | B78: 안양시 | C78: 공작마을럭키아파트 | D78: 1 | G78: 10091 | H78: 209000065 | I78: 1 | J78: 1
A79: 70 | B79: 안양시 | C79: 한가람삼성아파트 | D79: 1 | G79: 10088 | H79: 209000064 | I79: 1 | J79: 1
A80: 71 | B80: 안양시 | C80: 부림중학교 | D80: 1 | G80: 10081 | H80: 209000063 | I80: 1 | K80: 1
A81: 72 | B81: 안양시 | C81: 샛별단지 | D81: 1 | G81: 10052 | H81: 209000062 | I81: 1 | K81: 1
A82: 73 | B82: 안양시 | C82: 초원대림아파트 | D82: 1 | G82: 10127 | H82: 209000057 | I82: 1 | K82: 1
A83: 74 | B83: 안양시 | C83: 평촌역 | D83: 1 | G83: 10133 | H83: 209000054 | I83: 1 | K83: 1
A84: 75 | B84: 안양시 | C84: 관양중학교 | D84: 1 | G84: 10112 | H84: 209000051 | I84: 1 | K84: 1
A85: 76 | B85: 안양시 | C85: 종합운동장 | D85: 1 | G85: 10059 | H85: 209000049 | I85: 1 | K85: 1
A86: 77 | B86: 안양시 | C86: 동양월드타워 | D86: 1 | G86: 10017 | H86: 209000047 | I86: 1 | K86: 1
A87: 78 | B87: 안양시 | C87: 비산농협 | D87: 1 | G87: 10003 | H87: 209000044 | I87: 1 | K87: 1
A88: 79 | B88: 안양시 | C88: 비산롯데캐슬 | D88: 1 | G88: 10009 | H88: 209000042 | I88: 1 | K88: 1
A89: 80 | B89: 안양시 | C89: 미륭아파트 | D89: 1 | G89: 10014 | H89: 209000041 | I89: 1 | K89: 1
A90: 81 | B90: 안양시 | C90: 인덕원역4호선 | D90: 1 | G90: 10171 | H90: 209000032 | I90: 1 | K90: 1
A91: 82 | B91: 안양시 | C91: 평촌동행정복지센터.KT동안양지점.인덕원대우아파트 | D91: 1 | G91: 10170 | H91: 209000030 | I91: 1 | K91: 1
A92: 83 | B92: 안양시 | C92: 현대.대림아파트 | D92: 1 | G92: 10111 | H92: 209000026 | I92: 1 | L92: 2 | P92: LED1+LCD1
A93: 84 | B93: 안양시 | C93: 무궁화코오롱.건영아파트 | D93: 1 | G93: 10074 | H93: 209000021 | I93: 1 | K93: 1
A94: 85 | B94: 안양시 | C94: 삼신아파트 | D94: 1 | G94: 10050 | H94: 209000143 | I94: 1 | K94: 1
A95: 86 | B95: 안양시 | C95: 동편수변공원앞 | E95: 1 | G95: 10058 | H95: 209000019
A96: 87 | B96: 안양시 | C96: 범계역(중) | D96: 1 | G96: 10060 | H96: 209000017 | I96: 1 | K96: 2
A97: 88 | B97: 안양시 | C97: 덕고개사거리 | D97: 1 | G97: 10128 | H97: 209000012 | I97: 1 | K97: 1
A98: 89 | B98: 안양시 | C98: 호계사거리 | D98: 1 | G98: 10105 | H98: 209000006 | I98: 1 | K98: 1
A99: 90 | B99: 안양시 | C99: 호계소방파출소 | D99: 1 | G99: 10120 | H99: 209000005 | I99: 1 | K99: 1
A100: 91 | B100: 안양시 | C100: 덕고개사거리 | D100: 1 | G100: 10199 | H100: 209000004 | I100: 1 | K100: 1
A101: 92 | B101: 안양시 | C101: 충훈2교 | D101: 1 | G101: 9026 | H101: 208000203 | I101: 1 | K101: 1
A102: 93 | B102: 안양시 | C102: 충훈2교 | E102: 1 | G102: 9022 | H102: 208000198
...

Sheet 평택
A1: 평택시 정류소전광판(BIT) 설치지점 현황
A3: ※ 노란색 부분만 작성할 것 [작성방법] 1. 정류소 타입(쉘터, 표지, 무표지)를 기입할 것 2. 정류소별 BIT 설치 세부현황을 기입할 것(정류소번호, ID로 매칭해서 반드시 기재할 것) - 1개 정류소에 BIT 유형별로 설치된 경우 모든 수량 표기할 것 - 사례1 (수원역 정류소(20000001) 1곳에 LED 3개, LCD 2개 있는 경우) : BIT설치여부 1 / LED 3 / LCD 2 ※ 버스기반정보상에 등록된 ID와 번호를 참고하여 시군 센터내부에 매칭 테이블을 관리하고 있으므로 반드시 작성할 것 3. 해당 시군 관할 정류소가 아닌 경우 시군명 변경하고 관할 정류소가 누락된 경우 인접 시군 현황을 참고하여 추가 작성할 것 4. 비고란에 정류소미존재 기재된 경우 운송관리시스템에서 확인 후 정류소 반영
P5: (단위 : 개소)
A6: NO | B6: 시군 | C6: 정류소 | I6: 정류소전광판(BIT)
C7: 정류소명 | D7: 정류소 타입 | G7: 정류소번호 (5자리) | H7: 정류소ID (9자리) | I7: BIT 설치여부 | J7: BIT 유형 | P7: 비고
D8: 쉘터 (쉘터+표지) | E8: 표지 | F8: 무표지 | J8: LED | K8: LCD | L8: LED+LCD 복합형 | M8: 알뜰형 | N8: 임대형 (음성) | O8: 기타
C9: =COUNTA(C10:C1824) -> 1815 | D9: =COUNTA(D10:D1824) -> 1031 | E9: =COUNTA(E10:E1824) -> 392 | F9: =COUNTA(F10:F1824) -> 385 | I9: =COUNTA(I10:I1824) -> 498 | J9: =COUNTA(J10:J1824) -> 296 | K9: =COUNTA(K10:K1824) -> 183 | L9: =COUNTA(L10:L1824) -> 19 | M9: =COUNTA(M10:M1824) -> 1 | N9: =COUNTA(N10:N1824) -> 0 | O9: =COUNTA(O10:O1824) -> 0
A10: 1 | B10: 평택시 | C10: 도곡초교 | F10: 1 | G10: 48056 | H10: 214001228
A11: 2 | B11: 평택시 | C11: 후암리 | F11: 1 | G11: 48060 | H11: 214001163
A12: 3 | B12: 평택시 | C12: 부영2차정문 | D12: 1 | G12: 48077 | H12: 214000084
A13: 4 | B13: 평택시 | C13: 석정1리(감기) | D13: 1 | G13: 48028 | H13: 214001009
A14: 5 | B14: 평택시 | C14: 비전중학교 | D14: 1 | G14: 48378 | H14: 214001267 | I14: 1 | K14: 1
A15: 6 | B15: 평택시 | C15: 비전중학교 | D15: 1 | G15: 48379 | H15: 214001268 | I15: 1 | K15: 1
A16: 7 | B16: 평택시 | C16: 상리 | F16: 1 | G16: 48380 | H16: 214001270
A17: 8 | B17: 평택시 | C17: 대안1리 | D17: 1 | G17: 48053 | H17: 214000897
A18: 9 | B18: 평택시 | C18: 건천리 | F18: 1 | G18: 15964 | H18: 214000830
A19: 10 | B19: 평택시 | C19: 평택공설운동장 | E19: 1 | G19: 15932 | H19: 214001185
A20: 11 | B20: 평택시 | C20: 노양1리 | D20: 1 | G20: 48300 | H20: 214001188 | I20: 1 | J20: 1
A21: 12 | B21: 평택시 | C21: 청아초교 | D21: 1 | G21: 48965 | H21: 214001068
A22: 13 | B22: 평택시 | C22: 길음리입구 | F22: 1 | G22: 48306 | H22: 214001064
A23: 14 | B23: 평택시 | C23: 석정2리(한유지부락입구) | F23: 1 | G23: 48309 | H23: 214001011
A24: 15 | B24: 평택시 | C24: 도대3리 | D24: 1 | G24: 48311 | H24: 214000990
A25: 16 | B25: 평택시 | C25: 대안3리 | D25: 1 | G25: 48375 | H25: 214001112
A26: 17 | B26: 평택시 | C26: 건천리 | D26: 1 | G26: 48351 | H26: 214000831
A27: 18 | B27: 평택시 | C27: 청북중학교 | D27: 1 | G27: 48352 | H27: 214001219
A28: 19 | B28: 평택시 | C28: 마산3리 | D28: 1 | G28: 48356 | H28: 214001147
A29: 20 | B29: 평택시 | C29: 명법사.남부복지타운 | D29: 1 | G29: 48384 | H29: 214001239 | I29: 1 | J29: 1
A30: 21 | B30: 평택시 | C30: 광동제약.홈플러스 | D30: 1 | G30: 48358 | H30: 214000608 | I30: 1 | J30: 1
A31: 22 | B31: 평택시 | C31: 덕절1리 | F31: 1 | G31: 48359 | H31: 214000822
A32: 23 | B32: 평택시 | C32: 길송횟집앞 | F32: 1 | G32: 48284 | H32: 214000958
A33: 24 | B33: 평택시 | C33: 현덕초교 | F33: 1 | G33: 48286 | H33: 214000929
A34: 25 | B34: 평택시 | C34: 현덕초교 | F34: 1 | G34: 48287 | H34: 214000928
A35: 26 | B35: 평택시 | C35: 신왕1리 | F35: 1 | G35: 48288 | H35: 214000909
A36: 27 | B36: 평택시 | C36: 권관3리 | E36: 1 | G36: 48291 | H36: 214000857
A37: 28 | B37: 평택시 | C37: 회화리 | F37: 1 | G37: 48292 | H37: 214000841
A38: 29 | B38: 평택시 | C38: 유일약국 | E38: 1 | G38: 48293 | H38: 214000813
A39: 30 | B39: 평택시 | C39: 고잔1리 | F39: 1 | G39: 48228 | H39: 214001156
A40: 31 | B40: 평택시 | C40: k-55후문사거리 | F40: 1 | G40: 48229 | H40: 214001153
A41: 32 | B41: 평택시 | C41: 장등2리 | D41: 1 | G41: 48230 | H41: 214001152
A42: 33 | B42: 평택시 | C42: 원정삼거리 | F42: 1 | G42: 48231 | H42: 214001145
A43: 34 | B43: 평택시 | C43: 원옥길 | D43: 1 | G43: 15996 | H43: 214001432
A44: 35 | B44: 평택시 | C44: 와룡리입구 | E44: 1 | G44: 15969 | H44: 214001365
A45: 36 | B45: 평택시 | C45: 대명금속 | E45: 1 | G45: 48398 | H45: 214001311
A46: 37 | B46: 평택시 | C46: 구룡마을입구 | E46: 1 | G46: 15965 | H46: 214001348
A47: 38 | B47: 평택시 | C47: 고덕소방소 | F47: 1 | G47: 48218 | H47: 214001184
A48: 39 | B48: 평택시 | C48: 고덕119안전센터 | F48: 1 | G48: 48221 | H48: 214001180
A49: 40 | B49: 평택시 | C49: 당거2리 | D49: 1 | G49: 48259 | H49: 214001168
A50: 41 | B50: 평택시 | C50: 구종점 | F50: 1 | G50: 48185 | H50: 214000858
A51: 42 | B51: 평택시 | C51: 군인아파트 | E51: 1 | G51: 48186 | H51: 214000848
A52: 43 | B52: 평택시 | C52: 지제마을입구 | E52: 1 | G52: 48219 | H52: 214001183
A53: 44 | B53: 평택시 | C53: 삼성도장 | E53: 1 | G53: 48401 | H53: 214001318
A54: 45 | B54: 평택시 | C54: 두2리 | D54: 1 | G54: 48459 | H54: 214001451
A55: 46 | B55: 평택시 | C55: 삼부르네상스아파트 | D55: 1 | G55: 48013 | H55: 214001282
A56: 47 | B56: 평택시 | C56: 도곡4리 | D56: 1 | G56: 48381 | H56: 214000064 | I56: 1 | K56: 1
A57: 48 | B57: 평택시 | C57: 방축3리 | F57: 1 | G57: 48382 | H57: 214000048
A58: 49 | B58: 평택시 | C58: 방림4리 | F58: 1 | G58: 48383 | H58: 214000948
A59: 50 | B59: 평택시 | C59: 신창아파트 | D59: 1 | G59: 48386 | H59: 214000129
A60: 51 | B60: 평택시 | C60: 노와2리 | D60: 1 | G60: 15760 | H60: 214000752
A61: 52 | B61: 평택시 | C61: 평택세무서 | D61: 1 | G61: 48751 | H61: 214000753
A62: 53 | B62: 평택시 | C62: 시청앞 | D62: 1 | G62: 48277 | H62: 214000737 | I62: 1 | L62: 2 | P62: LED1, LCD1
A63: 54 | B63: 평택시 | C63: 자비사앞 | F63: 1 | G63: 48278 | H63: 214000681
A64: 55 | B64: 평택시 | C64: 보성청실아파트.맞은편 | E64: 1 | G64: 48279 | H64: 214000591
A65: 56 | B65: 평택시 | C65: 두릉리.계루지 | F65: 1 | G65: 48281 | H65: 214000432
A66: 57 | B66: 평택시 | C66: 쌍용기숙사 | E66: 1 | G66: 48297 | H66: 214000786
A67: 58 | B67: 평택시 | C67: 현대아이파크.팽성국제교류센터 | D67: 1 | G67: 48298 | H67: 214000765
A68: 59 | B68: 평택시 | C68: 기업은행앞 | D68: 1 | G68: 48316 | H68: 214001293
A69: 60 | B69: 평택시 | C69: 마산1리 | D69: 1 | G69: 48270 | H69: 214000332
A70: 61 | B70: 평택시 | C70: 광동제약사거리 | F70: 1 | G70: 48272 | H70: 214000169
A71: 62 | B71: 평택시 | C71: 용성2리앞 | D71: 1 | G71: 48273 | H71: 214000109
A72: 63 | B72: 평택시 | C72: 후사2리 | D72: 1 | G72: 48274 | H72: 214000103
A73: 64 | B73: 평택시 | C73: 신영2리 | E73: 1 | G73: 48267 | H73: 214000051
A74: 65 | B74: 평택시 | C74: 주공반지마을아파트 | D74: 1 | G74: 48360 | H74: 214000781 | I74: 1 | J74: 1
A75: 66 | B75: 평택시 | C75: 양교3리 | F75: 1 | G75: 48371 | H75: 214001107
A76: 67 | B76: 평택시 | C76: 지제동 | D76: 1 | G76: 48377 | H76: 214001141
A77: 68 | B77: 평택시 | C77: SR아파트 | D77: 1 | G77: 48189 | H77: 214000868 | I77: 1 | J77: 1
A78: 69 | B78: 평택시 | C78: 유성티엔에스 | F78: 1 | G78: 48392 | H78: 214001312
A79: 70 | B79: 평택시 | C79: 평택항만물류창고 | E79: 1 | G79: 48393 | H79: 214001313
A80: 71 | B80: 평택시 | C80: 창내리입구 | D80: 1 | G80: 48320 | H80: 214001179 | I80: 1 | J80: 1
A81: 72 | B81: 평택시 | C81: 전원가든 | D81: 1 | G81: 48327 | H81: 214000807
A82: 73 | B82: 평택시 | C82: 고덕산업단지입구(중) | D82: 1 | G82: 48177 | H82: 214001226 | I82: 1 | J82: 1
A83: 74 | B83: 평택시 | C83: 서정리초교 | D83: 1 | G83: 48347 | H83: 214000472
A84: 75 | B84: 평택시 | C84: 용성2리.용성3리입구 | D84: 1 | G84: 48101 | H84: 214000101
A85: 76 | B85: 평택시 | C85: 현대모비스사거리 | E85: 1 | G85: 48106 | H85: 214000061
A86: 77 | B86: 평택시 | C86: 소사벌레포츠타운.평일초등학교 | E86: 1 | G86: 48176 | H86: 214000812
A87: 78 | B87: 평택시 | C87: 쌍용기숙사 | E87: 1 | G87: 48181 | H87: 214000787
A88: 79 | B88: 평택시 | C88: 송탄고교 | D88: 1 | G88: 15599 | H88: 214000778 | I88: 1 | K88: 1
A89: 80 | B89: 평택시 | C89: 평택병원 | D89: 1 | G89: 15939 | H89: 214000777
A90: 81 | B90: 평택시 | C90: 그린타운 | F90: 1 | G90: 48182 | H90: 214000769
A91: 82 | B91: 평택시 | C91: 팽성국제교류센터.현대아이파크 | D91: 1 | G91: 48183 | H91: 214000767
A92: 83 | B92: 평택시 | C92: 추팔공단.입구 | F92: 1 | G92: 48184 | H92: 214000746
A93: 84 | B93: 평택시 | C93: 고덕면사무소 | D93: 1 | G93: 48083 | H93: 214000034 | I93: 1 | K93: 1
A94: 85 | B94: 평택시 | C94: 센트럴자이1단지 | D94: 1 | G94: 48251 | H94: 214001164
A95: 86 | B95: 평택시 | C95: 도대1리 | D95: 1 | G95: 48214 | H95: 214000992
A96: 87 | B96: 평택시 | C96: 도대2리 | D96: 1 | G96: 48215 | H96: 214000988
A97: 88 | B97: 평택시 | C97: 방축1리 | D97: 1 | G97: 48222 | H97: 214001177
A98: 89 | B98: 평택시 | C98: 기산리마을회관 | F98: 1 | G98: 48223 | H98: 214001176
A99: 90 | B99: 평택시 | C99: 토진1리 | F99: 1 | G99: 48227 | H99: 214001218
A100: 91 | B100: 평택시 | C100: 직산말 | F100: 1 | G100: 48194 | H100: 214000878
A101: 92 | B101: 평택시 | C101: 사랑현 | F101: 1 | G101: 48201 | H101: 214000905
A102: 93 | B102: 평택시 | C102: 진위역 | D102: 1 | G102: 48129 | H102: 214000506 | I102: 1 | J102: 1
...

Sheet 시흥
A1: 시흥시 정류소전광판(BIT) 설치지점 현황
A3: ※ 노란색 부분만 작성할 것 [작성방법] 1. 정류소 타입(쉘터, 표지, 무표지)를 기입할 것 2. 정류소별 BIT 설치 세부현황을 기입할 것(정류소번호, ID로 매칭해서 반드시 기재할 것) - 1개 정류소에 BIT 유형별로 설치된 경우 모든 수량 표기할 것 - 사례1 (수원역 정류소(20000001) 1곳에 LED 3개, LCD 2개 있는 경우) : BIT설치여부 1 / LED 3 / LCD 2 ※ 버스기반정보상에 등록된 ID와 번호를 참고하여 시군 센터내부에 매칭 테이블을 관리하고 있으므로 반드시 작성할 것 3. 해당 시군 관할 정류소가 아닌 경우 시군명 변경하고 관할 정류소가 누락된 경우 인접 시군 현황을 참고하여 추가 작성할 것 4. 비고란에 정류소미존재 기재된 경우 운송관리시스템에서 확인 후 정류소 반영
P5: (단위 : 개소)
A6: NO | B6: 시군 | C6: 정류소 | I6: 정류소전광판(BIT)
C7: 정류소명 | D7: 정류소 타입 | G7: 정류소번호 (5자리) | H7: 정류소ID (9자리) | I7: BIT 설치여부 | J7: BIT 유형 | P7: 비고
D8: 쉘터 (쉘터+표지) | E8: 표지 | F8: 무표지 | J8: LED | K8: LCD | L8: LED+LCD 복합형 | M8: 알뜰형 | N8: 임대형 (음성) | O8: 기타
C9: =COUNTA(C10:C1059) -> 1050 | D9: =COUNT(D10:D1059) -> 644 | E9: =COUNT(E10:E1059) -> 332 | F9: =COUNT(F10:F1059) -> 74 | I9: =COUNT(I10:I1059) -> 622 | J9: =COUNT(J10:J1059) -> 62 | K9: =COUNT(K10:K1059) -> 557 | L9: =COUNT(L10:L1059) -> 1 | M9: =COUNT(M10:M1059) -> 2 | N9: =COUNT(N10:N1059) -> 0 | O9: =COUNT(O10:O1059) -> 0
A10: 1 | B10: 시흥시 | C10: 목감호반5차더숲 | D10: 1 | G10: 25757 | H10: 224000219 | I10: 1 | K10: 1
A11: 2 | B11: 시흥시 | C11: 목감고등학교 | D11: 1 | G11: 25736 | H11: 224000747 | I11: 1 | K11: 1
A12: 3 | B12: 시흥시 | C12: 길마재 | D12: 1 | G12: 25737 | H12: 224000272 | I12: 1 | K12: 1
A13: 4 | B13: 시흥시 | C13: 물왕삼거리 | D13: 1 | G13: 25731 | H13: 224000734 | I13: 1 | K13: 1
A14: 5 | B14: 시흥시 | C14: 물왕삼거리 | D14: 1 | G14: 25726 | H14: 224000728 | I14: 1 | K14: 1
A15: 6 | B15: 시흥시 | C15: 아랫말 | D15: 1 | G15: 25727 | H15: 224000463 | I15: 1 | K15: 1
A16: 7 | B16: 시흥시 | C16: 나분들 | D16: 1 | G16: 25728 | H16: 224000730
A17: 8 | B17: 시흥시 | C17: 능곡고등학교 | D17: 1 | G17: 25816 | H17: 224000827 | I17: 1 | K17: 1
A18: 9 | B18: 시흥시 | C18: 시흥능곡역.로데오광장 | D18: 1 | G18: 25810 | H18: 224000776 | I18: 1 | K18: 1
A19: 10 | B19: 시흥시 | C19: 오이도박물관 | D19: 1 | G19: 25015 | H19: 224000740 | I19: 1 | K19: 1
A20: 11 | B20: 시흥시 | C20: 청솔아파트 | E20: 1 | G20: 25656 | H20: 224000621
A21: 12 | B21: 시흥시 | C21: 한국산업기술대 | E21: 1 | G21: 25681 | H21: 224000601
A22: 13 | B22: 시흥시 | C22: 소방파출소 | D22: 1 | G22: 25706 | H22: 224000641 | I22: 1 | K22: 1
A23: 14 | B23: 시흥시 | C23: 이마트물류센타 | D23: 1 | G23: 25734 | H23: 224000718 | I23: 1 | K23: 1
A24: 15 | B24: 시흥시 | C24: 목감호반더레이크 | D24: 1 | G24: 25739 | H24: 224000703 | I24: 1 | K24: 1
A25: 16 | B25: 시흥시 | C25: 대철철강 | E25: 1 | G25: 25788 | H25: 224000790
A26: 17 | B26: 시흥시 | C26: 한맥중공업 | F26: 1 | G26: 25761 | H26: 224000759
A27: 18 | B27: 시흥시 | C27: 진로아파트 | E27: 1 | G27: 25655 | H27: 224000602
A28: 19 | B28: 시흥시 | C28: 이지더원1차 | D28: 1 | G28: 25752 | H28: 224000736 | I28: 1 | K28: 1
A29: 20 | B29: 시흥시 | C29: 목감호반더레이크 | D29: 1 | G29: 25753 | H29: 224000704 | I29: 1 | K29: 1
A30: 21 | B30: 시흥시 | C30: 소방파출소 | E30: 1 | G30: 25755 | H30: 224000677 | I30: 1 | K30: 1
A31: 22 | B31: 시흥시 | C31: 중소기업지원센타 | E31: 1 | G31: 25223 | H31: 224000815
A32: 23 | B32: 시흥시 | C32: 세종3차아파트 | E32: 1 | G32: 25764 | H32: 224000762
A33: 24 | B33: 시흥시 | C33: 가래울 | D33: 1 | G33: 25830 | H33: 224000830 | I33: 1 | K33: 1
A34: 25 | B34: 시흥시 | C34: 오이도차고지 | E34: 1 | G34: 25748 | H34: 224000738
A35: 26 | B35: 시흥시 | C35: 오이도차고지 | E35: 1 | G35: 25740 | H35: 224000743
A36: 27 | B36: 시흥시 | C36: 금강아파트 | D36: 1 | G36: 25818 | H36: 224000828 | I36: 1 | K36: 1
A37: 28 | B37: 시흥시 | C37: 능곡고등학교 | D37: 1 | G37: 25817 | H37: 224000826 | I37: 1 | K37: 1
A38: 29 | B38: 시흥시 | C38: 금이동 | E38: 1 | G38: 25785 | H38: 224000787
A39: 30 | B39: 시흥시 | C39: 중소기업지원센타 | E39: 1 | G39: 25222 | H39: 224000814
A40: 31 | B40: 시흥시 | C40: 배곧누리초.중흥S클래스 | D40: 1 | G40: 25759 | H40: 224000651 | I40: 1 | K40: 1
A41: 32 | B41: 시흥시 | C41: 풍림아파트 | D41: 1 | G41: 25837 | H41: 224000749 | I41: 1 | K41: 1
A42: 33 | B42: 시흥시 | C42: 메가폴리스 | D42: 1 | G42: 25732 | H42: 224000719 | I42: 1 | K42: 1
A43: 34 | B43: 시흥시 | C43: 계수리교회 | D43: 1 | G43: 25733 | H43: 224000709
A44: 35 | B44: 시흥시 | C44: 아폴로산업건너편 | E44: 1 | G44: 25765 | H44: 224000764
A45: 36 | B45: 시흥시 | C45: 청원가든 | E45: 1 | G45: 25760 | H45: 224000454
A46: 37 | B46: 시흥시 | C46: 목감리벤티움.신안인스빌 | D46: 1 | G46: 25982 | H46: 224000624 | I46: 1 | K46: 1
A47: 38 | B47: 시흥시 | C47: 희망공원 | E47: 1 | G47: 25663 | H47: 224000607
A48: 39 | B48: 시흥시 | C48: 대부도입구 | E48: 1 | G48: 25741 | H48: 224000733
A49: 40 | B49: 시흥시 | C49: 미산동입구.한덕판지 | D49: 1 | G49: 25384 | H49: 224000593 | I49: 1 | K49: 1
A50: 41 | B50: 시흥시 | C50: 영각사입구 | D50: 1 | G50: 25478 | H50: 224000581 | I50: 1 | K50: 1
A51: 42 | B51: 시흥시 | C51: 녹원아파트 | D51: 1 | G51: 25367 | H51: 224000580 | I51: 1 | K51: 1
A52: 43 | B52: 시흥시 | C52: 동남아파트 | D52: 1 | G52: 25067 | H52: 224000578 | I52: 1 | K52: 1
A53: 44 | B53: 시흥시 | C53: 경기스마트고사거리 | D53: 1 | G53: 25237 | H53: 224000564 | I53: 1 | K53: 1
A54: 45 | B54: 시흥시 | C54: 순복음교회 | E54: 1 | G54: 25235 | H54: 224000563 | I54: 1 | K54: 1
A55: 46 | B55: 시흥시 | C55: 시흥관광호텔.시화초교 | D55: 1 | G55: 25240 | H55: 224000562 | I55: 1 | K55: 1
A56: 47 | B56: 시흥시 | C56: 유천아파트 | D56: 1 | G56: 25247 | H56: 224000560 | I56: 1 | K56: 1
A57: 48 | B57: 시흥시 | C57: 시흥관광호텔.시화초교 | D57: 1 | G57: 25242 | H57: 224000559 | I57: 1 | K57: 1
A58: 49 | B58: 시흥시 | C58: 영각사입구 | D58: 1 | G58: 25479 | H58: 224000542 | I58: 1 | K58: 1
A59: 50 | B59: 시흥시 | C59: 산뒤마을 | D59: 1 | G59: 25490 | H59: 224000541 | I59: 1 | K59: 1
A60: 51 | B60: 시흥시 | C60: 시흥시청역 | D60: 1 | G60: 25491 | H60: 224000538 | I60: 1 | K60: 1
A61: 52 | B61: 시흥시 | C61: 성원.동아아파트 | D61: 1 | G61: 25468 | H61: 224000534 | I61: 1 | K61: 1
A62: 53 | B62: 시흥시 | C62: 새터말 | D62: 1 | G62: 25449 | H62: 224000533
A63: 54 | B63: 시흥시 | C63: 시민교회 | D63: 1 | G63: 25407 | H63: 224000529 | I63: 1 | K63: 1
A64: 55 | B64: 시흥시 | C64: 시흥보건소 | D64: 1 | G64: 25353 | H64: 224000556 | I64: 1 | K64: 1
A65: 56 | B65: 시흥시 | C65: 신일초교.백제당약국 | D65: 1 | G65: 25424 | H65: 224000528 | I65: 1 | K65: 2
A66: 57 | B66: 시흥시 | C66: 검바위 | E66: 1 | G66: 25417 | H66: 224000597 | I66: 1 | K66: 1
A67: 58 | B67: 시흥시 | C67: 양우재 | D67: 1 | G67: 25385 | H67: 224000594 | I67: 1 | K67: 1
A68: 59 | B68: 시흥시 | C68: 대야초교.ABC학습타운입구 | E68: 1 | G68: 25366 | H68: 224000555 | I68: 1 | J68: 1
A69: 60 | B69: 시흥시 | C69: 여우고개 | D69: 1 | G69: 25412 | H69: 224000552
A70: 61 | B70: 시흥시 | C70: 여우고개 | D70: 1 | G70: 25405 | H70: 224000551
A71: 62 | B71: 시흥시 | C71: 상대야동 | D71: 1 | G71: 25370 | H71: 224000550 | I71: 1 | K71: 1
A72: 63 | B72: 시흥시 | C72: 하대야동 | D72: 1 | G72: 25387 | H72: 224000549 | I72: 1 | K72: 1
A73: 64 | B73: 시흥시 | C73: 시흥보건소 | D73: 1 | G73: 25349 | H73: 224000547 | I73: 1 | K73: 1
A74: 65 | B74: 시흥시 | C74: 한국지도자아카데미 | D74: 1 | G74: 25630 | H74: 224000750
A75: 66 | B75: 시흥시 | C75: 부성철강 | D75: 1 | G75: 25052 | H75: 224000658
A76: 67 | B76: 시흥시 | C76: 화승제지 | E76: 1 | G76: 25062 | H76: 224000693
A77: 68 | B77: 시흥시 | C77: 시화염색단지입구 | E77: 1 | G77: 25020 | H77: 224000699
A78: 69 | B78: 시흥시 | C78: 검바위 | E78: 1 | G78: 25707 | H78: 224000642 | I78: 1 | K78: 1
A79: 70 | B79: 시흥시 | C79: 제이엔피 | E79: 1 | G79: 25684 | H79: 224000631
A80: 71 | B80: 시흥시 | C80: 중앙알칸 | E80: 1 | G80: 25661 | H80: 224000606
A81: 72 | B81: 시흥시 | C81: 황골 | F81: 1 | G81: 25721 | H81: 224000338
A82: 73 | B82: 시흥시 | C82: 포리초등학교 | D82: 1 | G82: 25722 | H82: 224000330
A83: 74 | B83: 시흥시 | C83: 아랫말 | D83: 1 | G83: 25723 | H83: 224000470 | I83: 1 | K83: 1
A84: 75 | B84: 시흥시 | C84: 군자파출소 | D84: 1 | G84: 25352 | H84: 224000466 | I84: 1 | K84: 1
A85: 76 | B85: 시흥시 | C85: 월곶해안로 | D85: 1 | G85: 25724 | H85: 224000123 | I85: 1 | K85: 1
A86: 77 | B86: 시흥시 | C86: 범고개 | D86: 1 | G86: 25776 | H86: 224000518 | I86: 1 | K86: 1
A87: 78 | B87: 시흥시 | C87: 오이도박물관 | D87: 1 | G87: 25014 | H87: 224000676 | I87: 1 | K87: 1
A88: 79 | B88: 시흥시 | C88: 신일초교 | E88: 1 | G88: 25403 | H88: 224000364 | I88: 1 | K88: 1
A89: 80 | B89: 시흥시 | C89: 한신아파트 | E89: 1 | G89: 25379 | H89: 224000363 | I89: 1 | K89: 1
A90: 81 | B90: 시흥시 | C90: 뉴월드아파트 | D90: 1 | G90: 25396 | H90: 224000362 | I90: 1 | K90: 1
A91: 82 | B91: 시흥시 | C91: 경신아파트 | E91: 1 | G91: 25371 | H91: 224000361 | I91: 1 | K91: 1
A92: 83 | B92: 시흥시 | C92: 신현동주민센터 | D92: 1 | G92: 25350 | H92: 224000359
A93: 84 | B93: 시흥시 | C93: 산우물 | E93: 1 | G93: 25287 | H93: 224000353
A94: 85 | B94: 시흥시 | C94: 방산교회 | D94: 1 | G94: 25281 | H94: 224000351
A95: 86 | B95: 시흥시 | C95: 청용낚시터 | D95: 1 | G95: 25277 | H95: 224000350
A96: 87 | B96: 시흥시 | C96: 신천동주민센터.신천고 | E96: 1 | G96: 25322 | H96: 224000348
A97: 88 | B97: 시흥시 | C97: 태광아파트 | E97: 1 | G97: 25314 | H97: 224000342 | I97: 1 | K97: 1
A98: 89 | B98: 시흥시 | C98: 장미아파트 | E98: 1 | G98: 25329 | H98: 224000341 | I98: 1 | K98: 1
A99: 90 | B99: 시흥시 | C99: 금강빌라 | D99: 1 | G99: 25343 | H99: 224000340 | I99: 1 | K99: 1
A100: 91 | B100: 시흥시 | C100: 신천동주민센터.신천고 | E100: 1 | G100: 25323 | H100: 224000339
A101: 92 | B101: 시흥시 | C101: 청용낚시터 | F101: 1 | G101: 25279 | H101: 224000337
A102: 93 | B102: 시흥시 | C102: 고잔 | F102: 1 | G102: 25270 | H102: 224000332
...

Sheet 파주
A1: 파주시 정류소전광판(BIT) 설치지점 현황
A3: ※ 노란색 부분만 작성할 것 [작성방법] 1. 정류소 타입(쉘터, 표지, 무표지)를 기입할 것 2. 정류소별 BIT 설치 세부현황을 기입할 것(정류소번호, ID로 매칭해서 반드시 기재할 것) - 1개 정류소에 BIT 유형별로 설치된 경우 모든 수량 표기할 것 - 사례1 (수원역 정류소(20000001) 1곳에 LED 3개, LCD 2개 있는 경우) : BIT설치여부 1 / LED 3 / LCD 2 ※ 버스기반정보상에 등록된 ID와 번호를 참고하여 시군 센터내부에 매칭 테이블을 관리하고 있으므로 반드시 작성할 것 3. 해당 시군 관할 정류소가 아닌 경우 시군명 변경하고 관할 정류소가 누락된 경우 인접 시군 현황을 참고하여 추가 작성할 것 4. 비고란에 정류소미존재 기재된 경우 운송관리시스템에서 확인 후 정류소 반영
P5: (단위 : 개소)
A6: NO | B6: 시군 | C6: 정류소 | I6: 정류소전광판(BIT)
C7: 정류소명 | D7: 정류소 타입 | G7: 정류소번호 (5자리) | H7: 정류소ID (9자리) | I7: BIT 설치여부 | J7: BIT 유형 | P7: 비고
D8: 쉘터 (쉘터+표지) | E8: 표지 | F8: 무표지 | J8: LED | K8: LCD | L8: LED+LCD 복합형 | M8: 알뜰형 | N8: 임대형 (음성) | O8: 기타
C9: =COUNTA(C10:C2012) -> 2003 | D9: =COUNTA(D10:D2012) -> 882 | E9: =COUNTA(E10:E2012) -> 395 | F9: =COUNTA(F10:F2012) -> 726 | I9: =COUNTA(I10:I2012) -> 496 | J9: =COUNTA(J10:J2012) -> 51 | K9: =COUNTA(K10:K2012) -> 398 | L9: =COUNTA(L10:L2012) -> 8 | M9: =COUNTA(M10:M2012) -> 0 | N9: =COUNTA(N10:N2012) -> 39 | O9: =COUNTA(O10:O2012) -> 0
A10: 1 | B10: 파주시 | C10: 파주출판단지.북센 | F10: 1 | G10: 30001 | H10: 229000802 | I10: 1 | N10: 1
A11: 2 | B11: 파주시 | C11: 북센후문 | E11: 1 | G11: 30002 | H11: 229000803
A12: 3 | B12: 파주시 | C12: 은석교사거리 | D12: 1 | G12: 30003 | H12: 229000804 | I12: 1 | K12: 1
A13: 4 | B13: 파주시 | C13: 은석교사거리 | D13: 1 | G13: 30004 | H13: 229000801 | I13: 1 | K13: 1
A14: 5 | B14: 파주시 | C14: 미군훈련장 | F14: 1 | G14: 30005 | H14: 229001481
A15: 6 | B15: 파주시 | C15: 이채쇼핑몰 | D15: 1 | G15: 30006 | H15: 229000807 | I15: 1 | K15: 1
A16: 7 | B16: 파주시 | C16: 이채쇼핑몰 | D16: 1 | G16: 30007 | H16: 229000798 | I16: 1 | K16: 1
A17: 8 | B17: 파주시 | C17: 능산교차로 | E17: 1 | G17: 30008 | H17: 229001825
A18: 9 | B18: 파주시 | C18: LCD산업단지고개 | F18: 1 | G18: 30009 | H18: 229001828
A19: 10 | B19: 파주시 | C19: 주유소앞 | F19: 1 | G19: 30010 | H19: 229001830
A20: 11 | B20: 파주시 | C20: 산남동 | F20: 1 | G20: 30011 | H20: 229000781
A21: 12 | B21: 파주시 | C21: 가게앞 | E21: 1 | G21: 30012 | H21: 229000795
A22: 13 | B22: 파주시 | C22: 가게앞 | D22: 1 | G22: 30013 | H22: 229000782
A23: 14 | B23: 파주시 | C23: 박사골 | D23: 1 | G23: 30014 | H23: 229000783
A24: 15 | B24: 파주시 | C24: 상가단지 | E24: 1 | G24: 30015 | H24: 229001683
A25: 16 | B25: 파주시 | C25: 활자마을 | D25: 1 | G25: 30016 | H25: 229001121 | I25: 1 | J25: 1
A26: 17 | B26: 파주시 | C26: 박사골 | E26: 1 | G26: 30017 | H26: 229000794
A27: 18 | B27: 파주시 | C27: 맨밧골 | D27: 1 | G27: 30018 | H27: 229002343
A28: 19 | B28: 파주시 | C28: 오도삼거리 | D28: 1 | G28: 30019 | H28: 229001665
A29: 20 | B29: 파주시 | C29: 출판단지.신촌동 | D29: 1 | G29: 30020 | H29: 229001346
A30: 21 | B30: 파주시 | C30: 구정미소 | E30: 1 | G30: 30021 | H30: 229000793
A31: 22 | B31: 파주시 | C31: 활자마을 | D31: 1 | G31: 30023 | H31: 229001207 | I31: 1 | J31: 1
A32: 23 | B32: 파주시 | C32: 문산제일고 | E32: 1 | G32: 30024 | H32: 229001077
A33: 24 | B33: 파주시 | C33: 오다리 | F33: 1 | G33: 30025 | H33: 229000792
A34: 25 | B34: 파주시 | C34: 산남교회 | F34: 1 | G34: 30026 | H34: 229000791
A35: 26 | B35: 파주시 | C35: 산남교회 | F35: 1 | G35: 30027 | H35: 229000786
A36: 27 | B36: 파주시 | C36: 궁말 | E36: 1 | G36: 30029 | H36: 229000790
A37: 28 | B37: 파주시 | C37: 궁말 | F37: 1 | G37: 30031 | H37: 229000787
A38: 29 | B38: 파주시 | C38: LCD산업단지고개 | E38: 1 | G38: 30032 | H38: 229001829
A39: 30 | B39: 파주시 | C39: 상가단지 | E39: 1 | G39: 30033 | H39: 229001684
A40: 31 | B40: 파주시 | C40: 문산제일고 | F40: 1 | G40: 30034 | H40: 229001339
A41: 32 | B41: 파주시 | C41: 서패동 | F41: 1 | G41: 30035 | H41: 229000907
A42: 33 | B42: 파주시 | C42: 서패동 | D42: 1 | G42: 30036 | H42: 229000876
A43: 34 | B43: 파주시 | C43: 주유소앞 | E43: 1 | G43: 30038 | H43: 229001120
A44: 35 | B44: 파주시 | C44: 문발동 | D44: 1 | G44: 30040 | H44: 229000905
A45: 36 | B45: 파주시 | C45: 문발동 | D45: 1 | G45: 30041 | H45: 229000878
A46: 37 | B46: 파주시 | C46: SBS전원마을 | D46: 1 | G46: 30042 | H46: 229000789
A47: 38 | B47: 파주시 | C47: 거그뫼 | E47: 1 | G47: 30043 | H47: 229001094
A48: 39 | B48: 파주시 | C48: 심학초교 | D48: 1 | G48: 30047 | H48: 229000875 | I48: 1 | K48: 1
A49: 40 | B49: 파주시 | C49: 심학초교 | D49: 1 | G49: 30048 | H49: 229000908 | I49: 1 | K49: 1
A50: 41 | B50: 파주시 | C50: 능산교차로 | E50: 1 | G50: 30049 | H50: 229001824
A51: 42 | B51: 파주시 | C51: 문발동.윗말 | D51: 1 | G51: 30050 | H51: 229000879 | I51: 1 | K51: 1
A52: 43 | B52: 파주시 | C52: 문발동(한성타워앞) | F52: 1 | G52: 30051 | H52: 229000903
A53: 44 | B53: 파주시 | C53: 문발동(한성타워앞) | D53: 1 | G53: 30052 | H53: 229000880 | I53: 1 | N53: 1
A54: 45 | B54: 파주시 | C54: 9035부대 | F54: 1 | G54: 30053 | H54: 229001480
A55: 46 | B55: 파주시 | C55: 문발공단 | F55: 1 | G55: 30054 | H55: 229000902
A56: 47 | B56: 파주시 | C56: 문발동.진골 | D56: 1 | G56: 30055 | H56: 229000881
A57: 48 | B57: 파주시 | C57: 동패10통 | E57: 1 | G57: 30056 | H57: 229000874
A58: 49 | B58: 파주시 | C58: 동패10통 | E58: 1 | G58: 30057 | H58: 229000909
A59: 50 | B59: 파주시 | C59: 봉일천중학교 | D59: 1 | G59: 30058 | H59: 229002432
A60: 51 | B60: 파주시 | C60: 교하차고지 | F60: 1 | G60: 30059 | H60: 229001251
A61: 52 | B61: 파주시 | C61: 연다산동종점 | F61: 1 | G61: 30060 | H61: 229001271
A62: 53 | B62: 파주시 | C62: 용상골 | D62: 1 | G62: 30061 | H62: 229002536
A63: 54 | B63: 파주시 | C63: 명성슈퍼 | D63: 1 | G63: 30062 | H63: 229002424
A64: 55 | B64: 파주시 | C64: 금촌체육공원 | E64: 1 | G64: 30063 | H64: 229002416
A65: 56 | B65: 파주시 | C65: 연다산32통 | E65: 1 | G65: 30064 | H65: 229000883
A66: 57 | B66: 파주시 | C66: 연다산32통 | E66: 1 | G66: 30065 | H66: 229000900
A67: 58 | B67: 파주시 | C67: 동패9통 | D67: 1 | G67: 30066 | H67: 229000910
A68: 59 | B68: 파주시 | C68: 동패9통 | F68: 1 | G68: 30067 | H68: 229000873
A69: 60 | B69: 파주시 | C69: 다율4통 | F69: 1 | G69: 30068 | H69: 229000884
A70: 61 | B70: 파주시 | C70: 다율4통 | D70: 1 | G70: 30069 | H70: 229000899
A71: 62 | B71: 파주시 | C71: 산남입구 | E71: 1 | G71: 30070 | H71: 229000872
A72: 63 | B72: 파주시 | C72: 가재울 | E72: 1 | G72: 30071 | H72: 229000871
A73: 64 | B73: 파주시 | C73: 금촌초교 | E73: 1 | G73: 30072 | H73: 229002495
A74: 65 | B74: 파주시 | C74: 대림슈퍼 | F74: 1 | G74: 30073 | H74: 229002375
A75: 66 | B75: 파주시 | C75: 동패9통 | D75: 1 | G75: 30074 | H75: 229000912
A76: 67 | B76: 파주시 | C76: 어린이집 | F76: 1 | G76: 30075 | H76: 229002587
A77: 68 | B77: 파주시 | C77: 금촌초등학교 | F77: 1 | G77: 30076 | H77: 229002345
A78: 69 | B78: 파주시 | C78: 금촌초교 | E78: 1 | G78: 30077 | H78: 229002494
A79: 70 | B79: 파주시 | C79: 금촌체육공원 | D79: 1 | G79: 30078 | H79: 229002417
A80: 71 | B80: 파주시 | C80: 명성슈퍼 | F80: 1 | G80: 30079 | H80: 229002437
A81: 72 | B81: 파주시 | C81: 양양산업 | F81: 1 | G81: 30080 | H81: 229002562
A82: 73 | B82: 파주시 | C82: 봉서1교 | E82: 1 | G82: 30082 | H82: 229002384
A83: 74 | B83: 파주시 | C83: 조은교회 | F83: 1 | G83: 30083 | H83: 229002583
A84: 75 | B84: 파주시 | C84: 검산동 | F84: 1 | G84: 30084 | H84: 229000928
A85: 76 | B85: 파주시 | C85: 톤다리 | E85: 1 | G85: 30085 | H85: 229001202
A86: 77 | B86: 파주시 | C86: 검산동 | F86: 1 | G86: 30086 | H86: 229000927
A87: 78 | B87: 파주시 | C87: 삽다리사거리 | F87: 1 | G87: 30087 | H87: 229000913
A88: 79 | B88: 파주시 | C88: 뇌조리 | D88: 1 | G88: 30088 | H88: 229002486
A89: 80 | B89: 파주시 | C89: 삽다리사거리 | D89: 1 | G89: 30089 | H89: 229000863 | I89: 1 | K89: 1
A90: 81 | B90: 파주시 | C90: 삽다리사거리 | D90: 1 | G90: 30090 | H90: 229001095 | I90: 1 | K90: 1
A91: 82 | B91: 파주시 | C91: 장터고개.맥금동영업소 | D91: 1 | G91: 30091 | H91: 229001269 | I91: 1 | K91: 1
A92: 83 | B92: 파주시 | C92: 맥금동종점 | D92: 1 | G92: 30093 | H92: 229001168
A93: 84 | B93: 파주시 | C93: 장터고개.맥금동영업소 | D93: 1 | G93: 30095 | H93: 229000746 | I93: 1 | K93: 1
A94: 85 | B94: 파주시 | C94: 진영식당.진영슈퍼 | F94: 1 | G94: 30097 | H94: 229000869
A95: 86 | B95: 파주시 | C95: 진영식당.진영슈퍼 | F95: 1 | G95: 30098 | H95: 229000914
A96: 87 | B96: 파주시 | C96: 배무기 | E96: 1 | G96: 30099 | H96: 229000718
A97: 88 | B97: 파주시 | C97: 송촌동종점 | F97: 1 | G97: 30100 | H97: 229001736
A98: 89 | B98: 파주시 | C98: 봉일천중학교 | F98: 1 | G98: 30101 | H98: 229002443
A99: 90 | B99: 파주시 | C99: 배무기 | D99: 1 | G99: 30102 | H99: 229000745 | I99: 1 | K99: 1
A100: 91 | B100: 파주시 | C100: 산내마을6.8단지 | D100: 1 | G100: 30103 | H100: 229001394 | I100: 1 | L100: 4 | P100: LED3, LCD1
A101: 92 | B101: 파주시 | C101: 산내마을6.8단지 | D101: 1 | G101: 30104 | H101: 229000930 | I101: 1 | K101: 1
A102: 93 | B102: 파주시 | C102: 가월리체험학습장 | E102: 1 | G102: 30105 | H102: 229000924
...

Sheet 의정부
A1: 의정부시 정류소전광판(BIT) 설치지점 현황
A3: ※ 노란색 부분만 작성할 것 [작성방법] 1. 정류소 타입(쉘터, 표지, 무표지)를 기입할 것 2. 정류소별 BIT 설치 세부현황을 기입할 것(정류소번호, ID로 매칭해서 반드시 기재할 것) - 1개 정류소에 BIT 유형별로 설치된 경우 모든 수량 표기할 것 - 사례1 (수원역 정류소(20000001) 1곳에 LED 3개, LCD 2개 있는 경우) : BIT설치여부 1 / LED 3 / LCD 2 ※ 버스기반정보상에 등록된 ID와 번호를 참고하여 시군 센터내부에 매칭 테이블을 관리하고 있으므로 반드시 작성할 것 3. 해당 시군 관할 정류소가 아닌 경우 시군명 변경하고 관할 정류소가 누락된 경우 인접 시군 현황을 참고하여 추가 작성할 것 4. 비고란에 정류소미존재 기재된 경우 운송관리시스템에서 확인 후 정류소 반영
P5: (단위 : 개소)
A6: NO | B6: 시군 | C6: 정류소 | I6: 정류소전광판(BIT)
C7: 정류소명 | D7: 정류소 타입 | G7: 정류소번호 (5자리) | H7: 정류소ID (9자리) | I7: BIT 설치여부 | J7: BIT 유형 | P7: 비고
D8: 쉘터 (쉘터+표지) | E8: 표지 | F8: 무표지 | J8: LED | K8: LCD | L8: LED+LCD 복합형 | M8: 알뜰형 | N8: 임대형 (음성) | O8: 기타
C9: =COUNTA(C10:C701) -> 692 | D9: =COUNT(D10:D701) -> 271 | E9: =COUNT(E10:E701) -> 418 | F9: =COUNT(F10:F701) -> 3 | I9: =COUNT(I10:I701) -> 319 | J9: =COUNT(J10:J701) -> 65 | K9: =COUNT(K10:K701) -> 253 | L9: =COUNT(L10:L701) -> 1 | M9: =COUNT(M10:M701) -> 0 | N9: =COUNT(N10:N701) -> 0 | O9: =COUNT(O10:O701) -> 0
A10: 1 | B10: 의정부시 | C10: 녹양역 | D10: 1 | G10: 8408 | H10: 207000026 | I10: =SUM(J10:O10) -> 1 | J10: 1
A11: 2 | B11: 의정부시 | C11: 송산초교.상가단지 | D11: 1 | G11: 8397 | H11: 207000420 | I11: 1 | K11: 1
A12: 3 | B12: 의정부시 | C12: 의정부교도소 | D12: 1 | G12: 8407 | H12: 207000044
A13: 4 | B13: 의정부시 | C13: 의정부공업고등학교 | E13: 1 | G13: 8433 | H13: 207000463 | I13: 1 | K13: 1
A14: 5 | B14: 의정부시 | C14: 경기도교육청북부청사 | D14: 1 | G14: 8375 | H14: 207000389
A15: 6 | B15: 의정부시 | C15: 버스공영차고지 | E15: 1 | G15: 8376 | H15: 207000387
A16: 7 | B16: 의정부시 | C16: 곤제근린공원 | E16: 1 | G16: 8377 | H16: 207000386
A17: 8 | B17: 의정부시 | C17: 솔뫼중학교.만가대 | D17: 1 | G17: 8471 | H17: 207000466 | I17: 1 | K17: 1
A18: 9 | B18: 의정부시 | C18: 송산사지.송민학교입구 | D18: 1 | G18: 8424 | H18: 207000447 | I18: 1 | K18: 1
A19: 10 | B19: 의정부시 | C19: 민락동종점 | E19: 1 | G19: 8388 | H19: 207000395
A20: 11 | B20: 의정부시 | C20: 송산1동주민센터 | D20: 1 | G20: 8364 | H20: 207000310 | I20: 1 | K20: 1
A21: 12 | B21: 의정부시 | C21: 아일랜드캐슬 | E21: 1 | G21: 8381 | H21: 207000358
A22: 13 | B22: 의정부시 | C22: 동원아파트입구 | E22: 1 | G22: 8360 | H22: 207000337 | I22: 1 | K22: 1
A23: 14 | B23: 의정부시 | C23: 성화마트 | E23: 1 | G23: 8361 | H23: 207000336 | I23: 1 | K23: 1
A24: 15 | B24: 의정부시 | C24: 우정마을 | D24: 1 | G24: 8363 | H24: 207000332
A25: 16 | B25: 의정부시 | C25: 망월사역.신한대학교(마을) | D25: 1 | G25: 8344 | H25: 207000305 | I25: 1 | K25: 1
A26: 17 | B26: 의정부시 | C26: 의정부지방법원.검찰청앞 | E26: 1 | G26: 8337 | H26: 207000298 | I26: 1 | K26: 1
A27: 18 | B27: 의정부시 | C27: 곤제마을 | E27: 1 | G27: 8545 | H27: 207000396
A28: 19 | B28: 의정부시 | C28: 장암우성아파트.장암주공2단지 | D28: 1 | G28: 8321 | H28: 207000281 | I28: 1 | K28: 1
A29: 20 | B29: 의정부시 | C29: 녹양교앞 | E29: 1 | G29: 8409 | H29: 207000024 | I29: 1 | K29: 1
A30: 21 | B30: 의정부시 | C30: 실내빙상장.경기북과학고등학교 | E30: 1 | G30: 8357 | H30: 207000214
A31: 22 | B31: 의정부시 | C31: 의정부시외버스터미널.신도브래뉴아파트 | D31: 1 | G31: 8358 | H31: 207000354 | I31: 1 | K31: 1
A32: 23 | B32: 의정부시 | C32: 경민대학 | E32: 1 | G32: 8430 | H32: 207000260
A33: 24 | B33: 의정부시 | C33: 휴먼시아4단지.녹양역 | D33: 1 | G33: 8352 | H33: 207000311
A34: 25 | B34: 의정부시 | C34: 송산초교.상가단지 | D34: 1 | G34: 8396 | H34: 207000421 | I34: 1 | K34: 1
A35: 26 | B35: 의정부시 | C35: 송산로타리 | E35: 1 | G35: 8387 | H35: 207000397
A36: 27 | B36: 의정부시 | C36: 민락동종점 | E36: 1 | G36: 8389 | H36: 207000394
A37: 28 | B37: 의정부시 | C37: 훈민초등학교 | E37: 1 | G37: 8370 | H37: 207000349
A38: 29 | B38: 의정부시 | C38: 뱀골 | E38: 1 | G38: 8371 | H38: 207000348
A39: 30 | B39: 의정부시 | C39: 고산동정자마을 | E39: 1 | G39: 8373 | H39: 207000343
A40: 31 | B40: 의정부시 | C40: 원머루마을입구 | E40: 1 | G40: 8374 | H40: 207000342
A41: 32 | B41: 의정부시 | C41: 버들개초교 | D41: 1 | G41: 8380 | H41: 207000361
A42: 33 | B42: 의정부시 | C42: 구성말 | E42: 1 | G42: 8372 | H42: 207000347
A43: 34 | B43: 의정부시 | C43: 우정마을 | E43: 1 | G43: 8362 | H43: 207000333
A44: 35 | B44: 의정부시 | C44: 송산사지.송민학교입구 | D44: 1 | G44: 8423 | H44: 207000448 | I44: 1 | K44: 1
A45: 36 | B45: 의정부시 | C45: 경기도교육청북부청사 | E45: 1 | G45: 8422 | H45: 207000433
A46: 37 | B46: 의정부시 | C46: 가능역앞 | E46: 1 | G46: 8421 | H46: 207000434 | I46: 1 | K46: 1
A47: 38 | B47: 의정부시 | C47: 하동촌 | E47: 1 | G47: 8420 | H47: 207000430
A48: 39 | B48: 의정부시 | C48: 드림밸리아파트.새말역 | D48: 1 | G48: 8487 | H48: 207000481 | I48: 1 | K48: 1
A49: 40 | B49: 의정부시 | C49: 아래구석말입구 | E49: 1 | G49: 8405 | H49: 207000346
A50: 41 | B50: 의정부시 | C50: 금오중학교 | E50: 1 | G50: 8404 | H50: 207000340
A51: 42 | B51: 의정부시 | C51: 고산S2블럭아파트 | E51: 1 | G51: 8369 | H51: 207000350
A52: 43 | B52: 의정부시 | C52: 양지마을 | E52: 1 | G52: 8368 | H52: 207000339
A53: 44 | B53: 의정부시 | C53: 도봉차량기지앞 | E53: 1 | G53: 8379 | H53: 207000356
A54: 45 | B54: 의정부시 | C54: 녹양성당 | E54: 1 | G54: 8392 | H54: 207000335
A55: 46 | B55: 의정부시 | C55: 양지마을 | E55: 1 | G55: 8426 | H55: 207000432
A56: 47 | B56: 의정부시 | C56: 도봉차량기지앞 | E56: 1 | G56: 8385 | H56: 207000357
A57: 48 | B57: 의정부시 | C57: 의정부역.신세계백화점 | E57: 1 | G57: 8102 | H57: 207000408 | I57: 1 | J57: 1
A58: 49 | B58: 의정부시 | C58: 회룡중학교입구 | E58: 1 | G58: 8030 | H58: 207000406 | I58: 1 | K58: 1
A59: 50 | B59: 의정부시 | C59: 녹양역 | D59: 1 | G59: 8343 | H59: 207000304 | I59: 1 | J59: 1
A60: 51 | B60: 의정부시 | C60: 현대2차아파트 | E60: 1 | G60: 8342 | H60: 207000303
A61: 52 | B61: 의정부시 | C61: e편한세상아파트 | E61: 1 | G61: 8339 | H61: 207000300 | I61: 1 | K61: 1
A62: 53 | B62: 의정부시 | C62: 의정부지방법원.검찰청앞 | E62: 1 | G62: 8338 | H62: 207000299
A63: 54 | B63: 의정부시 | C63: 본동입구 | E63: 1 | G63: 8336 | H63: 207000297
A64: 55 | B64: 의정부시 | C64: 경기북부지방경찰청 | D64: 1 | G64: 8332 | H64: 207000293 | I64: 1 | K64: 1
A65: 56 | B65: 의정부시 | C65: 고산S2블럭아파트 | E65: 1 | G65: 8312 | H65: 207000234
A66: 57 | B66: 의정부시 | C66: 뱀골 | E66: 1 | G66: 8307 | H66: 207000232
A67: 58 | B67: 의정부시 | C67: 구성말 | E67: 1 | G67: 8306 | H67: 207000231
A68: 59 | B68: 의정부시 | C68: 고산동정자마을 | E68: 1 | G68: 8295 | H68: 207000227
A69: 60 | B69: 의정부시 | C69: 원머루마을 | E69: 1 | G69: 8294 | H69: 207000226
A70: 61 | B70: 의정부시 | C70: 시청.소방서 | D70: 1 | G70: 8045 | H70: 207000359 | I70: 1 | K70: 1
A71: 62 | B71: 의정부시 | C71: 의정부시청.세무서 | D71: 1 | G71: 8044 | H71: 207000223 | I71: 1 | K71: 1
A72: 63 | B72: 의정부시 | C72: 흥선청소년문화의집.흥선교앞 | E72: 1 | G72: 8041 | H72: 207000222 | I72: 1 | K72: 1
A73: 64 | B73: 의정부시 | C73: 금광포란재이너스아파트 | E73: 1 | G73: 8026 | H73: 207000221
A74: 65 | B74: 의정부시 | C74: 의정부고등학교.법원.검찰청 | D74: 1 | G74: 8020 | H74: 207000220 | I74: 1 | K74: 1
A75: 66 | B75: 의정부시 | C75: 가능1동주민센터.sk뷰아파트 | E75: 1 | G75: 8060 | H75: 207000216 | I75: 1 | K75: 1
A76: 67 | B76: 의정부시 | C76: 실내빙상장.경기북과학고등학교 | E76: 1 | G76: 8009 | H76: 207000210
A77: 68 | B77: 의정부시 | C77: 신도아파트앞 | D77: 1 | G77: 8016 | H77: 207000209
A78: 69 | B78: 의정부시 | C78: 세아.거성.벽산아파트 | D78: 1 | G78: 8231 | H78: 207000206 | I78: 1 | J78: 1
A79: 70 | B79: 의정부시 | C79: 홈플러스 | D79: 1 | G79: 8216 | H79: 207000205 | I79: 1 | K79: 1
A80: 71 | B80: 의정부시 | C80: 세아.거성.벽산아파트 | E80: 1 | G80: 8232 | H80: 207000201 | I80: 1 | K80: 1
A81: 72 | B81: 의정부시 | C81: 버스터미널.신도브래뉴아파트 | D81: 1 | G81: 8157 | H81: 207000200 | I81: 1 | J81: 1
A82: 73 | B82: 의정부시 | C82: 한화생명입구 | D82: 1 | G82: 8140 | H82: 207000189 | I82: 1 | J82: 1
A83: 74 | B83: 의정부시 | C83: 의정부시청소년문화의집 | D83: 1 | G83: 8205 | H83: 207000185
A84: 75 | B84: 의정부시 | C84: 세아아파트.거성아파트.벽산아파트 | E84: 1 | G84: 8227 | H84: 207000183 | I84: 1 | K84: 1
A85: 76 | B85: 의정부시 | C85: 의정부청소년수련관 | D85: 1 | G85: 8047 | H85: 207000316 | I85: 1 | J85: 1
A86: 77 | B86: 의정부시 | C86: 의정부예술의전당 | D86: 1 | G86: 8043 | H86: 207000317 | I86: 1 | K86: 1
A87: 78 | B87: 의정부시 | C87: 호원가든3차아파트 | D87: 1 | G87: 8073 | H87: 207000325 | I87: 1 | K87: 1
A88: 79 | B88: 의정부시 | C88: 한신아파트 | E88: 1 | G88: 8106 | H88: 207000329
A89: 80 | B89: 의정부시 | C89: 자동차검사소.한주아파트 | D89: 1 | G89: 8118 | H89: 207000067 | I89: 1 | K89: 1
A90: 81 | B90: 의정부시 | C90: 의정부면허시험장 | E90: 1 | G90: 8235 | H90: 207000182 | I90: 1 | K90: 1
A91: 82 | B91: 의정부시 | C91: 금곡교 | D91: 1 | G91: 8261 | H91: 207000180
A92: 83 | B92: 의정부시 | C92: 자일동마을회관.환경자원센터 | D92: 1 | G92: 8276 | H92: 207000179 | I92: 1 | J92: 1
A93: 84 | B93: 의정부시 | C93: 본자일입구 | D93: 1 | G93: 8293 | H93: 207000178 | I93: 1 | J93: 1
A94: 85 | B94: 의정부시 | C94: 금곡교 | D94: 1 | G94: 8260 | H94: 207000175 | I94: 1 | J94: 1
A95: 86 | B95: 의정부시 | C95: 의정부성모병원 | D95: 1 | G95: 8242 | H95: 207000174 | I95: 1 | J95: 1
A96: 87 | B96: 의정부시 | C96: 세아아파트.거성아파트.벽산아파트 | D96: 1 | G96: 8228 | H96: 207000172 | I96: 1 | K96: 1
A97: 88 | B97: 의정부시 | C97: 신도.아남아파트 | E97: 1 | G97: 8173 | H97: 207000168 | I97: 1 | K97: 1
A98: 89 | B98: 의정부시 | C98: 구터미널 | E98: 1 | G98: 8148 | H98: 207000167 | I98: 1 | J98: 1
A99: 90 | B99: 의정부시 | C99: 극동.동성아파트 | D99: 1 | G99: 8192 | H99: 207000165 | I99: 1 | J99: 1
A100: 91 | B100: 의정부시 | C100: 신곡교 | E100: 1 | G100: 8160 | H100: 207000162 | I100: 1 | K100: 1
A101: 92 | B101: 의정부시 | C101: 안골 | D101: 1 | G101: 8013 | H101: 207000261 | I101: 1 | K101: 1
A102: 93 | B102: 의정부시 | C102: 의정부3동우체국 | E102: 1 | G102: 8124 | H102: 207000154 | I102: 1 | K102: 1
...

Sheet 김포
A1: 김포시 정류소전광판(BIT) 설치지점 현황
A3: ※ 노란색 부분만 작성할 것 [작성방법] 1. 정류소 타입(쉘터, 표지, 무표지)를 기입할 것 2. 정류소별 BIT 설치 세부현황을 기입할 것(정류소번호, ID로 매칭해서 반드시 기재할 것) - 1개 정류소에 BIT 유형별로 설치된 경우 모든 수량 표기할 것 - 사례1 (수원역 정류소(20000001) 1곳에 LED 3개, LCD 2개 있는 경우) : BIT설치여부 1 / LED 3 / LCD 2 ※ 버스기반정보상에 등록된 ID와 번호를 참고하여 시군 센터내부에 매칭 테이블을 관리하고 있으므로 반드시 작성할 것 3. 해당 시군 관할 정류소가 아닌 경우 시군명 변경하고 관할 정류소가 누락된 경우 인접 시군 현황을 참고하여 추가 작성할 것 4. 비고란에 정류소미존재 기재된 경우 운송관리시스템에서 확인 후 정류소 반영
P5: (단위 : 개소)
A6: NO | B6: 시군 | C6: 정류소 | I6: 정류소전광판(BIT)
C7: 정류소명 | D7: 정류소 타입 | G7: 정류소번호 (5자리) | H7: 정류소ID (9자리) | I7: BIT 설치여부 | J7: BIT 유형 | P7: 비고
D8: 쉘터 (쉘터+표지) | E8: 표지 | F8: 무표지 | J8: LED | K8: LCD | L8: LED+LCD 복합형 | M8: 알뜰형 | N8: 임대형 (음성) | O8: 기타
C9: =COUNTA(C10:C1146) -> 1137 | D9: =COUNTA(D10:D1146) -> 580 | E9: =COUNTA(E10:E1146) -> 189 | F9: =COUNTA(F10:F1146) -> 330 | I9: =COUNTA(I10:I1146) -> 359 | J9: =COUNTA(J10:J1146) -> 213 | K9: =COUNTA(K10:K1146) -> 128 | L9: =COUNTA(L10:L1146) -> 18 | M9: =COUNTA(M10:M1146) -> 0 | N9: =COUNTA(N10:N1146) -> 0 | O9: =COUNTA(O10:O1146) -> 0
A10: 1 | B10: 김포시 | C10: 학운초교 | D10: 1 | G10: 35566 | H10: 232000621
A11: 2 | B11: 김포시 | C11: 고단입구 | D11: 1 | G11: 35521 | H11: 232000574
A12: 3 | B12: 김포시 | C12: 신양초교 | D12: 1 | G12: 35595 | H12: 232000637 | I12: 1 | J12: 1
A13: 4 | B13: 김포시 | C13: 대명항 | D13: 1 | G13: 35004 | H13: 232000529
A14: 5 | B14: 김포시 | C14: 신양중학교 | D14: 1 | G14: 35594 | H14: 232000635 | I14: 1 | J14: 1
A15: 6 | B15: 김포시 | C15: 대명항 | D15: 1 | G15: 35003 | H15: 232000530
A16: 7 | B16: 김포시 | C16: 금빛마을.자연앤아파트 | D16: 1 | G16: 35569 | H16: 232000622 | I16: 1 | J16: 1
A17: 8 | B17: 김포시 | C17: 잿말 | F17: 1 | G17: 35180 | H17: 232000116
A18: 9 | B18: 김포시 | C18: 양촌산업단지입구 | D18: 1 | G18: 35567 | H18: 232000619 | I18: 1 | J18: 1
A19: 10 | B19: 김포시 | C19: 대능4리 | D19: 1 | G19: 35425 | H19: 232000182 | I19: 1 | J19: 1
A20: 11 | B20: 김포시 | C20: 사래버스대기소 | D20: 1 | G20: 35481 | H20: 232000164
A21: 12 | B21: 김포시 | C21: 북변환승센터.구터미널 | D21: 1 | G21: 35531 | H21: 232000580 | I21: 1 | J21: 3
A22: 13 | B22: 김포시 | C22: 북변환승센터.구터미널 | D22: 1 | G22: 35532 | H22: 232000581 | I22: 1 | K22: 1
A23: 14 | B23: 김포시 | C23: 뉴고려병원 | D23: 1 | G23: 35509 | H23: 232000545 | I23: 1 | J23: 1
A24: 15 | B24: 김포시 | C24: 대명초교 | D24: 1 | G24: 35394 | H24: 232000470 | I24: 1 | J24: 1
A25: 16 | B25: 김포시 | C25: 고막리 | E25: 1 | G25: 35395 | H25: 232000455
A26: 17 | B26: 김포시 | C26: 초원지리입구 | F26: 1 | G26: 35391 | H26: 232000447
A27: 18 | B27: 김포시 | C27: 수남초삼거리 | F27: 1 | G27: 35393 | H27: 232000444
A28: 19 | B28: 김포시 | C28: 포내2리 | D28: 1 | G28: 35581 | H28: 232000639 | I28: 1 | J28: 1
A29: 20 | B29: 김포시 | C29: 구래리 | D29: 1 | G29: 35524 | H29: 232000572 | I29: 1 | J29: 1
A30: 21 | B30: 김포시 | C30: 골드프라자 | D30: 1 | G30: 35740 | H30: 232000254
A31: 22 | B31: 김포시 | C31: 시암1리 | F31: 1 | G31: 35485 | H31: 232000253
A32: 23 | B32: 김포시 | C32: 수참.산림조합유통센터 | D32: 1 | G32: 35437 | H32: 232000493 | I32: 1 | K32: 1
A33: 24 | B33: 김포시 | C33: 삼협화학 | F33: 1 | G33: 35298 | H33: 232000526
A34: 25 | B34: 김포시 | C34: 사우고교.김포시청(직행) | D34: 1 | G34: 35692 | H34: 232000389 | I34: 1 | J34: 1
A35: 26 | B35: 김포시 | C35: 김포여중 | D35: 1 | G35: 35432 | H35: 232000334
A36: 27 | B36: 김포시 | C36: 양곡주공아파트 | D36: 1 | G36: 35433 | H36: 232000301 | I36: 1 | J36: 1
A37: 28 | B37: 김포시 | C37: 용산동입구 | D37: 1 | G37: 35434 | H37: 232000287
A38: 29 | B38: 김포시 | C38: 장곡 | D38: 1 | G38: 35514 | H38: 232000584 | I38: 1 | J38: 1
A39: 30 | B39: 김포시 | C39: 구터미널종점 | D39: 1 | G39: 35439 | H39: 232000481
A40: 31 | B40: 김포시 | C40: 신양중학교 | D40: 1 | G40: 35440 | H40: 232000636 | I40: 1 | J40: 1
A41: 32 | B41: 김포시 | C41: 대능슈퍼 | F41: 1 | G41: 35418 | H41: 232000235
A42: 33 | B42: 김포시 | C42: 어호동입구 | D42: 1 | G42: 35419 | H42: 232000231
A43: 34 | B43: 김포시 | C43: 경인산업 | F43: 1 | G43: 35420 | H43: 232000228
A44: 35 | B44: 김포시 | C44: 서울알루미늄앞 | D44: 1 | G44: 35424 | H44: 232000186
A45: 36 | B45: 김포시 | C45: 부대앞 | E45: 1 | G45: 35466 | H45: 232000441
A46: 37 | B46: 김포시 | C46: 하나가든 | F46: 1 | G46: 35469 | H46: 232000222
A47: 38 | B47: 김포시 | C47: 갈산사거리 | D47: 1 | G47: 35020 | H47: 232000388 | I47: 1 | J47: 1
A48: 39 | B48: 김포시 | C48: 옹주물 | E48: 1 | G48: 35364 | H48: 232000014
A49: 40 | B49: 김포시 | C49: 군부대 | E49: 1 | G49: 35347 | H49: 232000124
A50: 41 | B50: 김포시 | C50: 애기봉 | F50: 1 | G50: 35351 | H50: 232000100
A51: 42 | B51: 김포시 | C51: 대벽상회 | F51: 1 | G51: 35384 | H51: 232000191
A52: 43 | B52: 김포시 | C52: 어호동입구 | F52: 1 | G52: 35318 | H52: 232000184
A53: 44 | B53: 김포시 | C53: 수남초등학교앞 | F53: 1 | G53: 35323 | H53: 232000174
A54: 45 | B54: 김포시 | C54: 대명2리경로당 | D54: 1 | G54: 35328 | H54: 232000165
A55: 46 | B55: 김포시 | C55: 하나가든 | F55: 1 | G55: 35482 | H55: 232000193
A56: 47 | B56: 김포시 | C56: 수남초삼거리 | F56: 1 | G56: 35406 | H56: 232000459
A57: 48 | B57: 김포시 | C57: 옹주물 | E57: 1 | G57: 35401 | H57: 232000491
A58: 49 | B58: 김포시 | C58: 금빛초등학교 | D58: 1 | G58: 35402 | H58: 232000490 | I58: 1 | J58: 1
A59: 50 | B59: 김포시 | C59: 김포등기소 | E59: 1 | G59: 35404 | H59: 232000483
A60: 51 | B60: 김포시 | C60: 북변우체국 | E60: 1 | G60: 35405 | H60: 232000482
A61: 52 | B61: 김포시 | C61: 풍년마을 | D61: 1 | G61: 35399 | H61: 232000480
A62: 53 | B62: 김포시 | C62: 향동해병2사단 | D62: 1 | G62: 35523 | H62: 232000571 | I62: 1 | K62: 1
A63: 54 | B63: 김포시 | C63: 연화사입구 | F63: 1 | G63: 35173 | H63: 232000507
A64: 55 | B64: 김포시 | C64: 대경공단입구 | F64: 1 | G64: 35455 | H64: 232000525
A65: 56 | B65: 김포시 | C65: 마조2리.신기마을 | F65: 1 | G65: 35461 | H65: 232000260
A66: 57 | B66: 김포시 | C66: 장미식당 | D66: 1 | G66: 35422 | H66: 232000221
A67: 58 | B67: 김포시 | C67: 대벽1리앞 | D67: 1 | G67: 35427 | H67: 232000172
A68: 59 | B68: 김포시 | C68: 대명2리경로당 | D68: 1 | G68: 35412 | H68: 232000146
A69: 60 | B69: 김포시 | C69: 통진향교 | E69: 1 | G69: 35392 | H69: 232000443
A70: 61 | B70: 김포시 | C70: 양촌산업단지입구 | F70: 1 | G70: 35565 | H70: 232000620
A71: 62 | B71: 김포시 | C71: 흥신리 | D71: 1 | G71: 35562 | H71: 232000617 | I71: 1 | J71: 1
A72: 63 | B72: 김포시 | C72: 타운하우스 | D72: 1 | G72: 35506 | H72: 232000547 | I72: 1 | J72: 1
A73: 64 | B73: 김포시 | C73: 김포대학입구 | D73: 1 | G73: 35543 | H73: 232000597 | I73: 1 | J73: 1
A74: 65 | B74: 김포시 | C74: 장기역.김포고용복지플러스센터 | D74: 1 | G74: 35508 | H74: 232000541 | I74: 1 | J74: 2
A75: 66 | B75: 김포시 | C75: 마송초교 | D75: 1 | G75: 35552 | H75: 232000613 | I75: 1 | J75: 1
A76: 67 | B76: 김포시 | C76: 봉성리 | E76: 1 | G76: 35541 | H76: 232000587
A77: 68 | B77: 김포시 | C77: 도사리 | D77: 1 | G77: 35555 | H77: 232000608 | I77: 1 | J77: 1
A78: 69 | B78: 김포시 | C78: 사우역.김포고(직행) | D78: 1 | G78: 35693 | H78: 232000610 | I78: 1 | J78: 1
A79: 70 | B79: 김포시 | C79: 이젠 | D79: 1 | G79: 35571 | H79: 232000623
A80: 71 | B80: 김포시 | C80: 장기역.신영아파트 | D80: 1 | G80: 35501 | H80: 232000554 | I80: 1 | J80: 2
A81: 72 | B81: 김포시 | C81: 반도유보라.우미린아파트 | D81: 1 | G81: 35503 | H81: 232000550 | I81: 1 | J81: 1
A82: 73 | B82: 김포시 | C82: 장기역.주공아파트 | D82: 1 | G82: 35505 | H82: 232000553 | I82: 1 | L82: 3 | P82: LED1+LCD2
A83: 74 | B83: 김포시 | C83: 대벽1리앞 | F83: 1 | G83: 35426 | H83: 232000175
A84: 75 | B84: 김포시 | C84: 대곶중학교입구 | F84: 1 | G84: 35428 | H84: 232000168
A85: 76 | B85: 김포시 | C85: 농업기술센타 | D85: 1 | G85: 35430 | H85: 232000153 | I85: 1 | K85: 1
A86: 77 | B86: 김포시 | C86: 석정초등학교 | D86: 1 | G86: 35411 | H86: 232000150 | I86: 1 | J86: 1
A87: 78 | B87: 김포시 | C87: 쇄암교회앞 | F87: 1 | G87: 35413 | H87: 232000142
A88: 79 | B88: 김포시 | C88: 쇄암교회앞 | F88: 1 | G88: 35415 | H88: 232000133
A89: 80 | B89: 김포시 | C89: 양곡버스정류장 | D89: 1 | G89: 35464 | H89: 232000326 | I89: 1 | K89: 1
A90: 81 | B90: 김포시 | C90: 은혜와진리교회 | D90: 1 | G90: 35465 | H90: 232000440 | I90: 1 | J90: 1
A91: 82 | B91: 김포시 | C91: 동촌 | F91: 1 | G91: 35468 | H91: 232000232
A92: 83 | B92: 김포시 | C92: 학운4리마을회관 | D92: 1 | G92: 35058 | H92: 232000199
A93: 84 | B93: 김포시 | C93: 학운4리마을회관 | D93: 1 | G93: 35057 | H93: 232000216
A94: 85 | B94: 김포시 | C94: 구터미널(마을) | E94: 1 | G94: 35470 | H94: 232000332
A95: 86 | B95: 김포시 | C95: 현대프라임인천방면 | F95: 1 | G95: 35471 | H95: 232000474
A96: 87 | B96: 김포시 | C96: 코스나인 | D96: 1 | G96: 35472 | H96: 232000475
A97: 88 | B97: 김포시 | C97: 현대프라임아파트 | D97: 1 | G97: 35474 | H97: 232000473 | I97: 1 | J97: 1
A98: 89 | B98: 김포시 | C98: 장기사거리.수정마을 | D98: 1 | G98: 35211 | H98: 232000366 | I98: 1 | K98: 1
A99: 90 | B99: 김포시 | C99: 조각공원입구 | E99: 1 | G99: 35416 | H99: 232000130 | I99: 1 | J99: 1
A100: 91 | B100: 김포시 | C100: 개곡리보건진료소 | E100: 1 | G100: 35417 | H100: 232000126
A101: 92 | B101: 김포시 | C101: 뉴고려병원.이니스더원 | D101: 1 | G101: 35493 | H101: 232000546 | I101: 1 | J101: 1
A102: 93 | B102: 김포시 | C102: 우미린.반도유보라아파트 | D102: 1 | G102: 35494 | H102: 232000549 | I102: 1 | K102: 1
...

Sheet 광주
A1: 광주시 정류소전광판(BIT) 설치지점 현황
A3: ※ 노란색 부분만 작성할 것 [작성방법] 1. 정류소 타입(쉘터, 표지, 무표지)를 기입할 것 2. 정류소별 BIT 설치 세부현황을 기입할 것(정류소번호, ID로 매칭해서 반드시 기재할 것) - 1개 정류소에 BIT 유형별로 설치된 경우 모든 수량 표기할 것 - 사례1 (수원역 정류소(20000001) 1곳에 LED 3개, LCD 2개 있는 경우) : BIT설치여부 1 / LED 3 / LCD 2 ※ 버스기반정보상에 등록된 ID와 번호를 참고하여 시군 센터내부에 매칭 테이블을 관리하고 있으므로 반드시 작성할 것 3. 해당 시군 관할 정류소가 아닌 경우 시군명 변경하고 관할 정류소가 누락된 경우 인접 시군 현황을 참고하여 추가 작성할 것 4. 비고란에 정류소미존재 기재된 경우 운송관리시스템에서 확인 후 정류소 반영
P5: (단위 : 개소)
A6: NO | B6: 시군 | C6: 정류소 | I6: 정류소전광판(BIT)
C7: 정류소명 | D7: 정류소 타입 | G7: 정류소번호 (5자리) | H7: 정류소ID (9자리) | I7: BIT 설치여부 | J7: BIT 유형 | P7: 비고
D8: 쉘터 (쉘터+표지) | E8: 표지 | F8: 무표지 | J8: LED | K8: LCD | L8: LED+LCD 복합형 | M8: 알뜰형 | N8: 임대형 (음성) | O8: 기타
C9: =COUNTA(C10:C1157) -> 1148 | D9: =COUNT(D10:D1157) -> 544 | E9: =COUNT(E10:E1157) -> 598 | F9: =COUNT(F10:F1157) -> 0 | I9: =COUNT(I10:I1157) -> 312 | J9: =COUNT(J10:J1157) -> 312 | K9: =COUNT(K10:K1157) -> 0 | L9: =COUNT(L10:L1157) -> 0 | M9: =COUNT(M10:M1157) -> 0 | N9: =COUNT(N10:N1157) -> 0 | O9: =COUNT(O10:O1157) -> 0
A10: 1 | B10: 광주시 | C10: 검천2리 | D10: 1 | G10: 38439 | H10: 234000001
A11: 2 | B11: 광주시 | C11: 검천3리.뚱아농장 | E11: 1 | G11: 38808 | H11: 234000002
A12: 3 | B12: 광주시 | C12: 검천3리.뚱아농장 | E12: 1 | G12: 38631 | H12: 234000003
A13: 4 | B13: 광주시 | C13: 검천2리 | E13: 1 | G13: 38438 | H13: 234000004
A14: 5 | B14: 광주시 | C14: 귀여3리 | D14: 1 | G14: 38403 | H14: 234000005
A15: 6 | B15: 광주시 | C15: 검천1리 | D15: 1 | G15: 38419 | H15: 234000006
A16: 7 | B16: 광주시 | C16: 검천리보건소 | D16: 1 | G16: 38423 | H16: 234000007
A17: 8 | B17: 광주시 | C17: 검천3리.얄미마을 | D17: 1 | G17: 38430 | H17: 234000008
A18: 9 | B18: 광주시 | C18: 검천3리 | D18: 1 | G18: 38445 | H18: 234000009
A19: 10 | B19: 광주시 | C19: 수청2리 | D19: 1 | G19: 38453 | H19: 234000011
A20: 11 | B20: 광주시 | C20: 수청2리작은청탄 | E20: 1 | G20: 38807 | H20: 234000012
A21: 12 | B21: 광주시 | C21: 수청2리 | D21: 1 | G21: 38630 | H21: 234000013
A22: 13 | B22: 광주시 | C22: 검천3리 | E22: 1 | G22: 38444 | H22: 234000014
A23: 14 | B23: 광주시 | C23: 검천2리.알미마을 | E23: 1 | G23: 38429 | H23: 234000015
A24: 15 | B24: 광주시 | C24: 검천리보건소 | E24: 1 | G24: 38424 | H24: 234000016
A25: 16 | B25: 광주시 | C25: 검천1리 | E25: 1 | G25: 38418 | H25: 234000017
A26: 17 | B26: 광주시 | C26: 수청1리 | E26: 1 | G26: 38455 | H26: 234000018
A27: 18 | B27: 광주시 | C27: 귀여3리 | E27: 1 | G27: 38928 | H27: 234000022
A28: 19 | B28: 광주시 | C28: 중대동 | E28: 1 | G28: 38130 | H28: 234000023
A29: 20 | B29: 광주시 | C29: 삼동역.바깥가지울 | D29: 1 | G29: 38095 | H29: 234000024
A30: 21 | B30: 광주시 | C30: 삼동우남아파트 | D30: 1 | G30: 38093 | H30: 234000025 | I30: 1 | J30: 1
A31: 22 | B31: 광주시 | C31: 삼동우남아파트 | D31: 1 | G31: 38092 | H31: 234000026 | I31: 1 | J31: 1
A32: 23 | B32: 광주시 | C32: 삼동역.바깥가지울 | D32: 1 | G32: 38094 | H32: 234000027
A33: 24 | B33: 광주시 | C33: 광지원.남한산성입구 | D33: 1 | G33: 38242 | H33: 234000028 | I33: 1 | J33: 1
A34: 25 | B34: 광주시 | C34: 오전리마을회관 | D34: 1 | G34: 38506 | H34: 234000029
A35: 26 | B35: 광주시 | C35: 오전리농산물판매장앞.한양삼십리누리길오전리입구 | D35: 1 | G35: 38508 | H35: 234000030
A36: 27 | B36: 광주시 | C36: 광지원.남한산성면사무소 | D36: 1 | G36: 38503 | H36: 234000031 | I36: 1 | J36: 1
A37: 28 | B37: 광주시 | C37: 광지원초교앞 | D37: 1 | G37: 38248 | H37: 234000032
A38: 29 | B38: 광주시 | C38: 엄미리 | D38: 1 | G38: 38231 | H38: 234000034 | I38: 1 | J38: 1
A39: 30 | B39: 광주시 | C39: 은고개입구 | D39: 1 | G39: 38201 | H39: 234000035 | I39: 1 | J39: 1
A40: 31 | B40: 광주시 | C40: 은고개입구 | D40: 1 | G40: 38208 | H40: 234000036 | I40: 1 | J40: 1
A41: 32 | B41: 광주시 | C41: 엄미리 | D41: 1 | G41: 38236 | H41: 234000037 | I41: 1 | J41: 1
A42: 33 | B42: 광주시 | C42: 우미정식당입구 | D42: 1 | G42: 38249 | H42: 234000038
A43: 34 | B43: 광주시 | C43: 광지원.남한산성입구 | D43: 1 | G43: 38239 | H43: 234000039 | I43: 1 | J43: 1
A44: 35 | B44: 광주시 | C44: 한양삼십리누리길목현동입구 | D44: 1 | G44: 38166 | H44: 234000040 | I44: 1 | J44: 1
A45: 36 | B45: 광주시 | C45: 쌍용하이츠빌라앞 | D45: 1 | G45: 38131 | H45: 234000041 | I45: 1 | J45: 1
A46: 37 | B46: 광주시 | C46: 목현2리.낚시터 | D46: 1 | G46: 38122 | H46: 234000042 | I46: 1 | J46: 1
A47: 38 | B47: 광주시 | C47: 한양삼십리누리길목현동입구 | D47: 1 | G47: 38169 | H47: 234000043 | I47: 1 | J47: 1
A48: 39 | B48: 광주시 | C48: 시곡농장 | E48: 1 | G48: 38106 | H48: 234000044
A49: 40 | B49: 광주시 | C49: 마을회관 | D49: 1 | G49: 38922 | H49: 234000045 | I49: 1 | J49: 1
A50: 41 | B50: 광주시 | C50: 세진산업개발 | D50: 1 | G50: 38098 | H50: 234000046
A51: 42 | B51: 광주시 | C51: 양지전원마을 | D51: 1 | G51: 38112 | H51: 234000047
A52: 43 | B52: 광주시 | C52: 능골삼거리 | E52: 1 | G52: 38076 | H52: 234000048 | I52: 1 | J52: 1
A53: 44 | B53: 광주시 | C53: 능골마을앞 | D53: 1 | G53: 38077 | H53: 234000049 | I53: 1 | J53: 1
A54: 45 | B54: 광주시 | C54: 퉁점골 | E54: 1 | G54: 38072 | H54: 234000050
A55: 46 | B55: 광주시 | C55: 능평4리.119안전센터 | D55: 1 | G55: 38040 | H55: 234000051 | I55: 1 | J55: 1
A56: 47 | B56: 광주시 | C56: 용상골현대아파트 | D56: 1 | G56: 38039 | H56: 234000052 | I56: 1 | J56: 1
A57: 48 | B57: 광주시 | C57: 수레실.오포롯데캐슬 | D57: 1 | G57: 38045 | H57: 234000053 | I57: 1 | J57: 1
A58: 49 | B58: 광주시 | C58: 능평복합문화센터.창뜰.장군수산 | D58: 1 | G58: 38047 | H58: 234000054 | I58: 1 | J58: 1
A59: 50 | B59: 광주시 | C59: 창뜰마을입구.한토이 | D59: 1 | G59: 38060 | H59: 234000055 | I59: 1 | J59: 1
A60: 51 | B60: 광주시 | C60: 오포베르빌아파트 | D60: 1 | G60: 38071 | H60: 234000056 | I60: 1 | J60: 1
A61: 52 | B61: 광주시 | C61: 오포베르빌아파트 | D61: 1 | G61: 38073 | H61: 234000057 | I61: 1 | J61: 1
A62: 53 | B62: 광주시 | C62: 창뜰마을입구.한토이 | D62: 1 | G62: 38059 | H62: 234000058 | I62: 1 | J62: 1
A63: 54 | B63: 광주시 | C63: 능평복합문화센터.창뜰.장군수산 | D63: 1 | G63: 38046 | H63: 234000059 | I63: 1 | J63: 1
A64: 55 | B64: 광주시 | C64: 수레실전원교회.오포롯데캐슬 | D64: 1 | G64: 38042 | H64: 234000060 | I64: 1 | J64: 1
A65: 56 | B65: 광주시 | C65: 용상골현대아파트 | D65: 1 | G65: 38035 | H65: 234000061 | I65: 1 | J65: 1
A66: 57 | B66: 광주시 | C66: 능평4리.119안전센터 | D66: 1 | G66: 38037 | H66: 234000062 | I66: 1 | J66: 1
... A70: 61 | B70: 광주시 | C70: 삼동.갈마주유소 | D70: 1 | G70: 38097 | H70: 234000066 | I70: 1 | J70: 1
A71: 62 | B71: 광주시 | C71: 상번천2리 | D71: 1 | G71: 38629 | H71: 234000067
A72: 63 | B72: 광주시 | C72: 번천초등학교 | D72: 1 | G72: 38628 | H72: 234000068
A73: 64 | B73: 광주시 | C73: 쌍용아파트앞 | E73: 1 | G73: 38806 | H73: 234000069
A74: 65 | B74: 광주시 | C74: 곤지암119안전센터 | E74: 1 | G74: 38627 | H74: 234000070
A75: 66 | B75: 광주시 | C75: 진우2리 | E75: 1 | G75: 38626 | H75: 234000071
A76: 67 | B76: 광주시 | C76: 진우삼거리 | E76: 1 | G76: 38625 | H76: 234000072
A77: 68 | B77: 광주시 | C77: 근형심포니아파트 | D77: 1 | G77: 38805 | H77: 234000073 | I77: 1 | J77: 1
A78: 69 | B78: 광주시 | C78: 도척면사무소.도척초교 | E78: 1 | G78: 38624 | H78: 234000074
A79: 70 | B79: 광주시 | C79: 유정1리입구 | E79: 1 | G79: 38623 | H79: 234000075
A80: 71 | B80: 광주시 | C80: 유정1리 | D80: 1 | G80: 38804 | H80: 234000076
A81: 72 | B81: 광주시 | C81: 추곡리작은안나의집 | E81: 1 | G81: 38622 | H81: 234000077
A82: 73 | B82: 광주시 | C82: 추곡리마을입구 | D82: 1 | G82: 38621 | H82: 234000078
A83: 74 | B83: 광주시 | C83: 추곡리마을입구 | E83: 1 | G83: 38620 | H83: 234000079
A84: 75 | B84: 광주시 | C84: 추곡리작은안나의집 | E84: 1 | G84: 38827 | H84: 234000080
A85: 76 | B85: 광주시 | C85: 유정1리입구 | E85: 1 | G85: 38619 | H85: 234000081
A86: 77 | B86: 광주시 | C86: 유정1리입구 | D86: 1 | G86: 38618 | H86: 234000082
A87: 78 | B87: 광주시 | C87: 도척면사무소.도척초교 | D87: 1 | G87: 38617 | H87: 234000083
A88: 79 | B88: 광주시 | C88: 근형심포니아파트 | D88: 1 | G88: 38826 | H88: 234000084 | I88: 1 | J88: 1
A89: 80 | B89: 광주시 | C89: 진우삼거리 | D89: 1 | G89: 38616 | H89: 234000085 | I89: 1 | J89: 1
A90: 81 | B90: 광주시 | C90: 진우2리 | D90: 1 | G90: 38615 | H90: 234000086
A91: 82 | B91: 광주시 | C91: 곤지암119안전센터 | E91: 1 | G91: 38614 | H91: 234000087
A92: 83 | B92: 광주시 | C92: 쌍용아파트앞 | D92: 1 | G92: 38825 | H92: 234000088
A93: 84 | B93: 광주시 | C93: 농협.곤지암연세의원 | E93: 1 | G93: 38422 | H93: 234000089
A94: 85 | B94: 광주시 | C94: 곤지암터미널 | E94: 1 | G94: 38613 | H94: 234000090
A95: 86 | B95: 광주시 | C95: 무갑리 | D95: 1 | G95: 38404 | H95: 234000091
A96: 87 | B96: 광주시 | C96: 본갈비앞 | E96: 1 | G96: 38846 | H96: 234000092
A97: 88 | B97: 광주시 | C97: 서하리안골 | D97: 1 | G97: 38611 | H97: 234000093
A98: 89 | B98: 광주시 | C98: 하번천벌내 | E98: 1 | G98: 38610 | H98: 234000094
A99: 90 | B99: 광주시 | C99: 하번천리 | E99: 1 | G99: 38824 | H99: 234000095
A100: 91 | B100: 광주시 | C100: 하번천 | D100: 1 | G100: 38609 | H100: 234000096
A101: 92 | B101: 광주시 | C101: 하번천 | D101: 1 | G101: 38608 | H101: 234000097
A102: 93 | B102: 광주시 | C102: 하번천리 | D102: 1 | G102: 38607 | H102: 234000098
A103: 94 | B103: 광주시 | C103: 하번천벌내 | D103: 1 | G103: 38823 | H103: 234000099
A104: 95 | B104: 광주시 | C104: 서하리안골 | E104: 1 | G104: 38606 | H104: 234000100
A105: 96 | B105: 광주시 | C105: 서하리 | E105: 1 | G105: 38551 | H105: 234000101
...

Sheet 광명
A1: 광명시 정류소전광판(BIT) 설치지점 현황
A3: ※ 노란색 부분만 작성할 것 [작성방법] 1. 정류소 타입(쉘터, 표지, 무표지)를 기입할 것 2. 정류소별 BIT 설치 세부현황을 기입할 것(정류소번호, ID로 매칭해서 반드시 기재할 것) - 1개 정류소에 BIT 유형별로 설치된 경우 모든 수량 표기할 것 - 사례1 (수원역 정류소(20000001) 1곳에 LED 3개, LCD 2개 있는 경우) : BIT설치여부 1 / LED 3 / LCD 2 ※ 버스기반정보상에 등록된 ID와 번호를 참고하여 시군 센터내부에 매칭 테이블을 관리하고 있으므로 반드시 작성할 것 3. 해당 시군 관할 정류소가 아닌 경우 시군명 변경하고 관할 정류소가 누락된 경우 인접 시군 현황을 참고하여 추가 작성할 것 4. 비고란에 정류소미존재 기재된 경우 운송관리시스템에서 확인 후 정류소 반영
P5: (단위 : 개소)
A6: NO | B6: 시군 | C6: 정류소 | I6: 정류소전광판(BIT)
C7: 정류소명 | D7: 정류소 타입 | G7: 정류소번호 (5자리) | H7: 정류소ID (9자리) | I7: BIT 설치여부 | J7: BIT 유형 | P7: 비고
D8: 쉘터 (쉘터+표지) | E8: 표지 | F8: 무표지 | J8: LED | K8: LCD | L8: LED+LCD 복합형 | M8: 알뜰형 | N8: 임대형 (음성) | O8: 기타
C9: =COUNTA(C10:C449) -> 440 | D9: =SUM(D10:D449) -> 253 | E9: =SUM(E10:E449) -> 139 | F9: =SUM(F10:F449) -> 45 | I9: =SUM(I10:I449) -> 301 | J9: =SUM(J10:J449) -> 94 | K9: =SUM(K10:K449) -> 204 | L9: =SUM(L10:L449) -> 3 | M9: =SUM(M10:M449) -> 0 | N9: =SUM(N10:N449) -> 16 | O9: =SUM(O10:O449) -> 0 | P9: =SUM(P10:P459) -> 0
A10: 1 | B10: 광명시 | C10: 옥길주유소.YMCA교육관 | E10: 1 | G10: 14311 | H10: 213000345 | I10: 1 | J10: 1
A11: 2 | B11: 광명시 | C11: 소하3단지 | D11: 1 | G11: 14352 | H11: 213000313 | I11: 1 | K11: 1
A12: 3 | B12: 광명시 | C12: 소하1동주민센터 | D12: 1 | G12: 14285 | H12: 213000330 | I12: 1 | K12: 1
A13: 4 | B13: 광명시 | C13: 광명국민체육센터 | E13: 1 | G13: 14287 | H13: 213000322 | I13: 1 | J13: 1
A14: 5 | B14: 광명시 | C14: 뒷골 | D14: 1 | G14: 14249 | H14: 213000279 | I14: 1 | K14: 1
A15: 6 | B15: 광명시 | C15: 기아대교 | D15: 1 | G15: 14284 | H15: 213000338 | I15: 1 | K15: 1
A16: 7 | B16: 광명시 | C16: 신촌마을 | D16: 1 | G16: 14310 | H16: 213000350 | I16: 1 | K16: 1
A17: 8 | B17: 광명시 | C17: 소하1동주민센터 | D17: 1 | G17: 14286 | H17: 213000331 | I17: 1 | K17: 1
A18: 9 | B18: 광명시 | C18: 소하3단지 | D18: 1 | G18: 14293 | H18: 213000333 | I18: 1 | K18: 1
A19: 10 | B19: 광명시 | C19: 소하4단지 | D19: 1 | G19: 14294 | H19: 213000332 | I19: 1 | K19: 1
A20: 11 | B20: 광명시 | C20: 소하6단지 | D20: 1 | G20: 14296 | H20: 213000315 | I20: 1 | K20: 1
A21: 12 | B21: 광명시 | C21: 신촌마을아파트2단지 | D21: 1 | G21: 14292 | H21: 213000316 | I21: 1 | K21: 1
A22: 13 | B22: 광명시 | C22: 기아대교 | D22: 1 | G22: 14288 | H22: 213000339 | I22: 1 | K22: 1
A23: 14 | B23: 광명시 | C23: 기아사거리 | D23: 1 | G23: 14270 | H23: 213000300 | I23: 1 | K23: 1
A24: 15 | B24: 광명시 | C24: 광명경영회계고교 | E24: 1 | G24: 14269 | H24: 213000297 | I24: 1 | J24: 1
A25: 16 | B25: 광명시 | C25: 철산래미안자이아파트 | D25: 1 | G25: 14297 | H25: 213000320 | I25: 1 | K25: 1
A26: 17 | B26: 광명시 | C26: 한성목욕탕 | E26: 1 | G26: 14252 | H26: 213000278 | P26: 기점 2정류장 이내, 정보없음
A27: 18 | B27: 광명시 | C27: 기아자동차출하사무소 | D27: 1 | G27: 14267 | H27: 213000303 | I27: 1 | K27: 1
A28: 19 | B28: 광명시 | C28: 기아자동차후문.한소망교회 | D28: 1 | G28: 14268 | H28: 213000299 | I28: 1 | J28: 1
A29: 20 | B29: 광명시 | C29: 광명경영회계고교 | E29: 1 | G29: 14277 | H29: 213000296 | I29: 1 | J29: 1
A30: 21 | B30: 광명시 | C30: 광명시민체육관 | D30: 1 | G30: 14141 | H30: 213000119 | I30: 1 | K30: 1
A31: 22 | B31: 광명시 | C31: 오리서원.충현중학교.광휘고등학교 | D31: 1 | G31: 14188 | H31: 213000106 | I31: 1 | K31: 1
A32: 23 | B32: 광명시 | C32: 기형도문학관.황용사 | D32: 1 | G32: 14190 | H32: 213000105 | I32: 1 | K32: 1
A33: 24 | B33: 광명시 | C33: 하안주공8.13단지 | D33: 1 | G33: 14208 | H33: 213000104 | I33: 1 | K33: 1
A34: 25 | B34: 광명시 | C34: 광명시청.광명시민회관 | D34: 1 | G34: 14239 | H34: 213000099 | I34: 1 | K34: 1
A35: 26 | B35: 광명시 | C35: 도덕파크2단지입구 | E35: 1 | G35: 14118 | H35: 213000098 | I35: 1 | J35: 1
A36: 27 | B36: 광명시 | C36: 하안주공505동 | D36: 1 | G36: 14091 | H36: 213000095 | I36: 1 | K36: 1
A37: 28 | B37: 광명시 | C37: 하안주공513동 | D37: 1 | G37: 14093 | H37: 213000094 | I37: 1 | K37: 1
A38: 29 | B38: 광명시 | C38: 철산중학교.진성고등학교 | D38: 1 | G38: 14159 | H38: 213000088 | I38: 1 | K38: 1
A39: 30 | B39: 광명시 | C39: 하안주공2.9단지 | D39: 1 | G39: 14157 | H39: 213000087 | I39: 1 | K39: 1
A40: 31 | B40: 광명시 | C40: 하안북초등학교 | E40: 1 | G40: 14139 | H40: 213000084 | I40: 1 | J40: 1
A41: 32 | B41: 광명시 | C41: 하안주공505동 | E41: 1 | G41: 14089 | H41: 213000081 | I41: 1 | J41: 1
A42: 33 | B42: 광명시 | C42: 하안현대아파트 | D42: 1 | G42: 14097 | H42: 213000080 | I42: 1 | K42: 1
A43: 34 | B43: 광명시 | C43: 도덕파크1단지입구 | D43: 1 | G43: 14106 | H43: 213000079 | I43: 1 | K43: 1
A44: 35 | B44: 광명시 | C44: 도덕파크2단지입구 | D44: 1 | G44: 14119 | H44: 213000078 | I44: 1 | J44: 1
A45: 36 | B45: 광명시 | C45: 하안버스공영차고지 | F45: 1 | G45: 14150 | H45: 213000075 | P45: 기점 정류장
A46: 37 | B46: 광명시 | C46: 하안버스공영차고지 | F46: 1 | G46: 14149 | H46: 213000074 | P46: 종점 정류장
A47: 38 | B47: 광명시 | C47: 안터마을 | F47: 1 | G47: 14135 | H47: 213000073 | P47: 이용객 없음
A48: 39 | B48: 광명시 | C48: 도고천 | D48: 1 | G48: 14064 | H48: 213000067 | I48: 1 | K48: 1
A49: 40 | B49: 광명시 | C49: 뒷골 | D49: 1 | G49: 14244 | H49: 213000066 | I49: 1 | K49: 1
A50: 41 | B50: 광명시 | C50: 공세동 | D50: 1 | G50: 14078 | H50: 213000065 | I50: 1 | K50: 1
A51: 42 | B51: 광명시 | C51: 장터말 | D51: 1 | G51: 14103 | H51: 213000063 | I51: 1 | J51: 1
A52: 43 | B52: 광명시 | C52: 도덕산도시자연공원 | D52: 1 | G52: 14241 | H52: 213000051 | P52: 종점 정류장
A53: 44 | B53: 광명시 | C53: 광명7동주민센터 | D53: 1 | G53: 14055 | H53: 213000050 | I53: 1 | J53: 1
A54: 45 | B54: 광명시 | C54: 옥길약수터 | D54: 1 | G54: 14007 | H54: 213000041 | I54: 1 | K54: 1
A55: 46 | B55: 광명시 | C55: 두길삼거리 | D55: 1 | G55: 14009 | H55: 213000040 | I55: 1 | J55: 1
A56: 47 | B56: 광명시 | C56: 해모로이연아파트 | D56: 1 | G56: 14024 | H56: 213000038 | I56: 1 | K56: 1
A57: 48 | B57: 광명시 | C57: 광명6동주민센터 | D57: 1 | G57: 14033 | H57: 213000037 | I57: 1 | K57: 1
A58: 49 | B58: 광명시 | C58: 광명6동주민센터 | E58: 1 | G58: 14032 | H58: 213000031 | I58: 1 | J58: 1
A59: 50 | B59: 광명시 | C59: 철산2동주민센터 | D59: 1 | G59: 14115 | H59: 213000020 | I59: 1 | K59: 1
A60: 51 | B60: 광명시 | C60: 광명북중고등학교 | D60: 1 | G60: 14122 | H60: 213000019 | I60: 1 | K60: 1
A61: 52 | B61: 광명시 | C61: 광명북중고등학교 | D61: 1 | G61: 14127 | H61: 213000016 | I61: 1 | K61: 1
A62: 53 | B62: 광명시 | C62: 현충탑입구.철산종합사회복지관 | D62: 1 | G62: 14111 | H62: 213000014 | I62: 1 | K62: 1
A63: 54 | B63: 광명시 | C63: 철산교 | E63: 1 | G63: 14260 | H63: 213000176 | I63: 1 | J63: 1 | P63: 재건축단지 장비철거
A64: 55 | B64: 광명시 | C64: 광명돔경륜장 | D64: 1 | G64: 14247 | H64: 213000233 | P64: 전기수전 불가
A65: 56 | B65: 광명시 | C65: 가리대사거리.소하상업지구 | D65: 1 | G65: 14205 | H65: 213000006 | I65: 1 | K65: 1
A66: 57 | B66: 광명시 | C66: 소하성당 | D66: 1 | G66: 14176 | H66: 213000225 | I66: 1 | K66: 1
A67: 58 | B67: 광명시 | C67: 갑종주유소 | D67: 1 | G67: 14184 | H67: 213000224 | I67: 1 | K67: 1
A68: 59 | B68: 광명시 | C68: 수자원공사광명가압장 | D68: 1 | G68: 14191 | H68: 213000223 | I68: 1 | K68: 1
A69: 60 | B69: 광명시 | C69: 하안소방파출소 | D69: 1 | G69: 14164 | H69: 213000220 | I69: 1 | K69: 1
A70: 61 | B70: 광명시 | C70: 도덕파크타운 | E70: 1 | G70: 14109 | H70: 213000162 | I70: 1 | J70: 1
A71: 62 | B71: 광명시 | C71: 광덕초등학교 | E71: 1 | G71: 14104 | H71: 213000161 | I71: 1 | J71: 1
A72: 63 | B72: 광명시 | C72: KTX광명역6번출구 | D72: 1 | G72: 14220 | H72: 213000231 | I72: 1 | J72: 2 | P72: 광명역
A73: 64 | B73: 광명시 | C73: 기형도문학관.황용사 | D73: 1 | G73: 14195 | H73: 213000229 | I73: 1 | K73: 1
A74: 65 | B74: 광명시 | C74: 광명농협 | D74: 1 | G74: 14201 | H74: 213000219 | I74: 1 | K74: 1
A75: 66 | B75: 광명시 | C75: 철산리버빌아파트 | D75: 1 | G75: 14121 | H75: 213000218 | I75: 1 | K75: 1
A76: 67 | B76: 광명시 | C76: KTX광명역7번출구 | D76: 1 | G76: 14219 | H76: 213000216 | I76: 1 | J76: 3 | P76: 광명역
A77: 68 | B77: 광명시 | C77: 광남사거리.광명교육청 | D77: 1 | G77: 14031 | H77: 213000206 | I77: 1 | J77: 1
A78: 69 | B78: 광명시 | C78: 명문고등학교 | D78: 1 | G78: 14043 | H78: 213000205 | I78: 1 | K78: 1
A79: 70 | B79: 광명시 | C79: 광명우체국 | D79: 1 | G79: 14154 | H79: 213000202 | I79: 1 | K79: 1
A80: 71 | B80: 광명시 | C80: 광명시여성비전센터 | D80: 1 | G80: 14173 | H80: 213000200 | I80: 1 | J80: 1
A81: 72 | B81: 광명시 | C81: 광명사거리역 | D81: 1 | G81: 14245 | H81: 213000196 | I81: 1 | K81: 1
A82: 73 | B82: 광명시 | C82: 하안4동주민센터.하안주공4.10단지 | D82: 1 | G82: 14162 | H82: 213000191 | I82: 1 | K82: 1
A83: 74 | B83: 광명시 | C83: 하안주공8.13단지 | D83: 1 | G83: 14206 | H83: 213000189 | I83: 1 | K83: 1
A84: 75 | B84: 광명시 | C84: 아파트형공장 | D84: 1 | G84: 14216 | H84: 213000188 | I84: 1 | K84: 1
A85: 76 | B85: 광명시 | C85: 이케아광명점 | D85: 1 | G85: 14199 | H85: 213000183 | I85: 1 | K85: 1
A86: 77 | B86: 광명시 | C86: 철산우성아파트 | E86: 1 | G86: 14246 | H86: 213000181 | I86: 1 | J86: 1
A87: 78 | B87: 광명시 | C87: 광명1동주민센터 | E87: 1 | G87: 14087 | H87: 213000178 | I87: 1 | J87: 1
A88: 79 | B88: 광명시 | C88: 철산교 | E88: 1 | G88: 14073 | H88: 213000175 | I88: 1 | J88: 1 | P88: 재건축단지 장비철거
A89: 80 | B89: 광명시 | C89: 광명1동주민센터 | E89: 1 | G89: 14236 | H89: 213000173 | I89: 1 | J89: 1
A90: 81 | B90: 광명시 | C90: 철산현대아파트 | E90: 1 | G90: 14113 | H90: 213000171 | I90: 1 | J90: 1
A91: 82 | B91: 광명시 | C91: 철산우성아파트 | E91: 1 | G91: 14124 | H91: 213000170 | I91: 1 | J91: 1
A92: 83 | B92: 광명시 | C92: 광덕초등학교 | E92: 1 | G92: 14102 | H92: 213000167 | I92: 1 | J92: 1
A93: 84 | B93: 광명시 | C93: 광명경찰서 | D93: 1 | G93: 14138 | H93: 213000165 | I93: 1 | K93: 1
A94: 85 | B94: 광명시 | C94: 철산래미안자이아파트 | D94: 1 | G94: 14148 | H94: 213000163 | I94: 1 | K94: 1
A95: 86 | B95: 광명시 | C95: 철산리버빌아파트 | D95: 1 | G95: 14123 | H95: 213000118 | I95: 1 | K95: 1
A96: 87 | B96: 광명시 | C96: 구름산.광명시보건소 | D96: 1 | G96: 14181 | H96: 213000114 | I96: 1 | K96: 1
A97: 88 | B97: 광명시 | C97: 소하2단지 | D97: 1 | G97: 14198 | H97: 213000113 | I97: 1 | K97: 1
A98: 89 | B98: 광명시 | C98: 안서초등학교 | D98: 1 | G98: 14144 | H98: 213000062 | I98: 1 | K98: 1
A99: 90 | B99: 광명시 | C99: 뒷골 | D99: 1 | G99: 14072 | H99: 213000059 | I99: 1 | K99: 1
A100: 91 | B100: 광명시 | C100: 학온동주민센터 | D100: 1 | G100: 14048 | H100: 213000057 | I100: 1 | K100: 1
A101: 92 | B101: 광명시 | C101: 중앙하이츠아파트 | E101: 1 | G101: 14063 | H101: 213000053 | P101: 기점 정류장
A102: 93 | B102: 광명시 | C102: 광명21세기병원 | D102: 1 | G102: 14066 | H102: 213000158 | I102: 1 | K102: 1
...

Sheet 군포
A1: 군포시 정류소전광판(BIT) 설치지점 현황
A3: ※ 노란색 부분만 작성할 것 [작성방법] 1. 정류소 타입(쉘터, 표지, 무표지)를 기입할 것 2. 정류소별 BIT 설치 세부현황을 기입할 것(정류소번호, ID로 매칭해서 반드시 기재할 것) - 1개 정류소에 BIT 유형별로 설치된 경우 모든 수량 표기할 것 - 사례1 (수원역 정류소(20000001) 1곳에 LED 3개, LCD 2개 있는 경우) : BIT설치여부 1 / LED 3 / LCD 2 ※ 버스기반정보상에 등록된 ID와 번호를 참고하여 시군 센터내부에 매칭 테이블을 관리하고 있으므로 반드시 작성할 것 3. 해당 시군 관할 정류소가 아닌 경우 시군명 변경하고 관할 정류소가 누락된 경우 인접 시군 현황을 참고하여 추가 작성할 것 4. 비고란에 정류소미존재 기재된 경우 운송관리시스템에서 확인 후 정류소 반영
P5: (단위 : 개소)
A6: NO | B6: 시군 | C6: 정류소 | I6: 정류소전광판(BIT)
C7: 정류소명 | D7: 정류소 타입 | G7: 정류소번호 (5자리) | H7: 정류소ID (9자리) | I7: BIT 설치여부 | J7: BIT 유형 | P7: 비고
D8: 쉘터 (쉘터+표지) | E8: 표지 | F8: 무표지 | J8: LED | K8: LCD | L8: LED+LCD 복합형 | M8: 알뜰형 | N8: 임대형 (음성) | O8: 기타
C9: =COUNTA(C10:C438) -> 429 | D9: =COUNT(D10:D438) -> 317 | E9: =COUNT(E10:E438) -> 106 | F9: =COUNT(F10:F438) -> 6 | I9: =COUNT(I10:I438) -> 249 | J9: =COUNT(J10:J438) -> 80 | K9: =COUNT(K10:K438) -> 169 | L9: =COUNT(L10:L438) -> 0 | M9: =COUNT(M10:M438) -> 0 | N9: =COUNT(N10:N438) -> 0 | O9: =COUNT(O10:O438) -> 0
A10: 1 | B10: 군포시 | C10: 군포문화예술회관 | D10: 1 | G10: 26037 | H10: 225000001 | I10: 1 | K10: 1
A11: 2 | B11: 군포시 | C11: 엘림복지원 | D11: 1 | G11: 26031 | H11: 225000002 | I11: 1 | K11: 1
A12: 3 | B12: 군포시 | C12: 둔전초등학교 | D12: 1 | G12: 26010 | H12: 225000003 | I12: 1 | K12: 1
A13: 4 | B13: 군포시 | C13: 산본공업고등학교 | D13: 1 | G13: 26011 | H13: 225000004 | I13: 1 | K13: 1
A14: 5 | B14: 군포시 | C14: 도장중학교 | D14: 1 | G14: 26026 | H14: 225000005 | I14: 1 | K14: 1
A15: 6 | B15: 군포시 | C15: 군포보건소 | E15: 1 | G15: 26021 | H15: 225000006
A16: 7 | B16: 군포시 | C16: 금정역 | D16: 1 | G16: 26167 | H16: 225000007 | I16: 1 | J16: 1
A17: 8 | B17: 군포시 | C17: 군포보건소 | D17: 1 | G17: 26029 | H17: 225000010 | I17: 1 | K17: 1
A18: 9 | B18: 군포시 | C18: 금정역 | D18: 1 | G18: 26112 | H18: 225000011 | I18: 1 | K18: 1
A19: 10 | B19: 군포시 | C19: 금정가구거리 | D19: 1 | G19: 26126 | H19: 225000012 | I19: 1 | K19: 1
A20: 11 | B20: 군포시 | C20: 금정IC | D20: 1 | G20: 26135 | H20: 225000013
A21: 12 | B21: 군포시 | C21: 당동지하차도.G샘병원 | D21: 1 | G21: 26141 | H21: 225000014 | I21: 1 | J21: 1
A22: 13 | B22: 군포시 | C22: 금정가구거리 | D22: 1 | G22: 26117 | H22: 225000015 | I22: 1 | K22: 1
A23: 14 | B23: 군포시 | C23: 금정역.서진산업 | D23: 1 | G23: 26127 | H23: 225000016 | I23: 1 | J23: 1
A24: 15 | B24: 군포시 | C24: 산본고가도로 | E24: 1 | G24: 26103 | H24: 225000017
A25: 16 | B25: 군포시 | C25: 산본고가도로 | E25: 1 | G25: 26100 | H25: 225000018
A26: 17 | B26: 군포시 | C26: 한림휴먼타워 | D26: 1 | G26: 26114 | H26: 225000019
A27: 18 | B27: 군포시 | C27: 금정역.서진산업 | D27: 1 | G27: 26123 | H27: 225000020 | I27: 1 | J27: 1
A28: 19 | B28: 군포시 | C28: 군포시평생학습원 | D28: 1 | G28: 26102 | H28: 225000021 | I28: 1 | K28: 1
A29: 20 | B29: 군포시 | C29: 용호고등학교 | D29: 1 | G29: 26088 | H29: 225000022 | I29: 1 | J29: 1
A30: 21 | B30: 군포시 | C30: 당동주공4단지아파트 | D30: 1 | G30: 26106 | H30: 225000023
A31: 22 | B31: 군포시 | C31: 당정동LG아파트 | D31: 1 | G31: 26157 | H31: 225000024 | I31: 1 | K31: 1
A32: 23 | B32: 군포시 | C32: 당동주공4단지 | D32: 1 | G32: 26108 | H32: 225000025
A33: 24 | B33: 군포시 | C33: 용호고등학교 | D33: 1 | G33: 26090 | H33: 225000026 | I33: 1 | J33: 1
A34: 25 | B34: 군포시 | C34: 군포시평생학습원 | D34: 1 | G34: 26099 | H34: 225000027 | I34: 1 | K34: 1
A35: 26 | B35: 군포시 | C35: 금정새마을금고 | D35: 1 | G35: 26120 | H35: 225000028 | I35: 1 | K35: 1
A36: 27 | B36: 군포시 | C36: 제일공원앞 | D36: 1 | G36: 26130 | H36: 225000029 | I36: 1 | K36: 1
A37: 28 | B37: 군포시 | C37: 군포성당 | D37: 1 | G37: 26134 | H37: 225000030 | I37: 1 | J37: 1
A38: 29 | B38: 군포시 | C38: 군포중학교 | D38: 1 | G38: 26122 | H38: 225000031 | I38: 1 | J38: 1
A39: 30 | B39: 군포시 | C39: 군포초등학교 | D39: 1 | G39: 26116 | H39: 225000032 | I39: 1 | J39: 1
A40: 31 | B40: 군포시 | C40: 군포시평생학습원 | D40: 1 | G40: 26113 | H40: 225000033 | I40: 1 | K40: 1
A41: 32 | B41: 군포시 | C41: 한세대학교 | D41: 1 | G41: 26145 | H41: 225000034 | I41: 1 | K41: 1
A42: 33 | B42: 군포시 | C42: 당정초등학교 | D42: 1 | G42: 26155 | H42: 225000035 | I42: 1 | J42: 1
A43: 34 | B43: 군포시 | C43: 제일공단입구 | D43: 1 | G43: 26160 | H43: 225000036 | I43: 1 | K43: 1
A44: 35 | B44: 군포시 | C44: 군포제일공단입구 | D44: 1 | G44: 26159 | H44: 225000037 | I44: 1 | K44: 1
A45: 36 | B45: 군포시 | C45: 당정초등학교.군포문화원 | D45: 1 | G45: 26154 | H45: 225000038 | I45: 1 | J45: 1
A46: 37 | B46: 군포시 | C46: 한세대학교 | D46: 1 | G46: 26149 | H46: 225000039 | I46: 1 | K46: 1
A47: 38 | B47: 군포시 | C47: 당정지하차도 | D47: 1 | G47: 26144 | H47: 225000040 | I47: 1 | K47: 1
A48: 39 | B48: 군포시 | C48: 군포시평생학습원 | D48: 1 | G48: 26109 | H48: 225000041 | I48: 1 | K48: 1
A49: 40 | B49: 군포시 | C49: 군포초등학교 | D49: 1 | G49: 26107 | H49: 225000042 | I49: 1 | K49: 1
A50: 41 | B50: 군포시 | C50: 군포중학교 | D50: 1 | G50: 26121 | H50: 225000043 | I50: 1 | J50: 1
A51: 42 | B51: 군포시 | C51: 군포성당 | D51: 1 | G51: 26132 | H51: 225000044 | I51: 1 | K51: 1
A52: 43 | B52: 군포시 | C52: 제일공원앞 | D52: 1 | G52: 26125 | H52: 225000045 | I52: 1 | K52: 1
A53: 44 | B53: 군포시 | C53: 금정새마을금고 | D53: 1 | G53: 26115 | H53: 225000046 | I53: 1 | K53: 1
A54: 45 | B54: 군포시 | C54: 산본역 | D54: 1 | G54: 26054 | H54: 225000047 | I54: 1 | K54: 1
A55: 46 | B55: 군포시 | C55: 주공2단지충무아파트 | D55: 1 | G55: 26052 | H55: 225000048 | I55: 1 | K55: 1
A56: 47 | B56: 군포시 | C56: 군포소방서 | D56: 1 | G56: 26035 | H56: 225000049
A57: 48 | B57: 군포시 | C57: 군포소방서 | D57: 1 | G57: 26027 | H57: 225000050 | I57: 1 | K57: 1
A58: 49 | B58: 군포시 | C58: 주공2.3단지아파트입구 | D58: 1 | G58: 26053 | H58: 225000051 | I58: 1 | K58: 1
A59: 50 | B59: 군포시 | C59: 산본역 | D59: 1 | G59: 26046 | H59: 225000052 | I59: 1 | K59: 1
A60: 51 | B60: 군포시 | C60: 군포경찰서 | D60: 1 | G60: 26067 | H60: 225000053 | I60: 1 | K60: 1
A61: 52 | B61: 군포시 | C61: 구군포교 | D61: 1 | G61: 26151 | H61: 225000054
A62: 53 | B62: 군포시 | C62: 농심 | D62: 1 | G62: 26148 | H62: 225000055
A63: 54 | B63: 군포시 | C63: 당동지하차도 | D63: 1 | G63: 26143 | H63: 225000056
A64: 55 | B64: 군포시 | C64: 군포G샘병원 | D64: 1 | G64: 26139 | H64: 225000057 | I64: 1 | K64: 1
A65: 56 | B65: 군포시 | C65: 군포중학교 | D65: 1 | G65: 26137 | H65: 225000058 | I65: 1 | J65: 1
A66: 57 | B66: 군포시 | C66: 당동우체국 | E66: 1 | G66: 26124 | H66: 225000059 | I66: 1 | J66: 1
A67: 58 | B67: 군포시 | C67: 두산유리 | F67: 1 | G67: 26147 | H67: 225000060
A68: 59 | B68: 군포시 | C68: 당정우편취급국 | F68: 1 | G68: 26152 | H68: 225000061
A69: 60 | B69: 군포시 | C69: 대영전자 | E69: 1 | G69: 26158 | H69: 225000062
A70: 61 | B70: 군포시 | C70: 창업보육센터 | E70: 1 | G70: 26162 | H70: 225000063
A71: 62 | B71: 군포시 | C71: 창업보육센터 | E71: 1 | G71: 26161 | H71: 225000064
A72: 63 | B72: 군포시 | C72: 레인보우카페 | D72: 1 | G72: 26156 | H72: 225000065
A73: 64 | B73: 군포시 | C73: 산본공업고등학교 | D73: 1 | G73: 26009 | H73: 225000067 | I73: 1 | K73: 1
A74: 65 | B74: 군포시 | C74: 남천병원.서울시남부기술교육원 | D74: 1 | G74: 26030 | H74: 225000068 | I74: 1 | K74: 1
A75: 66 | B75: 군포시 | C75: 군포문화예술회관 | D75: 1 | G75: 26039 | H75: 225000069 | I75: 1 | K75: 1
A76: 67 | B76: 군포시 | C76: 우방아파트 | D76: 1 | G76: 26045 | H76: 225000070 | I76: 1 | K76: 1
A77: 68 | B77: 군포시 | C77: 산본2동주민센터 | D77: 1 | G77: 26050 | H77: 225000071 | I77: 1 | K77: 1
A78: 69 | B78: 군포시 | C78: 군포문화예술회관 | D78: 1 | G78: 26032 | H78: 225000072 | I78: 1 | K78: 1
A79: 70 | B79: 군포시 | C79: 군포문화예술회관.광정동주택단지 | D79: 1 | G79: 26028 | H79: 225000073
A80: 71 | B80: 군포시 | C80: 복합화물터미널후문입구 | D80: 1 | G80: 26063 | H80: 225000075 | I80: 1 | K80: 1
A81: 72 | B81: 군포시 | C81: 중앙공원 | D81: 1 | G81: 26043 | H81: 225000076 | I81: 1 | K81: 1
A82: 73 | B82: 군포시 | C82: 군포문화예술회관 | D82: 1 | G82: 26036 | H82: 225000077
A83: 74 | B83: 군포시 | C83: 중앙공원.산본제일병원 | D83: 1 | G83: 26042 | H83: 225000078 | I83: 1 | K83: 1
A84: 75 | B84: 군포시 | C84: 우리은행 | D84: 1 | G84: 26131 | H84: 225000079 | I84: 1 | J84: 1
A85: 76 | B85: 군포시 | C85: 8단지삼환계룡아파트 | D85: 1 | G85: 26008 | H85: 225000080 | I85: 1 | K85: 1
A86: 77 | B86: 군포시 | C86: 수리동주민센터 | D86: 1 | G86: 26005 | H86: 225000081 | I86: 1 | K86: 1
A87: 78 | B87: 군포시 | C87: 8단지덕유아파트 | D87: 1 | G87: 26002 | H87: 225000082 | I87: 1 | K87: 1
A88: 79 | B88: 군포시 | C88: 수리동설악아파트 | D88: 1 | G88: 26001 | H88: 225000083 | I88: 1 | K88: 1
A89: 80 | B89: 군포시 | C89: 금강아파트 | D89: 1 | G89: 26006 | H89: 225000084 | I89: 1 | J89: 1
A90: 81 | B90: 군포시 | C90: 산본래미안아파트 | D90: 1 | G90: 26066 | H90: 225000085 | I90: 1 | K90: 1
A91: 82 | B91: 군포시 | C91: 11단지주공아파트 | D91: 1 | G91: 26057 | H91: 225000086 | I91: 1 | K91: 1
A92: 83 | B92: 군포시 | C92: 군포초등학교 | D92: 1 | G92: 26096 | H92: 225000087 | I92: 1 | J92: 1
A93: 84 | B93: 군포시 | C93: 당동초등학교 | D93: 1 | G93: 26089 | H93: 225000088 | I93: 1 | K93: 1
A94: 85 | B94: 군포시 | C94: 군포시청.산본역 | D94: 1 | G94: 26049 | H94: 225000089 | I94: 1 | J94: 1
A95: 86 | B95: 군포시 | C95: 늘푸른노인복지관 | D95: 1 | G95: 26056 | H95: 225000090 | I95: 1 | K95: 1
A96: 87 | B96: 군포시 | C96: 산본래미안아파트 | D96: 1 | G96: 26072 | H96: 225000091 | I96: 1 | K96: 1
A97: 88 | B97: 군포시 | C97: 철쭉동산.철쭉공원 | D97: 1 | G97: 26019 | H97: 225000092 | I97: 1 | K97: 1
A98: 89 | B98: 군포시 | C98: 둔전초등학교 | D98: 1 | G98: 26007 | H98: 225000093 | I98: 1 | K98: 1
A99: 90 | B99: 군포시 | C99: 극동아파트 | D99: 1 | G99: 26012 | H99: 225000094 | I99: 1 | K99: 1
A100: 91 | B100: 군포시 | C100: 13단지아파트입구 | D100: 1 | G100: 26058 | H100: 225000095 | I100: 1 | K100: 1
A101: 92 | B101: 군포시 | C101: 산본시장 | D101: 1 | G101: 26070 | H101: 225000096 | I101: 1 | K101: 1
A102: 93 | B102: 군포시 | C102: 금정농협앞 | D102: 1 | G102: 26105 | H102: 225000097 | I102: 1 | J102: 1
...

Sheet 하남
A1: 하남시 정류소전광판(BIT) 설치지점 현황
A3: ※ 노란색 부분만 작성할 것 [작성방법] 1. 정류소 타입(쉘터, 표지, 무표지)를 기입할 것 2. 정류소별 BIT 설치 세부현황을 기입할 것(정류소번호, ID로 매칭해서 반드시 기재할 것) - 1개 정류소에 BIT 유형별로 설치된 경우 모든 수량 표기할 것 - 사례1 (수원역 정류소(20000001) 1곳에 LED 3개, LCD 2개 있는 경우) : BIT설치여부 1 / LED 3 / LCD 2 ※ 버스기반정보상에 등록된 ID와 번호를 참고하여 시군 센터내부에 매칭 테이블을 관리하고 있으므로 반드시 작성할 것 3. 해당 시군 관할 정류소가 아닌 경우 시군명 변경하고 관할 정류소가 누락된 경우 인접 시군 현황을 참고하여 추가 작성할 것 4. 비고란에 정류소미존재 기재된 경우 운송관리시스템에서 확인 후 정류소 반영
P5: (단위 : 개소)
A6: NO | B6: 시군 | C6: 정류소 | I6: 정류소전광판(BIT)
C7: 정류소명 | D7: 정류소 타입 | G7: 정류소번호 (5자리) | H7: 정류소ID (9자리) | I7: BIT 설치여부 | J7: BIT 유형 | P7: 비고
D8: 쉘터 (쉘터+표지) | E8: 표지 | F8: 무표지 | J8: LED | K8: LCD | L8: LED+LCD 복합형 | M8: 알뜰형 | N8: 임대형 (음성) | O8: 기타
C9: =COUNTA(C10:C562) -> 553 | D9: =COUNT(D10:D562) -> 335 | E9: =COUNT(E10:E562) -> 140 | F9: =COUNT(F10:F562) -> 75 | I9: =COUNT(I10:I562) -> 283 | J9: =COUNT(J10:J562) -> 102 | K9: =COUNT(K10:K562) -> 52 | L9: =COUNT(L10:L562) -> 92 | M9: =COUNT(M10:M562) -> 37 | N9: =COUNT(N10:N562) -> 0 | O9: =COUNT(O10:O562) -> 0
A10: 1 | B10: 하남시 | C10: 나룰초등학교.풍산아이파크1단지 | D10: 1 | G10: 28248 | H10: 227000227 | I10: 1 | J10: 1
A11: 2 | B11: 하남시 | C11: 상수도관리사업소 | F11: 1 | G11: 28208 | H11: 227000168
A12: 3 | B12: 하남시 | C12: 광암정수장앞 | D12: 1 | G12: 28203 | H12: 227000116
A13: 4 | B13: 하남시 | C13: 풍산아이파크1단지 | D13: 1 | G13: 28245 | H13: 227000213 | I13: 1 | L13: 1
A14: 5 | B14: 하남시 | C14: 풍산아이파크1단지 | D14: 1 | G14: 28246 | H14: 227000214 | I14: 1 | L14: 1
A15: 6 | B15: 하남시 | C15: 상수도관리사업소 | F15: 1 | G15: 28205 | H15: 227000169
A16: 7 | B16: 하남시 | C16: 팔당댐입구 | F16: 1 | G16: 28206 | H16: 227000166
A17: 8 | B17: 하남시 | C17: 덕풍쌍용아파트 | D17: 1 | G17: 28181 | H17: 227000160
A18: 9 | B18: 하남시 | C18: 조정경기장입구 | E18: 1 | G18: 28216 | H18: 227000200
A19: 10 | B19: 하남시 | C19: 동원베네스트아파트입구 | D19: 1 | G19: 28218 | H19: 227000205 | I19: 1 | K19: 1
A20: 11 | B20: 하남시 | C20: 근린3호공원.이마트 | D20: 1 | G20: 28219 | H20: 227000207 | I20: 1 | K20: 1
A21: 12 | B21: 하남시 | C21: 풍산아이파크5단지 | D21: 1 | G21: 28220 | H21: 227000209 | I21: 1 | K21: 1
A22: 13 | B22: 하남시 | C22: 풍경채1단지.덕풍중학교 | D22: 1 | G22: 28222 | H22: 227000212 | I22: 1 | J22: 1
A23: 14 | B23: 하남시 | C23: 꽃뫼마을1단지 | D23: 1 | G23: 28223 | H23: 227000210 | I23: 1 | J23: 1
A24: 15 | B24: 하남시 | C24: 이마트.나룰 | D24: 1 | G24: 28224 | H24: 227000208 | I24: 1 | K24: 1
A25: 16 | B25: 하남시 | C25: 새뜰마을3단지 | D25: 1 | G25: 28225 | H25: 227000206 | I25: 1 | J25: 1
A26: 17 | B26: 하남시 | C26: 미사강변2차푸르지오.미사강변고등학교 | D26: 1 | G26: 28227 | H26: 227000204 | I26: 1 | L26: 1
A27: 18 | B27: 하남시 | C27: 하남장애인복지관.미사1동행정복지센터 | D27: 1 | G27: 28228 | H27: 227000201 | I27: 1 | J27: 1
A28: 19 | B28: 하남시 | C28: 풍경채1단지.덕풍중학교 | D28: 1 | G28: 28221 | H28: 227000211 | I28: 1 | K28: 1
A29: 20 | B29: 하남시 | C29: 남문매표소앞 | E29: 1 | G29: 28258 | H29: 227000193
A30: 21 | B30: 하남시 | C30: 팔당댐입구 | E30: 1 | G30: 28209 | H30: 227000167
A31: 22 | B31: 하남시 | C31: 옛골토성앞 | F31: 1 | G31: 28177 | H31: 227000158
A32: 23 | B32: 하남시 | C32: 옛골토성앞 | F32: 1 | G32: 28178 | H32: 227000159
A33: 24 | B33: 하남시 | C33: 경정장후문 | D33: 1 | G33: 28175 | H33: 227000157
A34: 25 | B34: 하남시 | C34: 덕풍수리골공영주차장 | D34: 1 | G34: 28046 | H34: 227000024 | I34: 1 | K34: 1
A35: 26 | B35: 하남시 | C35: 하남우체국.덕풍시장 | E35: 1 | G35: 28060 | H35: 227000022 | I35: 1 | M35: 1
A36: 27 | B36: 하남시 | C36: 신장사거리.신장시장 | E36: 1 | G36: 28073 | H36: 227000021 | I36: 1 | M36: 1
A37: 28 | B37: 하남시 | C37: 동부주유소 | E37: 1 | G37: 28085 | H37: 227000020 | I37: 1 | M37: 1
A38: 29 | B38: 하남시 | C38: 한솔리치빌2.3단지 | D38: 1 | G38: 28038 | H38: 227000017 | I38: 1 | J38: 1
A39: 30 | B39: 하남시 | C39: 덕풍쌍용아파트 | E39: 1 | G39: 28059 | H39: 227000015 | I39: 1 | M39: 1
A40: 31 | B40: 하남시 | C40: 현대아파트 | D40: 1 | G40: 28114 | H40: 227000013 | I40: 1 | K40: 1
A41: 32 | B41: 하남시 | C41: 천현초등학교 | D41: 1 | G41: 28102 | H41: 227000010 | I41: 1 | M41: 1
A42: 33 | B42: 하남시 | C42: 현대아파트.한신아파트 | D42: 1 | G42: 28106 | H42: 227000009 | I42: 1 | K42: 1
A43: 34 | B43: 하남시 | C43: 한솔리치빌1.5단지 | D43: 1 | G43: 28041 | H43: 227000008
A44: 35 | B44: 하남시 | C44: 한솔리치빌2.3단지 | D44: 1 | G44: 28037 | H44: 227000007
A45: 36 | B45: 하남시 | C45: 미사강변루나리움.17단지 | D45: 1 | G45: 28018 | H45: 227000196 | I45: 1 | L45: 1
A46: 37 | B46: 하남시 | C46: 상산곡동.공영차고지 | F46: 1 | G46: 28157 | H46: 227000003
A47: 38 | B47: 하남시 | C47: 하남문화예술회관 | D47: 1 | G47: 28249 | H47: 227000224 | I47: 1 | L47: 1
A48: 39 | B48: 하남시 | C48: 하남문화예술회관 | D48: 1 | G48: 28250 | H48: 227000225 | I48: 1 | L48: 1
A49: 40 | B49: 하남시 | C49: 나룰초등학교.풍산아이파크1단지 | D49: 1 | G49: 28251 | H49: 227000226 | I49: 1 | K49: 1
A50: 41 | B50: 하남시 | C50: 새뜰마을3단지정문 | D50: 1 | G50: 28252 | H50: 227000228 | I50: 1 | K50: 1
A51: 42 | B51: 하남시 | C51: 새뜰마을3단지정문 | D51: 1 | G51: 28253 | H51: 227000229
A52: 43 | B52: 하남시 | C52: 덕풍시장.더샵센트럴뷰 | D52: 1 | G52: 28076 | H52: 227000139 | I52: 1 | K52: 1
A53: 44 | B53: 하남시 | C53: 홈플러스 | E53: 1 | G53: 28093 | H53: 227000137 | I53: 1 | M53: 1
A54: 45 | B54: 하남시 | C54: 하남시청 | D54: 1 | G54: 28095 | H54: 227000136 | I54: 1 | K54: 1
A55: 46 | B55: 하남시 | C55: 신안아파트후문 | D55: 1 | G55: 28131 | H55: 227000130 | I55: 1 | K55: 1
A56: 47 | B56: 하남시 | C56: 감일스윗시티B4블록.B8블록 | D56: 1 | G56: 28078 | H56: 227000081
A57: 48 | B57: 하남시 | C57: 미사동뒷벌 | D57: 1 | G57: 28069 | H57: 227000079
A58: 49 | B58: 하남시 | C58: 미사동입구.한강유역환경청 | E58: 1 | G58: 28042 | H58: 227000077
A59: 50 | B59: 하남시 | C59: 천현동행정복지센터입구 | D59: 1 | G59: 28121 | H59: 227000156
A60: 51 | B60: 하남시 | C60: 하산곡삼거리 | D60: 1 | G60: 28130 | H60: 227000155 | I60: 1 | K60: 1
A61: 52 | B61: 하남시 | C61: 새능마을입구 | E61: 1 | G61: 28135 | H61: 227000154 | I61: 1 | M61: 1
A62: 53 | B62: 하남시 | C62: 산곡초등학교.검단산입구 | D62: 1 | G62: 28150 | H62: 227000153 | I62: 1 | K62: 1
A63: 54 | B63: 하남시 | C63: 하남지구대 | E63: 1 | G63: 28088 | H63: 227000149 | I63: 1 | M63: 1
A64: 55 | B64: 하남시 | C64: 동부주유소 | D64: 1 | G64: 28086 | H64: 227000148 | I64: 1 | K64: 1
A65: 56 | B65: 하남시 | C65: 덕풍수리골공영주차장 | D65: 1 | G65: 28047 | H65: 227000143 | I65: 1 | K65: 1
A66: 57 | B66: 하남시 | C66: 검단산입구.한국애니메이션고교 | D66: 1 | G66: 28142 | H66: 227000129 | I66: 1 | K66: 1
A67: 58 | B67: 하남시 | C67: 팔당댐.배알미 | F67: 1 | G67: 28169 | H67: 227000126
A68: 59 | B68: 하남시 | C68: 진모루현대아파트 | D68: 1 | G68: 28082 | H68: 227000125 | I68: 1 | L68: 1
A69: 60 | B69: 하남시 | C69: 법동입구 | D69: 1 | G69: 28049 | H69: 227000121 | I69: 1 | L69: 1
A70: 61 | B70: 하남시 | C70: 노인복지관.춘궁동행정복지센터 | D70: 1 | G70: 28036 | H70: 227000119 | I70: 1 | L70: 1
A71: 62 | B71: 하남시 | C71: 원호주택.도로공사 | D71: 1 | G71: 28004 | H71: 227000112 | I71: 1 | L71: 1
A72: 63 | B72: 하남시 | C72: 배다리.서하남나들목 | D72: 1 | G72: 28003 | H72: 227000111 | I72: 1 | L72: 1
A73: 64 | B73: 하남시 | C73: 광암변전소 | D73: 1 | G73: 28010 | H73: 227000107
A74: 65 | B74: 하남시 | C74: 광암동 | D74: 1 | G74: 28014 | H74: 227000106
A75: 66 | B75: 하남시 | C75: 서부농협.광주향교 | D75: 1 | G75: 28040 | H75: 227000101 | I75: 1 | K75: 1
A76: 67 | B76: 하남시 | C76: 덕풍현대아파트 | D76: 1 | G76: 28065 | H76: 227000099 | I76: 1 | K76: 1
A77: 68 | B77: 하남시 | C77: 동부중.남한고 | D77: 1 | G77: 28072 | H77: 227000098 | I77: 1 | K77: 1
A78: 69 | B78: 하남시 | C78: 진모루현대아파트 | D78: 1 | G78: 28083 | H78: 227000095 | I78: 1 | J78: 1
A79: 70 | B79: 하남시 | C79: 새능마을입구 | D79: 1 | G79: 28136 | H79: 227000092 | I79: 1 | L79: 1
A80: 71 | B80: 하남시 | C80: 복지회관.하남경찰서.등기소.마루공원 | D80: 1 | G80: 28120 | H80: 227000089 | I80: 1 | K80: 1
A81: 72 | B81: 하남시 | C81: 정심사입구.삼일공사 | D81: 1 | G81: 28125 | H81: 227000088 | I81: 1 | K81: 1
A82: 73 | B82: 하남시 | C82: 검단산입구.한국애니메이션고교 | E82: 1 | G82: 28140 | H82: 227000165 | I82: 1 | M82: 1
A83: 74 | B83: 하남시 | C83: 정심사입구.삼일공사 | D83: 1 | G83: 28126 | H83: 227000085 | I83: 1 | K83: 1
A84: 75 | B84: 하남시 | C84: 복지회관.하남경찰서.등기소.마루공원 | D84: 1 | G84: 28118 | H84: 227000084 | I84: 1 | L84: 1
A85: 76 | B85: 하남시 | C85: 하남경찰서 | D85: 1 | G85: 28008 | H85: 227000082
A86: 77 | B86: 하남시 | C86: 미사동입구 | E86: 1 | G86: 28062 | H86: 227000065
A87: 78 | B87: 하남시 | C87: 상산곡동.공영차고지 | F87: 1 | G87: 28160 | H87: 227000062
A88: 79 | B88: 하남시 | C88: 은고개약수터 | D88: 1 | G88: 28167 | H88: 227000061
A89: 80 | B89: 하남시 | C89: 섬말입구 | D89: 1 | G89: 28161 | H89: 227000059 | I89: 1 | K89: 1
A90: 81 | B90: 하남시 | C90: 중간말입구 | D90: 1 | G90: 28156 | H90: 227000058 | I90: 1 | L90: 1
A91: 82 | B91: 하남시 | C91: 동수교 | D91: 1 | G91: 28151 | H91: 227000057 | I91: 1 | K91: 1
A92: 83 | B92: 하남시 | C92: 새능교회.하남요양병원 | D92: 1 | G92: 28141 | H92: 227000055 | I92: 1 | L92: 1
A93: 84 | B93: 하남시 | C93: 정심사.삼일공사 | E93: 1 | G93: 28124 | H93: 227000054 | I93: 1 | K93: 1
A94: 85 | B94: 하남시 | C94: 중간말입구 | D94: 1 | G94: 28153 | H94: 227000047 | I94: 1 | L94: 1
A95: 86 | B95: 하남시 | C95: 섬말입구 | D95: 1 | G95: 28162 | H95: 227000046 | I95: 1 | L95: 1
A96: 87 | B96: 하남시 | C96: 어진마을입구 | D96: 1 | G96: 28166 | H96: 227000045 | I96: 1 | L96: 1
A97: 88 | B97: 하남시 | C97: 은고개약수터 | D97: 1 | G97: 28168 | H97: 227000044 | I97: 1 | L97: 1
A98: 89 | B98: 하남시 | C98: 팔당댐.배알미 | E98: 1 | G98: 28170 | H98: 227000042 | I98: 1 | M98: 1
A99: 90 | B99: 하남시 | C99: 신안아파트후문 | D99: 1 | G99: 28127 | H99: 227000038 | I99: 1 | J99: 1
A100: 91 | B100: 하남시 | C100: 창우초교 | D100: 1 | G100: 28128 | H100: 227000036 | I100: 1 | J100: 1
A101: 92 | B101: 하남시 | C101: 장지마을앞 | D101: 1 | G101: 28089 | H101: 227000033 | I101: 1 | J101: 1
A102: 93 | B102: 하남시 | C102: 하남장애인복지관.미사1동행정복지센터 | D102: 1 | G102: 28081 | H102: 227000032 | I102: 1 | J102: 1
...

Sheet 오산
A1: 오산시 정류소전광판(BIT) 설치지점 현황
A3: ※ 노란색 부분만 작성할 것 [작성방법] 1. 정류소 타입(쉘터, 표지, 무표지)를 기입할 것 2. 정류소별 BIT 설치 세부현황을 기입할 것(정류소번호, ID로 매칭해서 반드시 기재할 것) - 1개 정류소에 BIT 유형별로 설치된 경우 모든 수량 표기할 것 - 사례1 (수원역 정류소(20000001) 1곳에 LED 3개, LCD 2개 있는 경우) : BIT설치여부 1 / LED 3 / LCD 2 ※ 버스기반정보상에 등록된 ID와 번호를 참고하여 시군 센터내부에 매칭 테이블을 관리하고 있으므로 반드시 작성할 것 3. 해당 시군 관할 정류소가 아닌 경우 시군명 변경하고 관할 정류소가 누락된 경우 인접 시군 현황을 참고하여 추가 작성할 것 4. 비고란에 정류소미존재 기재된 경우 운송관리시스템에서 확인 후 정류소 반영
P5: (단위 : 개소)
A6: NO | B6: 시군 | C6: 정류소 | I6: 정류소전광판(BIT)
C7: 정류소명 | D7: 정류소 타입 | G7: 정류소번호 (5자리) | H7: 정류소ID (9자리) | I7: BIT 설치여부 | J7: BIT 유형 | P7: 비고
D8: 쉘터 (쉘터+표지) | E8: 표지 | F8: 무표지 | J8: LED | K8: LCD | L8: LED+LCD 복합형 | M8: 알뜰형 | N8: 임대형 (음성) | O8: 기타
C9: =COUNTA(C10:C404) -> 395 | D9: =COUNT(D10:D404) -> 269 | E9: =COUNT(E10:E404) -> 65 | F9: =COUNT(F10:F404) -> 61 | I9: =COUNT(I10:I404) -> 209 | J9: =COUNT(J10:J404) -> 10 | K9: =COUNT(K10:K404) -> 0 | L9: =COUNT(L10:L404) -> 199 | M9: =COUNT(M10:M404) -> 0 | N9: =COUNT(N10:N404) -> 0 | O9: =COUNT(O10:O404) -> 0
A10: 1 | B10: 오산시 | C10: 서랑동 | D10: 1 | G10: 24001 | H10: 223000037 | I10: 1 | L10: 1
A11: 2 | B11: 오산시 | C11: 서랑동마을입구 | D11: 1 | G11: 24003 | H11: 223000036 | I11: 1 | L11: 1
A12: 3 | B12: 오산시 | C12: 서랑동저수지 | D12: 1 | G12: 24005 | H12: 223000035 | I12: 1 | L12: 1
A13: 4 | B13: 오산시 | C13: 오산센트럴푸르지오 | D13: 1 | G13: 24014 | H13: 223000043 | I13: 1 | L13: 1
A14: 5 | B14: 오산시 | C14: 원동수자인아파트 | D14: 1 | G14: 24015 | H14: 223000068 | I14: 1 | L14: 1
A15: 6 | B15: 오산시 | C15: 세마대 | D15: 1 | G15: 24025 | H15: 223000060 | I15: 1 | L15: 1
A16: 7 | B16: 오산시 | C16: 세마대입구.세마대사거리 | D16: 1 | G16: 24026 | H16: 223000059 | I16: 1 | L16: 1
A17: 8 | B17: 오산시 | C17: 탑동입구.이림아파트 | D17: 1 | G17: 24029 | H17: 223000083 | I17: 1 | L17: 1
A18: 9 | B18: 오산시 | C18: 한라.이림아파트 | D18: 1 | G18: 24030 | H18: 223000129 | I18: 1 | L18: 1
A19: 10 | B19: 오산시 | C19: 내삼미동입구 | D19: 1 | G19: 24031 | H19: 223000430 | I19: 1 | L19: 1
A20: 11 | B20: 오산시 | C20: 오산대역 | D20: 1 | G20: 24032 | H20: 223000437 | I20: 1 | L20: 1
A21: 12 | B21: 오산시 | C21: 세미초등학교 | D21: 1 | G21: 24033 | H21: 223000436 | I21: 1 | L21: 1
... A45: 36 | B45: 오산시 | C45: 남촌 | D45: 1 | G45: 24090 | H45: 223000117 | I45: 1 | L45: 1
A46: 37 | B46: 오산시 | C46: 대우3차아파트.궐동 | D46: 1 | G46: 24095 | H46: 223000122 | I46: 1 | J46: 1
A47: 38 | B47: 오산시 | C47: 궐동 | D47: 1 | G47: 24096 | H47: 223000052 | I47: 1 | L47: 1
A48: 39 | B48: 오산시 | C48: 원영화남아파트 | D48: 1 | G48: 24097 | H48: 223000522 | I48: 1 | L48: 1
A49: 40 | B49: 오산시 | C49: 원영화남아파트 | D49: 1 | G49: 24099 | H49: 223000523 | I49: 1 | L49: 1
A50: 41 | B50: 오산시 | C50: 화성초교 | D50: 1 | G50: 24104 | H50: 223000170 | I50: 1 | L50: 1
A51: 42 | B51: 오산시 | C51: 화성초교 | D51: 1 | G51: 24105 | H51: 223000220 | I51: 1 | L51: 1
A52: 43 | B52: 오산시 | C52: 갈곶동.KCC스위첸아파트 | D52: 1 | G52: 24106 | H52: 223000525 | I52: 1 | L52: 1
A53: 44 | B53: 오산시 | C53: 오산역.오산터미널 | D53: 1 | G53: 24107 | H53: 223000126 | I53: 1 | L53: 1
A54: 45 | B54: 오산시 | C54: 오산장터 | D54: 1 | G54: 24110 | H54: 223000123 | I54: 1 | L54: 1
A55: 46 | B55: 오산시 | C55: 대림아파트 | D55: 1 | G55: 24111 | H55: 223000099 | I55: 1 | L55: 1
A56: 47 | B56: 오산시 | C56: 대림아파트 | D56: 1 | G56: 24113 | H56: 223000127 | I56: 1 | L56: 1
A57: 48 | B57: 오산시 | C57: 제일교회앞 | D57: 1 | G57: 24114 | H57: 223000098 | I57: 1 | L57: 1
A58: 49 | B58: 오산시 | C58: 원동초교 | D58: 1 | G58: 24115 | H58: 223000128 | I58: 1 | L58: 1
... A62: 53 | B62: 오산시 | C62: 오색시장 | D62: 1 | G62: 24119 | H62: 223000101 | I62: 1 | L62: 1
A63: 54 | B63: 오산시 | C63: 오산장터 | D63: 1 | G63: 24120 | H63: 223000051 | I63: 1 | J63: 1
A64: 55 | B64: 오산시 | C64: 오산농협역전지점 | D64: 1 | G64: 24121 | H64: 223000091 | I64: 1 | L64: 1
A65: 56 | B65: 오산시 | C65: 팔각정 | D65: 1 | G65: 24122 | H65: 223000027 | I65: 1 | L65: 1
A66: 57 | B66: 오산시 | C66: 은계주공아파트 | D66: 1 | G66: 24123 | H66: 223000169 | I66: 1 | L66: 1
A67: 58 | B67: 오산시 | C67: 농협중앙회 | D67: 1 | G67: 24124 | H67: 223000050 | I67: 1 | L67: 1
A68: 59 | B68: 오산시 | C68: 은계주공아파트.리버빌아파트 | D68: 1 | G68: 24127 | H68: 223000013 | I68: 1 | L68: 1
A69: 60 | B69: 오산시 | C69: (구)화성동부경찰서 | F69: 1 | G69: 24128 | H69: 223000167 | I69: 1 | L69: 1
A70: 61 | B70: 오산시 | C70: (구)오산경찰서.화성경찰서 | D70: 1 | G70: 24132 | H70: 223000003 | I70: 1 | L70: 1
A71: 62 | B71: 오산시 | C71: 문화의거리 | D71: 1 | G71: 24133 | H71: 223000089 | I71: 1 | L71: 1
A72: 63 | B72: 오산시 | C72: 세명프라자.하나은행 | E72: 1 | G72: 24135 | H72: 223000088 | I72: 1 | L72: 1
A73: 64 | B73: 오산시 | C73: 신양아파트사거리 | D73: 1 | G73: 24142 | H73: 223000198 | I73: 1 | L73: 1
A74: 65 | B74: 오산시 | C74: 원동수자인아파트 | D74: 1 | G74: 24143 | H74: 223000069 | I74: 1 | L74: 1
A75: 66 | B75: 오산시 | C75: 롯데마트 | D75: 1 | G75: 24145 | H75: 223000049 | I75: 1 | L75: 1
A76: 67 | B76: 오산시 | C76: 희망아파트앞 | D76: 1 | G76: 24148 | H76: 223000134 | I76: 1 | L76: 1
A77: 68 | B77: 오산시 | C77: 종합운동장 | E77: 1 | G77: 24149 | H77: 223000028 | I77: 1 | L77: 1
A78: 69 | B78: 오산시 | C78: 운암주공5단지 | D78: 1 | G78: 24153 | H78: 223000005 | I78: 1 | L78: 1
A79: 70 | B79: 오산시 | C79: 운암주공5단지.운암중학교 | D79: 1 | G79: 24155 | H79: 223000093 | I79: 1 | L79: 1
A80: 71 | B80: 오산시 | C80: 오산시청.운암주공4단지 | D80: 1 | G80: 24158 | H80: 223000094 | I80: 1 | L80: 1
A81: 72 | B81: 오산시 | C81: 문화예술회관.고용복지플러스센터 | D81: 1 | G81: 24159 | H81: 223000133 | I81: 1 | L81: 1
A82: 73 | B82: 오산시 | C82: 오산시청.운암주공4단지 | D82: 1 | G82: 24160 | H82: 223000048 | I82: 1 | L82: 3
A83: 74 | B83: 오산시 | C83: 운암주공2.3단지.운천고 | D83: 1 | G83: 24161 | H83: 223000199 | I83: 1 | L83: 1
A84: 75 | B84: 오산시 | C84: 문화예술회관.고용복지플러스센터 | D84: 1 | G84: 24162 | H84: 223000029 | I84: 1 | L84: 1
A85: 76 | B85: 오산시 | C85: 운암주공2.3단지.운천고 | D85: 1 | G85: 24165 | H85: 223000047 | I85: 1 | L85: 1
A86: 77 | B86: 오산시 | C86: 운암주공1단지.운천중학교 | D86: 1 | G86: 24166 | H86: 223000004 | I86: 1 | L86: 1
A87: 78 | B87: 오산시 | C87: 포스코더샵정문 | D87: 1 | G87: 24167 | H87: 223000070 | I87: 1 | L87: 1
A88: 79 | B88: 오산시 | C88: 운암주공1단지.운천중학교 | D88: 1 | G88: 24168 | H88: 223000046 | I88: 1 | L88: 1
A89: 80 | B89: 오산시 | C89: 포스코더샵정문 | D89: 1 | G89: 24169 | H89: 223000071 | I89: 1 | L89: 1
... A109: 100 | B109: 오산시 | C109: 지곶동대림아파트 | D109: 1 | G109: 24252 | H109: 223000282 | I109: 1 | L109: 1
A110: 101 | B110: 오산시 | C110: GS아파트정문 | D110: 1 | G110: 24269 | H110: 223000532 | I110: 1 | J110: 1
A111: 102 | B111: 오산시 | C111: 엘리시아정문.오산자이후문 | D111: 1 | G111: 24274 | H111: 223000535 | I111: 1 | L111: 1
A112: 103 | B112: 오산시 | C112: 죽미마을입구 | D112: 1 | G112: 24280 | H112: 223000307 | I112: 1 | L112: 1
A113: 104 | B113: 오산시 | C113: 죽미마을입구 | D113: 1 | G113: 24283 | H113: 223000306 | I113: 1 | L113: 1
A114: 105 | B114: 오산시 | C114: 수청초등학교앞 | D114: 1 | G114: 24284 | H114: 223000309 | I114: 1 | L114: 1
A115: 106 | B115: 오산시 | C115: 아모레 | D115: 1 | G115: 24286 | H115: 223000312 | I115: 1 | L115: 1
A116: 107 | B116: 오산시 | C116: 세마중고교 | D116: 1 | G116: 24290 | H116: 223000331 | I116: 1 | L116: 1
A117: 108 | B117: 오산시 | C117: 효성아파트정문 | D117: 1 | G117: 24291 | H117: 223000319 | I117: 1 | L117: 1
A118: 109 | B118: 오산시 | C118: 금암마을7단지 | D118: 1 | G118: 24293 | H118: 223000327 | I118: 1 | L118: 1
A119: 110 | B119: 오산시 | C119: 수청초등학교앞 | D119: 1 | G119: 24294 | H119: 223000326 | I119: 1 | L119: 1
A120: 111 | B120: 오산시 | C120: 대림아파트 | D120: 1 | G120: 24295 | H120: 223000323 | I120: 1 | L120: 1
A121: 112 | B121: 오산시 | C121: 대림아파트 | D121: 1 | G121: 24296 | H121: 223000322 | I121: 1 | L121: 1
A122: 113 | B122: 오산시 | C122: 대림아파트.양산도서관앞 | D122: 1 | G122: 24297 | H122: 223000321 | I122: 1 | L122: 1
... A126: 117 | B126: 오산시 | C126: 금암마을6단지 | D126: 1 | G126: 24304 | H126: 223000328 | I126: 1 | L126: 1
A127: 118 | B127: 오산시 | C127: 쉼터공원입구 | E127: 1 | G127: 24305 | H127: 223000313 | I127: 1 | J127: 1
A128: 119 | B128: 오산시 | C128: 부산동슈퍼 | D128: 1 | G128: 24308 | H128: 223000335 | I128: 1 | L128: 1
A129: 120 | B129: 오산시 | C129: 오산시티자이1.2단지 | D129: 1 | G129: 24310 | H129: 223000336 | I129: 1 | L129: 1
A130: 121 | B130: 오산시 | C130: 누읍주공아파트 | D130: 1 | G130: 24311 | H130: 223000339 | I130: 1 | L130: 1
A131: 122 | B131: 오산시 | C131: 한라아파트 | D131: 1 | G131: 24312 | H131: 223000338 | I131: 1 | L131: 1
A132: 123 | B132: 오산시 | C132: 세마역 | D132: 1 | G132: 24314 | H132: 223000346 | I132: 1 | L132: 1
A133: 124 | B133: 오산시 | C133: 가장산업단지 | D133: 1 | G133: 24315 | H133: 223000304 | I133: 1 | L133: 1
A134: 125 | B134: 오산시 | C134: 세마역 | D134: 1 | G134: 24316 | H134: 223000345 | I134: 1 | L134: 2
A135: 126 | B135: 오산시 | C135: 금암마을3.4.5단지 | D135: 1 | G135: 24318 | H135: 223000354 | I135: 1 | L135: 1
A136: 127 | B136: 오산시 | C136: 금암주택단지입구 | D136: 1 | G136: 24319 | H136: 223000363 | I136: 1 | L136: 1
A137: 128 | B137: 오산시 | C137: 필봉초교.11.12단지 | D137: 1 | G137: 24323 | H137: 223000359 | I137: 1 | L137: 1
A138: 129 | B138: 오산시 | C138: 죽미마을10단지 | D138: 1 | G138: 24324 | H138: 223000350 | I138: 1 | L138: 1
A139: 130 | B139: 오산시 | C139: 세교중심상가앞 | D139: 1 | G139: 24325 | H139: 223000351 | I139: 1 | L139: 1
... A173: 164 | B173: 오산시 | C173: 가장산업단지 | D173: 1 | G173: 24424 | H173: 223000305 | I173: 1 | L173: 1
A174: 165 | B174: 오산시 | C174: 오산역환승센터1층(1승강장) | D174: 1 | G174: 24464 | H174: 223000537 | I174: 1 | L174: 3 | P174: LED2, LCD1, 복합형1
A175: 166 | B175: 오산시 | C175: 오산역환승센터2층(1승강장) | D175: 1 | G175: 24466 | H175: 223000539 | I175: 1 | L175: 2 | P175: LED1, LCD1
A176: 167 | B176: 오산시 | C176: 오산역환승센터2층(2승강장) | D176: 1 | G176: 24467 | H176: 223000540 | I176: 1 | J176: 3
A177: 168 | B177: 오산시 | C177: 계량골 | D177: 1 | G177: 24472 | H177: 223000446 | I177: 1 | L177: 1
A178: 169 | B178: 오산시 | C178: 계량골 | D178: 1 | G178: 24473 | H178: 223000447 | I178: 1 | L178: 1
A179: 170 | B179: 오산시 | C179: 중원사거리 | F179: 1 | G179: 24108 | H179: 223000125 | I179: 1 | J179: 1
A180: 171 | B180: 오산시 | C180: 중원사거리 | F180: 1 | G180: 24112 | H180: 223000135 | I180: 1 | J180: 1
A181: 172 | B181: 오산시 | C181: 한전사거리 | E181: 1 | G181: 24208 | H181: 223000228 | I181: 1 | J181: 1
A182: 173 | B182: 오산시 | C182: 늘푸른오스카빌 | E182: 1 | G182: 24395 | H182: 223000424 | I182: 1 | J182: 1
A183: 174 | B183: 오산시 | C183: 늘푸른오스카빌 | D183: 1 | G183: 24396 | H183: 223000425 | I183: 1 | J183: 1
...

Sheet 양주
A1: 양주시 정류소전광판(BIT) 설치지점 현황
A3: ※ 노란색 부분만 작성할 것 [작성방법] 1. 정류소 타입(쉘터, 표지, 무표지)를 기입할 것 2. 정류소별 BIT 설치 세부현황을 기입할 것(정류소번호, ID로 매칭해서 반드시 기재할 것) - 1개 정류소에 BIT 유형별로 설치된 경우 모든 수량 표기할 것 - 사례1 (수원역 정류소(20000001) 1곳에 LED 3개, LCD 2개 있는 경우) : BIT설치여부 1 / LED 3 / LCD 2 ※ 버스기반정보상에 등록된 ID와 번호를 참고하여 시군 센터내부에 매칭 테이블을 관리하고 있으므로 반드시 작성할 것 3. 해당 시군 관할 정류소가 아닌 경우 시군명 변경하고 관할 정류소가 누락된 경우 인접 시군 현황을 참고하여 추가 작성할 것 4. 비고란에 정류소미존재 기재된 경우 운송관리시스템에서 확인 후 정류소 반영
P5: (단위 : 개소)
A6: NO | B6: 시군 | C6: 정류소 | I6: 정류소전광판(BIT)
C7: 정류소명 | D7: 정류소 타입 | G7: 정류소번호 (5자리) | H7: 정류소ID (9자리) | I7: BIT 설치여부 | J7: BIT 유형 | P7: 비고
D8: 쉘터 (쉘터+표지) | E8: 표지 | F8: 무표지 | J8: LED | K8: LCD | L8: LED+LCD 복합형 | M8: 알뜰형 | N8: 임대형 (음성) | O8: 기타
C9: =COUNTA(C10:C1505) -> 1496 | D9: =COUNTA(D10:D1505) -> 665 | E9: =COUNTA(E10:E1505) -> 319 | F9: =COUNTA(F10:F1505) -> 512 | I9: =COUNTA(I10:I1505) -> 439 | J9: =COUNTA(J10:J1505) -> 435 | K9: =COUNTA(K10:K1505) -> 0 | L9: =COUNTA(L10:L1505) -> 0 | M9: =COUNTA(M10:M1505) -> 4 | N9: =COUNTA(N10:N1505) -> 0 | O9: =COUNTA(O10:O1505) -> 0
A10: 1 | B10: 양주시 | C10: 삼가대삼거리 | D10: 1 | G10: 39955 | H10: 235000401 | I10: 1 | J10: 1
A11: 2 | B11: 양주시 | C11: 농협하나로마트 | F11: 1 | G11: 39881 | H11: 235000895
A12: 3 | B12: 양주시 | C12: 농협하나로마트 | F12: 1 | G12: 39882 | H12: 235000894
A13: 4 | B13: 양주시 | C13: 축산위생연구소 | D13: 1 | G13: 39883 | H13: 235000893
A14: 5 | B14: 양주시 | C14: 덕정차고지 | F14: 1 | G14: 39884 | H14: 235000892
A15: 6 | B15: 양주시 | C15: 덕정차고지 | F15: 1 | G15: 39885 | H15: 235000891
A16: 7 | B16: 양주시 | C16: 연곡초등학교 | D16: 1 | G16: 39886 | H16: 235000464
A17: 8 | B17: 양주시 | C17: 오산삼거리 | F17: 1 | G17: 39374 | H17: 235000186
A18: 9 | B18: 양주시 | C18: 비암사거리 | E18: 1 | G18: 39020 | H18: 235000737
A19: 10 | B19: 양주시 | C19: 이안동 | D19: 1 | G19: 39888 | H19: 235000351 | I19: 1 | J19: 1
A20: 11 | B20: 양주시 | C20: 야촌3교 | E20: 1 | G20: 39867 | H20: 235000819
A21: 12 | B21: 양주시 | C21: 장흥고가밑 | D21: 1 | G21: 39977 | H21: 235000350 | I21: 1 | J21: 1
A22: 13 | B22: 양주시 | C22: 고읍신도브레뉴 | D22: 1 | G22: 53743 | H22: 235001047 | I22: 1 | J22: 1
A23: 14 | B23: 양주시 | C23: 유승한내들9단지.한양수자인2단지 | D23: 1 | G23: 53742 | H23: 235001042 | I23: 1 | J23: 2
A24: 15 | B24: 양주시 | C24: 우리스포츠산업 | E24: 1 | G24: 39865 | H24: 235000678
A25: 16 | B25: 양주시 | C25: 옥정3단지 | D25: 1 | G25: 39763 | H25: 235000602 | I25: 1 | J25: 1
A26: 17 | B26: 양주시 | C26: 옥정3단지.세창아파트입구 | D26: 1 | G26: 39762 | H26: 235000599 | I26: 1 | J26: 1
A27: 18 | B27: 양주시 | C27: 석우동마을회관 | F27: 1 | G27: 39571 | H27: 235000584
A28: 19 | B28: 양주시 | C28: e편한세상19단지 | D28: 1 | G28: 39748 | H28: 235000541 | I28: 1 | J28: 1
A29: 20 | B29: 양주시 | C29: 송학앞 | E29: 1 | G29: 39052 | H29: 235000772
A30: 21 | B30: 양주시 | C30: 송학앞 | E30: 1 | G30: 39051 | H30: 235000771
A31: 22 | B31: 양주시 | C31: 비암2리 | F31: 1 | G31: 39856 | H31: 235000740
A32: 23 | B32: 양주시 | C32: 겨르매기마을회관 | D32: 1 | G32: 39219 | H32: 235000717
A33: 24 | B33: 양주시 | C33: 현대판유리 | F33: 1 | G33: 53010 | H33: 235000954
A34: 25 | B34: 양주시 | C34: 세창아파트 | D34: 1 | G34: 53720 | H34: 235001010 | I34: 1 | J34: 1
A35: 26 | B35: 양주시 | C35: GS자이6단지 | E35: 1 | G35: 53014 | H35: 235000996
A36: 27 | B36: 양주시 | C36: 구암리.뉴옵틱스 | D36: 1 | G36: 39979 | H36: 235000940 | I36: 1 | J36: 1
A37: 28 | B37: 양주시 | C37: 청록식당 | F37: 1 | G37: 53700 | H37: 235001013
A38: 29 | B38: 양주시 | C38: 주공7단지.중흥s클래스 | D38: 1 | G38: 39788 | H38: 235000056 | I38: 1 | J38: 1
A39: 30 | B39: 양주시 | C39: 덕계동아카데미과학 | E39: 1 | G39: 39965 | H39: 235000919
A40: 31 | B40: 양주시 | C40: 양주역 | D40: 1 | G40: 39920 | H40: 235000242 | I40: 1 | J40: 2
A41: 32 | B41: 양주시 | C41: 옥정사거리.e편한세상19단지 | D41: 1 | G41: 39749 | H41: 235000542 | I41: 1 | J41: 1
A42: 33 | B42: 양주시 | C42: 장현농장입구 | D42: 1 | G42: 39918 | H42: 235000021
A43: 34 | B43: 양주시 | C43: 비룡성당앞 | D43: 1 | G43: 39919 | H43: 235000008 | I43: 1 | J43: 1
A44: 35 | B44: 양주시 | C44: 남면소방서 | E44: 1 | G44: 39299 | H44: 235000796
A45: 36 | B45: 양주시 | C45: 가납사거리 | D45: 1 | G45: 39866 | H45: 235000702
A46: 37 | B46: 양주시 | C46: 성음악기앞 | D46: 1 | G46: 53042 | H46: 235001002 | I46: 1 | J46: 1
A47: 38 | B47: 양주시 | C47: 성음악기앞 | D47: 1 | G47: 53632 | H47: 235001001 | I47: 1 | J47: 1
A48: 39 | B48: 양주시 | C48: 고암2통마을회관 | F48: 1 | G48: 39784 | H48: 235000618
A49: 40 | B49: 양주시 | C49: 고암2통마을회관 | F49: 1 | G49: 39783 | H49: 235000617
A50: 41 | B50: 양주시 | C50: 연동 | E50: 1 | G50: 39644 | H50: 235000606
A51: 42 | B51: 양주시 | C51: 정토마을삼거리 | F51: 1 | G51: 39908 | H51: 235000726
A52: 43 | B52: 양주시 | C52: 우리스포츠산업 | E52: 1 | G52: 39913 | H52: 235000679
A53: 44 | B53: 양주시 | C53: 5기갑 | F53: 1 | G53: 39613 | H53: 235000494
A54: 45 | B54: 양주시 | C54: 서희아파트 | E54: 1 | G54: 39511 | H54: 235000486
A55: 46 | B55: 양주시 | C55: 신리.막은골삼거리 | E55: 1 | G55: 53450 | H55: 235000484
A56: 47 | B56: 양주시 | C56: 남문중.한국외식과학고등학교 | F56: 1 | G56: 39216 | H56: 235000802
A57: 48 | B57: 양주시 | C57: 한승아파트 | D57: 1 | G57: 53030 | H57: 235000950
A58: 49 | B58: 양주시 | C58: 한승아파트 | F58: 1 | G58: 53031 | H58: 235000951
A59: 50 | B59: 양주시 | C59: 송림가든 | F59: 1 | G59: 53032 | H59: 235000958
A60: 51 | B60: 양주시 | C60: 송림오리가든 | E60: 1 | G60: 53033 | H60: 235000959
A61: 52 | B61: 양주시 | C61: 상패초교 | F61: 1 | G61: 53034 | H61: 235000963
A62: 53 | B62: 양주시 | C62: 덕정주공6단지 | D62: 1 | G62: 39825 | H62: 235000098 | I62: 1 | J62: 1
A63: 54 | B63: 양주시 | C63: 게너미삼거리 | D63: 1 | G63: 39840 | H63: 235000458
A64: 55 | B64: 양주시 | C64: 봉양3통 | F64: 1 | G64: 39527 | H64: 235000505
A65: 56 | B65: 양주시 | C65: 5기갑 | F65: 1 | G65: 39612 | H65: 235000498
A66: 57 | B66: 양주시 | C66: 거무네미 | F66: 1 | G66: 39654 | H66: 235000497
A67: 58 | B67: 양주시 | C67: 거무네미 | E67: 1 | G67: 39651 | H67: 235000495
A68: 59 | B68: 양주시 | C68: 오렌지아울렛앞 | E68: 1 | G68: 39957 | H68: 235000914
A69: 60 | B69: 양주시 | C69: 오렌지아울렛앞 | D69: 1 | G69: 39958 | H69: 235000915 | I69: 1 | J69: 1
A70: 61 | B70: 양주시 | C70: 장거리교차로.한양수자인1단지 | D70: 1 | G70: 53036 | H70: 235000981
A71: 62 | B71: 양주시 | C71: 주공6단지 | D71: 1 | G71: 53037 | H71: 235000987 | I71: 1 | J71: 1
A72: 63 | B72: 양주시 | C72: 주공8단지 | D72: 1 | G72: 53038 | H72: 235000988 | I72: 1 | J72: 1
A73: 64 | B73: 양주시 | C73: 장거리교차로.한양수자인1단지 | D73: 1 | G73: 53040 | H73: 235000991
A74: 65 | B74: 양주시 | C74: 범양2차아파트 | E74: 1 | G74: 53023 | H74: 235000927
A75: 66 | B75: 양주시 | C75: 해유령 | E75: 1 | G75: 53025 | H75: 235000930
A76: 67 | B76: 양주시 | C76: 푸르지오아파트 | E76: 1 | G76: 53026 | H76: 235000931
A77: 68 | B77: 양주시 | C77: 성우아파트 | D77: 1 | G77: 39974 | H77: 235000698
A78: 69 | B78: 양주시 | C78: 고읍주공4단지.건강보험양주지사 | D78: 1 | G78: 53753 | H78: 235001030 | I78: 1 | J78: 1
A79: 70 | B79: 양주시 | C79: 청록식당 | F79: 1 | G79: 53173 | H79: 235001012
A80: 71 | B80: 양주시 | C80: 꿈나무도서관.백석고교 | E80: 1 | G80: 53041 | H80: 235001000
A81: 72 | B81: 양주시 | C81: 현대판유리 | D81: 1 | G81: 53017 | H81: 235000955
A82: 73 | B82: 양주시 | C82: 하패1리복지회관 | E82: 1 | G82: 53018 | H82: 235000961 | I82: 1 | M82: 1
A83: 74 | B83: 양주시 | C83: 자이아파트입구사거리 | D83: 1 | G83: 39890 | H83: 235000612 | I83: 1 | J83: 1
A84: 75 | B84: 양주시 | C84: 두라푸트 | E84: 1 | G84: 39893 | H84: 235000555
A85: 76 | B85: 양주시 | C85: 마트앞 | F85: 1 | G85: 39889 | H85: 235000536
A86: 77 | B86: 양주시 | C86: 충성아파트 | E86: 1 | G86: 39507 | H86: 235000508
A87: 78 | B87: 양주시 | C87: 봉양3통 | F87: 1 | G87: 39526 | H87: 235000504
A88: 79 | B88: 양주시 | C88: 연곡리 | D88: 1 | G88: 39887 | H88: 235000450
A89: 80 | B89: 양주시 | C89: 구암리회관 | F89: 1 | G89: 39874 | H89: 235000839
A90: 81 | B90: 양주시 | C90: 백석농협 | D90: 1 | G90: 39281 | H90: 235000200 | I90: 1 | J90: 1
A91: 82 | B91: 양주시 | C91: 옥정고.푸르지오9단지 | D91: 1 | G91: 39670 | H91: 235000549 | I91: 1 | J91: 1
A92: 83 | B92: 양주시 | C92: 김삿갓교 | D92: 1 | G92: 39697 | H92: 235000095 | I92: 1 | J92: 1
A93: 84 | B93: 양주시 | C93: 범양2차아파트 | D93: 1 | G93: 53024 | H93: 235000928
A94: 85 | B94: 양주시 | C94: 연곡초등학교 | F94: 1 | G94: 39852 | H94: 235000721
A95: 86 | B95: 양주시 | C95: 석우동마을회관 | F95: 1 | G95: 39569 | H95: 235000583
A96: 87 | B96: 양주시 | C96: 아트밸리앞 | E96: 1 | G96: 53759 | H96: 235001064
A97: 88 | B97: 양주시 | C97: 주공6단지 | D97: 1 | G97: 53019 | H97: 235000982 | I97: 1 | J97: 1
A98: 89 | B98: 양주시 | C98: 한강섬유 | D98: 1 | G98: 39976 | H98: 235000944
A99: 90 | B99: 양주시 | C99: 한양수자인1단지아파트 | D99: 1 | G99: 53748 | H99: 235001052 | I99: 1 | J99: 1
A100: 91 | B100: 양주시 | C100: 한양수자인1단지아파트 | D100: 1 | G100: 53744 | H100: 235001051 | I100: 1 | J100: 1
A101: 92 | B101: 양주시 | C101: 나누리공원 | D101: 1 | G101: 53749 | H101: 235001049 | I101: 1 | J101: 1
A102: 93 | B102: 양주시 | C102: 용신섬유 | F102: 1 | G102: 53015 | H102: 235000957
...

Sheet 이천
A1: 이천시 정류소전광판(BIT) 설치지점 현황
A3: ※ 노란색 부분만 작성할 것 [작성방법] 1. 정류소 타입(쉘터, 표지, 무표지)를 기입할 것 2. 정류소별 BIT 설치 세부현황을 기입할 것(정류소번호, ID로 매칭해서 반드시 기재할 것) - 1개 정류소에 BIT 유형별로 설치된 경우 모든 수량 표기할 것 - 사례1 (수원역 정류소(20000001) 1곳에 LED 3개, LCD 2개 있는 경우) : BIT설치여부 1 / LED 3 / LCD 2 ※ 버스기반정보상에 등록된 ID와 번호를 참고하여 시군 센터내부에 매칭 테이블을 관리하고 있으므로 반드시 작성할 것 3. 해당 시군 관할 정류소가 아닌 경우 시군명 변경하고 관할 정류소가 누락된 경우 인접 시군 현황을 참고하여 추가 작성할 것 4. 비고란에 정류소미존재 기재된 경우 운송관리시스템에서 확인 후 정류소 반영
P5: (단위 : 개소)
A6: NO | B6: 시군 | C6: 정류소 | I6: 정류소전광판(BIT)
C7: 정류소명 | D7: 정류소 타입 | G7: 정류소번호 (5자리) | H7: 정류소ID (9자리) | I7: BIT 설치여부 | J7: BIT 유형 | P7: 비고
D8: 쉘터 (쉘터+표지) | E8: 표지 | F8: 무표지 | J8: LED | K8: LCD | L8: LED+LCD 복합형 | M8: 알뜰형 | N8: 임대형 (음성) | O8: 기타
C9: =COUNTA(C10:C1147) -> 1138 | D9: =COUNT(D10:D1147) -> 397 | E9: =COUNT(E10:E1147) -> 394 | F9: =COUNT(F10:F1147) -> 347 | I9: =COUNT(I10:I1147) -> 288 | J9: =COUNT(J10:J1147) -> 23 | K9: =COUNT(K10:K1147) -> 253 | L9: =COUNT(L10:L1147) -> 0 | M9: =COUNT(M10:M1147) -> 12 | N9: =COUNT(N10:N1147) -> 0 | O9: =COUNT(O10:O1147) -> 0
A10: 1 | B10: 이천시 | C10: 나래초교 | F10: 1 | G10: 32629 | H10: 230000521
A11: 2 | B11: 이천시 | C11: 장록동삼거리 | D11: 1 | G11: 32646 | H11: 230001020 | I11: 1 | K11: 1
A12: 3 | B12: 이천시 | C12: 오성리입구 | E12: 1 | G12: 32651 | H12: 230000910
A13: 4 | B13: 이천시 | C13: 송곡2리 | E13: 1 | G13: 32677 | H13: 230000679
A14: 5 | B14: 이천시 | C14: 관4리 | D14: 1 | G14: 32682 | H14: 230000627
A15: 6 | B15: 이천시 | C15: 수정리(윗마을) | F15: 1 | G15: 32653 | H15: 230000486
A16: 7 | B16: 이천시 | C16: 소고1리 | D16: 1 | G16: 32663 | H16: 230000886
A17: 8 | B17: 이천시 | C17: 큰골 | E17: 1 | G17: 32692 | H17: 230000411
A18: 9 | B18: 이천시 | C18: 이천고교입구 | D18: 1 | G18: 32696 | H18: 230000253 | I18: 1 | K18: 1
A19: 10 | B19: 이천시 | C19: KT이천지점 | D19: 1 | G19: 32590 | H19: 230000252 | I19: 1 | K19: 1
A20: 11 | B20: 이천시 | C20: 송온리 | E20: 1 | G20: 32570 | H20: 230000389
A21: 12 | B21: 이천시 | C21: 단천1리 | D21: 1 | G21: 32636 | H21: 230000447 | I21: 1 | K21: 1
A22: 13 | B22: 이천시 | C22: 한부온천 | D22: 1 | G22: 32600 | H22: 230000850
A23: 14 | B23: 이천시 | C23: 신필2리 | E23: 1 | G23: 32468 | H23: 230001145
A24: 15 | B24: 이천시 | C24: 방추2리 | D24: 1 | G24: 32470 | H24: 230001149
A25: 16 | B25: 이천시 | C25: 갈산주공아파트 | D25: 1 | G25: 32353 | H25: 230001092 | I25: 1 | K25: 1
A26: 17 | B26: 이천시 | C26: 안흥초교 | E26: 1 | G26: 32355 | H26: 230001087
A27: 18 | B27: 이천시 | C27: GM하이빌입구 | E27: 1 | G27: 32357 | H27: 230001080
A28: 19 | B28: 이천시 | C28: 산양2리 | F28: 1 | G28: 32359 | H28: 230001072
A29: 20 | B29: 이천시 | C29: 수림2차아파트 | D29: 1 | G29: 32362 | H29: 230001066 | I29: 1 | K29: 1
A30: 21 | B30: 이천시 | C30: 우곡리 | F30: 1 | G30: 32367 | H30: 230001050
A31: 22 | B31: 이천시 | C31: 풍계리 | E31: 1 | G31: 32378 | H31: 230001000
A32: 23 | B32: 이천시 | C32: 와현리입구 | E32: 1 | G32: 32380 | H32: 230000995
A33: 24 | B33: 이천시 | C33: 제요4리 | E33: 1 | G33: 32239 | H33: 230000229
A34: 25 | B34: 이천시 | C34: 작은왜골 | E34: 1 | G34: 32454 | H34: 230001219
A35: 26 | B35: 이천시 | C35: 나래1리 | F35: 1 | G35: 32455 | H35: 230001218
A36: 27 | B36: 이천시 | C36: 나래1리 | E36: 1 | G36: 32456 | H36: 230001217
A37: 28 | B37: 이천시 | C37: 어산리종점 | E37: 1 | G37: 32423 | H37: 230000477
A38: 29 | B38: 이천시 | C38: 송갈2리 | F38: 1 | G38: 32425 | H38: 230000462
A39: 30 | B39: 이천시 | C39: 매곡1리 | D39: 1 | G39: 32427 | H39: 230000454 | I39: 1 | K39: 1
A40: 31 | B40: 이천시 | C40: 현대제이콤 | E40: 1 | G40: 32428 | H40: 230000450
A41: 32 | B41: 이천시 | C41: 단천1리 | E41: 1 | G41: 32429 | H41: 230000446
A42: 33 | B42: 이천시 | C42: 단천2리 | E42: 1 | G42: 32430 | H42: 230000444
A43: 34 | B43: 이천시 | C43: 안평1리입구 | D43: 1 | G43: 32463 | H43: 230000069 | I43: 1 | K43: 1
A44: 35 | B44: 이천시 | C44: 장릉2리 | D44: 1 | G44: 32335 | H44: 230000879
A45: 36 | B45: 이천시 | C45: 동산2리 | D45: 1 | G45: 32337 | H45: 230000871 | I45: 1 | M45: 1
A46: 37 | B46: 이천시 | C46: 안평1리 | E46: 1 | G46: 32338 | H46: 230000867
A47: 38 | B47: 이천시 | C47: 안평1리 | E47: 1 | G47: 32339 | H47: 230000866
A48: 39 | B48: 이천시 | C48: 암산1리 | D48: 1 | G48: 32341 | H48: 230000856
A49: 40 | B49: 이천시 | C49: 대월초등학교 | F49: 1 | G49: 32344 | H49: 230000844
A50: 41 | B50: 이천시 | C50: 월포4리 | E50: 1 | G50: 32346 | H50: 230000829
A51: 42 | B51: 이천시 | C51: 수남리 | D51: 1 | G51: 32347 | H51: 230000824 | I51: 1 | K51: 1
A52: 43 | B52: 이천시 | C52: 신추3리종점 | F52: 1 | G52: 32348 | H52: 230000820
A53: 44 | B53: 이천시 | C53: 신추2리 | E53: 1 | G53: 32349 | H53: 230000817
A54: 45 | B54: 이천시 | C54: 고담리입구 | E54: 1 | G54: 32368 | H54: 230001048
A55: 46 | B55: 이천시 | C55: 대죽3리마을회관 | E55: 1 | G55: 32369 | H55: 230001044
A56: 47 | B56: 이천시 | C56: 오남리종점 | E56: 1 | G56: 32370 | H56: 230001035
A57: 48 | B57: 이천시 | C57: 진암3리 | E57: 1 | G57: 32371 | H57: 230001032
A58: 49 | B58: 이천시 | C58: 범바우2 | E58: 1 | G58: 32372 | H58: 230001028
