Workbook

Sheet 총괄표
A1: 2021년 시군 정류소전광판(BIT) 설치현황 총괄표
A3: ※ 노란색 부분만 작성할 것 [ 세부 작성방법 ] 1. 정류소 현황 - BIS등록 정류소 : 현재 시군에서 버스 인허가를 통해 운송관리시스템에 등록한 정류소 자료임(수량 변경 불가, 행정구역이 틀린경우 "시군별 BIT설치지점"에 추가/수정 가능) 도내 전체 시내/시외/마을버스 및 서울/인천 광역버스가 정차하는 모든 정류소 임 - 시군 정류소담당자 관리 현황과 불일치 하는 경우 운송관리시스템에서 중복 정류소 수정 및 삭제할 것 ☞ 작성내용 : 자체 관리중인 정류소 유형별(쉘터, 표지, 무표지) 수량 기입(소계는 BIS등록 정류소와 일치, 미확인 정류소는 무표지로 일괄 처리) 2. '21년 정류소, BIT설치현황 - 최근 시군 정류소, BIT 설치현황을 취합한 자료로 참고할 것 3. 시군별 시트에 작성한 내용을 총괄표에 작성
A6: 시 군 | B6: 정류소 현황 | G6: '21년 정류소전광판 설치현황 | P6: 정류소 현황 | U6: '20년 정류소전광판 설치현황 | AD6: 정류소 현황 | AI6: '20년 정류소전광판 설치현황
B7: BIS 등록 ('21. 6월말 기준) | C7: 21.12월말 기준 | G7: 21.12월말 기준 | P7: BIS 등록 | Q7: '21. 6월말 기준 | U7: '21. 6월말 기준 | AD7: BIS 등록 | AE7: 설치형태 | AI7: '20. 6월말 기준
C8: 소계 | D8: 쉘터 (쉘터+표지) | E8: 표지 | F8: 무표지 | G8: 소계 | H8: LED 단독 | I8: LCD 단독 | J8: LED+LCD 복합 | K8: 기타 | O8: 보급율 | Q8: 소계 | R8: 쉘터 (쉘터+표지) | S8: 표지 | T8: 무표지 | U8: 소계 | V8: LED 단독 | W8: LCD 단독 | X8: LED+LCD 복합 | Y8: 기타 | AC8: 보급율 | AE8: 소계 | AF8: 쉘터 (쉘터+표지) | AG8: 표지 | AH8: 무표지 | AI8: 소계 | AJ8: LED 단독 | AK8: LCD 단독 | AL8: LED+LCD 복합 | AM8: 기타 | AQ8: 보급율
K9: 소계 | L9: 알뜰형 | M9: 임대형 (음성) | N9: 기타 | Y9: 소계 | Z9: 알뜰형 | AA9: 임대형 (음성) | AB9: 기타 | AM9: 소계 | AN9: 알뜰형 | AO9: 임대형 (음성) | AP9: 기타
B10: =SUM(B11:B41) -> 34701 | C10: =SUM(C11:C41) -> #REF! | D10: =SUM(D11:D41) -> #REF! | E10: =SUM(E11:E41) -> #REF! | F10: =SUM(F11:F41) -> #REF! | G10: =SUM(G11:G41) -> 12902 | H10: =SUM(H11:H41) -> 5595 | I10: =SUM(I11:I41) -> 5312 | ... N10: =SUM(N11:N41) -> 4 | O10: =G10/B10 -> 0.37180485 | P10: =SUM(P11:P41) -> 34787 | Q10: =SUM(Q11:Q41) -> 34674 | R10: =SUM(R11:R41) -> 17760 | S10: =SUM(S11:S41) -> 9404 | T10: =SUM(T11:T41) -> 7510 | U10: =SUM(U11:U41) -> 14183 | V10: =SUM(V11:V41) -> 6258 | W10: =SUM(W11:W41) -> 5894 | ... AB10: =SUM(AB11:AB41) -> 9 | AC10: =U10/P10 -> 0.40770978 | AD10: =SUM(AD11:AD41) -> 0 | AE10: =SUM(AE11:AE41) -> 0 | AF10: =SUM(AF11:AF41) -> 0 | AG10: =SUM(AG11:AG41) -> 0 | AH10: =SUM(AH11:AH41) -> 0 | AI10: =SUM(AI11:AI41) -> 0 | AJ10: =SUM(AJ11:AJ41) -> 0 | AK10: =SUM(AK11:AK41) -> 0 | ... AP10: =SUM(AP11:AP41) -> 0 | AQ10: =AI10/AD10 -> #DIV/0!
A11: 수원시 | B11: =수원!$C$9 -> 1441 | C11: =SUM(D11:F11) -> 1441 | D11: =수원!$D$9 -> 846 | E11: =수원!$E$9 -> 316 | F11: =수원!$F$9 -> 279 | G11: =SUM(H11:K11) -> 1010 | H11: =수원!$J$9 -> 380 | I11: =수원!$K$9 -> 174 | J11: =수원!$L$9 -> 363 | K11: =SUM(L11:N11) -> 93 | L11: =수원!$M$9 -> 93 | M11: =수원!$N$9 -> 0 | N11: =수원!$O$9 -> 0 | O11: =G11/B11 -> 0.70090215 | P11: 1447 | Q11: 1447 | R11: 929 | S11: 434 | T11: 84 | U11: 1024 | V11: 395 | W11: 180 | X11: 357 | Y11: 92 | Z11: 92 | AA11: 0 | AB11: 0 | AC11: 0.70767104 | AE11: =SUM(AF11:AH11) -> 0 | AI11: =SUM(AJ11:AM11) -> 0 | AM11: =SUM(AN11:AP11) -> 0 | AQ11: =AI11/AD11 -> #DIV/0!
A12: 고양시 | B12: =고양!$C$9 -> 2269 | C12: =SUM(D12:F12) -> 2269 | D12: =고양!$D$9 -> 1183 | E12: =고양!$E$9 -> 909 | F12: =고양!$F$9 -> 177 | G12: =SUM(H12:K12) -> 1044 | H12: =고양!$J$9 -> 751 | I12: =고양!$K$9 -> 262 | J12: =고양!$L$9 -> 31 | K12: =SUM(L12:N12) -> 0 | L12: =고양!$M$9 -> 0 | M12: =고양!$N$9 -> 0 | N12: =고양!$O$9 -> 0 | O12: =G12/B12 -> 0.46011459 | P12: 2317 | Q12: 2233 | R12: 1184 | S12: 919 | T12: 130 | U12: 1097 | V12: 807 | W12: 290 | X12: 0 | Y12: 0 | Z12: 0 | AA12: 0 | AB12: 0 | AC12: 0.47345706 | AE12: =SUM(AF12:AH12) -> 0 | AI12: =SUM(AJ12:AM12) -> 0 | AM12: =SUM(AN12:AP12) -> 0 | AQ12: =AI12/AD12 -> #DIV/0!
A13: 용인시 | B13: =용인!$C$9 -> 2642 | C13: =SUM(D13:F13) -> 2638 | D13: =용인!$D$9 -> 1401 | E13: =용인!$E$9 -> 894 | F13: =용인!$F$9 -> 343 | G13: =SUM(H13:K13) -> 957 | H13: =용인!$J$9 -> 196 | I13: =용인!$K$9 -> 758 | J13: =용인!$L$9 -> 3 | K13: =SUM(L13:N13) -> 0 | L13: =용인!$M$9 -> 0 | M13: =용인!$N$9 -> 0 | N13: =용인!$O$9 -> 0 | O13: =G13/B13 -> 0.36222559 | P13: 2642 | Q13: 2650 | R13: 1431 | S13: 881 | T13: 338 | U13: 963 | V13: 239 | W13: 722 | X13: 2 | Y13: 0 | Z13: 0 | AA13: 0 | AB13: 0 | AC13: 0.36449659 | AE13: =SUM(AF13:AH13) -> 0 | AI13: =SUM(AJ13:AM13) -> 0 | AM13: =SUM(AN13:AP13) -> 0 | AQ13: =AI13/AD13 -> #DIV/0!
A14: 성남시 | B14: =성남!$C$8 -> 1348 | C14: =SUM(D14:F14) -> #REF! | D14: =성남!#REF! -> #REF! | E14: =성남!#REF! -> #REF! | F14: =성남!#REF! -> #REF! | O14: =G14/B14 -> 0 | P14: 1299 | Q14: 1299 | R14: 796 | S14: 384 | T14: 119 | U14: 932 | V14: 388 | W14: 542 | X14: 2 | Y14: 0 | Z14: 0 | AA14: 0 | AB14: 0 | AC14: 0.71747498 | AE14: =SUM(AF14:AH14) -> 0 | AI14: =SUM(AJ14:AM14) -> 0 | AM14: =SUM(AN14:AP14) -> 0 | AQ14: =AI14/AD14 -> #DIV/0!
A15: 부천시 | B15: =부천!$C$9 -> 1100 | C15: =SUM(D15:F15) -> 1100 | D15: =부천!$D$9 -> 731 | E15: =부천!$E$9 -> 313 | F15: =부천!$F$9 -> 56 | G15: =SUM(H15:K15) -> 839 | H15: =부천!$J$9 -> 506 | I15: =부천!$K$9 -> 287 | J15: =부천!$L$9 -> 46 | K15: =SUM(L15:N15) -> 0 | L15: =부천!$M$9 -> 0 | M15: =부천!$N$9 -> 0 | N15: =부천!$O$9 -> 0 | O15: =G15/B15 -> 0.76272727 | P15: 1104 | Q15: 1104 | R15: 735 | S15: 311 | T15: 58 | U15: 841 | V15: 511 | W15: 284 | X15: 46 | Y15: 0 | Z15: 0 | AA15: 0 | AB15: 0 | AC15: 0.76177536 | AE15: =SUM(AF15:AH15) -> 0 | AI15: =SUM(AJ15:AM15) -> 0 | AM15: =SUM(AN15:AP15) -> 0 | AQ15: =AI15/AD15 -> #DIV/0!
A16: 화성시 | B16: =화성!$C$9 -> 2741 | C16: =SUM(D16:F16) -> 2741 | D16: =화성!$D$9 -> 957 | E16: =화성!$E$9 -> 157 | F16: =화성!$F$9 -> 1627 | G16: =SUM(H16:K16) -> 1114 | H16: =화성!$J$9 -> 534 | I16: =화성!$K$9 -> 313 | J16: =화성!$L$9 -> 198 | K16: =SUM(L16:N16) -> 69 | L16: =화성!$M$9 -> 66 | M16: =화성!$N$9 -> 0 | N16: =화성!$O$9 -> 3 | O16: =G16/B16 -> 0.40642101 | P16: 2763 | Q16: 2763 | R16: 1075 | S16: 162 | T16: 1526 | U16: 1177 | V16: 546 | W16: 317 | X16: 237 | Y16: 77 | Z16: 69 | AA16: 0 | AB16: 8 | AC16: 0.42598625 | AE16: =SUM(AF16:AH16) -> 0 | AI16: =SUM(AJ16:AM16) -> 0 | AM16: =SUM(AN16:AP16) -> 0 | AQ16: =AI16/AD16 -> #DIV/0!
A17: 안산시 | B17: =안산!$C$9 -> 1216 | C17: =SUM(D17:F17) -> 1216 | D17: =안산!$D$9 -> 838 | E17: =안산!$E$9 -> 259 | F17: =안산!$F$9 -> 119 | G17: =SUM(H17:K17) -> 817 | H17: =안산!$J$9 -> 650 | I17: =안산!$K$9 -> 149 | J17: =안산!$L$9 -> 10 | K17: =SUM(L17:N17) -> 8 | L17: =안산!$M$9 -> 8 | M17: =안산!$N$9 -> 0 | N17: =안산!$O$9 -> 0 | O17: =G17/B17 -> 0.671875 | P17: 1205 | Q17: 1205 | R17: 829 | S17: 258 | T17: 118 | U17: 832 | V17: 664 | W17: 150 | X17: 10 | Y17: 8 | Z17: 8 | AA17: 0 | AB17: 0 | AC17: 0.69045643 | AE17: =SUM(AF17:AH17) -> 0 | AI17: =SUM(AJ17:AM17) -> 0 | AM17: =SUM(AN17:AP17) -> 0 | AQ17: =AI17/AD17 -> #DIV/0!
A18: 남양주시 | B18: =남양주!$C$9 -> 1784 | C18: =SUM(D18:F18) -> 1784 | D18: =남양주!$D$9 -> 991 | E18: =남양주!$E$9 -> 525 | F18: =남양주!$F$9 -> 268 | G18: =SUM(H18:K18) -> 925 | H18: =남양주!$J$9 -> 249 | I18: =남양주!$K$9 -> 0 | J18: =남양주!$L$9 -> 676 | K18: =SUM(L18:N18) -> 0 | L18: =남양주!$M$9 -> 0 | M18: =남양주!$N$9 -> 0 | N18: =남양주!$O$9 -> 0 | O18: =G18/B18 -> 0.51849776 | P18: 1786 | Q18: 1786 | R18: 994 | S18: 525 | T18: 267 | U18: 927 | V18: 251 | W18: 0 | X18: 676 | Y18: 0 | Z18: 0 | AA18: 0 | AB18: 0 | AC18: 0.51903695 | AE18: =SUM(AF18:AH18) -> 0 | AI18: =SUM(AJ18:AM18) -> 0 | AM18: =SUM(AN18:AP18) -> 0 | AQ18: =AI18/AD18 -> #DIV/0!
A19: 안양시 | B19: =안양!$C$9 -> 721 | C19: =SUM(D19:F19) -> 704 | D19: =안양!$D$9 -> 456 | E19: =안양!$E$9 -> 199 | F19: =안양!$F$9 -> 49 | G19: =SUM(H19:K19) -> 354 | H19: =안양!$J$9 -> 93 | I19: =안양!$K$9 -> 255 | J19: =안양!$L$9 -> 6 | K19: =SUM(L19:N19) -> 0 | L19: =안양!$M$9 -> 0 | M19: =안양!$N$9 -> 0 | N19: =안양!$O$9 -> 0 | O19: =G19/B19 -> 0.49098474 | P19: 705 | Q19: 705 | R19: 458 | S19: 197 | T19: 50 | U19: 361 | V19: 100 | W19: 255 | X19: 6 | Y19: 0 | Z19: 0 | AA19: 0 | AB19: 0 | AC19: 0.51205674 | AE19: =SUM(AF19:AH19) -> 0 | AI19: =SUM(AJ19:AM19) -> 0 | AM19: =SUM(AN19:AP19) -> 0 | AQ19: =AI19/AD19 -> #DIV/0!
A20: 평택시 | B20: =평택!$C$9 -> 1815 | C20: =SUM(D20:F20) -> 1808 | D20: =평택!$D$9 -> 1031 | E20: =평택!$E$9 -> 392 | F20: =평택!$F$9 -> 385 | G20: =SUM(H20:K20) -> 499 | H20: =평택!$J$9 -> 296 | I20: =평택!$K$9 -> 183 | J20: =평택!$L$9 -> 19 | K20: =SUM(L20:N20) -> 1 | L20: =평택!$M$9 -> 1 | M20: =평택!$N$9 -> 0 | N20: =평택!$O$9 -> 0 | O20: =G20/B20 -> 0.27493113 | P20: 1815 | Q20: 1815 | R20: 1031 | S20: 393 | T20: 391 | U20: 504 | V20: 302 | W20: 183 | X20: 19 | Y20: 0 | Z20: 0 | AA20: 0 | AB20: 0 | AC20: 0.27768595 | AE20: =SUM(AF20:AH20) -> 0 | AI20: =SUM(AJ20:AM20) -> 0 | AM20: =SUM(AN20:AP20) -> 0 | AQ20: =AI20/AD20 -> #DIV/0!
A21: 시흥시 | B21: =시흥!$C$9 -> 1050 | C21: =SUM(D21:F21) -> 1050 | D21: =시흥!$D$9 -> 644 | E21: =시흥!$E$9 -> 332 | F21: =시흥!$F$9 -> 74 | G21: =SUM(H21:K21) -> 622 | H21: =시흥!$J$9 -> 62 | I21: =시흥!$K$9 -> 557 | J21: =시흥!$L$9 -> 1 | K21: =SUM(L21:N21) -> 2 | L21: =시흥!$M$9 -> 2 | M21: =시흥!$N$9 -> 0 | N21: =시흥!$O$9 -> 0 | O21: =G21/B21 -> 0.59238095 | P21: 1045 | Q21: 1045 | R21: 680 | S21: 324 | T21: 41 | U21: 638 | V21: 68 | W21: 567 | X21: 1 | Y21: 2 | Z21: 2 | AA21: 0 | AB21: 0 | AC21: 0.61052632 | AE21: =SUM(AF21:AH21) -> 0 | AI21: =SUM(AJ21:AM21) -> 0 | AM21: =SUM(AN21:AP21) -> 0 | AQ21: =AI21/AD21 -> #DIV/0!
A22: 파주시 | B22: =파주!$C$9 -> 2003 | C22: =SUM(D22:F22) -> 2003 | D22: =파주!$D$9 -> 882 | E22: =파주!$E$9 -> 395 | F22: =파주!$F$9 -> 726 | G22: =SUM(H22:K22) -> 496 | H22: =파주!$J$9 -> 51 | I22: =파주!$K$9 -> 398 | J22: =파주!$L$9 -> 8 | K22: =SUM(L22:N22) -> 39 | L22: =파주!$M$9 -> 0 | M22: =파주!$N$9 -> 39 | N22: =파주!$O$9 -> 0 | O22: =G22/B22 -> 0.24762856 | P22: 1971 | Q22: 1971 | R22: 881 | S22: 397 | T22: 693 | U22: 494 | V22: 49 | W22: 398 | X22: 8 | Y22: 39 | Z22: 0 | AA22: 39 | AB22: 0 | AC22: 0.2506342 | AE22: =SUM(AF22:AH22) -> 0 | AI22: =SUM(AJ22:AM22) -> 0 | AM22: =SUM(AN22:AP22) -> 0 | AQ22: =AI22/AD22 -> #DIV/0!
A23: 의정부시 | B23: =의정부!$C$9 -> 692 | C23: =SUM(D23:F23) -> 692 | D23: =의정부!$D$9 -> 271 | E23: =의정부!$E$9 -> 418 | F23: =의정부!$F$9 -> 3 | G23: =SUM(H23:K23) -> 319 | H23: =의정부!$J$9 -> 65 | I23: =의정부!$K$9 -> 253 | J23: =의정부!$L$9 -> 1 | K23: =SUM(L23:N23) -> 0 | L23: =의정부!$M$9 -> 0 | M23: =의정부!$N$9 -> 0 | N23: =의정부!$O$9 -> 0 | O23: =G23/B23 -> 0.46098266 | P23: 701 | Q23: 701 | R23: 270 | S23: 418 | T23: 13 | U23: 324 | V23: 68 | W23: 256 | X23: 0 | Y23: 0 | Z23: 0 | AA23: 0 | AB23: 0 | AC23: 0.46219686 | AE23: =SUM(AF23:AH23) -> 0 | AI23: =SUM(AJ23:AM23) -> 0 | AM23: =SUM(AN23:AP23) -> 0 | AQ23: =AI23/AD23 -> #DIV/0!
A24: 김포시 | B24: =김포!$C$9 -> 1137 | C24: =SUM(D24:F24) -> 1099 | D24: =김포!$D$9 -> 580 | E24: =김포!$E$9 -> 189 | F24: =김포!$F$9 -> 330 | G24: =SUM(H24:K24) -> 359 | H24: =김포!$J$9 -> 213 | I24: =김포!$K$9 -> 128 | J24: =김포!$L$9 -> 18 | K24: =SUM(L24:N24) -> 0 | L24: =김포!$M$9 -> 0 | M24: =김포!$N$9 -> 0 | N24: =김포!$O$9 -> 0 | O24: =G24/B24 -> 0.31574318 | P24: 1113 | Q24: 1113 | R24: 584 | S24: 198 | T24: 331 | U24: 375 | V24: 227 | W24: 143 | X24: 5 | Y24: 0 | Z24: 0 | AA24: 0 | AB24: 0 | AC24: 0.33692722 | AE24: =SUM(AF24:AH24) -> 0 | AI24: =SUM(AJ24:AM24) -> 0 | AM24: =SUM(AN24:AP24) -> 0 | AQ24: =AI24/AD24 -> #DIV/0!
A25: 광주시 | B25: =광주!$C$9 -> 1148 | C25: =SUM(D25:F25) -> 1142 | D25: =광주!$D$9 -> 544 | E25: =광주!$E$9 -> 598 | F25: =광주!$F$9 -> 0 | G25: =SUM(H25:K25) -> 312 | H25: =광주!$J$9 -> 312 | I25: =광주!$K$9 -> 0 | J25: =광주!$L$9 -> 0 | K25: =SUM(L25:N25) -> 0 | L25: =광주!$M$9 -> 0 | M25: =광주!$N$9 -> 0 | N25: =광주!$O$9 -> 0 | O25: =G25/B25 -> 0.271777 | P25: 1171 | Q25: 1171 | R25: 537 | S25: 634 | T25: 0 | U25: 343 | V25: 343 | W25: 0 | X25: 0 | Y25: 0 | Z25: 0 | AA25: 0 | AB25: 0 | AC25: 0.29291204 | AE25: =SUM(AF25:AH25) -> 0 | AI25: =SUM(AJ25:AM25) -> 0 | AM25: =SUM(AN25:AP25) -> 0 | AQ25: =AI25/AD25 -> #DIV/0!
A26: 광명시 | B26: =광명!$C$9 -> 440 | C26: =SUM(D26:F26) -> 437 | D26: =광명!$D$9 -> 253 | E26: =광명!$E$9 -> 139 | F26: =광명!$F$9 -> 45 | G26: =SUM(H26:K26) -> 317 | H26: =광명!$J$9 -> 94 | I26: =광명!$K$9 -> 204 | J26: =광명!$L$9 -> 3 | K26: =SUM(L26:N26) -> 16 | L26: =광명!$M$9 -> 0 | M26: =광명!$N$9 -> 16 | N26: =광명!$O$9 -> 0 | O26: =G26/B26 -> 0.72045455 | P26: 436 | Q26: 436 | R26: 253 | S26: 139 | T26: 44 | U26: 300 | V26: 77 | W26: 204 | X26: 3 | Y26: 16 | Z26: 0 | AA26: 16 | AB26: 0 | AC26: 0.68807339 | AE26: =SUM(AF26:AH26) -> 0 | AI26: =SUM(AJ26:AM26) -> 0 | AM26: =SUM(AN26:AP26) -> 0 | AQ26: =AI26/AD26 -> #DIV/0!
A27: 군포시 | B27: =군포!$C$9 -> 429 | C27: =SUM(D27:F27) -> 429 | D27: =군포!$D$9 -> 317 | E27: =군포!$E$9 -> 106 | F27: =군포!$F$9 -> 6 | G27: =SUM(H27:K27) -> 249 | H27: =군포!$J$9 -> 80 | I27: =군포!$K$9 -> 169 | J27: =군포!$L$9 -> 0 | K27: =SUM(L27:N27) -> 0 | L27: =군포!$M$9 -> 0 | M27: =군포!$N$9 -> 0 | N27: =군포!$O$9 -> 0 | O27: =G27/B27 -> 0.58041958 | P27: 429 | Q27: 429 | R27: 318 | S27: 105 | T27: 6 | U27: 249 | V27: 82 | W27: 167 | X27: 0 | Y27: 0 | Z27: 0 | AA27: 0 | AB27: 0 | AC27: 0.58041958 | AE27: =SUM(AF27:AH27) -> 0 | AI27: =SUM(AJ27:AM27) -> 0 | AM27: =SUM(AN27:AP27) -> 0 | AQ27: =AI27/AD27 -> #DIV/0!
A28: 하남시 | B28: =하남!$C$9 -> 553 | C28: =SUM(D28:F28) -> 550 | D28: =하남!$D$9 -> 335 | E28: =하남!$E$9 -> 140 | F28: =하남!$F$9 -> 75 | G28: =SUM(H28:K28) -> 283 | H28: =하남!$J$9 -> 102 | I28: =하남!$K$9 -> 52 | J28: =하남!$L$9 -> 92 | K28: =SUM(L28:N28) -> 37 | L28: =하남!$M$9 -> 37 | M28: =하남!$N$9 -> 0 | N28: =하남!$O$9 -> 0 | O28: =G28/B28 -> 0.51175407 | P28: 561 | Q28: 561 | R28: 344 | S28: 141 | T28: 76 | U28: 292 | V28: 112 | W28: 51 | X28: 92 | Y28: 37 | Z28: 37 | AA28: 0 | AB28: 0 | AC28: 0.52049911 | AE28: =SUM(AF28:AH28) -> 0 | AI28: =SUM(AJ28:AM28) -> 0 | AM28: =SUM(AN28:AP28) -> 0 | AQ28: =AI28/AD28 -> #DIV/0!
A29: 오산시 | B29: =오산!$C$9 -> 395 | C29: =SUM(D29:F29) -> 395 | D29: =오산!$D$9 -> 269 | E29: =오산!$E$9 -> 65 | F29: =오산!$F$9 -> 61 | G29: =SUM(H29:K29) -> 209 | H29: =오산!$J$9 -> 10 | I29: =오산!$K$9 -> 0 | J29: =오산!$L$9 -> 199 | K29: =SUM(L29:N29) -> 0 | L29: =오산!$M$9 -> 0 | M29: =오산!$N$9 -> 0 | N29: =오산!$O$9 -> 0 | O29: =G29/B29 -> 0.52911392 | P29: 396 | Q29: 396 | R29: 269 | S29: 66 | T29: 61 | U29: 209 | V29: 10 | W29: 0 | X29: 199 | Y29: 0 | Z29: 0 | AA29: 0 | AB29: 0 | AC29: 0.52777778 | AE29: =SUM(AF29:AH29) -> 0 | AI29: =SUM(AJ29:AM29) -> 0 | AM29: =SUM(AN29:AP29) -> 0 | AQ29: =AI29/AD29 -> #DIV/0!
A30: 양주시 | B30: =양주!$C$9 -> 1496 | C30: =SUM(D30:F30) -> 1496 | D30: =양주!$D$9 -> 665 | E30: =양주!$E$9 -> 319 | F30: =양주!$F$9 -> 512 | G30: =SUM(H30:K30) -> 439 | H30: =양주!$J$9 -> 435 | I30: =양주!$K$9 -> 0 | J30: =양주!$L$9 -> 0 | K30: =SUM(L30:N30) -> 4 | L30: =양주!$M$9 -> 4 | M30: =양주!$N$9 -> 0 | N30: =양주!$O$9 -> 0 | O30: =G30/B30 -> 0.2934492 | P30: 1496 | Q30: 1496 | R30: 666 | S30: 315 | T30: 515 | U30: 453 | V30: 449 | W30: 0 | X30: 0 | Y30: 4 | Z30: 4 | AA30: 0 | AB30: 0 | AC30: 0.30280749 | AE30: =SUM(AF30:AH30) -> 0 | AI30: =SUM(AJ30:AM30) -> 0 | AM30: =SUM(AN30:AP30) -> 0 | AQ30: =AI30/AD30 -> #DIV/0!
A31: 이천시 | B31: =이천!$C$9 -> 1138 | C31: =SUM(D31:F31) -> 1138 | D31: =이천!$D$9 -> 397 | E31: =이천!$E$9 -> 394 | F31: =이천!$F$9 -> 347 | G31: =SUM(H31:K31) -> 288 | H31: =이천!$J$9 -> 23 | I31: =이천!$K$9 -> 253 | J31: =이천!$L$9 -> 0 | K31: =SUM(L31:N31) -> 12 | L31: =이천!$M$9 -> 12 | M31: =이천!$N$9 -> 0 | N31: =이천!$O$9 -> 0 | O31: =G31/B31 -> 0.25307557 | P31: 1180 | Q31: 1180 | R31: 415 | S31: 402 | T31: 363 | U31: 307 | V31: 41 | W31: 253 | X31: 0 | Y31: 13 | Z31: 13 | AA31: 0 | AB31: 0 | AC31: 0.26016949 | AE31: =SUM(AF31:AH31) -> 0 | AI31: =SUM(AJ31:AM31) -> 0 | AM31: =SUM(AN31:AP31) -> 0 | AQ31: =AI31/AD31 -> #DIV/0!
A32: 구리시 | B32: =구리!$C$9 -> 307 | C32: =SUM(D32:F32) -> 307 | D32: =구리!$D$9 -> 220 | E32: =구리!$E$9 -> 82 | F32: =구리!$F$9 -> 5 | G32: =SUM(H32:K32) -> 207 | H32: =구리!$J$9 -> 101 | I32: =구리!$K$9 -> 95 | J32: =구리!$L$9 -> 0 | K32: =SUM(L32:N32) -> 11 | L32: =구리!$M$9 -> 11 | M32: =구리!$N$9 -> 0 | N32: =구리!$O$9 -> 0 | O32: =G32/B32 -> 0.6742671 | P32: 308 | Q32: 308 | R32: 221 | S32: 82 | T32: 5 | U32: 207 | V32: 101 | W32: 95 | X32: 0 | Y32: 11 | Z32: 11 | AA32: 0 | AB32: 0 | AC32: 0.67207792 | AE32: =SUM(AF32:AH32) -> 0 | AI32: =SUM(AJ32:AM32) -> 0 | AM32: =SUM(AN32:AP32) -> 0 | AQ32: =AI32/AD32 -> #DIV/0!
A33: 안성시 | B33: =안성!$C$9 -> 1196 | C33: =SUM(D33:F33) -> 1196 | D33: =안성!$D$9 -> 499 | E33: =안성!$E$9 -> 110 | F33: =안성!$F$9 -> 587 | G33: =SUM(H33:K33) -> 229 | H33: =안성!$J$9 -> 52 | I33: =안성!$K$9 -> 177 | J33: =안성!$L$9 -> 0 | K33: =SUM(L33:N33) -> 0 | L33: =안성!$M$9 -> 0 | M33: =안성!$N$9 -> 0 | N33: =안성!$O$9 -> 0 | O33: =G33/B33 -> 0.19147157 | P33: 1217 | Q33: 1217 | R33: 516 | S33: 112 | T33: 589 | U33: 300 | V33: 62 | W33: 238 | X33: 0 | Y33: 0 | Z33: 0 | AA33: 0 | AB33: 0 | AC33: 0.24650781 | AE33: =SUM(AF33:AH33) -> 0 | AI33: =SUM(AJ33:AM33) -> 0 | AM33: =SUM(AN33:AP33) -> 0 | AQ33: =AI33/AD33 -> #DIV/0!
A34: 포천시 | B34: =포천!$C$9 -> 1122 | C34: =SUM(D34:F34) -> 1122 | D34: =포천!$D$9 -> 462 | E34: =포천!$E$9 -> 238 | F34: =포천!$F$9 -> 422 | G34: =SUM(H34:K34) -> 266 | H34: =포천!$J$9 -> 147 | I34: =포천!$K$9 -> 110 | J34: =포천!$L$9 -> 0 | K34: =SUM(L34:N34) -> 9 | L34: =포천!$M$9 -> 9 | M34: =포천!$N$9 -> 0 | N34: =포천!$O$9 -> 0 | O34: =G34/B34 -> 0.23707665 | P34: 1119 | Q34: 1119 | R34: 472 | S34: 233 | T34: 414 | U34: 277 | V34: 162 | W34: 106 | X34: 0 | Y34: 9 | Z34: 9 | AA34: 0 | AB34: 0 | AC34: 0.24754245 | AE34: =SUM(AF34:AH34) -> 0 | AI34: =SUM(AJ34:AM34) -> 0 | AM34: =SUM(AN34:AP34) -> 0 | AQ34: =AI34/AD34 -> #DIV/0!
A35: 의왕시 | B35: =의왕!$C$9 -> 371 | C35: =SUM(D35:F35) -> 371 | D35: =의왕!$D$9 -> 255 | E35: =의왕!$E$9 -> 46 | F35: =의왕!$F$9 -> 70 | G35: =SUM(H35:K35) -> 221 | H35: =의왕!$J$9 -> 0 | I35: =의왕!$K$9 -> 221 | J35: =의왕!$L$9 -> 0 | K35: =SUM(L35:N35) -> 0 | L35: =의왕!$M$9 -> 0 | M35: =의왕!$N$9 -> 0 | N35: =의왕!$O$9 -> 0 | O35: =G35/B35 -> 0.59568733 | P35: 381 | Q35: 381 | R35: 258 | S35: 50 | T35: 73 | U35: 220 | V35: 0 | W35: 180 | X35: 40 | Y35: 0 | Z35: 0 | AA35: 0 | AB35: 0 | AC35: 0.57742782 | AE35: =SUM(AF35:AH35) -> 0 | AI35: =SUM(AJ35:AM35) -> 0 | AM35: =SUM(AN35:AP35) -> 0 | AQ35: =AI35/AD35 -> #DIV/0!
A36: 양평군 | B36: =양평!$C$9 -> 1051 | C36: =SUM(D36:F36) -> 1044 | D36: =양평!$D$9 -> 460 | E36: =양평!$E$9 -> 582 | F36: =양평!$F$9 -> 2 | G36: =SUM(H36:K36) -> 65 | H36: =양평!$J$9 -> 29 | I36: =양평!$K$9 -> 36 | J36: =양평!$L$9 -> 0 | K36: =SUM(L36:N36) -> 0 | L36: =양평!$M$9 -> 0 | M36: =양평!$N$9 -> 0 | N36: =양평!$O$9 -> 0 | O36: =G36/B36 -> 0.061845861 | P36: 1079 | Q36: 1042 | R36: 459 | S36: 581 | T36: 2 | U36: 75 | V36: 40 | W36: 35 | X36: 0 | Y36: 0 | Z36: 0 | AA36: 0 | AB36: 0 | AC36: 0.069508804 | AE36: =SUM(AF36:AH36) -> 0 | AI36: =SUM(AJ36:AM36) -> 0 | AM36: =SUM(AN36:AP36) -> 0 | AQ36: =AI36/AD36 -> #DIV/0!
A37: 여주시 | B37: =여주!$C$9 -> 1121 | C37: =SUM(D37:F37) -> 1121 | D37: =여주!$D$9 -> 85 | E37: =여주!$E$9 -> 0 | F37: =여주!$F$9 -> 1036 | G37: =SUM(H37:K37) -> 86 | H37: =여주!$J$9 -> 48 | I37: =여주!$K$9 -> 37 | J37: =여주!$L$9 -> 0 | K37: =SUM(L37:N37) -> 1 | L37: =여주!$M$9 -> 0 | M37: =여주!$N$9 -> 0 | N37: =여주!$O$9 -> 1 | O37: =G37/B37 -> 0.076717217 | P37: 1140 | Q37: 1140 | R37: 466 | S37: 29 | T37: 645 | U37: 86 | V37: 48 | W37: 37 | X37: 0 | Y37: 1 | Z37: 0 | AA37: 0 | AB37: 1 | AC37: 0.075438596 | AE37: =SUM(AF37:AH37) -> 0 | AI37: =SUM(AJ37:AM37) -> 0 | AM37: =SUM(AN37:AP37) -> 0 | AQ37: =AI37/AD37 -> #DIV/0!
A38: 동두천시 | B38: =동두천!$C$9 -> 357 | C38: =SUM(D38:F38) -> 356 | D38: =동두천!$D$9 -> 145 | E38: =동두천!$E$9 -> 153 | F38: =동두천!$F$9 -> 58 | G38: =SUM(H38:K38) -> 100 | H38: =동두천!$J$9 -> 66 | I38: =동두천!$K$9 -> 34 | J38: =동두천!$L$9 -> 0 | K38: =SUM(L38:N38) -> 0 | L38: =동두천!$M$9 -> 0 | M38: =동두천!$N$9 -> 0 | N38: =동두천!$O$9 -> 0 | O38: =G38/B38 -> 0.28011204 | P38: 354 | Q38: 354 | R38: 150 | S38: 154 | T38: 50 | U38: 100 | V38: 66 | W38: 34 | X38: 0 | Y38: 0 | Z38: 0 | AA38: 0 | AB38: 0 | AC38: 0.28248588 | AE38: =SUM(AF38:AH38) -> 0 | AI38: =SUM(AJ38:AM38) -> 0 | AM38: =SUM(AN38:AP38) -> 0 | AQ38: =AI38/AD38 -> #DIV/0!
A39: 가평군 | B39: =가평!$C$9 -> 875 | C39: =SUM(D39:F39) -> 875 | D39: =가평!$D$9 -> 288 | E39: =가평!$E$9 -> 450 | F39: =가평!$F$9 -> 137 | G39: =SUM(H39:K39) -> 107 | H39: =가평!$J$9 -> 9 | I39: =가평!$K$9 -> 95 | J39: =가평!$L$9 -> 3 | K39: =SUM(L39:N39) -> 0 | L39: =가평!$M$9 -> 0 | M39: =가평!$N$9 -> 0 | N39: =가평!$O$9 -> 0 | O39: =G39/B39 -> 0.12228571 | P39: 863 | Q39: 863 | R39: 288 | S39: 450 | T39: 125 | U39: 107 | V39: 9 | W39: 95 | X39: 3 | Y39: 0 | Z39: 0 | AA39: 0 | AB39: 0 | AC39: 0.1239861 | AE39: =SUM(AF39:AH39) -> 0 | AI39: =SUM(AJ39:AM39) -> 0 | AM39: =SUM(AN39:AP39) -> 0 | AQ39: =AI39/AD39 -> #DIV/0!
A40: 과천시 | B40: =과천!$C$9 -> 109 | C40: =SUM(D40:F40) -> 105 | D40: =과천!$D$9 -> 70 | E40: =과천!$E$9 -> 16 | F40: =과천!$F$9 -> 19 | G40: =SUM(H40:K40) -> 57 | H40: =과천!$J$9 -> 41 | I40: =과천!$K$9 -> 0 | J40: =과천!$L$9 -> 0 | K40: =SUM(L40:N40) -> 16 | L40: =과천!$M$9 -> 0 | M40: =과천!$N$9 -> 16 | N40: =과천!$O$9 -> 0 | O40: =G40/B40 -> 0.52293578 | P40: 105 | Q40: 105 | R40: 70 | S40: 16 | T40: 19 | U40: 57 | V40: 41 | W40: 0 | X40: 0 | Y40: 16 | Z40: 0 | AA40: 16 | AB40: 0 | AC40: 0.54285714 | AE40: =SUM(AF40:AH40) -> 0 | AI40: =SUM(AJ40:AM40) -> 0 | AM40: =SUM(AN40:AP40) -> 0 | AQ40: =AI40/AD40 -> #DIV/0!
A41: 연천군 | B41: =연천!$C$9 -> 634 | C41: =SUM(D41:F41) -> 634 | D41: =연천!$D$9 -> 175 | E41: =연천!$E$9 -> 97 | F41: =연천!$F$9 -> 362 | G41: =SUM(H41:K41) -> 112 | H41: =연천!$J$9 -> 0 | I41: =연천!$K$9 -> 112 | J41: =연천!$L$9 -> 0 | K41: =SUM(L41:N41) -> 0 | L41: =연천!$M$9 -> 0 | M41: =연천!$N$9 -> 0 | N41: =연천!$O$9 -> 0 | O41: =G41/B41 -> 0.17665615 | P41: 639 | Q41: 639 | R41: 181 | S41: 94 | T41: 364 | U41: 112 | V41: 0 | W41: 112 | X41: 0 | Y41: 0 | Z41: 0 | AA41: 0 | AB41: 0 | AC41: 0.17527387 | AE41: =SUM(AF41:AH41) -> 0 | AI41: =SUM(AJ41:AM41) -> 0 | AM41: =SUM(AN41:AP41) -> 0 | AQ41: =AI41/AD41 -> #DIV/0!

Sheet 수원
A1: 수원시 정류소전광판(BIT) 설치지점 현황
A3: ※ 노란색 부분만 작성할 것 [작성방법] 1. 정류소 타입(쉘터, 표지, 무표지)를 기입할 것 2. 정류소별 BIT 설치 세부현황을 기입할 것(정류소번호, ID로 매칭해서 반드시 기재할 것) - 1개 정류소에 BIT 유형별로 설치된 경우 모든 수량 표기할 것 - 사례1 (수원역 정류소(20000001) 1곳에 LED 3개, LCD 2개 있는 경우) : BIT설치여부 1 / LED 3 / LCD 2 ※ 버스기반정보상에 등록된 ID와 번호를 참고하여 시군 센터내부에 매칭 테이블을 관리하고 있으므로 반드시 작성할 것 3. 해당 시군 관할 정류소가 아닌 경우 시군명 변경하고 관할 정류소가 누락된 경우 인접 시군 현황을 참고하여 추가 작성할 것 4. 비고란에 정류소미존재 기재된 경우 운송관리시스템에서 확인 후 정류소 반영
P5: (단위 : 개소)
A6: NO | B6: 시군 | C6: 정류소 | I6: 정류소전광판(BIT)
C7: 정류소명 | D7: 정류소 타입 | G7: 정류소번호 (5자리) | H7: 정류소ID (9자리) | I7: BIT 설치여부 | J7: BIT 유형 | P7: 비고
D8: 쉘터 (쉘터+표지) | E8: 표지 | F8: 무표지 | J8: LED | K8: LCD | L8: LED+LCD 복합형 | M8: 알뜰형 | N8: 임대형 (음성) | O8: 기타
C9: =COUNTA(C10:C1450) -> 1441 | D9: =COUNT(D10:D1450) -> 846 | E9: =COUNT(E10:E1450) -> 316 | F9: =COUNT(F10:F1450) -> 279 | I9: =COUNT(I10:I1450) -> 1010 | J9: =COUNT(J10:J1450) -> 380 | K9: =COUNT(K10:K1450) -> 174 | L9: =COUNT(L10:L1450) -> 363 | M9: =COUNT(M10:M1450) -> 93 | N9: =COUNT(N10:N1450) -> 0 | O9: =COUNT(O10:O1450) -> 0
A10: 1 | B10: 수원시 | C10: 권선구청 | D10: 1 | G10: 2831 | H10: 201000313 | I10: 1 | J10: 1
A11: 2 | B11: 수원시 | C11: 중보들공원 | D11: 1 | G11: 2052 | H11: 201000344
A12: 3 | B12: 수원시 | C12: 남수원초등학교 | D12: 1 | G12: 2829 | H12: 201000345 | I12: 1 | M12: 1
A13: 4 | B13: 수원시 | C13: 신미주아파트 | E13: 1 | G13: 2875 | H13: 201000379 | I13: 1 | J13: 1
A14: 5 | B14: 수원시 | C14: 휴먼스카이벨리 | E14: 1 | G14: 2018 | H14: 201000335 | I14: 1 | M14: 1
A15: 6 | B15: 수원시 | C15: 농수산물시장 | E15: 1 | G15: 2257 | H15: 201000055 | I15: 1 | K15: 1
A16: 7 | B16: 수원시 | C16: 곡반중학교 | D16: 1 | G16: 2291 | H16: 201000268 | I16: 1 | J16: 1
A17: 8 | B17: 수원시 | C17: 이목동차고지.이목동입구 | F17: 1 | G17: 1070 | H17: 200000165
A18: 9 | B18: 수원시 | C18: 경기도건설본부.경기도동물위생시험소.칠보마을7단지 | D18: 1 | G18: 2840 | H18: 201000337 | I18: 1 | K18: 1
A19: 10 | B19: 수원시 | C19: 백선교회 | D19: 1 | G19: 1263 | H19: 200000292 | I19: 1 | L19: 1
A20: 11 | B20: 수원시 | C20: 화서역 | D20: 1 | G20: 3175 | H20: 202000089 | I20: 1 | L20: 1
A21: 12 | B21: 수원시 | C21: 한양수자인파크원아파트.금호초등학교 | D21: 1 | G21: 2862 | H21: 201000358 | I21: 1 | K21: 1
A22: 13 | B22: 수원시 | C22: 수원은혜교회.한양수자인파크원아파트 | D22: 1 | G22: 2861 | H22: 201000357 | I22: 1 | K22: 1
A23: 14 | B23: 수원시 | C23: 삼익아파트 | E23: 1 | G23: 2876 | H23: 201000377 | I23: 1 | J23: 1
A24: 15 | B24: 수원시 | C24: 수원산업단지 | D24: 1 | G24: 2849 | H24: 201000348 | I24: 1 | L24: 1
A25: 16 | B25: 수원시 | C25: 화서역 | D25: 1 | G25: 3176 | H25: 202000090 | I25: 1 | L25: 1
A26: 17 | B26: 수원시 | C26: 원천삼성1차아파트.팩토리월드 | D26: 1 | G26: 4251 | H26: 203000242 | I26: 1 | L26: 1
A27: 18 | B27: 수원시 | C27: 산업단지중앙로 | D27: 1 | G27: 2853 | H27: 201000353 | I27: 1 | L27: 1
A28: 19 | B28: 수원시 | C28: 광교노인복지관 | E28: 1 | G28: 4187 | H28: 203000181 | I28: 1 | J28: 1
A29: 20 | B29: 수원시 | C29: 문암골 | E29: 1 | G29: 1196 | H29: 200000004
A30: 21 | B30: 수원시 | C30: 고색삼거리 | E30: 1 | G30: 2141 | H30: 201000065 | I30: 1 | L30: 1
A31: 22 | B31: 수원시 | C31: 우방아파트 | D31: 1 | G31: 2106 | H31: 201000137 | I31: 1 | J31: 1
A32: 23 | B32: 수원시 | C32: 동원고교.해우재입구 | D32: 1 | G32: 1268 | H32: 200000293 | I32: 1 | J32: 1
A33: 24 | B33: 수원시 | C33: 한국전력경기사업본부.한라시그마팰리스 | D33: 1 | G33: 3147 | H33: 202000082 | I33: 1 | L33: 1
A34: 25 | B34: 수원시 | C34: 동원고교.해우재입구 | D34: 1 | G34: 1253 | H34: 200000276 | I34: 1 | J34: 1
A35: 26 | B35: 수원시 | C35: 농수산물사거리 | E35: 1 | G35: 2882 | H35: 201000382 | I35: 1 | L35: 1
A36: 27 | B36: 수원시 | C36: 권선보성.두산동아.신우아파트 | E36: 1 | G36: 2883 | H36: 201000383 | I36: 1 | L36: 1
A37: 28 | B37: 수원시 | C37: 우림.대한아파트 | D37: 1 | G37: 2848 | H37: 201000350 | I37: 1 | J37: 1
A38: 29 | B38: 수원시 | C38: 원천신미주아파트 | D38: 1 | G38: 4249 | H38: 203000244 | I38: 1 | L38: 1
A39: 30 | B39: 수원시 | C39: 한마루.한국아파트 | D39: 1 | G39: 1271 | H39: 200000283 | I39: 1 | L39: 1
A40: 31 | B40: 수원시 | C40: 경기도립수원의료원.두견마을 | D40: 1 | G40: 1251 | H40: 200000266 | I40: 1 | L40: 1
A41: 32 | B41: 수원시 | C41: 홈플러스서수원점 | D41: 1 | G41: 2864 | H41: 201000359 | I41: 1 | K41: 1
A42: 33 | B42: 수원시 | C42: 솔대체육공원 | D42: 1 | G42: 2852 | H42: 201000354 | I42: 1 | J42: 1
...

Sheet 고양
A1: 고양시 정류소전광판(BIT) 설치지점 현황
A3: ※ 노란색 부분만 작성할 것 [작성방법] 1. 정류소 타입(쉘터, 표지, 무표지)를 기입할 것 2. 정류소별 BIT 설치 세부현황을 기입할 것(정류소번호, ID로 매칭해서 반드시 기재할 것) - 1개 정류소에 BIT 유형별로 설치된 경우 모든 수량 표기할 것 - 사례1 (수원역 정류소(20000001) 1곳에 LED 3개, LCD 2개 있는 경우) : BIT설치여부 1 / LED 3 / LCD 2 ※ 버스기반정보상에 등록된 ID와 번호를 참고하여 시군 센터내부에 매칭 테이블을 관리하고 있으므로 반드시 작성할 것 3. 해당 시군 관할 정류소가 아닌 경우 시군명 변경하고 관할 정류소가 누락된 경우 인접 시군 현황을 참고하여 추가 작성할 것 4. 비고란에 정류소미존재 기재된 경우 운송관리시스템에서 확인 후 정류소 반영
P5: (단위 : 개소)
A6: NO | B6: 시군 | C6: 정류소 | I6: 정류소전광판(BIT)
C7: 정류소명 | D7: 정류소 타입 | G7: 정류소번호 (5자리) | H7: 정류소ID (9자리) | I7: BIT 설치여부 | J7: BIT 유형 | P7: 비고
D8: 쉘터 (쉘터+표지) | E8: 표지 | F8: 무표지 | J8: LED | K8: LCD | L8: LED+LCD 복합형 | M8: 알뜰형 | N8: 임대형 (음성) | O8: 기타
C9: =COUNTA(C10:C2278) -> 2269 | D9: =COUNT(D10:D2278) -> 1183 | E9: =COUNT(E10:E2278) -> 909 | F9: =COUNT(F10:F2278) -> 177 | I9: =COUNT(I10:I2278) -> 1044 | J9: =COUNT(J10:J2278) -> 751 | K9: =COUNT(K10:K2278) -> 262 | L9: =COUNT(L10:L2278) -> 31 | M9: =COUNT(M10:M2278) -> 0 | N9: =COUNT(N10:N2278) -> 0 | O9: =COUNT(O10:O2278) -> 0
A10: 1 | B10: 고양시 | C10: 섬말다리 | D10: 1 | G10: 19001 | H10: 218000490 | I10: 1 | J10: 1
A11: 2 | B11: 고양시 | C11: 섬말다리 | D11: 1 | G11: 19002 | H11: 218000338 | I11: 1 | J11: 1
A12: 3 | B12: 고양시 | C12: 신주택 | D12: 1 | G12: 19003 | H12: 218000201 | I12: 1 | J12: 1
A13: 4 | B13: 고양시 | C13: 신주택 | D13: 1 | G13: 19004 | H13: 218000187 | I13: 1 | J13: 1
A14: 5 | B14: 고양시 | C14: 삼성당 | D14: 1 | G14: 19005 | H14: 218000200 | I14: 1 | J14: 1
A15: 6 | B15: 고양시 | C15: 삼성당 | D15: 1 | G15: 19006 | H15: 218000188 | I15: 1 | J15: 1
A16: 7 | B16: 고양시 | C16: 대곡역(중) | D16: 1 | G16: 19007 | H16: 218000012 | I16: 1 | J16: 1
A17: 8 | B17: 고양시 | C17: 삼성당다리 | D17: 1 | G17: 19008 | H17: 218000199 | I17: 1 | J17: 1
A18: 9 | B18: 고양시 | C18: 삼성당다리 | D18: 1 | G18: 19009 | H18: 218000189 | I18: 1 | J18: 1
A19: 10 | B19: 고양시 | C19: 대곡역(중) | D19: 1 | G19: 19010 | H19: 218000202 | I19: 1 | J19: 1
A20: 11 | B20: 고양시 | C20: 나루터 | D20: 1 | G20: 19011 | H20: 218000034 | I20: 1 | J20: 1 | P20: 쉘터+표지=>쉘터로 통합
A21: 12 | B21: 고양시 | C21: 나루터 | D21: 1 | G21: 19012 | H21: 218000033 | I21: 1 | J21: 1
A22: 13 | B22: 고양시 | C22: 삼화연립 | E22: 1 | G22: 19013 | H22: 218000198 | I22: 1 | J22: 1
A23: 14 | B23: 고양시 | C23: 삼화연립 | D23: 1 | G23: 19014 | H23: 218000190
A24: 15 | B24: 고양시 | C24: 능곡삼거리.금호아파트 | E24: 1 | G24: 19015 | H24: 218000191 | I24: 1 | K24: 1
A25: 16 | B25: 고양시 | C25: 서원 | E25: 1 | G25: 19016 | H25: 218000238
A26: 17 | B26: 고양시 | C26: 허스A | D26: 1 | G26: 19017 | H26: 218000343 | I26: 1 | K26: 1
A27: 18 | B27: 고양시 | C27: 능곡초교 | D27: 1 | G27: 19018 | H27: 218000197 | I27: 1 | K27: 1
A28: 19 | B28: 고양시 | C28: 능곡초등학교 | E28: 1 | G28: 19019 | H28: 218000192 | I28: 1 | J28: 1
A29: 20 | B29: 고양시 | C29: 서원 | E29: 1 | G29: 19020 | H29: 218000035
A30: 21 | B30: 고양시 | C30: 대림.양우아파트 | E30: 1 | G30: 19021 | H30: 218000342 | I30: 1 | J30: 1
A31: 22 | B31: 고양시 | C31: 새마을 | D31: 1 | G31: 19022 | H31: 218000237 | I31: 1 | J31: 1
A32: 23 | B32: 고양시 | C32: 새마을 | E32: 1 | G32: 19023 | H32: 218000036
A33: 24 | B33: 고양시 | C33: 능곡시장 | D33: 1 | G33: 19024 | H33: 218000196 | I33: 1 | K33: 1
A34: 25 | B34: 고양시 | C34: 능곡역.능곡시장 | D34: 1 | G34: 19025 | H34: 218000193 | I34: 1 | J34: 1
A35: 26 | B35: 고양시 | C35: 토당육교교차로 | D35: 1 | G35: 19026 | H35: 218000354 | I35: 1 | J35: 1
A36: 27 | B36: 고양시 | C36: 토당육교교차로 | D36: 1 | G36: 19027 | H36: 218000353 | I36: 1 | K36: 1
A37: 28 | B37: 고양시 | C37: 능곡화원 | D37: 1 | G37: 19028 | H37: 218000007 | I37: 1 | J37: 1
A38: 29 | B38: 고양시 | C38: 능곡화원 | D38: 1 | G38: 19029 | H38: 218000207 | I38: 1 | J38: 1
A39: 30 | B39: 고양시 | C39: 원당중학교 | D39: 1 | G39: 19030 | H39: 218000004 | I39: 1 | K39: 1
A40: 31 | B40: 고양시 | C40: 원당중학교 | D40: 1 | G40: 19031 | H40: 218000005 | I40: 1 | K40: 1
A41: 32 | B41: 고양시 | C41: 맨돌 | D41: 1 | G41: 19032 | H41: 218000006 | I41: 1 | K41: 1
A42: 33 | B42: 고양시 | C42: 맨돌 | D42: 1 | G42: 19033 | H42: 218000208 | I42: 1 | J42: 1
...

Sheet 용인
A1: 정류소전광판(BIT) 설치지점 현황
A3: ※ 노란색 부분만 작성할 것 [작성방법] 1. 정류소 타입(쉘터, 표지, 무표지)를 기입할 것 2. 정류소별 BIT 설치 세부현황을 기입할 것(정류소번호, ID로 매칭해서 반드시 기재할 것) - 1개 정류소에 BIT 유형별로 설치된 경우 모든 수량 표기할 것 - 사례1 (수원역 정류소(20000001) 1곳에 LED 3개, LCD 2개 있는 경우) : BIT설치여부 1 / LED 3 / LCD 2 ※ 버스기반정보상에 등록된 ID와 번호를 참고하여 시군 센터내부에 매칭 테이블을 관리하고 있으므로 반드시 작성할 것 3. 해당 시군 관할 정류소가 아닌 경우 시군명 변경하고 관할 정류소가 누락된 경우 인접 시군 현황을 참고하여 추가 작성할 것 4. 비고란에 정류소미존재 기재된 경우 운송관리시스템에서 확인 후 정류소 반영
P5: (단위 : 개소)
A6: NO | B6: 시군 | C6: 정류소 | I6: 정류소전광판(BIT)
C7: 정류소명 | D7: 정류소 타입 | G7: 정류소번호 (5자리) | H7: 정류소ID (9자리) | I7: BIT 설치여부 | J7: BIT 유형 | P7: 비고
D8: 쉘터 (쉘터+표지) | E8: 표지 | F8: 무표지 | J8: LED | K8: LCD | L8: LED+LCD 복합형 | M8: 알뜰형 | N8: 임대형 (음성) | O8: 기타
C9: =COUNTA(C10:C2651) -> 2642 | D9: =COUNT(D10:D2651) -> 1401 | E9: =COUNT(E10:E2651) -> 894 | F9: =COUNT(F10:F2651) -> 343 | I9: =COUNT(I10:I2651) -> 957 | J9: =COUNT(J10:J2651) -> 196 | K9: =COUNT(K10:K2651) -> 758 | L9: =COUNT(L10:L2651) -> 3 | M9: =COUNT(M10:M2651) -> 0 | N9: =COUNT(N10:N2651) -> 0 | O9: =COUNT(O10:O2651) -> 0
A10: 1 | B10: 용인시 | C10: 55사단앞.삼성쉐르빌아파트 | D10: 1 | G10: 47348 | H10: 228001154 | I10: 1 | K10: 1
A11: 2 | B11: 용인시 | C11: 55사단앞.삼성쉐르빌아파트 | D11: 1 | G11: 47534 | H11: 228001155 | I11: 1 | K11: 1
A12: 3 | B12: 용인시 | C12: BA펜션 | E12: 1 | G12: 47925 | H12: 228002003
A13: 4 | B13: 용인시 | C13: KT수지지사.물류센터 | D13: 1 | G13: 29762 | H13: 228000981 | I13: 1 | K13: 1
A14: 5 | B14: 용인시 | C14: KT수지지사.물류센터 | D14: 1 | G14: 29763 | H14: 228001380 | I14: 1 | J14: 1
A15: 6 | B15: 용인시 | C15: LG3차아파트 | D15: 1 | G15: 29015 | H15: 228000862 | I15: 1 | K15: 1
A16: 7 | B16: 용인시 | C16: LG빌리지1차 | D16: 1 | G16: 29028 | H16: 228000863 | I16: 1 | K16: 1
A17: 8 | B17: 용인시 | C17: LG빌리지1차 | D17: 1 | G17: 29025 | H17: 228000858 | I17: 1 | K17: 1
A18: 9 | B18: 용인시 | C18: LG빌리지2차.두산기술원 | D18: 1 | G18: 29037 | H18: 228001037 | I18: 1 | K18: 1
A19: 10 | B19: 용인시 | C19: LG빌리지2차.두산기술원 | D19: 1 | G19: 29748 | H19: 228001047 | I19: 1 | J19: 1
A20: 11 | B20: 용인시 | C20: LG빌리지2차아파트.강남아파트 | D20: 1 | G20: 29035 | H20: 228000864 | I20: 1 | K20: 1
A21: 12 | B21: 용인시 | C21: LG빌리지2차아파트.강남아파트 | E21: 1 | G21: 29033 | H21: 228000857 | I21: 1 | K21: 1
A22: 13 | B22: 용인시 | C22: LG빌리지3차 | D22: 1 | G22: 29016 | H22: 228000859 | I22: 1 | K22: 1
A23: 14 | B23: 용인시 | C23: LG빌리지5차 | D23: 1 | G23: 29020 | H23: 228000967 | I23: 1 | K23: 1
A24: 15 | B24: 용인시 | C24: LG빌리지5차 | D24: 1 | G24: 29019 | H24: 228000956 | I24: 1 | K24: 1
A25: 16 | B25: 용인시 | C25: LG빌리지6차.성복동주민센터 | D25: 1 | G25: 29007 | H25: 228000861 | I25: 1 | K25: 1
A26: 17 | B26: 용인시 | C26: LG자이1차.5차후문 | D26: 1 | G26: 56408 | H26: 228003387 | I26: 1 | K26: 1
A27: 18 | B27: 용인시 | C27: LG자이1차.5차후문 | D27: 1 | G27: 56409 | H27: 228003388 | I27: 1 | K27: 1
A28: 19 | B28: 용인시 | C28: LG자이2차아파트 | D28: 1 | G28: 56404 | H28: 228003383 | I28: 1 | K28: 1
A29: 20 | B29: 용인시 | C29: LG자이2차아파트 | D29: 1 | G29: 56406 | H29: 228003385 | I29: 1 | K29: 1
A30: 21 | B30: 용인시 | C30: LG전자물류센터 | E30: 1 | G30: 47167 | H30: 228001478
A31: 22 | B31: 용인시 | C31: LG전자물류센터 | E31: 1 | G31: 47170 | H31: 228001464
A32: 23 | B32: 용인시 | C32: MBC드라마세트장 | F32: 1 | G32: 47922 | H32: 228002016
A33: 24 | B33: 용인시 | C33: SK아파트 | E33: 1 | G33: 56374 | H33: 228003329 | I33: 1 | K33: 1
A34: 25 | B34: 용인시 | C34: SK아파트 | D34: 1 | G34: 56373 | H34: 228003328
A35: 26 | B35: 용인시 | C35: SK아파트.e편한세상 | E35: 1 | G35: 47763 | H35: 228001146
A36: 27 | B36: 용인시 | C36: SM루빌 | E36: 1 | G36: 56416 | H36: 228003395
A37: 28 | B37: 용인시 | C37: 가곡마을회관 | E37: 1 | G37: 47472 | H37: 228001448
A38: 29 | B38: 용인시 | C38: 가리산 | D38: 1 | G38: 29699 | H38: 228000639
A39: 30 | B39: 용인시 | C39: 가리산 | E39: 1 | G39: 29700 | H39: 228001237
A40: 31 | B40: 용인시 | C40: 가재월리 | D40: 1 | G40: 47500 | H40: 228001618
A41: 32 | B41: 용인시 | C41: 가재월리 | D41: 1 | G41: 47501 | H41: 228001617
A42: 33 | B42: 용인시 | C42: 가재월리 | E42: 1 | G42: 29656 | H42: 228000544
...

Sheet 성남
A1: 성남시 버스정보안내단말기 설치현황(2026. 1. 기준)
F4: (단위 : 개소)
A5: NO | B5: 시군 | C5: 정류소 | E5: 정류소전광판(BIT)
C6: 정류소명 | D6: 정류소번호 (5자리) | E6: BIT 설치여부 | F6: 비고
C8: =COUNTA(C9:C1356) -> 1348 | E8: =COUNT(E9:E1344) -> 1009
A9: 1 | B9: 성남시 | C9: 판교제2테크노밸리 | D9: 5001 | E9: 1
A10: 2 | B10: 성남시 | C10: 판교제2테크노밸리 | D10: 5002 | E10: 1
A11: 3 | B11: 성남시 | C11: 동산마을입구 | D11: 5003 | E11: 1
A12: 4 | B12: 성남시 | C12: 동산마을입구 | D12: 5004 | E12: 1
A13: 5 | B13: 성남시 | C13: 고등동행정복지센터.판교밸리자이아파트 | D13: 5005 | E13: 1
A14: 6 | B14: 성남시 | C14: 시흥사거리 | D14: 5006 | E14: 1
A15: 7 | B15: 성남시 | C15: 시흥사거리.고등공공주택지구 | D15: 5007 | E15: 1
A16: 8 | B16: 성남시 | C16: 고등동우체국,성남농협 대왕지점 | D16: 5008 | E16: 1
A17: 9 | B17: 성남시 | C17: 시흥사거리 | D17: 5009 | E17: 1
A18: 10 | B18: 성남시 | C18: 시흥사거리.고등공공주택지구 | D18: 5010 | E18: 1
A19: 11 | B19: 성남시 | C19: 등자리 | D19: 5011 | E19: 1
A20: 12 | B20: 성남시 | C20: 공군아파트 | D20: 5012 | E20: 1
... A31: 23 | B31: 성남시 | C31: 여수대교 | D31: 5023 | E31: 1
A32: 24 | B32: 성남시 | C32: 여수대교 | D32: 5024
A33: 25 | B33: 성남시 | C33: 동서울대학교 | D33: 5025 | E33: 1
A34: 26 | B34: 성남시 | C34: 복정동행정복지센터 | D34: 5026 | E34: 1
A35: 27 | B35: 성남시 | C35: 복정동행정복지센터 | D35: 5027 | E35: 1
A36: 28 | B36: 성남시 | C36: 복우물.웃말입구 | D36: 5028 | E36: 1
A37: 29 | B37: 성남시 | C37: 수진리고개.태평고개 | D37: 5029 | E37: 1
A38: 30 | B38: 성남시 | C38: 가천대역.가천대학교 | D38: 5030 | E38: 1
A39: 31 | B39: 성남시 | C39: 복우물.웃말입구 | D39: 5031 | E39: 1
A40: 32 | B40: 성남시 | C40: 수진리고개.태평고개 | D40: 5032 | E40: 1
A41: 33 | B41: 성남시 | C41: 성남수정경찰서 | D41: 5033 | E41: 1
A42: 34 | B42: 성남시 | C42: 태평고개 | D42: 5034 | E42: 1
A43: 35 | B43: 성남시 | C43: 성남고등공공주택지구.서편 | D43: 5035 | E43: 1
A44: 36 | B44: 성남시 | C44: 모란고개 | D44: 5036 | E44: 1
... A58: 50 | B58: 성남시 | C58: 태평오거리 | D58: 5050 | E58: 1
A59: 51 | B59: 성남시 | C59: 태평오거리 | D59: 5051
A60: 52 | B60: 성남시 | C60: 수성교.소방서 | D60: 5052 | E60: 1
A61: 53 | B61: 성남시 | C61: 중앙파출소 | D61: 5053 | E61: 1
A62: 54 | B62: 성남시 | C62: 중앙파출소 | D62: 5054
A63: 55 | B63: 성남시 | C63: 태평역(마을) | D63: 5055
A64: 56 | B64: 성남시 | C64: 태평역(마을) | D64: 5056
A65: 57 | B65: 성남시 | C65: 태평2동행정복지센터 | D65: 5057 | E65: 1
A66: 58 | B66: 성남시 | C66: 태평2동행정복지센터 | D66: 5058 | E66: 1
...

Sheet 부천
A1: 부천시 정류소전광판(BIT) 설치지점 현황
A3: ※ 노란색 부분만 작성할 것 [작성방법] 1. 정류소 타입(쉘터, 표지, 무표지)를 기입할 것 2. 정류소별 BIT 설치 세부현황을 기입할 것(정류소번호, ID로 매칭해서 반드시 기재할 것) - 1개 정류소에 BIT 유형별로 설치된 경우 모든 수량 표기할 것 - 사례1 (수원역 정류소(20000001) 1곳에 LED 3개, LCD 2개 있는 경우) : BIT설치여부 1 / LED 3 / LCD 2 ※ 버스기반정보상에 등록된 ID와 번호를 참고하여 시군 센터내부에 매칭 테이블을 관리하고 있으므로 반드시 작성할 것 3. 해당 시군 관할 정류소가 아닌 경우 시군명 변경하고 관할 정류소가 누락된 경우 인접 시군 현황을 참고하여 추가 작성할 것 4. 비고란에 정류소미존재 기재된 경우 운송관리시스템에서 확인 후 정류소 반영
P5: (단위 : 개소)
A6: NO | B6: 시군 | C6: 정류소 | I6: 정류소전광판(BIT)
C7: 정류소명 | D7: 정류소 타입 | G7: 정류소번호 (5자리) | H7: 정류소ID (9자리) | I7: BIT 설치여부 | J7: BIT 유형 | P7: 비고
D8: 쉘터 (쉘터+표지) | E8: 표지 | F8: 무표지 | J8: LED | K8: LCD | L8: LED+LCD 복합형 | M8: 알뜰형 | N8: 임대형 (음성) | O8: 기타
C9: =COUNTA(C10:C1109) -> 1100 | D9: =COUNT(D10:D1109) -> 731 | E9: =COUNT(E10:E1109) -> 313 | F9: =COUNT(F10:F1109) -> 56 | I9: =COUNT(I10:I1109) -> 839 | J9: =COUNT(J10:J1109) -> 506 | K9: =COUNT(K10:K1109) -> 287 | L9: =COUNT(L10:L1109) -> 46 | M9: =COUNT(M10:M1109) -> 0 | N9: =COUNT(N10:N1109) -> 0 | O9: =COUNT(O10:O1109) -> 0
A10: 1 | B10: 부천시 | C10: 중앙그린빌아파트 | D10: 1 | G10: 11519 | H10: 210000542 | I10: 1 | K10: 1
A11: 2 | B11: 부천시 | C11: 심곡동양파라곤 | D11: 1 | G11: 12449 | H11: 211000223 | I11: 1 | K11: 1
A12: 3 | B12: 부천시 | C12: 보강빌라.대흥아트빌 | E12: 1 | G12: 12452 | H12: 211000225 | I12: 1 | J12: 1
A13: 4 | B13: 부천시 | C13: 제일주유소 | E13: 1 | G13: 13304 | H13: 212000316 | I13: 1 | K13: 1
A14: 5 | B14: 부천시 | C14: 신작동사거리 | D14: 1 | G14: 13315 | H14: 212000346
A15: 6 | B15: 부천시 | C15: 오쇠교 | E15: 1 | G15: 13321 | H15: 212000363
A16: 7 | B16: 부천시 | C16: 제일주유소 | E16: 1 | G16: 13264 | H16: 212000313 | I16: 1 | K16: 1
A17: 8 | B17: 부천시 | C17: 중앙그린빌아파트 | D17: 1 | G17: 11520 | H17: 210000543 | I17: 1 | K17: 1
A18: 9 | B18: 부천시 | C18: 상1주민지원센터입구 | E18: 1 | G18: 11517 | H18: 210000539 | I18: 1 | J18: 1
A19: 10 | B19: 부천시 | C19: 부천시청 | D19: 1 | G19: 11179 | H19: 210000482 | I19: 1 | J19: 1
A20: 11 | B20: 부천시 | C20: 송내역.로데오거리 | D20: 1 | G20: 11074 | H20: 210000537 | I20: 1 | J20: 1
A21: 12 | B21: 부천시 | C21: 천화사.심원고등학교 | D21: 1 | G21: 11476 | H21: 210000454 | I21: 1 | J21: 1
A22: 13 | B22: 부천시 | C22: 부천역북부(기점) | E22: 1 | G22: 11461 | H22: 210000481 | I22: 1 | L22: 2
A23: 14 | B23: 부천시 | C23: 한양아파트 | E23: 1 | G23: 11474 | H23: 210000126 | I23: 1 | J23: 1
A24: 15 | B24: 부천시 | C24: 그린타운앞.유베이스 | D24: 1 | G24: 11521 | H24: 210000545 | I24: 1 | J24: 1
A25: 16 | B25: 부천시 | C25: 동원아파트 | E25: 1 | G25: 13212 | H25: 212000241 | I25: 1 | J25: 1
A26: 17 | B26: 부천시 | C26: 진성그린아파트 | F26: 1 | G26: 11465 | H26: 210000428
A27: 18 | B27: 부천시 | C27: 역곡상상시장(마을) | E27: 1 | G27: 11407 | H27: 210000417
A28: 19 | B28: 부천시 | C28: 풍림아파트.부천다문화지원센터 | D28: 1 | G28: 11509 | H28: 210000474 | I28: 1 | K28: 1
A29: 20 | B29: 부천시 | C29: 은데미공원 | D29: 1 | G29: 13186 | H29: 212000196 | I29: 1 | J29: 1
A30: 21 | B30: 부천시 | C30: 부천시민학습원 | D30: 1 | G30: 11433 | H30: 210000403 | I30: 1 | K30: 1
A31: 22 | B31: 부천시 | C31: 스타필드시티부천 | D31: 1 | G31: 12192 | H31: 211000186 | I31: 1 | L31: 1
A32: 23 | B32: 부천시 | C32: 종합운동장 | D32: 1 | G32: 11368 | H32: 210000095 | I32: 1 | K32: 1
A33: 24 | B33: 부천시 | C33: 오정동경인OBS방송국 | D33: 1 | G33: 13054 | H33: 212000008 | I33: 1 | J33: 1
A34: 25 | B34: 부천시 | C34: 역곡감리교회.역곡2동성당 | E34: 1 | G34: 11411 | H34: 210000412 | I34: 1 | J34: 1
A35: 26 | B35: 부천시 | C35: 소새울역.소사국민체육센터 | D35: 1 | G35: 12163 | H35: 211000152 | I35: 1 | K35: 1
A36: 27 | B36: 부천시 | C36: 부천테크노파크1단지 | D36: 1 | G36: 13219 | H36: 212000222 | I36: 1 | K36: 1
A37: 28 | B37: 부천시 | C37: 부천테크노파크1.2단지 | D37: 1 | G37: 13218 | H37: 212000204 | I37: 1 | J37: 1
A38: 29 | B38: 부천시 | C38: 웅진플레이도시.상동호수공원 | D38: 1 | G38: 11496 | H38: 210000494
A39: 30 | B39: 부천시 | C39: KT부천지사사거리 | D39: 1 | G39: 11234 | H39: 210000013 | I39: 1 | J39: 1
A40: 31 | B40: 부천시 | C40: 당아래지하차도 | D40: 1 | G40: 11347 | H40: 210000079 | I40: 1 | K40: 1
A41: 32 | B41: 부천시 | C41: 여월휴먼시아3단지 | D41: 1 | G41: 13251 | H41: 212000303 | I41: 1 | K41: 1
A42: 33 | B42: 부천시 | C42: 여월단독주택 | E42: 1 | G42: 13253 | H42: 212000305 | I42: 1 | K42: 1
...

Sheet 화성
A1: 화성시 정류소전광판(BIT) 설치지점 현황
A3: ※ 노란색 부분만 작성할 것 [작성방법] 1. 정류소 타입(쉘터, 표지, 무표지)를 기입할 것 2. 정류소별 BIT 설치 세부현황을 기입할 것(정류소번호, ID로 매칭해서 반드시 기재할 것) - 1개 정류소에 BIT 유형별로 설치된 경우 모든 수량 표기할 것 - 사례1 (수원역 정류소(20000001) 1곳에 LED 3개, LCD 2개 있는 경우) : BIT설치여부 1 / LED 3 / LCD 2 ※ 버스기반정보상에 등록된 ID와 번호를 참고하여 시군 센터내부에 매칭 테이블을 관리하고 있으므로 반드시 작성할 것 3. 해당 시군 관할 정류소가 아닌 경우 시군명 변경하고 관할 정류소가 누락된 경우 인접 시군 현황을 참고하여 추가 작성할 것 4. 비고란에 정류소미존재 기재된 경우 운송관리시스템에서 확인 후 정류소 반영
P5: (단위 : 개소)
A6: NO | B6: 시군 | C6: 정류소 | I6: 정류소전광판(BIT)
C7: 정류소명 | D7: 정류소 타입 | G7: 정류소번호 (5자리) | H7: 정류소ID (9자리) | I7: BIT 설치여부 | J7: BIT 유형 | P7: 비고
D8: 쉘터 (쉘터+표지) | E8: 표지 | F8: 무표지 | J8: LED | K8: LCD | L8: LED+LCD 복합형 | M8: 알뜰형 | N8: 임대형 (음성) | O8: 기타
C9: =COUNTA(C10:C2750) -> 2741 | D9: =COUNT(D10:D2750) -> 957 | E9: =COUNT(E10:E2750) -> 157 | F9: =COUNT(F10:F2750) -> 1627 | I9: =COUNT(I10:I2750) -> 1114 | J9: =COUNT(J10:J2750) -> 534 | K9: =COUNT(K10:K2750) -> 313 | L9: =COUNT(L10:L2750) -> 198 | M9: =COUNT(M10:M2750) -> 66 | N9: =COUNT(N10:N2750) -> 0 | O9: =COUNT(O10:O2750) -> 3
A10: 1 | B10: 화성시 | C10: 힐스테이트.호반5차 | D10: 1 | G10: 55490 | H10: 233001620 | I10: 1 | L10: 1
A11: 2 | B11: 화성시 | C11: 흥법사입구 | D11: 1 | G11: 36217 | H11: 233000574 | I11: 1 | J11: 1
A12: 3 | B12: 화성시 | C12: 휴먼시아5.6블럭 | F12: 1 | G12: 55082 | H12: 233002108
A13: 4 | B13: 화성시 | C13: 휴먼빌 | F13: 1 | G13: 55544 | H13: 233003148
A14: 5 | B14: 화성시 | C14: 효행초등학교정문 | D14: 1 | G14: 55244 | H14: 233002245 | I14: 1 | K14: 1
A15: 6 | B15: 화성시 | C15: 효행초등학교(공항버스) | F15: 1 | G15: 55466 | H15: 233002283
A16: 7 | B16: 화성시 | C16: 효행초.한신더휴에듀파크 | D16: 1 | G16: 55424 | H16: 233003097 | I16: 1 | K16: 1
A17: 8 | B17: 화성시 | C17: 효행초.한신더휴에듀파크 | D17: 1 | G17: 55425 | H17: 233003098 | I17: 1 | K17: 1
A18: 9 | B18: 화성시 | C18: 효원납골공원 | D18: 1 | G18: 37860 | H18: 233001819 | I18: 1 | J18: 1
A19: 10 | B19: 화성시 | C19: 효성헤링턴플레이스 | F19: 1 | G19: 55035 | H19: 233002061
A20: 11 | B20: 화성시 | C20: 황새말앞 | D20: 1 | G20: 55700 | H20: 233001374 | I20: 1 | J20: 1
A21: 12 | B21: 화성시 | C21: 황새말앞 | F21: 1 | G21: 55699 | H21: 233001373
A22: 13 | B22: 화성시 | C22: 황계동입구 | D22: 1 | G22: 36323 | H22: 233000699 | I22: 1 | J22: 1
A23: 14 | B23: 화성시 | C23: 황계동 | D23: 1 | G23: 36322 | H23: 233000700 | I23: 1 | K23: 1
A24: 15 | B24: 화성시 | C24: 황계동 | D24: 1 | G24: 36321 | H24: 233000697 | I24: 1 | K24: 1
A25: 16 | B25: 화성시 | C25: 화수초등학교 | F25: 1 | G25: 36987 | H25: 233001413
A26: 17 | B26: 화성시 | C26: 화수사거리 | F26: 1 | G26: 37491 | H26: 233001117
A27: 18 | B27: 화성시 | C27: 화수사거리 | F27: 1 | G27: 36699 | H27: 233001553
A28: 19 | B28: 화성시 | C28: 화수사거리 | F28: 1 | G28: 36891 | H28: 233000452
A29: 20 | B29: 화성시 | C29: 화수농원앞 | F29: 1 | G29: 37832 | H29: 233001806
A30: 21 | B30: 화성시 | C30: 화수농원 | F30: 1 | G30: 37826 | H30: 233001800
A31: 22 | B31: 화성시 | C31: 화수3리입구 | F31: 1 | G31: 37830 | H31: 233001804
A32: 23 | B32: 화성시 | C32: 화수3리입구 | F32: 1 | G32: 37828 | H32: 233001802
A33: 24 | B33: 화성시 | C33: 화수3리노인회관 | F33: 1 | G33: 37829 | H33: 233001803
A34: 25 | B34: 화성시 | C34: 화수3리 | F34: 1 | G34: 36988 | H34: 233001412
A35: 26 | B35: 화성시 | C35: 화수2리입구 | F35: 1 | G35: 37831 | H35: 233001805
A36: 27 | B36: 화성시 | C36: 화수2리입구 | F36: 1 | G36: 37827 | H36: 233001801
... A38: 29 | B38: 화성시 | C38: 화수2리 | F38: 1 | G38: 37440 | H38: 233000453
A39: 30 | B39: 화성시 | C39: 화수1리입구 | D39: 1 | G39: 37493 | H39: 233001113 | I39: 1 | K39: 1
A40: 31 | B40: 화성시 | C40: 화수1리 | F40: 1 | G40: 55024 | H40: 233002054
A41: 32 | B41: 화성시 | C41: 화성푸드통합지원센터(로컬푸드직매장) | D41: 1 | G41: 36082 | H41: 233000826 | I41: 1 | K41: 1
A42: 33 | B42: 화성시 | C42: 화성푸드통합지원센터(로컬푸드직매장) | D42: 1 | G42: 36086 | H42: 233000795 | I42: 1 | J42: 1
A43: 34 | B43: 화성시 | C43: 화성중앙병원.발안초등학교 | E43: 1 | G43: 37269 | H43: 233001026 | I43: 1 | L43: 1
...

Sheet 안산
A1: 안산시 정류소전광판(BIT) 설치지점 현황
A3: ※ 노란색 부분만 작성할 것 [작성방법] 1. 정류소 타입(쉘터, 표지, 무표지)를 기입할 것 2. 정류소별 BIT 설치 세부현황을 기입할 것(정류소번호, ID로 매칭해서 반드시 기재할 것) - 1개 정류소에 BIT 유형별로 설치된 경우 모든 수량 표기할 것 - 사례1 (수원역 정류소(20000001) 1곳에 LED 3개, LCD 2개 있는 경우) : BIT설치여부 1 / LED 3 / LCD 2 ※ 버스기반정보상에 등록된 ID와 번호를 참고하여 시군 센터내부에 매칭 테이블을 관리하고 있으므로 반드시 작성할 것 3. 해당 시군 관할 정류소가 아닌 경우 시군명 변경하고 관할 정류소가 누락된 경우 인접 시군 현황을 참고하여 추가 작성할 것 4. 비고란에 정류소미존재 기재된 경우 운송관리시스템에서 확인 후 정류소 반영
P5: (단위 : 개소)
A6: NO | B6: 시군 | C6: 정류소 | I6: 정류소전광판(BIT)
C7: 정류소명 | D7: 정류소 타입 | G7: 정류소번호 (5자리) | H7: 정류소ID (9자리) | I7: BIT 설치여부 | J7: BIT 유형 | P7: 비고
D8: 쉘터 (쉘터+표지) | E8: 표지 | F8: 무표지 | J8: LED | K8: LCD | L8: LED+LCD 복합형 | M8: 알뜰형 | N8: 임대형 (음성) | O8: 기타
C9: =COUNTA(C10:C1225) -> 1216 | D9: =COUNT(D10:D1225) -> 838 | E9: =COUNT(E10:E1225) -> 259 | F9: =COUNT(F10:F1225) -> 119 | I9: =COUNT(I10:I1225) -> 814 | J9: =COUNT(J10:J1225) -> 650 | K9: =COUNT(K10:K1225) -> 149 | L9: =COUNT(L10:L1225) -> 10 | M9: =COUNT(M10:M1225) -> 8 | N9: =COUNT(N10:N1225) -> 0 | O9: =COUNT(O10:O1225) -> 0
A10: 1 | B10: 안산시 | C10: 삼천리마을앞 | D10: 1 | G10: 17346 | H10: 216000321
A11: 2 | B11: 안산시 | C11: 아메리칸스탠다드코리아 | D11: 1 | G11: 18376 | H11: 217000355
A12: 3 | B12: 안산시 | C12: 나루터 | F12: 1 | G12: 18441 | H12: 217000573
A13: 4 | B13: 안산시 | C13: 대화페인트앞 | D13: 1 | G13: 18021 | H13: 217000187
A14: 5 | B14: 안산시 | C14: 대원산업 | E14: 1 | G14: 18633 | H14: 217000675
A15: 6 | B15: 안산시 | C15: 새중앙교회 | F15: 1 | G15: 18613 | H15: 217000662
A16: 7 | B16: 안산시 | C16: 신길.삼익아파트 | D16: 1 | G16: 18628 | H16: 217000671
A17: 8 | B17: 안산시 | C17: 삼화페인트 | E17: 1 | G17: 18565 | H17: 217000580
A18: 9 | B18: 안산시 | C18: 대호프랜트 | E18: 1 | G18: 18566 | H18: 217000600
A19: 10 | B19: 안산시 | C19: 화랑초교 | D19: 1 | G19: 18590 | H19: 217000642 | I19: 1 | J19: 1
A20: 11 | B20: 안산시 | C20: 안산청소년키움센타 | E20: 1 | G20: 17394 | H20: 216000658
A21: 12 | B21: 안산시 | C21: 일성신약옆건너편 | E21: 1 | G21: 18097 | H21: 217000322 | I21: 1 | J21: 1
A22: 13 | B22: 안산시 | C22: 학현초등학교 | E22: 1 | G22: 17342 | H22: 216000344 | I22: 1 | M22: 1
A23: 14 | B23: 안산시 | C23: 그린빌16단지 | D23: 1 | G23: 18210 | H23: 217000118 | I23: 1 | J23: 1
A24: 15 | B24: 안산시 | C24: 푸르지오3차 | D24: 1 | G24: 18345 | H24: 217000274 | I24: 1 | K24: 1
A25: 16 | B25: 안산시 | C25: 서해아파트앞 | E25: 1 | G25: 17307 | H25: 216000285 | I25: 1 | J25: 1
A26: 17 | B26: 안산시 | C26: 선우빌라 | D26: 1 | G26: 17272 | H26: 216000265 | I26: 1 | K26: 1
A27: 18 | B27: 안산시 | C27: 구봉도입구 | D27: 1 | G27: 18408 | H27: 217000379 | I27: 1 | K27: 1
A28: 19 | B28: 안산시 | C28: 비취사우나 | D28: 1 | G28: 17258 | H28: 216000174
A29: 20 | B29: 안산시 | C29: 기숙사단지앞 | D29: 1 | G29: 18120 | H29: 217000454 | I29: 1 | J29: 1
A30: 21 | B30: 안산시 | C30: 선부휴먼빌아파트 | D30: 1 | G30: 18463 | H30: 217000462 | I30: 1 | J30: 1
A31: 22 | B31: 안산시 | C31: 신한전기 | E31: 1 | G31: 18471 | H31: 217000443
A32: 23 | B32: 안산시 | C32: 대덕GDS | E32: 1 | G32: 18487 | H32: 217000040 | I32: 1 | J32: 1
A33: 24 | B33: 안산시 | C33: 풍산전기(주) | E33: 1 | G33: 18080 | H33: 217000035
A34: 25 | B34: 안산시 | C34: 군자주공11단지 | D34: 1 | G34: 18203 | H34: 217000198 | I34: 1 | J34: 1
A35: 26 | B35: 안산시 | C35: 정재초등학교 | D35: 1 | G35: 17205 | H35: 216000197 | I35: 1 | K35: 1
A36: 27 | B36: 안산시 | C36: 한국신문잉크 | E36: 1 | G36: 18385 | H36: 217000364
A37: 28 | B37: 안산시 | C37: 황금목장 | F37: 1 | G37: 18508 | H37: 217000549
A38: 29 | B38: 안산시 | C38: 황금목장 | F38: 1 | G38: 18510 | H38: 217000547
A39: 30 | B39: 안산시 | C39: 안산문화글로벌광장 | D39: 1 | G39: 18496 | H39: 217000486 | I39: 1 | K39: 1
A40: 31 | B40: 안산시 | C40: 대부교회 | F40: 1 | G40: 18429 | H40: 217000399
A41: 32 | B41: 안산시 | C41: 방아머리선착장 | D41: 1 | G41: 18414 | H41: 217000373 | I41: 1 | J41: 1
A42: 33 | B42: 안산시 | C42: 어촌민속전시관 | D42: 1 | G42: 18457 | H42: 217000425
...

Sheet 남양주
A1: 남양주시 정류소전광판(BIT) 설치지점 현황
A3: ※ 노란색 부분만 작성할 것 [작성방법] 1. 정류소 타입(쉘터, 표지, 무표지)를 기입할 것 2. 정류소별 BIT 설치 세부현황을 기입할 것(정류소번호, ID로 매칭해서 반드시 기재할 것) - 1개 정류소에 BIT 유형별로 설치된 경우 모든 수량 표기할 것 - 사례1 (수원역 정류소(20000001) 1곳에 LED 3개, LCD 2개 있는 경우) : BIT설치여부 1 / LED 3 / LCD 2 ※ 버스기반정보상에 등록된 ID와 번호를 참고하여 시군 센터내부에 매칭 테이블을 관리하고 있으므로 반드시 작성할 것 3. 해당 시군 관할 정류소가 아닌 경우 시군명 변경하고 관할 정류소가 누락된 경우 인접 시군 현황을 참고하여 추가 작성할 것 4. 비고란에 정류소미존재 기재된 경우 운송관리시스템에서 확인 후 정류소 반영
P5: (단위 : 개소)
A6: NO | B6: 시군 | C6: 정류소 | I6: 정류소전광판(BIT)
C7: 정류소명 | D7: 정류소 타입 | G7: 정류소번호 (5자리) | H7: 정류소ID (9자리) | I7: BIT 설치여부 | J7: BIT 유형 | P7: 비고
D8: 쉘터 (쉘터+표지) | E8: 표지 | F8: 무표지 | J8: LED | K8: LCD | L8: LED+LCD 복합형 | M8: 알뜰형 | N8: 임대형 (음성) | O8: 기타
C9: =COUNTA(C10:C1793) -> 1784 | D9: =COUNT(D10:D1793) -> 991 | E9: =COUNT(E10:E1793) -> 525 | F9: =COUNT(F10:F1793) -> 268 | I9: =COUNT(I10:I1793) -> 925 | J9: =COUNT(J10:J1793) -> 249 | K9: =COUNT(K10:K1793) -> 0 | L9: =COUNT(L10:L1793) -> 676 | M9: =COUNT(M10:M1793) -> 0 | N9: =COUNT(N10:N1793) -> 0 | O9: =COUNT(O10:O1793) -> 0
A10: 1 | B10: 남양주시 | C10: 동부센트레빌아파트 | D10: 1 | G10: 49267 | H10: 222001261 | I10: 1 | L10: 1
A11: 2 | B11: 남양주시 | C11: 양정역.백천사입구 | F11: 1 | G11: 23685 | H11: 222001054
A12: 3 | B12: 남양주시 | C12: 영남아파트 | D12: 1 | G12: 23856 | H12: 222001172
A13: 4 | B13: 남양주시 | C13: 남양휴튼아파트.진접우체국.풍양보건소입구 | D13: 1 | G13: 23965 | H13: 222001356 | I13: 1 | L13: 1
A14: 5 | B14: 남양주시 | C14: 코오롱아파트 | D14: 1 | G14: 49266 | H14: 222001260 | I14: 1 | L14: 1
A15: 6 | B15: 남양주시 | C15: 회관앞 | D15: 1 | G15: 49191 | H15: 222000986
A16: 7 | B16: 남양주시 | C16: 자연앤이편한세상2차 | D16: 1 | G16: 49125 | H16: 222001024 | I16: 1 | J16: 1
A17: 8 | B17: 남양주시 | C17: 경동빌라 | F17: 1 | G17: 49126 | H17: 222001023
A18: 9 | B18: 남양주시 | C18: 군장리종점 | E18: 1 | G18: 49112 | H18: 222001020
A19: 10 | B19: 남양주시 | C19: 용화사 | E19: 1 | G19: 49115 | H19: 222000999
A20: 11 | B20: 남양주시 | C20: 섬마을 | D20: 1 | G20: 49116 | H20: 222000998 | I20: 1 | J20: 1
A21: 12 | B21: 남양주시 | C21: 회관앞 | E21: 1 | G21: 49117 | H21: 222000858
A22: 13 | B22: 남양주시 | C22: 백봉초등학교 | D22: 1 | G22: 49135 | H22: 222001047 | I22: 1 | L22: 1
A23: 14 | B23: 남양주시 | C23: 중흥2차아파트앞 | D23: 1 | G23: 49138 | H23: 222001044 | I23: 1 | L23: 1
A24: 15 | B24: 남양주시 | C24: 화성아파트앞 | E24: 1 | G24: 49139 | H24: 222001043
A25: 16 | B25: 남양주시 | C25: 금호어울림아파트앞 | E25: 1 | G25: 49141 | H25: 222001041
A26: 17 | B26: 남양주시 | C26: 금호어울림아파트앞 | E26: 1 | G26: 49142 | H26: 222001040
A27: 18 | B27: 남양주시 | C27: 평내상업지구 | E27: 1 | G27: 49143 | H27: 222001039
A28: 19 | B28: 남양주시 | C28: 원차산 | D28: 1 | G28: 49133 | H28: 222000250 | I28: 1 | J28: 1
A29: 20 | B29: 남양주시 | C29: 두산1차아파트 | D29: 1 | G29: 49134 | H29: 222000243 | I29: 1 | J29: 1 | P29: LED1, LCD1
A30: 21 | B30: 남양주시 | C30: 하팔당마을 | E30: 1 | G30: 23467 | H30: 222000216
A31: 22 | B31: 남양주시 | C31: 수동농협창고 | F31: 1 | G31: 49120 | H31: 222000834
A32: 23 | B32: 남양주시 | C32: 대명루첸1차아파트 | D32: 1 | G32: 23485 | H32: 222000771 | I32: 1 | J32: 1
A33: 24 | B33: 남양주시 | C33: 대명루첸1차아파트 | E33: 1 | G33: 23486 | H33: 222000768
A34: 25 | B34: 남양주시 | C34: 보학마을.라온프라이빗아파트 | D34: 1 | G34: 49123 | H34: 222000744 | I34: 1 | J34: 1
A35: 26 | B35: 남양주시 | C35: 리버타운 | E35: 1 | G35: 49128 | H35: 222000063
A36: 27 | B36: 남양주시 | C36: 금남3리 | D36: 1 | G36: 49129 | H36: 222000059 | I36: 1 | L36: 1
A37: 28 | B37: 남양주시 | C37: 가람의집 | E37: 1 | G37: 49130 | H37: 222000056
A38: 29 | B38: 남양주시 | C38: 백월리 | F38: 1 | G38: 49132 | H38: 222000049
A39: 30 | B39: 남양주시 | C39: 남양주제2청사.남양주경찰서.남양주보건소 | D39: 1 | G39: 49060 | H39: 222000947
A40: 31 | B40: 남양주시 | C40: 동연평교차로 | E40: 1 | G40: 49061 | H40: 222000942
A41: 32 | B41: 남양주시 | C41: 부대앞 | F41: 1 | G41: 49063 | H41: 222000940
A42: 33 | B42: 남양주시 | C42: 샛터마을 | D42: 1 | G42: 49064 | H42: 222000939
...

Sheet 안양
A1: 안양시 정류소전광판(BIT) 설치지점 현황
A3: ※ 노란색 부분만 작성할 것 [작성방법] 1. 정류소 타입(쉘터, 표지, 무표지)를 기입할 것 2. 정류소별 BIT 설치 세부현황을 기입할 것(정류소번호, ID로 매칭해서 반드시 기재할 것) - 1개 정류소에 BIT 유형별로 설치된 경우 모든 수량 표기할 것 - 사례1 (수원역 정류소(20000001) 1곳에 LED 3개, LCD 2개 있는 경우) : BIT설치여부 1 / LED 3 / LCD 2 ※ 버스기반정보상에 등록된 ID와 번호를 참고하여 시군 센터내부에 매칭 테이블을 관리하고 있으므로 반드시 작성할 것 3. 해당 시군 관할 정류소가 아닌 경우 시군명 변경하고 관할 정류소가 누락된 경우 인접 시군 현황을 참고하여 추가 작성할 것 4. 비고란에 정류소미존재 기재된 경우 운송관리시스템에서 확인 후 정류소 반영
P5: (단위 : 개소)
A6: NO | B6: 시군 | C6: 정류소 | I6: 정류소전광판(BIT)
C7: 정류소명 | D7: 정류소 타입 | G7: 정류소번호 (5자리) | H7: 정류소ID (9자리) | I7: BIT 설치여부 | J7: BIT 유형 | P7: 비고
D8: 쉘터 (쉘터+표지) | E8: 표지 | F8: 무표지 | J8: LED | K8: LCD | L8: LED+LCD 복합형 | M8: 알뜰형 | N8: 임대형 (음성) | O8: 기타
C9: =COUNTA(C10:C730) -> 721 | D9: =COUNTA(D10:D730) -> 456 | E9: =COUNTA(E10:E730) -> 199 | F9: =COUNTA(F10:F730) -> 49 | I9: =COUNTA(I10:I730) -> 354 | J9: =COUNTA(J10:J730) -> 93 | K9: =COUNTA(K10:K730) -> 255 | L9: =COUNTA(L10:L730) -> 6 | M9: =COUNTA(M10:M730) -> 0 | N9: =COUNTA(N10:N730) -> 0 | O9: =COUNTA(O10:O730) -> 0
A10: 1 | B10: 안양시 | C10: 사회복지관 | E10: 1 | G10: 9235 | H10: 208000261
A11: 2 | B11: 안양시 | C11: 효성아파트.종점 | E11: 1 | G11: 9231 | H11: 208000264
A12: 3 | B12: 안양시 | C12: 오뚜기식품.두산벤처다임 | D12: 1 | G12: 10164 | H12: 209000029 | I12: 1 | K12: 1
A13: 4 | B13: 안양시 | C13: 현대아파트.안양서중학교 | D13: 1 | G13: 9222 | H13: 208000245
A14: 5 | B14: 안양시 | C14: 초원세경아파트 | D14: 1 | G14: 10123 | H14: 209000073 | I14: 1 | K14: 1
A15: 6 | B15: 안양시 | C15: 청원놀이터 | D15: 1 | G15: 9217 | H15: 208000207 | I15: 1 | K15: 1
A16: 7 | B16: 안양시 | C16: 안양문화원.소방서 | E16: 1 | G16: 9155 | H16: 208000050
A17: 8 | B17: 안양시 | C17: 용강빌라 | D17: 1 | G17: 9023 | H17: 208000109 | I17: 1 | K17: 1
A18: 9 | B18: 안양시 | C18: 만안평생교육센터 | D18: 1 | G18: 9168 | H18: 208000175 | I18: 1 | K18: 1
A19: 10 | B19: 안양시 | C19: 효성아파트입구 | D19: 1 | G19: 9233 | H19: 208000262
A20: 11 | B20: 안양시 | C20: 대림대학 | D20: 1 | G20: 10002 | H20: 209000003 | I20: 1 | K20: 1
A21: 12 | B21: 안양시 | C21: 내촌마을 | D21: 1 | G21: 10056 | H21: 209000015 | I21: 1 | K21: 1
A22: 13 | B22: 안양시 | C22: 충훈1교 | D22: 1 | G22: 9044 | H22: 208000208 | I22: 1 | K22: 1
A23: 14 | B23: 안양시 | C23: 평촌고등학교 | D23: 1 | G23: 10190 | H23: 209000206
A24: 15 | B24: 안양시 | C24: 안양1번가 | E24: 1 | G24: 9220 | H24: 208000244
A25: 16 | B25: 안양시 | C25: 목련마을 | D25: 1 | G25: 10194 | H25: 209000221 | I25: 1 | J25: 1
A26: 17 | B26: 안양시 | C26: 부안중학교 | D26: 1 | G26: 10202 | H26: 209000233 | I26: 1 | J26: 1
A27: 18 | B27: 안양시 | C27: 한림대병원 | D27: 1 | G27: 10201 | H27: 209000231 | I27: 1 | K27: 1
A28: 19 | B28: 안양시 | C28: 태영아파트 | D28: 1 | G28: 10209 | H28: 209000243 | I28: 1 | K28: 1
A29: 20 | B29: 안양시 | C29: 호계삼거리.디오슈페리움 | D29: 1 | G29: 10210 | H29: 209000240 | I29: 1 | K29: 1
A30: 21 | B30: 안양시 | C30: 힐스테이트에코평촌.부안중학교 | D30: 1 | G30: 10203 | H30: 209000234 | I30: 1 | K30: 1
A31: 22 | B31: 안양시 | C31: 차고지입구 | D31: 1 | G31: 9214 | H31: 208000236
A32: 23 | B32: 안양시 | C32: 관악장애인종합복지관 | D32: 1 | G32: 9215 | H32: 208000233
A33: 24 | B33: 안양시 | C33: 성원아파트3동 | D33: 1 | G33: 9216 | H33: 208000230 | I33: 1 | J33: 1
A34: 25 | B34: 안양시 | C34: 안양예술공원 | D34: 1 | G34: 9115 | H34: 208000033 | I34: 1 | K34: 1
A35: 26 | B35: 안양시 | C35: 장애인복지회관 | D35: 1 | G35: 9142 | H35: 208000031
A36: 27 | B36: 안양시 | C36: 평촌공고 | D36: 1 | G36: 10131 | H36: 209000184 | I36: 1 | J36: 1
A37: 28 | B37: 안양시 | C37: 학원가사거리.먹자골목 | E37: 1 | G37: 10104 | H37: 209000174 | I37: 1 | J37: 1
A38: 29 | B38: 안양시 | C38: 평촌학원가.먹자거리 | D38: 1 | G38: 10108 | H38: 209000173 | I38: 1 | K38: 1
A39: 30 | B39: 안양시 | C39: 자유공원.평촌아트홀 | D39: 1 | G39: 10116 | H39: 209000172 | I39: 1 | J39: 1
A40: 31 | B40: 안양시 | C40: 농수산물도매시장 | D40: 1 | G40: 10158 | H40: 209000169 | I40: 1 | K40: 1
A41: 32 | B41: 안양시 | C41: 초원한양아파트 | D41: 1 | G41: 10143 | H41: 209000167 | I41: 1 | K41: 1
A42: 33 | B42: 안양시 | C42: 동안고등학교정문 | D42: 1 | G42: 10145 | H42: 209000166 | I42: 1 | K42: 1
...

Sheet 평택
A1: 평택시 정류소전광판(BIT) 설치지점 현황
A3: ※ 노란색 부분만 작성할 것 [작성방법] 1. 정류소 타입(쉘터, 표지, 무표지)를 기입할 것 2. 정류소별 BIT 설치 세부현황을 기입할 것(정류소번호, ID로 매칭해서 반드시 기재할 것) - 1개 정류소에 BIT 유형별로 설치된 경우 모든 수량 표기할 것 - 사례1 (수원역 정류소(20000001) 1곳에 LED 3개, LCD 2개 있는 경우) : BIT설치여부 1 / LED 3 / LCD 2 ※ 버스기반정보상에 등록된 ID와 번호를 참고하여 시군 센터내부에 매칭 테이블을 관리하고 있으므로 반드시 작성할 것 3. 해당 시군 관할 정류소가 아닌 경우 시군명 변경하고 관할 정류소가 누락된 경우 인접 시군 현황을 참고하여 추가 작성할 것 4. 비고란에 정류소미존재 기재된 경우 운송관리시스템에서 확인 후 정류소 반영
P5: (단위 : 개소)
A6: NO | B6: 시군 | C6: 정류소 | I6: 정류소전광판(BIT)
C7: 정류소명 | D7: 정류소 타입 | G7: 정류소번호 (5자리) | H7: 정류소ID (9자리) | I7: BIT 설치여부 | J7: BIT 유형 | P7: 비고
D8: 쉘터 (쉘터+표지) | E8: 표지 | F8: 무표지 | J8: LED | K8: LCD | L8: LED+LCD 복합형 | M8: 알뜰형 | N8: 임대형 (음성) | O8: 기타
C9: =COUNTA(C10:C1824) -> 1815 | D9: =COUNTA(D10:D1824) -> 1031 | E9: =COUNTA(E10:E1824) -> 392 | F9: =COUNTA(F10:F1824) -> 385 | I9: =COUNTA(I10:I1824) -> 498 | J9: =COUNTA(J10:J1824) -> 296 | K9: =COUNTA(K10:K1824) -> 183 | L9: =COUNTA(L10:L1824) -> 19 | M9: =COUNTA(M10:M1824) -> 1 | N9: =COUNTA(N10:N1824) -> 0 | O9: =COUNTA(O10:O1824) -> 0
A10: 1 | B10: 평택시 | C10: 도곡초교 | F10: 1 | G10: 48056 | H10: 214001228
A11: 2 | B11: 평택시 | C11: 후암리 | F11: 1 | G11: 48060 | H11: 214001163
A12: 3 | B12: 평택시 | C12: 부영2차정문 | D12: 1 | G12: 48077 | H12: 214000084
A13: 4 | B13: 평택시 | C13: 석정1리(감기) | D13: 1 | G13: 48028 | H13: 214001009
A14: 5 | B14: 평택시 | C14: 비전중학교 | D14: 1 | G14: 48378 | H14: 214001267 | I14: 1 | K14: 1
A15: 6 | B15: 평택시 | C15: 비전중학교 | D15: 1 | G15: 48379 | H15: 214001268 | I15: 1 | K15: 1
A16: 7 | B16: 평택시 | C16: 상리 | F16: 1 | G16: 48380 | H16: 214001270
A17: 8 | B17: 평택시 | C17: 대안1리 | D17: 1 | G17: 48053 | H17: 214000897
A18: 9 | B18: 평택시 | C18: 건천리 | F18: 1 | G18: 15964 | H18: 214000830
A19: 10 | B19: 평택시 | C19: 평택공설운동장 | E19: 1 | G19: 15932 | H19: 214001185
A20: 11 | B20: 평택시 | C20: 노양1리 | D20: 1 | G20: 48300 | H20: 214001188 | I20: 1 | J20: 1
A21: 12 | B21: 평택시 | C21: 청아초교 | D21: 1 | G21: 48965 | H21: 214001068
A22: 13 | B22: 평택시 | C22: 길음리입구 | F22: 1 | G22: 48306 | H22: 214001064
A23: 14 | B23: 평택시 | C23: 석정2리(한유지부락입구) | F23: 1 | G23: 48309 | H23: 214001011
A24: 15 | B24: 평택시 | C24: 도대3리 | D24: 1 | G24: 48311 | H24: 214000990
A25: 16 | B25: 평택시 | C25: 대안3리 | D25: 1 | G25: 48375 | H25: 214001112
A26: 17 | B26: 평택시 | C26: 건천리 | D26: 1 | G26: 48351 | H26: 214000831
A27: 18 | B27: 평택시 | C27: 청북중학교 | D27: 1 | G27: 48352 | H27: 214001219
A28: 19 | B28: 평택시 | C28: 마산3리 | D28: 1 | G28: 48356 | H28: 214001147
A29: 20 | B29: 평택시 | C29: 명법사.남부복지타운 | D29: 1 | G29: 48384 | H29: 214001239 | I29: 1 | J29: 1
A30: 21 | B30: 평택시 | C30: 광동제약.홈플러스 | D30: 1 | G30: 48358 | H30: 214000608 | I30: 1 | J30: 1
A31: 22 | B31: 평택시 | C31: 덕절1리 | F31: 1 | G31: 48359 | H31: 214000822
A32: 23 | B32: 평택시 | C32: 길송횟집앞 | F32: 1 | G32: 48284 | H32: 214000958
A33: 24 | B33: 평택시 | C33: 현덕초교 | F33: 1 | G33: 48286 | H33: 214000929
A34: 25 | B34: 평택시 | C34: 현덕초교 | F34: 1 | G34: 48287 | H34: 214000928
A35: 26 | B35: 평택시 | C35: 신왕1리 | F35: 1 | G35: 48288 | H35: 214000909
A36: 27 | B36: 평택시 | C36: 권관3리 | E36: 1 | G36: 48291 | H36: 214000857
A37: 28 | B37: 평택시 | C37: 회화리 | F37: 1 | G37: 48292 | H37: 214000841
A38: 29 | B38: 평택시 | C38: 유일약국 | E38: 1 | G38: 48293 | H38: 214000813
A39: 30 | B39: 평택시 | C39: 고잔1리 | F39: 1 | G39: 48228 | H39: 214001156
A40: 31 | B40: 평택시 | C40: k-55후문사거리 | F40: 1 | G40: 48229 | H40: 214001153
A41: 32 | B41: 평택시 | C41: 장등2리 | D41: 1 | G41: 48230 | H41: 214001152
A42: 33 | B42: 평택시 | C42: 원정삼거리 | F42: 1 | G42: 48231 | H42: 214001145
...

Sheet 시흥
A1: 시흥시 정류소전광판(BIT) 설치지점 현황
A3: ※ 노란색 부분만 작성할 것 [작성방법] 1. 정류소 타입(쉘터, 표지, 무표지)를 기입할 것 2. 정류소별 BIT 설치 세부현황을 기입할 것(정류소번호, ID로 매칭해서 반드시 기재할 것) - 1개 정류소에 BIT 유형별로 설치된 경우 모든 수량 표기할 것 - 사례1 (수원역 정류소(20000001) 1곳에 LED 3개, LCD 2개 있는 경우) : BIT설치여부 1 / LED 3 / LCD 2 ※ 버스기반정보상에 등록된 ID와 번호를 참고하여 시군 센터내부에 매칭 테이블을 관리하고 있으므로 반드시 작성할 것 3. 해당 시군 관할 정류소가 아닌 경우 시군명 변경하고 관할 정류소가 누락된 경우 인접 시군 현황을 참고하여 추가 작성할 것 4. 비고란에 정류소미존재 기재된 경우 운송관리시스템에서 확인 후 정류소 반영
P5: (단위 : 개소)
A6: NO | B6: 시군 | C6: 정류소 | I6: 정류소전광판(BIT)
C7: 정류소명 | D7: 정류소 타입 | G7: 정류소번호 (5자리) | H7: 정류소ID (9자리) | I7: BIT 설치여부 | J7: BIT 유형 | P7: 비고
D8: 쉘터 (쉘터+표지) | E8: 표지 | F8: 무표지 | J8: LED | K8: LCD | L8: LED+LCD 복합형 | M8: 알뜰형 | N8: 임대형 (음성) | O8: 기타
C9: =COUNTA(C10:C1059) -> 1050 | D9: =COUNT(D10:D1059) -> 644 | E9: =COUNT(E10:E1059) -> 332 | F9: =COUNT(F10:F1059) -> 74 | I9: =COUNT(I10:I1059) -> 622 | J9: =COUNT(J10:J1059) -> 62 | K9: =COUNT(K10:K1059) -> 557 | L9: =COUNT(L10:L1059) -> 1 | M9: =COUNT(M10:M1059) -> 2 | N9: =COUNT(N10:N1059) -> 0 | O9: =COUNT(O10:O1059) -> 0
A10: 1 | B10: 시흥시 | C10: 목감호반5차더숲 | D10: 1 | G10: 25757 | H10: 224000219 | I10: 1 | K10: 1
A11: 2 | B11: 시흥시 | C11: 목감고등학교 | D11: 1 | G11: 25736 | H11: 224000747 | I11: 1 | K11: 1
A12: 3 | B12: 시흥시 | C12: 길마재 | D12: 1 | G12: 25737 | H12: 224000272 | I12: 1 | K12: 1
A13: 4 | B13: 시흥시 | C13: 물왕삼거리 | D13: 1 | G13: 25731 | H13: 224000734 | I13: 1 | K13: 1
A14: 5 | B14: 시흥시 | C14: 물왕삼거리 | D14: 1 | G14: 25726 | H14: 224000728 | I14: 1 | K14: 1
A15: 6 | B15: 시흥시 | C15: 아랫말 | D15: 1 | G15: 25727 | H15: 224000463 | I15: 1 | K15: 1
A16: 7 | B16: 시흥시 | C16: 나분들 | D16: 1 | G16: 25728 | H16: 224000730
A17: 8 | B17: 시흥시 | C17: 능곡고등학교 | D17: 1 | G17: 25816 | H17: 224000827 | I17: 1 | K17: 1
A18: 9 | B18: 시흥시 | C18: 시흥능곡역.로데오광장 | D18: 1 | G18: 25810 | H18: 224000776 | I18: 1 | K18: 1
A19: 10 | B19: 시흥시 | C19: 오이도박물관 | D19: 1 | G19: 25015 | H19: 224000740 | I19: 1 | K19: 1
A20: 11 | B20: 시흥시 | C20: 청솔아파트 | E20: 1 | G20: 25656 | H20: 224000621
A21: 12 | B21: 시흥시 | C21: 한국산업기술대 | E21: 1 | G21: 25681 | H21: 224000601
A22: 13 | B22: 시흥시 | C22: 소방파출소 | D22: 1 | G22: 25706 | H22: 224000641 | I22: 1 | K22: 1
A23: 14 | B23: 시흥시 | C23: 이마트물류센타 | D23: 1 | G23: 25734 | H23: 224000718 | I23: 1 | K23: 1
A24: 15 | B24: 시흥시 | C24: 목감호반더레이크 | D24: 1 | G24: 25739 | H24: 224000703 | I24: 1 | K24: 1
A25: 16 | B25: 시흥시 | C25: 대철철강 | E25: 1 | G25: 25788 | H25: 224000790
A26: 17 | B26: 시흥시 | C26: 한맥중공업 | F26: 1 | G26: 25761 | H26: 224000759
A27: 18 | B27: 시흥시 | C27: 진로아파트 | E27: 1 | G27: 25655 | H27: 224000602
A28: 19 | B28: 시흥시 | C28: 이지더원1차 | D28: 1 | G28: 25752 | H28: 224000736 | I28: 1 | K28: 1
