Workbook

Sheet 월별(성남시)
B1: 공공하수처리시설 수질검사 결과 (2026년)
B3: 시군명 (시설명) | C3: 시설용량 (㎥/일) | D3: 월별 | E3: 구분 | F3: 유 입 수 (㎎/ℓ) | L3: 방 류 수 (㎎/ℓ) | R3: 유입량 (㎥/일) | S3: 재이용량 (㎥/일) | T3: 최종방류량 (㎥/일)
F4: BOD | G4: TOC | H4: SS | I4: T-N | J4: T-P | K4: 대장균군수 (개/㎖) | L4: BOD | M4: TOC | N4: SS | O4: T-N | P4: T-P | Q4: 대장균군수 (개/㎖)
B6: 제1처리장 | C6: 245000 | D6: 계 | E6: 평균 | F6: ='전체-일별(데이터 입력)'!B370 -> 169.76436 | G6: ='전체-일별(데이터 입력)'!C370 -> 95.990566 | H6: ='전체-일별(데이터 입력)'!D370 -> 197.4783 | I6: ='전체-일별(데이터 입력)'!E370 -> 37.773255 | J6: ='전체-일별(데이터 입력)'!F370 -> 4.9225566 | K6: ='전체-일별(데이터 입력)'!G370 -> 82566.667 | L6: ='전체-일별(데이터 입력)'!J370 -> 2.3376238 | M6: ='전체-일별(데이터 입력)'!K370 -> 5.3971698 | N6: ='전체-일별(데이터 입력)'!L370 -> 2.9415094 | O6: ='전체-일별(데이터 입력)'!M370 -> 8.3932358 | P6: ='전체-일별(데이터 입력)'!N370 -> 0.13210377 | Q6: ='전체-일별(데이터 입력)'!O370 -> 18.857143 | R6: ='전체-일별(데이터 입력)'!P370 -> 183608.46 | S6: ='전체-일별(데이터 입력)'!AF370 -> 14218.266 | T6: ='전체-일별(데이터 입력)'!AG370 -> 307948.57
E7: 최대 | F7: ='전체-일별(데이터 입력)'!B371 -> 462.8 | G7: ='전체-일별(데이터 입력)'!C371 -> 391.7 | H7: ='전체-일별(데이터 입력)'!D371 -> 466.7 | I7: ='전체-일별(데이터 입력)'!E371 -> 68.454 | J7: ='전체-일별(데이터 입력)'!F371 -> 12.247 | K7: ='전체-일별(데이터 입력)'!G371 -> 190000 | L7: ='전체-일별(데이터 입력)'!J371 -> 4.7 | M7: ='전체-일별(데이터 입력)'!K371 -> 7.3 | N7: ='전체-일별(데이터 입력)'!L371 -> 5.4 | O7: ='전체-일별(데이터 입력)'!M371 -> 10.74 | P7: ='전체-일별(데이터 입력)'!N371 -> 0.348 | Q7: ='전체-일별(데이터 입력)'!O371 -> 52 | R7: ='전체-일별(데이터 입력)'!P371 -> 250759 | S7: ='전체-일별(데이터 입력)'!AF371 -> 21771.167 | T7: ='전체-일별(데이터 입력)'!AG371 -> 352640
E8: 최소 | F8: ='전체-일별(데이터 입력)'!B372 -> 73 | G8: ='전체-일별(데이터 입력)'!C372 -> 33.8 | H8: ='전체-일별(데이터 입력)'!D372 -> 74 | I8: ='전체-일별(데이터 입력)'!E372 -> 18.112 | J8: ='전체-일별(데이터 입력)'!F372 -> 2.458 | K8: ='전체-일별(데이터 입력)'!G372 -> 39000 | L8: ='전체-일별(데이터 입력)'!J372 -> 0.6 | M8: ='전체-일별(데이터 입력)'!K372 -> 3.1 | N8: ='전체-일별(데이터 입력)'!L372 -> 1 | O8: ='전체-일별(데이터 입력)'!M372 -> 4.955 | P8: ='전체-일별(데이터 입력)'!N372 -> 0.015 | Q8: ='전체-일별(데이터 입력)'!O372 -> 4 | R8: ='전체-일별(데이터 입력)'!P372 -> 158672 | S8: ='전체-일별(데이터 입력)'!AF372 -> 12096.72 | T8: ='전체-일별(데이터 입력)'!AG372 -> 280400
D9: 1월 | E9: 평균 | F9: 142.12258 | G9: 67.370968 | H9: 151.93548 | I9: 30.905 | J9: 3.6374839 | K9: 61112.903 | L9: 1.9774194 | M9: 4.9322581 | N9: 2.3806452 | O9: 9.2488065 | P9: 0.15919355 | Q9: 14.709677 | R9: 184317.32 | S9: 13643.627 | T9: 309292.58
E10: 최대 | F10: 245.5 | G10: 106.2 | H10: 304 | I10: 46.378 | J10: 6.412 | K10: 87500 | L10: 3.7 | M10: 5.6 | N10: 3.8 | O10: 10.74 | P10: 0.348 | Q10: 24 | R10: 196791 | S10: 15048.758 | T10: 316590
E11: 최소 | F11: 78.6 | G11: 33.8 | H11: 74 | I11: 18.112 | J11: 2.458 | K11: 39000 | L11: 0.9 | M11: 3.9 | N11: 1 | O11: 7.186 | P11: 0.015 | Q11: 4 | R11: 164491 | S11: 12523.111 | T11: 293960
D12: 2월 | E12: 평균 | F12: 169.05357 | G12: 84.853571 | H12: 194.92857 | I12: 36.691429 | J12: 4.4493214 | K12: 77035.714 | L12: 2.1321429 | M12: 5.2857143 | N12: 2.3035714 | O12: 8.16625 | P12: 0.12032143 | Q12: 15.892857 | R12: 168832.61 | S12: 14251.746 | T12: 304154.64
E13: 최대 | F13: 309 | G13: 140.4 | H13: 280 | I13: 51.047 | J13: 8.08 | K13: 120000 | L13: 4.1 | M13: 7.3 | N13: 4 | O13: 10.26 | P13: 0.208 | Q13: 25 | R13: 182517 | S13: 21771.167 | T13: 315170
E14: 최소 | F14: 75.6 | G14: 42.9 | H14: 88 | I14: 25.147 | J14: 2.629 | K14: 47000 | L14: 0.8 | M14: 3.1 | N14: 1.5 | O14: 6.274 | P14: 0.078 | Q14: 8 | R14: 158672 | S14: 12096.72 | T14: 280400
D15: 3월 | E15: 평균 | F15: 190.13548 | G15: 107.52258 | H15: 199.94194 | I15: 41.994452 | J15: 5.0036129 | K15: 107580.65 | L15: 2.6580645 | M15: 6 | N15: 3.8741935 | O15: 8.4199677 | P15: 0.12012903 | Q15: 18.612903 | R15: 191980.65 | S15: 13907.003 | T15: 304884.84
E16: 최대 | F16: 462.8 | G16: 391.7 | H16: 466.7 | I16: 68.296 | J16: 8.57 | K16: 190000 | L16: 4.3 | M16: 6.9 | N16: 5.4 | O16: 9.416 | P16: 0.166 | Q16: 38 | R16: 250759 | S16: 16805.767 | T16: 345620
E17: 최소 | F17: 73 | G17: 45.6 | H17: 98 | I17: 27.913 | J17: 3.3 | K17: 60000 | L17: 0.6 | M17: 4.8 | N17: 1.6 | O17: 5.266 | P17: 0.085 | Q17: 7 | R17: 170877 | S17: 12225.575 | T17: 290200
D18: 4월 | E18: 평균
E19: 최대
E20: 최소
D21: 5월 | E21: 평균
E22: 최대
E23: 최소
D24: 6월 | E24: 평균
E25: 최대
E26: 최소
D27: 7월 | E27: 평균
E28: 최대
E29: 최소
D30: 8월 | E30: 평균
E31: 최대
E32: 최소
D33: 9월 | E33: 평균
E34: 최대
E35: 최소
D36: 10월 | E36: 평균
E37: 최대
E38: 최소
D39: 11월 | E39: 평균
E40: 최대
E41: 최소
D42: 12월 | E42: 평균
E43: 최대
E44: 최소
B45: 제2처리장 | C45: 215000 | D45: 계 | E45: 평균 | F45: ='전체-일별(데이터 입력)'!Q370 -> 225.31485 | G45: ='전체-일별(데이터 입력)'!R370 -> 122.62453 | H45: ='전체-일별(데이터 입력)'!S370 -> 220.46226 | I45: ='전체-일별(데이터 입력)'!T370 -> 52.828991 | J45: ='전체-일별(데이터 입력)'!U370 -> 5.6545755 | K45: ='전체-일별(데이터 입력)'!V370 -> 147695.24 | L45: ='전체-일별(데이터 입력)'!Y370 -> 2.2273585 | M45: ='전체-일별(데이터 입력)'!Z370 -> 5.3971698 | N45: ='전체-일별(데이터 입력)'!AA370 -> 2.9415094 | O45: ='전체-일별(데이터 입력)'!AB370 -> 8.3932358 | P45: ='전체-일별(데이터 입력)'!AC370 -> 0.13210377 | Q45: ='전체-일별(데이터 입력)'!AD370 -> 19.339623 | R45: ='전체-일별(데이터 입력)'!AE370 -> 148188.89
E46: 최대 | F46: ='전체-일별(데이터 입력)'!Q371 -> 354 | G46: ='전체-일별(데이터 입력)'!R371 -> 253.4 | H46: ='전체-일별(데이터 입력)'!S371 -> 344 | I46: ='전체-일별(데이터 입력)'!T371 -> 69.159 | J46: ='전체-일별(데이터 입력)'!U371 -> 7.414 | K46: ='전체-일별(데이터 입력)'!V371 -> 220000 | L46: ='전체-일별(데이터 입력)'!Y371 -> 4.7 | M46: ='전체-일별(데이터 입력)'!Z371 -> 7.3 | N46: ='전체-일별(데이터 입력)'!AA371 -> 5.4 | O46: ='전체-일별(데이터 입력)'!AB371 -> 10.74 | P46: ='전체-일별(데이터 입력)'!AC371 -> 0.348 | Q46: ='전체-일별(데이터 입력)'!AD371 -> 70 | R46: ='전체-일별(데이터 입력)'!AE371 -> 170158
E47: 최소 | F47: ='전체-일별(데이터 입력)'!Q372 -> 115.2 | G47: ='전체-일별(데이터 입력)'!R372 -> 46.5 | H47: ='전체-일별(데이터 입력)'!S372 -> 130 | I47: ='전체-일별(데이터 입력)'!T372 -> 26.79 | J47: ='전체-일별(데이터 입력)'!U372 -> 3.098 | K47: ='전체-일별(데이터 입력)'!V372 -> 60000 | L47: ='전체-일별(데이터 입력)'!Y372 -> 0 | M47: ='전체-일별(데이터 입력)'!Z372 -> 3.1 | N47: ='전체-일별(데이터 입력)'!AA372 -> 1 | O47: ='전체-일별(데이터 입력)'!AB372 -> 4.955 | P47: ='전체-일별(데이터 입력)'!AC372 -> 0.015 | Q47: ='전체-일별(데이터 입력)'!AD372 -> 4 | R47: ='전체-일별(데이터 입력)'!AE372 -> 123762
D48: 1월 | E48: 평균 | F48: 216.44839 | G48: 106.51613 | H48: 189.6129 | I48: 49.614323 | J48: 5.0883548 | K48: 121548.39 | L48: 1.9774194 | M48: 4.9322581 | N48: 2.3806452 | O48: 9.2488065 | P48: 0.15919355 | Q48: 14.709677 | R48: 143178.65
E49: 최대 | F49: 325.2 | G49: 173.8 | H49: 280 | I49: 65.857 | J49: 5.844 | K49: 180000 | L49: 3.7 | M49: 5.6 | N49: 3.8 | O49: 10.74 | P49: 0.348 | Q49: 24 | R49: 161263
E50: 최소 | F50: 119.8 | G50: 46.5 | H50: 155 | I50: 26.79 | J50: 3.098 | K50: 60000 | L50: 0.9 | M50: 3.9 | N50: 1 | O50: 7.186 | P50: 0.015 | Q50: 4 | R50: 129061
D51: 2월 | E51: 평균 | F51: 213.78571 | G51: 118.77143 | H51: 204.5 | I51: 51.081321 | J51: 5.3375714 | K51: 149285.71 | L51: 2.1321429 | M51: 5.2857143 | N51: 2.3035714 | O51: 8.16625 | P51: 0.12032143 | Q51: 15.892857 | R51: 154557.89
E52: 최대 | F52: 320.4 | G52: 162.4 | H52: 268 | I52: 61.095 | J52: 6.343 | K52: 220000 | L52: 4.1 | M52: 7.3 | N52: 4 | O52: 10.26 | P52: 0.208 | Q52: 25 | R52: 170158
E53: 최소 | F53: 120 | G53: 60.9 | H53: 130 | I53: 38.627 | J53: 4.091 | K53: 110000 | L53: 0.8 | M53: 3.1 | N53: 1.5 | O53: 6.274 | P53: 0.078 | Q53: 8 | R53: 135082
D54: 3월 | E54: 평균 | F54: 234.77742 | G54: 126.9129 | H54: 241.58065 | I54: 56.706839 | J54: 6.0452258 | K54: 167096.77 | L54: 2.6580645 | M54: 6 | N54: 3.8741935 | O54: 8.4199677 | P54: 0.12012903 | Q54: 18.612903 | R54: 145790.29
E55: 최대 | F55: 354 | G55: 253.4 | H55: 326 | I55: 69.159 | J55: 7.089 | K55: 220000 | L55: 4.3 | M55: 6.9 | N55: 5.4 | O55: 9.416 | P55: 0.166 | Q55: 38 | R55: 167421
E56: 최소 | F56: 115.2 | G56: 58.7 | H56: 164 | I56: 37.372 | J56: 4.495 | K56: 130000 | L56: 0.6 | M56: 4.8 | N56: 1.6 | O56: 5.266 | P56: 0.085 | Q56: 7 | R56: 123762
D57: 4월 | E57: 평균
E58: 최대
E59: 최소
D60: 5월 | E60: 평균
E61: 최대
E62: 최소
D63: 6월 | E63: 평균
E64: 최대
E65: 최소
D66: 7월 | E66: 평균
E67: 최대
E68: 최소
D69: 8월 | E69: 평균
E70: 최대
E71: 최소
D72: 9월 | E72: 평균
E73: 최대
E74: 최소
D75: 10월 | E75: 평균
E76: 최대
E77: 최소
D78: 11월 | E78: 평균
E79: 최대
E80: 최소
D81: 12월 | E81: 평균
E82: 최대
E83: 최소
B84: 판교 | C84: 47000 | D84: 계 | E84: 평균 | F84: ='전체-일별(데이터 입력)'!AH370 -> 336.33663 | G84: ='전체-일별(데이터 입력)'!AI370 -> 190.02736 | H84: ='전체-일별(데이터 입력)'!AJ370 -> 351.48208 | I84: ='전체-일별(데이터 입력)'!AK370 -> 58.553163 | J84: ='전체-일별(데이터 입력)'!AL370 -> 6.0650755 | K84: ='전체-일별(데이터 입력)'!AM370 -> 188761.9 | L84: ='전체-일별(데이터 입력)'!AP370 -> 2.1934653 | M84: ='전체-일별(데이터 입력)'!AQ370 -> 6.6820755 | N84: ='전체-일별(데이터 입력)'!AR370 -> 2.5748113 | O84: ='전체-일별(데이터 입력)'!AS370 -> 5.6226132 | P84: ='전체-일별(데이터 입력)'!AT370 -> 0.099346226 | Q84: ='전체-일별(데이터 입력)'!AU370 -> 29.780952 | R84: ='전체-일별(데이터 입력)'!AV370 -> 34337.311 | S84: ='전체-일별(데이터 입력)'!AW370 -> 1889.5377 | T84: ='전체-일별(데이터 입력)'!AX370 -> 33356.66
E85: 최대 | F85: ='전체-일별(데이터 입력)'!AH371 -> 514 | G85: ='전체-일별(데이터 입력)'!AI371 -> 312 | H85: ='전체-일별(데이터 입력)'!AJ371 -> 486.7 | I85: ='전체-일별(데이터 입력)'!AK371 -> 94.054 | J85: ='전체-일별(데이터 입력)'!AL371 -> 11.72 | K85: ='전체-일별(데이터 입력)'!AM371 -> 260000 | L85: ='전체-일별(데이터 입력)'!AP371 -> 5.2 | M85: ='전체-일별(데이터 입력)'!AQ371 -> 10.3 | N85: ='전체-일별(데이터 입력)'!AR371 -> 4.7 | O85: ='전체-일별(데이터 입력)'!AS371 -> 10.728 | P85: ='전체-일별(데이터 입력)'!AT371 -> 0.194 | Q85: ='전체-일별(데이터 입력)'!AU371 -> 140 | R85: ='전체-일별(데이터 입력)'!AV371 -> 41584 | S85: ='전체-일별(데이터 입력)'!AW371 -> 2347 | T85: ='전체-일별(데이터 입력)'!AX371 -> 40548
E86: 최소 | F86: ='전체-일별(데이터 입력)'!AH372 -> 167.4 | G86: ='전체-일별(데이터 입력)'!AI372 -> 95.2 | H86: ='전체-일별(데이터 입력)'!AJ372 -> 220 | I86: ='전체-일별(데이터 입력)'!AK372 -> 34.26 | J86: ='전체-일별(데이터 입력)'!AL372 -> 3.125 | K86: ='전체-일별(데이터 입력)'!AM372 -> 110000 | L86: ='전체-일별(데이터 입력)'!AP372 -> 0.4 | M86: ='전체-일별(데이터 입력)'!AQ372 -> 4.5 | N86: ='전체-일별(데이터 입력)'!AR372 -> 1 | O86: ='전체-일별(데이터 입력)'!AS372 -> 1.876 | P86: ='전체-일별(데이터 입력)'!AT372 -> 0.032 | Q86: ='전체-일별(데이터 입력)'!AU372 -> 7 | R86: ='전체-일별(데이터 입력)'!AV372 -> 24865 | S86: ='전체-일별(데이터 입력)'!AW372 -> 1344 | T86: ='전체-일별(데이터 입력)'!AX372 -> 23967
D87: 1월 | E87: 평균 | F87: 327.86129 | G87: 172.26452 | H87: 360.86129 | I87: 60.266065 | J87: 6.7111935 | K87: 152258.06 | L87: 1.816129 | M87: 6.7806452 | N87: 1.9848387 | O87: 7.4602903 | P87: 0.080570968 | Q87: 20.612903 | R87: 33792.387 | S87: 1973.871 | T87: 32728.645
E88: 최대 | F88: 454.5 | G88: 251.2 | H88: 473.3 | I88: 90.2 | J88: 11.72 | K88: 240000 | L88: 4.2 | M88: 10.3 | N88: 3.7 | O88: 10.728 | P88: 0.1287 | Q88: 39 | R88: 37519 | S88: 2244 | T88: 36642
E89: 최소 | F89: 167.4 | G89: 95.2 | H89: 250 | I89: 51.31 | J89: 4.948 | K89: 110000 | L89: 0.4 | M89: 5.4 | N89: 1 | O89: 3.922 | P89: 0.032 | Q89: 7 | R89: 28532 | S89: 1344 | T89: 27556
D90: 2월 | E90: 평균 | F90: 317.26429 | G90: 182.88929 | H90: 337.15 | I90: 58.534786 | J90: 5.3317143 | K90: 192857.14 | L90: 1.7 | M90: 6.3392857 | N90: 2.4035714 | O90: 5.7475 | P90: 0.077785714 | Q90: 25.321429 | R90: 33030.964 | S90: 1963.9286 | T90: 32071.607
E91: 최대 | F91: 464.3 | G91: 261.5 | H91: 470 | I91: 85.303 | J91: 6.507 | K91: 250000 | L91: 4.1 | M91: 8.1 | N91: 4 | O91: 7.917 | P91: 0.117 | Q91: 58 | R91: 37803 | S91: 2347 | T91: 36714
E92: 최소 | F92: 233.4 | G92: 101.5 | H92: 250 | I92: 36.451 | J92: 3.125 | K92: 140000 | L92: 0.5 | M92: 4.6 | N92: 1.3 | O92: 2.147 | P92: 0.036 | Q92: 12 | R92: 24865 | S92: 1634 | T92: 23967
D93: 3월 | E93: 평균 | F93: 349.40968 | G93: 195.73548 | H93: 348.92581 | I93: 57.747839 | J93: 6.0558065 | K93: 202258.06 | L93: 2.423871 | M93: 6.8677419 | N93: 2.8645161 | O93: 4.4411935 | P93: 0.1076129 | Q93: 23.677419 | R93: 34552.097 | S93: 1713.1613 | T93: 33617.903
E94: 최대 | F94: 514 | G94: 300.9 | H94: 470 | I94: 94.054 | J94: 7.24 | K94: 240000 | L94: 4.5 | M94: 8.7 | N94: 4.7 | O94: 6.905 | P94: 0.194 | Q94: 46 | R94: 39751 | S94: 1924 | T94: 38967
E95: 최소 | F95: 238.2 | G95: 121.2 | H95: 220 | I95: 34.26 | J95: 3.821 | K95: 160000 | L95: 0.6 | M95: 4.5 | N95: 1.4 | O95: 1.876 | P95: 0.042 | Q95: 12 | R95: 29073 | S95: 1409 | T95: 28016
D96: 4월 | E96: 평균
E97: 최대
E98: 최소
D99: 5월 | E99: 평균
E100: 최대
E101: 최소
D102: 6월 | E102: 평균
...

Sheet 일별(제1처리장)
A2: =A7 -> 46023
A4: =A7 -> 46023 | O4: (단위 : ㎎/ℓ, 개/㎖, ㎥/일)
A5: 일자 | B5: 유 입 수 | H5: 생물반응조 | J5: 방 류 수 | P5: 유입량 | Q5: 재이용량 | R5: 최종 방류량
B6: BOD | C6: TOC | D6: SS | E6: T-N | F6: T-P | G6: 대장균군수 | H6: MLSS | I6: DO | J6: BOD | K6: TOC | L6: SS | M6: T-N | N6: T-P | O6: 대장균군수
A7: 46023 | B7: ='전체-일별(데이터 입력)'!B5 -> 181.5 | C7: ='전체-일별(데이터 입력)'!C5 -> 58.2 | D7: ='전체-일별(데이터 입력)'!D5 -> 116 | E7: ='전체-일별(데이터 입력)'!E5 -> 32.882 | F7: ='전체-일별(데이터 입력)'!F5 -> 2.458 | G7: ='전체-일별(데이터 입력)'!G5 -> 58000 | H7: ='전체-일별(데이터 입력)'!H5 -> 0 | I7: ='전체-일별(데이터 입력)'!I5 -> 0 | ... P7: ='전체-일별(데이터 입력)'!P5 -> 181443 | Q7: ='전체-일별(데이터 입력)'!AF5 -> 14745.915 | R7: ='전체-일별(데이터 입력)'!AG5 -> 310620
A8: 46024 | B8: ='전체-일별(데이터 입력)'!B6 -> 160.2 | C8: ='전체-일별(데이터 입력)'!C6 -> 65.4 | D8: ='전체-일별(데이터 입력)'!D6 -> 140 | E8: ='전체-일별(데이터 입력)'!E6 -> 30.08 | F8: ='전체-일별(데이터 입력)'!F6 -> 4.612 | G8: ='전체-일별(데이터 입력)'!G6 -> 60000 | H8: ='전체-일별(데이터 입력)'!H6 -> 3210 | I8: ='전체-일별(데이터 입력)'!I6 -> 2.675 | ... P8: ='전체-일별(데이터 입력)'!P6 -> 184730 | Q8: ='전체-일별(데이터 입력)'!AF6 -> 13104.566 | R8: ='전체-일별(데이터 입력)'!AG6 -> 310650
A9: 46025 | B9: ='전체-일별(데이터 입력)'!B7 -> 78.6 | C9: ='전체-일별(데이터 입력)'!C7 -> 49.1 | D9: ='전체-일별(데이터 입력)'!D7 -> 116 | E9: ='전체-일별(데이터 입력)'!E7 -> 24.867 | F9: ='전체-일별(데이터 입력)'!F7 -> 4.164 | G9: ='전체-일별(데이터 입력)'!G7 -> 87500 | H9: ='전체-일별(데이터 입력)'!H7 -> 0 | I9: ='전체-일별(데이터 입력)'!I7 -> 0 | ... P9: ='전체-일별(데이터 입력)'!P7 -> 186085 | Q9: ='전체-일별(데이터 입력)'!AF7 -> 13510.093 | R9: ='전체-일별(데이터 입력)'!AG7 -> 313800
A10: 46026 | B10: ='전체-일별(데이터 입력)'!B8 -> 108.9 | C10: ='전체-일별(데이터 입력)'!C8 -> 46.8 | D10: ='전체-일별(데이터 입력)'!D8 -> 82 | E10: ='전체-일별(데이터 입력)'!E8 -> 22.663 | F10: ='전체-일별(데이터 입력)'!F8 -> 3.431 | G10: ='전체-일별(데이터 입력)'!G8 -> 82000 | H10: ='전체-일별(데이터 입력)'!H8 -> 0 | I10: ='전체-일별(데이터 입력)'!I8 -> 0 | ... P10: ='전체-일별(데이터 입력)'!P8 -> 185531 | Q10: ='전체-일별(데이터 입력)'!AF8 -> 12560.263 | R10: ='전체-일별(데이터 입력)'!AG8 -> 314230
A11: 46027 | B11: ='전체-일별(데이터 입력)'!B9 -> 166.2 | C11: ='전체-일별(데이터 입력)'!C9 -> 75.7 | D11: ='전체-일별(데이터 입력)'!D9 -> 112 | E11: ='전체-일별(데이터 입력)'!E9 -> 30.765 | F11: ='전체-일별(데이터 입력)'!F9 -> 3.12 | G11: ='전체-일별(데이터 입력)'!G9 -> 64000 | H11: ='전체-일별(데이터 입력)'!H9 -> 3370 | I11: ='전체-일별(데이터 입력)'!I9 -> 3.1 | ... P11: ='전체-일별(데이터 입력)'!P9 -> 185689 | Q11: ='전체-일별(데이터 입력)'!AF9 -> 14619.175 | R11: ='전체-일별(데이터 입력)'!AG9 -> 309900
A12: 46028 | B12: ='전체-일별(데이터 입력)'!B10 -> 97.6 | C12: ='전체-일별(데이터 입력)'!C10 -> 57.2 | D12: ='전체-일별(데이터 입력)'!D10 -> 84 | E12: ='전체-일별(데이터 입력)'!E10 -> 30.65 | F12: ='전체-일별(데이터 입력)'!F10 -> 3.073 | G12: ='전체-일별(데이터 입력)'!G10 -> 59000 | H12: ='전체-일별(데이터 입력)'!H10 -> 0 | I12: ='전체-일별(데이터 입력)'!I10 -> 0 | ... P12: ='전체-일별(데이터 입력)'!P10 -> 184644 | Q12: ='전체-일별(데이터 입력)'!AF10 -> 13632.825 | R12: ='전체-일별(데이터 입력)'!AG10 -> 313920
A13: 46029 | B13: ='전체-일별(데이터 입력)'!B11 -> 135.6 | C13: ='전체-일별(데이터 입력)'!C11 -> 72.5 | D13: ='전체-일별(데이터 입력)'!D11 -> 154 | E13: ='전체-일별(데이터 입력)'!E11 -> 31.42 | F13: ='전체-일별(데이터 입력)'!F11 -> 4.158 | G13: ='전체-일별(데이터 입력)'!G11 -> 72000 | H13: ='전체-일별(데이터 입력)'!H11 -> 0 | I13: ='전체-일별(데이터 입력)'!I11 -> 0 | ... P13: ='전체-일별(데이터 입력)'!P11 -> 190401 | Q13: ='전체-일별(데이터 입력)'!AF11 -> 13576.23 | R13: ='전체-일별(데이터 입력)'!AG11 -> 314870
A14: 46030 | B14: ='전체-일별(데이터 입력)'!B12 -> 111.3 | C14: ='전체-일별(데이터 입력)'!C12 -> 62.3 | D14: ='전체-일별(데이터 입력)'!D12 -> 112 | E14: ='전체-일별(데이터 입력)'!E12 -> 31.773 | F14: ='전체-일별(데이터 입력)'!F12 -> 3.178 | G14: ='전체-일별(데이터 입력)'!G12 -> 78000 | H14: ='전체-일별(데이터 입력)'!H12 -> 0 | I14: ='전체-일별(데이터 입력)'!I12 -> 0 | ... P14: ='전체-일별(데이터 입력)'!P12 -> 181602 | Q14: ='전체-일별(데이터 입력)'!AF12 -> 14357.301 | R14: ='전체-일별(데이터 입력)'!AG12 -> 315380
A15: 46031 | B15: ='전체-일별(데이터 입력)'!B13 -> 150.6 | C15: ='전체-일별(데이터 입력)'!C13 -> 82.8 | D15: ='전체-일별(데이터 입력)'!D13 -> 218 | E15: ='전체-일별(데이터 입력)'!E13 -> 34.448 | F15: ='전체-일별(데이터 입력)'!F13 -> 3.771 | G15: ='전체-일별(데이터 입력)'!G13 -> 60000 | H15: ='전체-일별(데이터 입력)'!H13 -> 3470 | I15: ='전체-일별(데이터 입력)'!I13 -> 2.625 | ... P15: ='전체-일별(데이터 입력)'!P13 -> 190485 | Q15: ='전체-일별(데이터 입력)'!AF13 -> 13612.549 | R15: ='전체-일별(데이터 입력)'!AG13 -> 314150
A16: 46032 | B16: ='전체-일별(데이터 입력)'!B14 -> 160.2 | C16: ='전체-일별(데이터 입력)'!C14 -> 72.3 | D16: ='전체-일별(데이터 입력)'!D14 -> 172 | E16: ='전체-일별(데이터 입력)'!E14 -> 46.378 | F16: ='전체-일별(데이터 입력)'!F14 -> 3.448 | G16: ='전체-일별(데이터 입력)'!G14 -> 65000 | H16: ='전체-일별(데이터 입력)'!H14 -> 0 | I16: ='전체-일별(데이터 입력)'!I14 -> 0 | ... P16: ='전체-일별(데이터 입력)'!P14 -> 181558 | Q16: ='전체-일별(데이터 입력)'!AF14 -> 13019.029 | R16: ='전체-일별(데이터 입력)'!AG14 -> 303850
A17: 46033 | B17: ='전체-일별(데이터 입력)'!B15 -> 165 | C17: ='전체-일별(데이터 입력)'!C15 -> 80.4 | D17: ='전체-일별(데이터 입력)'!D15 -> 156 | E17: ='전체-일별(데이터 입력)'!E15 -> 43.712 | F17: ='전체-일별(데이터 입력)'!F15 -> 3.178 | G17: ='전체-일별(데이터 입력)'!G15 -> 77000 | H17: ='전체-일별(데이터 입력)'!H15 -> 0 | I17: ='전체-일별(데이터 입력)'!I15 -> 0 | ... P17: ='전체-일별(데이터 입력)'!P15 -> 179378 | Q17: ='전체-일별(데이터 입력)'!AF15 -> 12526.825 | R17: ='전체-일별(데이터 입력)'!AG15 -> 304980
A18: 46034 | B18: ='전체-일별(데이터 입력)'!B16 -> 115.4 | C18: ='전체-일별(데이터 입력)'!C16 -> 76.4 | D18: ='전체-일별(데이터 입력)'!D16 -> 140 | E18: ='전체-일별(데이터 입력)'!E16 -> 35.736 | F18: ='전체-일별(데이터 입력)'!F16 -> 4.253 | G18: ='전체-일별(데이터 입력)'!G16 -> 75000 | H18: ='전체-일별(데이터 입력)'!H16 -> 3670 | I18: ='전체-일별(데이터 입력)'!I16 -> 2.65 | ... P18: ='전체-일별(데이터 입력)'!P16 -> 181961 | Q18: ='전체-일별(데이터 입력)'!AF16 -> 13338.412 | R18: ='전체-일별(데이터 입력)'!AG16 -> 293960
... A37: 46053 | B37: ='전체-일별(데이터 입력)'!B35 -> 101 | C37: ='전체-일별(데이터 입력)'!C35 -> 54.4 | D37: ='전체-일별(데이터 입력)'!D35 -> 132 | E37: ='전체-일별(데이터 입력)'!E35 -> 24.482 | F37: ='전체-일별(데이터 입력)'!F35 -> 4.089 | G37: ='전체-일별(데이터 입력)'!G35 -> 65000 | H37: ='전체-일별(데이터 입력)'!H35 -> 0 | I37: ='전체-일별(데이터 입력)'!I35 -> 0 | ... P37: ='전체-일별(데이터 입력)'!P35 -> 173871 | Q37: ='전체-일별(데이터 입력)'!AF35 -> 13271.101 | R37: ='전체-일별(데이터 입력)'!AG35 -> 311740
A38: 평균 | B38: =AVERAGE(B7:B37) -> 142.12258 | C38: =AVERAGE(C7:C37) -> 67.370968 | D38: =AVERAGE(D7:D37) -> 151.93548 | E38: =AVERAGE(E7:E37) -> 30.905 | F38: =AVERAGE(F7:F37) -> 3.6374839 | G38: =AVERAGE(G7:G37) -> 61112.903 | H38: =AVERAGE(H7:H37) -> 1101.9355 | I38: =AVERAGE(I7:I37) -> 0.96935484 | ... R38: =AVERAGE(R7:R37) -> 309292.58
A39: 최대 | B39: =MAX(B7:B37) -> 245.5 | C39: =MAX(C7:C37) -> 106.2 | D39: =MAX(D7:D37) -> 304 | E39: =MAX(E7:E37) -> 46.378 | F39: =MAX(F7:F37) -> 6.412 | G39: =MAX(G7:G37) -> 87500 | H39: =MAX(H7:H37) -> 3670 | I39: =MAX(I7:I37) -> 6.75 | ... R39: =MAX(R7:R37) -> 316590
A40: 최소 | B40: =MIN(B7:B37) -> 78.6 | C40: =MIN(C7:C37) -> 33.8 | D40: =MIN(D7:D37) -> 74 | E40: =MIN(E7:E37) -> 18.112 | F40: =MIN(F7:F37) -> 2.458 | G40: =MIN(G7:G37) -> 39000 | H40: =MIN(H7:H37) -> 0 | I40: =MIN(I7:I37) -> 0 | ... R40: =MIN(R7:R37) -> 293960
A41: 설계 | B41: 151 | C41: 111 | D41: 141 | E41: 40.4 | F41: 4.29 | G41: - | H41: - | I41: - | J41: 4.5 | K41: 12 | L41: 3 | M41: 17.3 | N41: 0.15 | O41: - | P41: 245000 | Q41: - | R41: -
A42: =A45 -> 46054 | O42: (단위 : ㎎/ℓ, 개/㎖, ㎥/일)
A43: 일자 | B43: 유 입 수 | H43: 생물반응조 | J43: 방 류 수 | P43: 유입량 | Q43: 재이용량 | R43: 최종 방류량
B44: BOD | C44: TOC | D44: SS | E44: T-N | F44: T-P | G44: 대장균군수 | H44: MLSS | I44: DO | J44: BOD | K44: TOC | L44: SS | M44: T-N | N44: T-P | O44: 대장균군수
A45: 46054 | B45: ='전체-일별(데이터 입력)'!B36 -> 119.8 | C45: ='전체-일별(데이터 입력)'!C36 -> 60.5 | D45: ='전체-일별(데이터 입력)'!D36 -> 88 | E45: ='전체-일별(데이터 입력)'!E36 -> 27.202 | F45: ='전체-일별(데이터 입력)'!F36 -> 2.629 | G45: ='전체-일별(데이터 입력)'!G36 -> 47000 | H45: ='전체-일별(데이터 입력)'!H36 -> 0 | I45: ='전체-일별(데이터 입력)'!I36 -> 0 | ... P45: ='전체-일별(데이터 입력)'!P36 -> 174026 | Q45: ='전체-일별(데이터 입력)'!AF36 -> 12228.651 | R45: ='전체-일별(데이터 입력)'!AG36 -> 306440
A46: 46055 | B46: ='전체-일별(데이터 입력)'!B37 -> 140.7 | C46: ='전체-일별(데이터 입력)'!C37 -> 67.1 | D46: ='전체-일별(데이터 입력)'!D37 -> 164 | E46: ='전체-일별(데이터 입력)'!E37 -> 25.147 | F46: ='전체-일별(데이터 입력)'!F37 -> 3.157 | G46: ='전체-일별(데이터 입력)'!G37 -> 57000 | H46: ='전체-일별(데이터 입력)'!H37 -> 3520 | I46: ='전체-일별(데이터 입력)'!I37 -> 4.175 | ... P46: ='전체-일별(데이터 입력)'!P37 -> 162600 | Q46: ='전체-일별(데이터 입력)'!AF37 -> 14626.957 | R46: ='전체-일별(데이터 입력)'!AG37 -> 311080
A47: 46056 | B47: ='전체-일별(데이터 입력)'!B38 -> 207 | C47: ='전체-일별(데이터 입력)'!C38 -> 76.7 | D47: ='전체-일별(데이터 입력)'!D38 -> 214 | E47: ='전체-일별(데이터 입력)'!E38 -> 35.629 | F47: ='전체-일별(데이터 입력)'!F38 -> 3.481 | G47: ='전체-일별(데이터 입력)'!G38 -> 54000 | H47: ='전체-일별(데이터 입력)'!H38 -> 3370 | I47: ='전체-일별(데이터 입력)'!I38 -> 5.35 | ... P47: ='전체-일별(데이터 입력)'!P38 -> 164358 | Q47: ='전체-일별(데이터 입력)'!AF38 -> 14580.413 | R47: ='전체-일별(데이터 입력)'!AG38 -> 314200
A48: 46057 | B48: ='전체-일별(데이터 입력)'!B39 -> 147.6 | C48: ='전체-일별(데이터 입력)'!C39 -> 55.9 | D48: ='전체-일별(데이터 입력)'!D39 -> 194 | E48: ='전체-일별(데이터 입력)'!E39 -> 36.656 | F48: ='전체-일별(데이터 입력)'!F39 -> 3.247 | G48: ='전체-일별(데이터 입력)'!G39 -> 71000 | H48: ='전체-일별(데이터 입력)'!H39 -> 0 | I48: ='전체-일별(데이터 입력)'!I39 -> 0 | ... P48: ='전체-일별(데이터 입력)'!P39 -> 163221 | Q48: ='전체-일별(데이터 입력)'!AF39 -> 13485.193 | R48: ='전체-일별(데이터 입력)'!AG39 -> 310090
A49: 46058 | B49: ='전체-일별(데이터 입력)'!B40 -> 155.4 | C49: ='전체-일별(데이터 입력)'!C40 -> 59.4 | D49: ='전체-일별(데이터 입력)'!D40 -> 146 | E49: ='전체-일별(데이터 입력)'!E40 -> 25.47 | F49: ='전체-일별(데이터 입력)'!F40 -> 2.976 | G49: ='전체-일별(데이터 입력)'!G40 -> 88000 | H49: ='전체-일별(데이터 입력)'!H40 -> 0 | I49: ='전체-일별(데이터 입력)'!I40 -> 0 | ... P49: ='전체-일별(데이터 입력)'!P40 -> 168786 | Q49: ='전체-일별(데이터 입력)'!AF40 -> 14162.127 | R49: ='전체-일별(데이터 입력)'!AG40 -> 311270
A50: 46059 | B50: ='전체-일별(데이터 입력)'!B41 -> 183.3 | C50: ='전체-일별(데이터 입력)'!C41 -> 72.8 | D50: ='전체-일별(데이터 입력)'!D41 -> 190 | E50: ='전체-일별(데이터 입력)'!E41 -> 33.796 | F50: ='전체-일별(데이터 입력)'!F41 -> 3.59 | G50: ='전체-일별(데이터 입력)'!G41 -> 77000 | H50: ='전체-일별(데이터 입력)'!H41 -> 3290 | I50: ='전체-일별(데이터 입력)'!I41 -> 5.55 | ... P50: ='전체-일별(데이터 입력)'!P41 -> 167392 | Q50: ='전체-일별(데이터 입력)'!AF41 -> 15174.881 | R50: ='전체-일별(데이터 입력)'!AG41 -> 308710
A51: 46060 | B51: ='전체-일별(데이터 입력)'!B42 -> 184.8 | C51: ='전체-일별(데이터 입력)'!C42 -> 69.2 | D51: ='전체-일별(데이터 입력)'!D42 -> 178 | E51: ='전체-일별(데이터 입력)'!E42 -> 34.901 | F51: ='전체-일별(데이터 입력)'!F42 -> 3.433 | G51: ='전체-일별(데이터 입력)'!G42 -> 96000 | H51: ='전체-일별(데이터 입력)'!H42 -> 0 | I51: ='전체-일별(데이터 입력)'!I42 -> 0 | ... P51: ='전체-일별(데이터 입력)'!P42 -> 182517 | Q51: ='전체-일별(데이터 입력)'!AF42 -> 14433.266 | R51: ='전체-일별(데이터 입력)'!AG42 -> 315170
A52: 46061 | B52: ='전체-일별(데이터 입력)'!B43 -> 180.6 | C52: ='전체-일별(데이터 입력)'!C43 -> 111.5 | D52: ='전체-일별(데이터 입력)'!D43 -> 180 | E52: ='전체-일별(데이터 입력)'!E43 -> 30.5 | F52: ='전체-일별(데이터 입력)'!F43 -> 2.931 | G52: ='전체-일별(데이터 입력)'!G43 -> 88000 | H52: ='전체-일별(데이터 입력)'!H43 -> 0 | I52: ='전체-일별(데이터 입력)'!I43 -> 0 | ... P52: ='전체-일별(데이터 입력)'!P43 -> 167135 | Q52: ='전체-일별(데이터 입력)'!AF43 -> 14722.471 | R52: ='전체-일별(데이터 입력)'!AG43 -> 307390
A53: 46062 | B53: ='전체-일별(데이터 입력)'!B44 -> 75.6 | C53: ='전체-일별(데이터 입력)'!C44 -> 64.2 | D53: ='전체-일별(데이터 입력)'!D44 -> 134 | E53: ='전체-일별(데이터 입력)'!E44 -> 28.764 | F53: ='전체-일별(데이터 입력)'!F44 -> 2.902 | G53: ='전체-일별(데이터 입력)'!G44 -> 76000 | H53: ='전체-일별(데이터 입력)'!H44 -> 3260 | I53: ='전체-일별(데이터 입력)'!I44 -> 3.725 | ... P53: ='전체-일별(데이터 입력)'!P44 -> 166865 | Q53: ='전체-일별(데이터 입력)'!AF44 -> 14575.426 | R53: ='전체-일별(데이터 입력)'!AG44 -> 310570
A54: 46063 | B54: ='전체-일별(데이터 입력)'!B45 -> 82 | C54: ='전체-일별(데이터 입력)'!C45 -> 74.5 | D54: ='전체-일별(데이터 입력)'!D45 -> 132 | E54: ='전체-일별(데이터 입력)'!E45 -> 32.747 | F54: ='전체-일별(데이터 입력)'!F45 -> 4.126 | G54: ='전체-일별(데이터 입력)'!G45 -> 69000 | H54: ='전체-일별(데이터 입력)'!H45 -> 0 | I54: ='전체-일별(데이터 입력)'!I45 -> 0 | ... P54: ='전체-일별(데이터 입력)'!P45 -> 163535 | Q54: ='전체-일별(데이터 입력)'!AF45 -> 12096.72 | R54: ='전체-일별(데이터 입력)'!AG45 -> 311920
A55: 46064 | B55: ='전체-일별(데이터 입력)'!B46 -> 149.1 | C55: ='전체-일별(데이터 입력)'!C46 -> 88.7 | D55: ='전체-일별(데이터 입력)'!D46 -> 220 | E55: ='전체-일별(데이터 입력)'!E46 -> 38.156 | F55: ='전체-일별(데이터 입력)'!F46 -> 4.407 | G55: ='전체-일별(데이터 입력)'!G46 -> 62000 | H55: ='전체-일별(데이터 입력)'!H46 -> 0 | I55: ='전체-일별(데이터 입력)'!I46 -> 0 | ... P55: ='전체-일별(데이터 입력)'!P46 -> 170245 | Q55: ='전체-일별(데이터 입력)'!AF46 -> 15543.412 | R55: ='전체-일별(데이터 입력)'!AG46 -> 307230
A56: 46065 | B56: ='전체-일별(데이터 입력)'!B47 -> 198 | C56: ='전체-일별(데이터 입력)'!C47 -> 74.3 | D56: ='전체-일별(데이터 입력)'!D47 -> 240 | E56: ='전체-일별(데이터 입력)'!E47 -> 29.959 | F56: ='전체-일별(데이터 입력)'!F47 -> 3.632 | G56: ='전체-일별(데이터 입력)'!G47 -> 74000 | H56: ='전체-일별(데이터 입력)'!H47 -> 3550 | I56: ='전체-일별(데이터 입력)'!I47 -> 3.9 | ... P56: ='전체-일별(데이터 입력)'!P47 -> 172986 | Q56: ='전체-일별(데이터 입력)'!AF47 -> 13424.106 | R56: ='전체-일별(데이터 입력)'!AG47 -> 311970
... A72: 46081 | B72: ='전체-일별(데이터 입력)'!B63 -> 116.4 | C72: ='전체-일별(데이터 입력)'!C63 -> 80.8 | D72: ='전체-일별(데이터 입력)'!D63 -> 218 | E72: ='전체-일별(데이터 입력)'!E63 -> 36.634 | F72: ='전체-일별(데이터 입력)'!F63 -> 6.211 | G72: ='전체-일별(데이터 입력)'!G63 -> 79000 | H72: ='전체-일별(데이터 입력)'!H63 -> 0 | I72: ='전체-일별(데이터 입력)'!I63 -> 0 | ... P72: ='전체-일별(데이터 입력)'!P63 -> 167145 | Q72: ='전체-일별(데이터 입력)'!AF63 -> 13487.573 | R72: ='전체-일별(데이터 입력)'!AG63 -> 293140
A73: 평균 | B73: =AVERAGE(B45:B72) -> 169.05357 | C73: =AVERAGE(C45:C72) -> 84.853571 | D73: =AVERAGE(D45:D72) -> 194.92857 | E73: =AVERAGE(E45:E72) -> 36.691429 | F73: =AVERAGE(F45:F72) -> 4.4493214 | G73: =AVERAGE(G45:G72) -> 77035.714 | H73: =AVERAGE(H45:H72) -> 1292.1429 | I73: =AVERAGE(I45:I72) -> 1.3776786 | ... R73: =AVERAGE(R45:R72) -> 304154.64
A74: 최대 | B74: =MAX(B45:B72) -> 309 | C74: =MAX(C45:C72) -> 140.4 | D74: =MAX(D45:D72) -> 280 | E74: =MAX(E45:E72) -> 51.047 | F74: =MAX(F45:F72) -> 8.08 | G74: =MAX(G45:G72) -> 120000 | H74: =MAX(H45:H72) -> 4150 | I74: =MAX(I45:I72) -> 5.55 | ... R74: =MAX(R45:R72) -> 315170
A75: 최소 | B75: =MIN(B45:B72) -> 75.6 | C75: =MIN(C45:C72) -> 42.9 | D75: =MIN(D45:D72) -> 88 | E75: =MIN(E45:E72) -> 25.147 | F75: =MIN(F45:F72) -> 2.629 | G75: =MIN(G45:G72) -> 47000 | H75: =MIN(H45:H72) -> 0 | I75: =MIN(I45:I72) -> 0 | ... R75: =MIN(R45:R72) -> 280400
A76: 설계 | B76: 151 | C76: 111 | D76: 141 | E76: 40.4 | F76: 4.29 | G76: - | H76: - | I76: - | J76: 4.5 | K76: 12 | L76: 3 | M76: 17.3 | N76: 0.15 | O76: - | P76: 245000 | Q76: - | R76: -
A77: =A80 -> 46082 | O77: (단위 : ㎎/ℓ, 개/㎖, ㎥/일)
A78: 일자 | B78: 유 입 수 | H78: 생물반응조 | J78: 방 류 수 | P78: 유입량 | Q78: 재이용량 | R78: 최종 방류량
B79: BOD | C79: TOC | D79: SS | E79: T-N | F79: T-P | G79: 대장균군수 | H79: MLSS | I79: DO | J79: BOD | K79: TOC | L79: SS | M79: T-N | N79: T-P | O79: 대장균군수
A80: 46082 | B80: ='전체-일별(데이터 입력)'!B64 -> 185.1 | C80: ='전체-일별(데이터 입력)'!C64 -> 62.7 | D80: ='전체-일별(데이터 입력)'!D64 -> 154 | E80: ='전체-일별(데이터 입력)'!E64 -> 35.341 | F80: ='전체-일별(데이터 입력)'!F64 -> 5.714 | G80: ='전체-일별(데이터 입력)'!G64 -> 130000 | H80: ='전체-일별(데이터 입력)'!H64 -> 0 | I80: ='전체-일별(데이터 입력)'!I64 -> 0 | ... P80: ='전체-일별(데이터 입력)'!P64 -> 170877 | Q80: ='전체-일별(데이터 입력)'!AF64 -> 13318.201 | R80: ='전체-일별(데이터 입력)'!AG64 -> 296140
A81: 46083 | B81: ='전체-일별(데이터 입력)'!B65 -> 462.8 | C81: ='전체-일별(데이터 입력)'!C65 -> 391.7 | D81: ='전체-일별(데이터 입력)'!D65 -> 466.7 | E81: ='전체-일별(데이터 입력)'!E65 -> 68.296 | F81: ='전체-일별(데이터 입력)'!F65 -> 6.307 | G81: ='전체-일별(데이터 입력)'!G65 -> 190000 | H81: ='전체-일별(데이터 입력)'!H65 -> 0 | I81: ='전체-일별(데이터 입력)'!I65 -> 0 | ... P81: ='전체-일별(데이터 입력)'!P65 -> 250759 | Q81: ='전체-일별(데이터 입력)'!AF65 -> 14061.586 | R81: ='전체-일별(데이터 입력)'!AG65 -> 297020
A82: 46084 | B82: ='전체-일별(데이터 입력)'!B66 -> 191.5 | C82: ='전체-일별(데이터 입력)'!C66 -> 143.3 | D82: ='전체-일별(데이터 입력)'!D66 -> 316 | E82: ='전체-일별(데이터 입력)'!E66 -> 43.897 | F82: ='전체-일별(데이터 입력)'!F66 -> 7.151 | G82: ='전체-일별(데이터 입력)'!G66 -> 150000 | H82: ='전체-일별(데이터 입력)'!H66 -> 3270 | I82: ='전체-일별(데이터 입력)'!I66 -> 4.55 | ... P82: ='전체-일별(데이터 입력)'!P66 -> 193645 | Q82: ='전체-일별(데이터 입력)'!AF66 -> 13368.591 | R82: ='전체-일별(데이터 입력)'!AG66 -> 319740
A83: 46085 | B83: ='전체-일별(데이터 입력)'!B67 -> 324.6 | C83: ='전체-일별(데이터 입력)'!C67 -> 134.3 | D83: ='전체-일별(데이터 입력)'!D67 -> 264 | E83: ='전체-일별(데이터 입력)'!E67 -> 56.234 | F83: ='전체-일별(데이터 입력)'!F67 -> 5.117 | G83: ='전체-일별(데이터 입력)'!G67 -> 120000 | H83: ='전체-일별(데이터 입력)'!H67 -> 0 | I83: ='전체-일별(데이터 입력)'!I67 -> 0 | ... P83: ='전체-일별(데이터 입력)'!P67 -> 181702 | Q83: ='전체-일별(데이터 입력)'!AF67 -> 13773.123 | R83: ='전체-일별(데이터 입력)'!AG67 -> 306880
A84: 46086 | B84: ='전체-일별(데이터 입력)'!B68 -> 364.2 | C84: ='전체-일별(데이터 입력)'!C68 -> 134.8 | D84: ='전체-일별(데이터 입력)'!D68 -> 317.5 | E84: ='전체-일별(데이터 입력)'!E68 -> 41.21 | F84: ='전체-일별(데이터 입력)'!F68 -> 4.794 | G84: ='전체-일별(데이터 입력)'!G68 -> 190000 | H84: ='전체-일별(데이터 입력)'!H68 -> 0 | I84: ='전체-일별(데이터 입력)'!I68 -> 0 | ... P84: ='전체-일별(데이터 입력)'!P68 -> 208580 | Q84: ='전체-일별(데이터 입력)'!AF68 -> 13341.31 | R84: ='전체-일별(데이터 입력)'!AG68 -> 307770
A85: 46087 | B85: ='전체-일별(데이터 입력)'!B69 -> 201.5 | C85: ='전체-일별(데이터 입력)'!C69 -> 112.2 | D85: ='전체-일별(데이터 입력)'!D69 -> 204 | E85: ='전체-일별(데이터 입력)'!E69 -> 37.898 | F85: ='전체-일별(데이터 입력)'!F69 -> 3.715 | G85: ='전체-일별(데이터 입력)'!G69 -> 87000 | H85: ='전체-일별(데이터 입력)'!H69 -> 3500 | I85: ='전체-일별(데이터 입력)'!I69 -> 4.5 | ... P85: ='전체-일별(데이터 입력)'!P69 -> 212911 | Q85: ='전체-일별(데이터 입력)'!AF69 -> 14609.03 | R85: ='전체-일별(데이터 입력)'!AG69 -> 312730
A86: 46088 | B86: ='전체-일별(데이터 입력)'!B70 -> 273 | C86: ='전체-일별(데이터 입력)'!C70 -> 110.1 | D86: ='전체-일별(데이터 입력)'!D70 -> 200 | E86: ='전체-일별(데이터 입력)'!E70 -> 40.609 | F86: ='전체-일별(데이터 입력)'!F70 -> 4 | G86: ='전체-일별(데이터 입력)'!G70 -> 73000 | H86: ='전체-일별(데이터 입력)'!H70 -> 0 | I86: ='전체-일별(데이터 입력)'!I70 -> 0 | ... P86: ='전체-일별(데이터 입력)'!P70 -> 193448 | Q86: ='전체-일별(데이터 입력)'!AF70 -> 13674.002 | R86: ='전체-일별(데이터 입력)'!AG70 -> 315110
A87: 46089 | B87: ='전체-일별(데이터 입력)'!B71 -> 235.5 | C87: ='전체-일별(데이터 입력)'!C71 -> 78.6 | D87: ='전체-일별(데이터 입력)'!D71 -> 138 | E87: ='전체-일별(데이터 입력)'!E71 -> 34.679 | F87: ='전체-일별(데이터 입력)'!F71 -> 3.3 | G87: ='전체-일별(데이터 입력)'!G71 -> 88000 | H87: ='전체-일별(데이터 입력)'!H71 -> 0 | I87: ='전체-일별(데이터 입력)'!I71 -> 0 | ... P87: ='전체-일별(데이터 입력)'!P71 -> 187045 | Q87: ='전체-일별(데이터 입력)'!AF71 -> 13475.34 | R87: ='전체-일별(데이터 입력)'!AG71 -> 300020
A88: 46090 | B88: ='전체-일별(데이터 입력)'!B72 -> 137.1 | C88: ='전체-일별(데이터 입력)'!C72 -> 78 | D88: ='전체-일별(데이터 입력)'!D72 -> 150 | E88: ='전체-일별(데이터 입력)'!E72 -> 41.277 | F88: ='전체-일별(데이터 입력)'!F72 -> 4.522 | G88: ='전체-일별(데이터 입력)'!G72 -> 120000 | H88: ='전체-일별(데이터 입력)'!H72 -> 3480 | I88: ='전체-일별(데이터 입력)'!I72 -> 4.5625 | ... P88: ='전체-일별(데이터 입력)'!P72 -> 197842 | Q88: ='전체-일별(데이터 입력)'!AF72 -> 13351.486 | R88: ='전체-일별(데이터 입력)'!AG72 -> 313150
A89: 46091 | B89: ='전체-일별(데이터 입력)'!B73 -> 111 | C89: ='전체-일별(데이터 입력)'!C73 -> 84.6 | D89: ='전체-일별(데이터 입력)'!D73 -> 174 | E89: ='전체-일별(데이터 입력)'!E73 -> 39.227 | F89: ='전체-일별(데이터 입력)'!F73 -> 4.885 | G89: ='전체-일별(데이터 입력)'!G73 -> 93000 | H89: ='전체-일별(데이터 입력)'!H73 -> 0 | I89: ='전체-일별(데이터 입력)'!I73 -> 0 | ... P89: ='전체-일별(데이터 입력)'!P73 -> 189002 | Q89: ='전체-일별(데이터 입력)'!AF73 -> 14184.715 | R89: ='전체-일별(데이터 입력)'!AG73 -> 298370
A90: 46092 | B90: ='전체-일별(데이터 입력)'!B74 -> 117 | C90: ='전체-일별(데이터 입력)'!C74 -> 91.3 | D90: ='전체-일별(데이터 입력)'!D74 -> 150 | E90: ='전체-일별(데이터 입력)'!E74 -> 38.356 | F90: ='전체-일별(데이터 입력)'!F74 -> 4.409 | G90: ='전체-일별(데이터 입력)'!G74 -> 89000 | H90: ='전체-일별(데이터 입력)'!H74 -> 0 | I90: ='전체-일별(데이터 입력)'!I74 -> 0 | ... P90: ='전체-일별(데이터 입력)'!P74 -> 184356 | Q90: ='전체-일별(데이터 입력)'!AF74 -> 13150.931 | R90: ='전체-일별(데이터 입력)'!AG74 -> 300300
A91: 46093 | B91: ='전체-일별(데이터 입력)'!B75 -> 123.3 | C91: ='전체-일별(데이터 입력)'!C75 -> 77.8 | D91: ='전체-일별(데이터 입력)'!D75 -> 130 | E91: ='전체-일별(데이터 입력)'!E75 -> 34.236 | F91: ='전체-일별(데이터 입력)'!F75 -> 3.988 | G91: ='전체-일별(데이터 입력)'!G75 -> 93000 | H91: ='전체-일별(데이터 입력)'!H75 -> 0 | I91: ='전체-일별(데이터 입력)'!I75 -> 0 | ... P91: ='전체-일별(데이터 입력)'!P75 -> 182922 | Q91: ='전체-일별(데이터 입력)'!AF75 -> 12945.437 | R91: ='전체-일별(데이터 입력)'!AG75 -> 290200
... A110: 46112 | B110: ='전체-일별(데이터 입력)'!B94 -> 144.3 | C110: ='전체-일별(데이터 입력)'!C94 -> 80.4 | D110: ='전체-일별(데이터 입력)'!D94 -> 212 | E110: ='전체-일별(데이터 입력)'!E94 -> 32.356 | F110: ='전체-일별(데이터 입력)'!F94 -> 5.223 | G110: ='전체-일별(데이터 입력)'!G94 -> 85000 | H110: ='전체-일별(데이터 입력)'!H94 -> 2980 | I110: ='전체-일별(데이터 입력)'!I94 -> 3.225 | ... P110: ='전체-일별(데이터 입력)'!P94 -> 224411 | Q110: ='전체-일별(데이터 입력)'!AF94 -> 15528.395 | R110: ='전체-일별(데이터 입력)'!AG94 -> 345620
A111: 평균 | B111: =AVERAGE(B80:B110) -> 190.13548 | C111: =AVERAGE(C80:C110) -> 107.52258 | D111: =AVERAGE(D80:D110) -> 199.94194 | E111: =AVERAGE(E80:E110) -> 41.994452 | F111: =AVERAGE(F80:F110) -> 5.0036129 | G111: =AVERAGE(G80:G110) -> 107580.65 | H111: =AVERAGE(H80:H110) -> 1192.9032 | I111: =AVERAGE(I80:I110) -> 1.2345968 | ... R111: =AVERAGE(R80:R110) -> 304884.84
A112: 최대 | B112: =MAX(B80:B110) -> 462.8 | C112: =MAX(C80:C110) -> 391.7 | D112: =MAX(D80:D110) -> 466.7 | E112: =MAX(E80:E110) -> 68.296 | F112: =MAX(F80:F110) -> 8.57 | G112: =MAX(G80:G110) -> 190000 | H112: =MAX(H80:H110) -> 3660 | I112: =MAX(I80:I110) -> 4.5625 | ... R112: =MAX(R80:R110) -> 345620
A113: 최소 | B113: =MIN(B80:B110) -> 73 | C113: =MIN(C80:C110) -> 45.6 | D113: =MIN(D80:D110) -> 98 | E113: =MIN(E80:E110) -> 27.913 | F113: =MIN(F80:F110) -> 3.3 | G113: =MIN(G80:G110) -> 60000 | H113: =MIN(H80:H110) -> 0 | I113: =MIN(I80:I110) -> 0 | ... R113: =MIN(R80:R110) -> 290200
A114: 설계 | B114: 151 | C114: 111 | D114: 141 | E114: 40.4 | F114: 4.29 | G114: - | H114: - | I114: - | J114: 4.5 | K114: 12 | L114: 3 | M114: 17.3 | N114: 0.15 | O114: - | P114: 245000 | Q114: - | R114: -
A115: =A118 -> 46113 | O115: (단위 : ㎎/ℓ, 개/㎖, ㎥/일)
A116: 일자 | B116: 유 입 수 | H116: 생물반응조 | J116: 방 류 수 | P116: 유입량 | Q116: 재이용량 | R116: 최종 방류량
B117: BOD | C117: TOC | D117: SS | E117: T-N | F117: T-P | G117: 대장균군수 | H117: MLSS | I117: DO | J117: BOD | K117: TOC | L117: SS | M117: T-N | N117: T-P | O117: 대장균군수
A118: 46113 | B118: ='전체-일별(데이터 입력)'!B95 -> 162.3 | C118: ='전체-일별(데이터 입력)'!C95 -> 182 | D118: ='전체-일별(데이터 입력)'!D95 -> 282 | E118: ='전체-일별(데이터 입력)'!E95 -> 54.226 | F118: ='전체-일별(데이터 입력)'!F95 -> 8.938 | G118: ='전체-일별(데이터 입력)'!G95 -> 82000 | H118: ='전체-일별(데이터 입력)'!H95 -> 0 | I118: ='전체-일별(데이터 입력)'!I95 -> 0 | ... P118: ='전체-일별(데이터 입력)'!P95 -> 195396 | Q118: ='전체-일별(데이터 입력)'!AF95 -> 15560.211 | R118: ='전체-일별(데이터 입력)'!AG95 -> 321410
A119: 46114 | B119: ='전체-일별(데이터 입력)'!B96 -> 252 | C119: ='전체-일별(데이터 입력)'!C96 -> 114.5 | D119: ='전체-일별(데이터 입력)'!D96 -> 268 | E119: ='전체-일별(데이터 입력)'!E96 -> 45.907 | F119: ='전체-일별(데이터 입력)'!F96 -> 6.917 | G119: ='전체-일별(데이터 입력)'!G96 -> 84000 | H119: ='전체-일별(데이터 입력)'!H96 -> 0 | I119: ='전체-일별(데이터 입력)'!I96 -> 0 | ... P119: ='전체-일별(데이터 입력)'!P96 -> 183124 | Q119: ='전체-일별(데이터 입력)'!AF96 -> 16717.074 | R119: ='전체-일별(데이터 입력)'!AG96 -> 309170
A120: 46115 | B120: ='전체-일별(데이터 입력)'!B97 -> 195.5 | C120: ='전체-일별(데이터 입력)'!C97 -> 135.5 | D120: ='전체-일별(데이터 입력)'!D97 -> 318 | E120: ='전체-일별(데이터 입력)'!E97 -> 46.758 | F120: ='전체-일별(데이터 입력)'!F97 -> 7.222 | G120: ='전체-일별(데이터 입력)'!G97 -> 92000 | H120: ='전체-일별(데이터 입력)'!H97 -> 3120 | I120: ='전체-일별(데이터 입력)'!I97 -> 2.975 | ... P120: ='전체-일별(데이터 입력)'!P97 -> 178960 | Q120: ='전체-일별(데이터 입력)'!AF97 -> 14815.872 | R120: ='전체-일별(데이터 입력)'!AG97 -> 304890
A121: 46116 | B121: ='전체-일별(데이터 입력)'!B98 -> 155.7 | C121: ='전체-일별(데이터 입력)'!C98 -> 93.9 | D121: ='전체-일별(데이터 입력)'!D98 -> 166 | E121: ='전체-일별(데이터 입력)'!E98 -> 22.324 | F121: ='전체-일별(데이터 입력)'!F98 -> 4.434 | G121: ='전체-일별(데이터 입력)'!G98 -> 95000 | H121: ='전체-일별(데이터 입력)'!H98 -> 0 | I121: ='전체-일별(데이터 입력)'!I98 -> 0 | ... P121: ='전체-일별(데이터 입력)'!P98 -> 185142 | Q121: ='전체-일별(데이터 입력)'!AF98 -> 15254.077 | R121: ='전체-일별(데이터 입력)'!AG98 -> 307680
A122: 46117 | B122: ='전체-일별(데이터 입력)'!B99 -> 153.9 | C122: ='전체-일별(데이터 입력)'!C99 -> 73.6 | D122: ='전체-일별(데이터 입력)'!D99 -> 194 | E122: ='전체-일별(데이터 입력)'!E99 -> 22.803 | F122: ='전체-일별(데이터 입력)'!F99 -> 4.581 | G122: ='전체-일별(데이터 입력)'!G99 -> 140000 | H122: ='전체-일별(데이터 입력)'!H99 -> 0 | I122: ='전체-일별(데이터 입력)'!I99 -> 0 | ... P122: ='전체-일별(데이터 입력)'!P99 -> 171074 | Q122: ='전체-일별(데이터 입력)'!AF99 -> 15991.499 | R122: ='전체-일별(데이터 입력)'!AG99 -> 301250
A123: 46118 | B123: ='전체-일별(데이터 입력)'!B100 -> 149.4 | C123: ='전체-일별(데이터 입력)'!C100 -> 106.8 | D123: ='전체-일별(데이터 입력)'!D100 -> 182 | E123: ='전체-일별(데이터 입력)'!E100 -> 42.75 | F123: ='전체-일별(데이터 입력)'!F100 -> 5.377 | G123: ='전체-일별(데이터 입력)'!G100 -> 77000 | H123: ='전체-일별(데이터 입력)'!H100 -> 3180 | I123: ='전체-일별(데이터 입력)'!I100 -> 3.15 | ... P123: ='전체-일별(데이터 입력)'!P100 -> 196554 | Q123: ='전체-일별(데이터 입력)'!AF100 -> 15764.461 | R123: ='전체-일별(데이터 입력)'!AG100 -> 333440
A124: 46119 | B124: ='전체-일별(데이터 입력)'!B101 -> 214.5 | C124: ='전체-일별(데이터 입력)'!C101 -> 127.5 | D124: ='전체-일별(데이터 입력)'!D101 -> 244 | E124: ='전체-일별(데이터 입력)'!E101 -> 45.264 | F124: ='전체-일별(데이터 입력)'!F101 -> 8.252 | G124: ='전체-일별(데이터 입력)'!G101 -> 81000 | H124: ='전체-일별(데이터 입력)'!H101 -> 0 | I124: ='전체-일별(데이터 입력)'!I101 -> 0 | ... P124: ='전체-일별(데이터 입력)'!P101 -> 182398 | Q124: ='전체-일별(데이터 입력)'!AF101 -> 13908.911 | R124: ='전체-일별(데이터 입력)'!AG101 -> 295260
A125: 46120 | B125: ='전체-일별(데이터 입력)'!B102 -> 257.5 | C125: ='전체-일별(데이터 입력)'!C102 -> 184 | D125: ='전체-일별(데이터 입력)'!D102 -> 382 | E125: ='전체-일별(데이터 입력)'!E102 -> 52.644 | F125: ='전체-일별(데이터 입력)'!F102 -> 11.346 | G125: ='전체-일별(데이터 입력)'!G102 -> 84000 | H125: ='전체-일별(데이터 입력)'!H102 -> 0 | I125: ='전체-일별(데이터 입력)'!I102 -> 0 | ... P125: ='전체-일별(데이터 입력)'!P102 -> 183421 | Q125: ='전체-일별(데이터 입력)'!AF102 -> 16558.468 | R125: ='전체-일별(데이터 입력)'!AG102 -> 306410
A126: 46121 | B126: ='전체-일별(데이터 입력)'!B103 -> 182.4 | C126: ='전체-일별(데이터 입력)'!C103 -> 177.7 | D126: ='전체-일별(데이터 입력)'!D103 -> 322.5 | E126: ='전체-일별(데이터 입력)'!E103 -> 41.43 | F126: ='전체-일별(데이터 입력)'!F103 -> 7.686 | G126: ='전체-일별(데이터 입력)'!G103 -> 78000 | H126: ='전체-일별(데이터 입력)'!H103 -> 0 | I126: ='전체-일별(데이터 입력)'!I103 -> 0 | ... P126: ='전체-일별(데이터 입력)'!P103 -> 237099 | Q126: ='전체-일별(데이터 입력)'!AF103 -> 15909.274 | R126: ='전체-일별(데이터 입력)'!AG103 -> 323430
A127: 46122 | B127: ='전체-일별(데이터 입력)'!B104 -> 165 | C127: ='전체-일별(데이터 입력)'!C104 -> 90.9 | D127: ='전체-일별(데이터 입력)'!D104 -> 330 | E127: ='전체-일별(데이터 입력)'!E104 -> 45.448 | F127: ='전체-일별(데이터 입력)'!F104 -> 7.244 | G127: ='전체-일별(데이터 입력)'!G104 -> 86000 | H127: ='전체-일별(데이터 입력)'!H104 -> 2750 | I127: ='전체-일별(데이터 입력)'!I104 -> 3.075 | ... P127: ='전체-일별(데이터 입력)'!P104 -> 214053 | Q127: ='전체-일별(데이터 입력)'!AF104 -> 15564.764 | R127: ='전체-일별(데이터 입력)'!AG104 -> 352640
A128: 46123 | B128: ='전체-일별(데이터 입력)'!B105 -> 224.5 | C128: ='전체-일별(데이터 입력)'!C105 -> 184.2 | D128: ='전체-일별(데이터 입력)'!D105 -> 310 | E128: ='전체-일별(데이터 입력)'!E105 -> 35.44 | F128: ='전체-일별(데이터 입력)'!F105 -> 8.839 | G128: ='전체-일별(데이터 입력)'!G105 -> 73000 | H128: ='전체-일별(데이터 입력)'!H105 -> 0 | I128: ='전체-일별(데이터 입력)'!I105 -> 0 | ... P128: ='전체-일별(데이터 입력)'!P105 -> 200226 | Q128: ='전체-일별(데이터 입력)'!AF105 -> 15802.774 | R128: ='전체-일별(데이터 입력)'!AG105 -> 335098
A129: 46124 | B129: ='전체-일별(데이터 입력)'!B106 -> 0 | C129: ='전체-일별(데이터 입력)'!C106 -> 138.2 | D129: ='전체-일별(데이터 입력)'!D106 -> 212 | E129: ='전체-일별(데이터 입력)'!E106 -> 26.495 | F129: ='전체-일별(데이터 입력)'!F106 -> 6.654 | G129: ='전체-일별(데이터 입력)'!G106 -> 91000 | H129: ='전체-일별(데이터 입력)'!H106 -> 0 | I129: ='전체-일별(데이터 입력)'!I106 -> 0 | ... P129: ='전체-일별(데이터 입력)'!P106 -> 178237 | Q129: ='전체-일별(데이터 입력)'!AF106 -> 14893.012 | R129: ='전체-일별(데이터 입력)'!AG106 -> 312420
... A147: 46142 | B147: ='전체-일별(데이터 입력)'!B124 -> 0 | C147: ='전체-일별(데이터 입력)'!C124 -> 0 | D147: ='전체-일별(데이터 입력)'!D124 -> 0 | E147: ='전체-일별(데이터 입력)'!E124 -> 0 | F147: ='전체-일별(데이터 입력)'!F124 -> 0 | G147: ='전체-일별(데이터 입력)'!G124 -> 0 | H147: ='전체-일별(데이터 입력)'!H124 -> 0 | I147: ='전체-일별(데이터 입력)'!I124 -> 0 | ... P147: ='전체-일별(데이터 입력)'!P124 -> 0 | Q147: ='전체-일별(데이터 입력)'!AF124 -> 0 | R147: ='전체-일별(데이터 입력)'!AG124 -> 0
A148: 평균 | B148: =AVERAGE(B118:B147) -> 70.423333 | C148: =AVERAGE(C118:C147) -> 79.246667 | D148: =AVERAGE(D118:D147) -> 152.21667 | E148: =AVERAGE(E118:E147) -> 23.890733 | F148: =AVERAGE(F118:F147) -> 4.3112 | G148: =AVERAGE(G118:G147) -> 42766.667 | H148: =AVERAGE(H118:H147) -> 402.66667 | I148: =AVERAGE(I118:I147) -> 0.30666667 | ... R148: =AVERAGE(R118:R147) -> 169557.27
A149: 최대 | B149: =MAX(B118:B147) -> 257.5 | C149: =MAX(C118:C147) -> 226.6 | D149: =MAX(D118:D147) -> 440 | E149: =MAX(E118:E147) -> 68.454 | F149: =MAX(F118:F147) -> 12.247 | G149: =MAX(G118:G147) -> 140000 | H149: =MAX(H118:H147) -> 3180 | I149: =MAX(I118:I147) -> 3.15 | ... R149: =MAX(R118:R147) -> 352640
A150: 최소 | B150: =MIN(B118:B147) -> 0 | C150: =MIN(C118:C147) -> 0 | D150: =MIN(D118:D147) -> 0 | E150: =MIN(E118:E147) -> 0 | F150: =MIN(F118:F147) -> 0 | G150: =MIN(G118:G147) -> 0 | H150: =MIN(H118:H147) -> 0 | I150: =MIN(I118:I147) -> 0 | ... R150: =MIN(R118:R147) -> 0
A151: 설계 | B151: 151 | C151: 111 | D151: 141 | E151: 40.4 | F151: 4.29 | G151: - | H151: - | I151: - | J151: 4.5 | K151: 12 | L151: 3 | M151: 17.3 | N151: 0.15 | O151: - | P151: 245000 | Q151: - | R151: -
A152: =A155 -> 46143 | O152: (단위 : ㎎/ℓ, 개/㎖, ㎥/일)
A153: 일자 | B153: 유 입 수 | H153: 생물반응조 | J153: 방 류 수 | P153: 유입량 | Q153: 재이용량 | R153: 최종 방류량
B154: BOD | C154: TOC | D154: SS | E154: T-N | F154: T-P | G154: 대장균군수 | H154: MLSS | I154: DO | J154: BOD | K154: TOC | L154: SS | M154: T-N | N154: T-P | O154: 대장균군수
A155: 46143 | B155: ='전체-일별(데이터 입력)'!B125 -> 0 | C155: ='전체-일별(데이터 입력)'!C125 -> 0 | D155: ='전체-일별(데이터 입력)'!D125 -> 0 | E155: ='전체-일별(데이터 입력)'!E125 -> 0 | F155: ='전체-일별(데이터 입력)'!F125 -> 0 | G155: ='전체-일별(데이터 입력)'!G125 -> 0 | J155: ='전체-일별(데이터 입력)'!J125 -> 0 | K155: ='전체-일별(데이터 입력)'!K125 -> 0 | L155: ='전체-일별(데이터 입력)'!L125 -> 0 | M155: ='전체-일별(데이터 입력)'!M125 -> 0 | N155: ='전체-일별(데이터 입력)'!N125 -> 0 | O155: ='전체-일별(데이터 입력)'!O125 -> 0 | P155: ='전체-일별(데이터 입력)'!P125 -> 0 | Q155: ='전체-일별(데이터 입력)'!AF125 -> 0 | R155: ='전체-일별(데이터 입력)'!AG125 -> 0
A156: 46144 | B156: ='전체-일별(데이터 입력)'!B126 -> 0 | C156: ='전체-일별(데이터 입력)'!C126 -> 0 | D156: ='전체-일별(데이터 입력)'!D126 -> 0 | E156: ='전체-일별(데이터 입력)'!E126 -> 0 | F156: ='전체-일별(데이터 입력)'!F126 -> 0 | G156: ='전체-일별(데이터 입력)'!G126 -> 0 | H156: ='전체-일별(데이터 입력)'!H126 -> 0 | I156: ='전체-일별(데이터 입력)'!I126 -> 0 | ... P156: ='전체-일별(데이터 입력)'!P126 -> 0 | Q156: ='전체-일별(데이터 입력)'!AF126 -> 0 | R156: ='전체-일별(데이터 입력)'!AG126 -> 0
A157: 46145 | B157: ='전체-일별(데이터 입력)'!B127 -> 0 | C157: ='전체-일별(데이터 입력)'!C127 -> 0 | D157: ='전체-일별(데이터 입력)'!D127 -> 0 | E157: ='전체-일별(데이터 입력)'!E127 -> 0 | F157: ='전체-일별(데이터 입력)'!F127 -> 0 | G157: ='전체-일별(데이터 입력)'!G127 -> 0 | J157: ='전체-일별(데이터 입력)'!J127 -> 0 | K157: ='전체-일별(데이터 입력)'!K127 -> 0 | L157: ='전체-일별(데이터 입력)'!L127 -> 0 | M157: ='전체-일별(데이터 입력)'!M127 -> 0 | N157: ='전체-일별(데이터 입력)'!N127 -> 0 | O157: ='전체-일별(데이터 입력)'!O127 -> 0 | P157: ='전체-일별(데이터 입력)'!P127 -> 0 | Q157: ='전체-일별(데이터 입력)'!AF127 -> 0 | R157: ='전체-일별(데이터 입력)'!AG127 -> 0
A158: 46146 | B158: ='전체-일별(데이터 입력)'!B128 -> 0 | C158: ='전체-일별(데이터 입력)'!C128 -> 0 | D158: ='전체-일별(데이터 입력)'!D128 -> 0 | E158: ='전체-일별(데이터 입력)'!E128 -> 0 | F158: ='전체-일별(데이터 입력)'!F128 -> 0 | G158: ='전체-일별(데이터 입력)'!G128 -> 0 | J158: ='전체-일별(데이터 입력)'!J128 -> 0 | K158: ='전체-일별(데이터 입력)'!K128 -> 0 | L158: ='전체-일별(데이터 입력)'!L128 -> 0 | M158: ='전체-일별(데이터 입력)'!M128 -> 0 | N158: ='전체-일별(데이터 입력)'!N128 -> 0 | O158: ='전체-일별(데이터 입력)'!O128 -> 0 | P158: ='전체-일별(데이터 입력)'!P128 -> 0 | Q158: ='전체-일별(데이터 입력)'!AF128 -> 0 | R158: ='전체-일별(데이터 입력)'!AG128 -> 0
A159: 46147 | B159: ='전체-일별(데이터 입력)'!B129 -> 0 | C159: ='전체-일별(데이터 입력)'!C129 -> 0 | D159: ='전체-일별(데이터 입력)'!D129 -> 0 | E159: ='전체-일별(데이터 입력)'!E129 -> 0 | F159: ='전체-일별(데이터 입력)'!F129 -> 0 | G159: ='전체-일별(데이터 입력)'!G129 -> 0 | J159: ='전체-일별(데이터 입력)'!J129 -> 0 | K159: ='전체-일별(데이터 입력)'!K129 -> 0 | L159: ='전체-일별(데이터 입력)'!L129 -> 0 | M159: ='전체-일별(데이터 입력)'!M129 -> 0 | N159: ='전체-일별(데이터 입력)'!N129 -> 0 | O159: ='전체-일별(데이터 입력)'!O129 -> 0 | P159: ='전체-일별(데이터 입력)'!P129 -> 0 | Q159: ='전체-일별(데이터 입력)'!AF129 -> 0 | R159: ='전체-일별(데이터 입력)'!AG129 -> 0
A160: 46148 | B160: ='전체-일별(데이터 입력)'!B130 -> 0 | C160: ='전체-일별(데이터 입력)'!C130 -> 0 | D160: ='전체-일별(데이터 입력)'!D130 -> 0 | E160: ='전체-일별(데이터 입력)'!E130 -> 0 | F160: ='전체-일별(데이터 입력)'!F130 -> 0 | G160: ='전체-일별(데이터 입력)'!G130 -> 0 | J160: ='전체-일별(데이터 입력)'!J130 -> 0 | K160: ='전체-일별(데이터 입력)'!K130 -> 0 | L160: ='전체-일별(데이터 입력)'!L130 -> 0 | M160: ='전체-일별(데이터 입력)'!M130 -> 0 | N160: ='전체-일별(데이터 입력)'!N130 -> 0 | O160: ='전체-일별(데이터 입력)'!O130 -> 0 | P160: ='전체-일별(데이터 입력)'!P130 -> 0 | Q160: ='전체-일별(데이터 입력)'!AF130 -> 0 | R160: ='전체-일별(데이터 입력)'!AG130 -> 0
A161: 46149 | B161: ='전체-일별(데이터 입력)'!B131 -> 0 | C161: ='전체-일별(데이터 입력)'!C131 -> 0 | D161: ='전체-일별(데이터 입력)'!D131 -> 0 | E161: ='전체-일별(데이터 입력)'!E131 -> 0 | F161: ='전체-일별(데이터 입력)'!F131 -> 0 | G161: ='전체-일별(데이터 입력)'!G131 -> 0 | J161: ='전체-일별(데이터 입력)'!J131 -> 0 | K161: ='전체-일별(데이터 입력)'!K131 -> 0 | L161: ='전체-일별(데이터 입력)'!L131 -> 0 | M161: ='전체-일별(데이터 입력)'!M131 -> 0 | N161: ='전체-일별(데이터 입력)'!N131 -> 0 | O161: ='전체-일별(데이터 입력)'!O131 -> 0 | P161: ='전체-일별(데이터 입력)'!P131 -> 0 | Q161: ='전체-일별(데이터 입력)'!AF131 -> 0 | R161: ='전체-일별(데이터 입력)'!AG131 -> 0
A162: 46150 | B162: ='전체-일별(데이터 입력)'!B132 -> 0 | C162: ='전체-일별(데이터 입력)'!C132 -> 0 | D162: ='전체-일별(데이터 입력)'!D132 -> 0 | E162: ='전체-일별(데이터 입력)'!E132 -> 0 | F162: ='전체-일별(데이터 입력)'!F132 -> 0 | G162: ='전체-일별(데이터 입력)'!G132 -> 0 | J162: ='전체-일별(데이터 입력)'!J132 -> 0 | K162: ='전체-일별(데이터 입력)'!K132 -> 0 | L162: ='전체-일별(데이터 입력)'!L132 -> 0 | M162: ='전체-일별(데이터 입력)'!M132 -> 0 | N162: ='전체-일별(데이터 입력)'!N132 -> 0 | O162: ='전체-일별(데이터 입력)'!O132 -> 0 | P162: ='전체-일별(데이터 입력)'!P132 -> 0 | Q162: ='전체-일별(데이터 입력)'!AF132 -> 0 | R162: ='전체-일별(데이터 입력)'!AG132 -> 0
A163: 46151 | B163: ='전체-일별(데이터 입력)'!B133 -> 0 | C163: ='전체-일별(데이터 입력)'!C133 -> 0 | D163: ='전체-일별(데이터 입력)'!D133 -> 0 | E163: ='전체-일별(데이터 입력)'!E133 -> 0 | F163: ='전체-일별(데이터 입력)'!F133 -> 0 | G163: ='전체-일별(데이터 입력)'!G133 -> 0 | H163: ='전체-일별(데이터 입력)'!H133 -> 0 | I163: ='전체-일별(데이터 입력)'!I133 -> 0 | ... P163: ='전체-일별(데이터 입력)'!P133 -> 0 | Q163: ='전체-일별(데이터 입력)'!AF133 -> 0 | R163: ='전체-일별(데이터 입력)'!AG133 -> 0
A164: 46152 | B164: ='전체-일별(데이터 입력)'!B134 -> 0 | C164: ='전체-일별(데이터 입력)'!C134 -> 0 | D164: ='전체-일별(데이터 입력)'!D134 -> 0 | E164: ='전체-일별(데이터 입력)'!E134 -> 0 | F164: ='전체-일별(데이터 입력)'!F134 -> 0 | G164: ='전체-일별(데이터 입력)'!G134 -> 0 | J164: ='전체-일별(데이터 입력)'!J134 -> 0 | K164: ='전체-일별(데이터 입력)'!K134 -> 0 | L164: ='전체-일별(데이터 입력)'!L134 -> 0 | M164: ='전체-일별(데이터 입력)'!M134 -> 0 | N164: ='전체-일별(데이터 입력)'!N134 -> 0 | O164: ='전체-일별(데이터 입력)'!O134 -> 0 | P164: ='전체-일별(데이터 입력)'!P134 -> 0 | Q164: ='전체-일별(데이터 입력)'!AF134 -> 0 | R164: ='전체-일별(데이터 입력)'!AG134 -> 0
A165: 46153 | B165: ='전체-일별(데이터 입력)'!B135 -> 0 | C165: ='전체-일별(데이터 입력)'!C135 -> 0 | D165: ='전체-일별(데이터 입력)'!D135 -> 0 | E165: ='전체-일별(데이터 입력)'!E135 -> 0 | F165: ='전체-일별(데이터 입력)'!F135 -> 0 | G165: ='전체-일별(데이터 입력)'!G135 -> 0 | J165: ='전체-일별(데이터 입력)'!J135 -> 0 | K165: ='전체-일별(데이터 입력)'!K135 -> 0 | L165: ='전체-일별(데이터 입력)'!L135 -> 0 | M165: ='전체-일별(데이터 입력)'!M135 -> 0 | N165: ='전체-일별(데이터 입력)'!N135 -> 0 | O165: ='전체-일별(데이터 입력)'!O135 -> 0 | P165: ='전체-일별(데이터 입력)'!P135 -> 0 | Q165: ='전체-일별(데이터 입력)'!AF135 -> 0 | R165: ='전체-일별(데이터 입력)'!AG135 -> 0
A166: 46154 | B166: ='전체-일별(데이터 입력)'!B136 -> 0 | C166: ='전체-일별(데이터 입력)'!C136 -> 0 | D166: ='전체-일별(데이터 입력)'!D136 -> 0 | E166: ='전체-일별(데이터 입력)'!E136 -> 0 | F166: ='전체-일별(데이터 입력)'!F136 -> 0 | G166: ='전체-일별(데이터 입력)'!G136 -> 0 | H166: ='전체-일별(데이터 입력)'!H136 -> 0 | I166: ='전체-일별(데이터 입력)'!I136 -> 0 | ... P166: ='전체-일별(데이터 입력)'!P136 -> 0 | Q166: ='전체-일별(데이터 입력)'!AF136 -> 0 | R166: ='전체-일별(데이터 입력)'!AG136 -> 0
A167: 46155 | B167: ='전체-일별(데이터 입력)'!B137 -> 0 | C167: ='전체-일별(데이터 입력)'!C137 -> 0 | D167: ='전체-일별(데이터 입력)'!D137 -> 0 | E167: ='전체-일별(데이터 입력)'!E137 -> 0 | F167: ='전체-일별(데이터 입력)'!F137 -> 0 | G167: ='전체-일별(데이터 입력)'!G137 -> 0 | H167: ='전체-일별(데이터 입력)'!H137 -> 0 | I167: ='전체-일별(데이터 입력)'!I137 -> 0 | ... P167: ='전체-일별(데이터 입력)'!P137 -> 0 | Q167: ='전체-일별(데이터 입력)'!AF137 -> 0 | R167: ='전체-일별(데이터 입력)'!AG137 -> 0
A168: 46156 | B168: ='전체-일별(데이터 입력)'!B138 -> 0 | C168: ='전체-일별(데이터 입력)'!C138 -> 0 | D168: ='전체-일별(데이터 입력)'!D138 -> 0 | E168: ='전체-일별(데이터 입력)'!E138 -> 0 | F168: ='전체-일별(데이터 입력)'!F138 -> 0 | G168: ='전체-일별(데이터 입력)'!G138 -> 0 | J168: ='전체-일별(데이터 입력)'!J138 -> 0 | K168: ='전체-일별(데이터 입력)'!K138 -> 0 | L168: ='전체-일별(데이터 입력)'!L138 -> 0 | M168: ='전체-일별(데이터 입력)'!M138 -> 0 | N168: ='전체-일별(데이터 입력)'!N138 -> 0 | O168: ='전체-일별(데이터 입력)'!O138 -> 0 | P168: ='전체-일별(데이터 입력)'!P138 -> 0 | Q168: ='전체-일별(데이터 입력)'!AF138 -> 0 | R168: ='전체-일별(데이터 입력)'!AG138 -> 0
A169: 46157 | B169: ='전체-일별(데이터 입력)'!B139 -> 0 | C169: ='전체-일별(데이터 입력)'!C139 -> 0 | D169: ='전체-일별(데이터 입력)'!D139 -> 0 | E169: ='전체-일별(데이터 입력)'!E139 -> 0 | F169: ='전체-일별(데이터 입력)'!F139 -> 0 | G169: ='전체-일별(데이터 입력)'!G139 -> 0 | J169: ='전체-일별(데이터 입력)'!J139 -> 0 | K169: ='전체-일별(데이터 입력)'!K139 -> 0 | L169: ='전체-일별(데이터 입력)'!L139 -> 0 | M169: ='전체-일별(데이터 입력)'!M139 -> 0 | N169: ='전체-일별(데이터 입력)'!N139 -> 0 | O169: ='전체-일별(데이터 입력)'!O139 -> 0 | P169: ='전체-일별(데이터 입력)'!P139 -> 0 | Q169: ='전체-일별(데이터 입력)'!AF139 -> 0 | R169: ='전체-일별(데이터 입력)'!AG139 -> 0
A170: 46158 | B170: ='전체-일별(데이터 입력)'!B140 -> 0 | C170: ='전체-일별(데이터 입력)'!C140 -> 0 | D170: ='전체-일별(데이터 입력)'!D140 -> 0 | E170: ='전체-일별(데이터 입력)'!E140 -> 0 | F170: ='전체-일별(데이터 입력)'!F140 -> 0 | G170: ='전체-일별(데이터 입력)'!G140 -> 0 | H170: ='전체-일별(데이터 입력)'!H140 -> 0 | I170: ='전체-일별(데이터 입력)'!I140 -> 0 | ... P170: ='전체-일별(데이터 입력)'!P140 -> 0 | Q170: ='전체-일별(데이터 입력)'!AF140 -> 0 | R170: ='전체-일별(데이터 입력)'!AG140 -> 0
...

Sheet 일별(제2처리장)
A2: 42370
A4: =A7 -> 46023 | O4: (단위 : ㎎/ℓ, 개/㎖, ㎥/일)
A5: 일자 | B5: 유 입 수 | H5: 생물반응조 | J5: 방 류 수 | P5: 유입량
B6: BOD | C6: TOC | D6: SS | E6: T-N | F6: T-P | G6: 대장균군수 | H6: MLSS | I6: DO | J6: BOD | K6: TOC | L6: SS | M6: T-N | N6: T-P | O6: 대장균군수
A7: 46023 | B7: ='전체-일별(데이터 입력)'!Q5 -> 273.6 | C7: ='전체-일별(데이터 입력)'!R5 -> 129.2 | D7: ='전체-일별(데이터 입력)'!S5 -> 198 | E7: ='전체-일별(데이터 입력)'!T5 -> 46.848 | F7: ='전체-일별(데이터 입력)'!U5 -> 4.112 | G7: ='전체-일별(데이터 입력)'!V5 -> 130000 | H7: ='전체-일별(데이터 입력)'!W5 -> 0 | I7: ='전체-일별(데이터 입력)'!X5 -> 0 | ... P7: ='전체-일별(데이터 입력)'!AE5 -> 147361
A8: 46024 | B8: ='전체-일별(데이터 입력)'!Q6 -> 220.1 | C8: ='전체-일별(데이터 입력)'!R6 -> 111 | D8: ='전체-일별(데이터 입력)'!S6 -> 208 | E8: ='전체-일별(데이터 입력)'!T6 -> 60.868 | F8: ='전체-일별(데이터 입력)'!U6 -> 5.105 | G8: ='전체-일별(데이터 입력)'!V6 -> 140000 | H8: ='전체-일별(데이터 입력)'!W6 -> 4570 | I8: ='전체-일별(데이터 입력)'!X6 -> 2.52 | ... P8: ='전체-일별(데이터 입력)'!AE6 -> 143305
A9: 46025 | B9: ='전체-일별(데이터 입력)'!Q7 -> 170.4 | C9: ='전체-일별(데이터 입력)'!R7 -> 93.3 | D9: ='전체-일별(데이터 입력)'!S7 -> 180 | E9: ='전체-일별(데이터 입력)'!T7 -> 61.854 | F9: ='전체-일별(데이터 입력)'!U7 -> 5.577 | G9: ='전체-일별(데이터 입력)'!V7 -> 180000 | H9: ='전체-일별(데이터 입력)'!W7 -> 0 | I9: ='전체-일별(데이터 입력)'!X7 -> 0 | ... P9: ='전체-일별(데이터 입력)'!AE7 -> 147829
A10: 46026 | B10: ='전체-일별(데이터 입력)'!Q8 -> 119.8 | C10: ='전체-일별(데이터 입력)'!R8 -> 99.3 | D10: ='전체-일별(데이터 입력)'!S8 -> 174 | E10: ='전체-일별(데이터 입력)'!T8 -> 56.843 | F10: ='전체-일별(데이터 입력)'!U8 -> 5.487 | G10: ='전체-일별(데이터 입력)'!V8 -> 120000 | H10: ='전체-일별(데이터 입력)'!W8 -> 0 | I10: ='전체-일별(데이터 입력)'!X8 -> 0 | ... P10: ='전체-일별(데이터 입력)'!AE8 -> 148388
A11: 46027 | B11: ='전체-일별(데이터 입력)'!Q9 -> 231 | C11: ='전체-일별(데이터 입력)'!R9 -> 142.8 | D11: ='전체-일별(데이터 입력)'!S9 -> 250 | E11: ='전체-일별(데이터 입력)'!T9 -> 56.723 | F11: ='전체-일별(데이터 입력)'!U9 -> 5.834 | G11: ='전체-일별(데이터 입력)'!V9 -> 130000 | H11: ='전체-일별(데이터 입력)'!W9 -> 4530 | I11: ='전체-일별(데이터 입력)'!X9 -> 2.52 | ... P11: ='전체-일별(데이터 입력)'!AE9 -> 147386
A12: 46028 | B12: ='전체-일별(데이터 입력)'!Q10 -> 283.2 | C12: ='전체-일별(데이터 입력)'!R10 -> 143.8 | D12: ='전체-일별(데이터 입력)'!S10 -> 178 | E12: ='전체-일별(데이터 입력)'!T10 -> 50.708 | F12: ='전체-일별(데이터 입력)'!U10 -> 5.166 | G12: ='전체-일별(데이터 입력)'!V10 -> 110000 | H12: ='전체-일별(데이터 입력)'!W10 -> 0 | I12: ='전체-일별(데이터 입력)'!X10 -> 0 | ... P12: ='전체-일별(데이터 입력)'!AE10 -> 147369
A13: 46029 | B13: ='전체-일별(데이터 입력)'!Q11 -> 189 | C13: ='전체-일별(데이터 입력)'!R11 -> 102.1 | D13: ='전체-일별(데이터 입력)'!S11 -> 196 | E13: ='전체-일별(데이터 입력)'!T11 -> 44.527 | F13: ='전체-일별(데이터 입력)'!U11 -> 5.631 | G13: ='전체-일별(데이터 입력)'!V11 -> 120000 | H13: ='전체-일별(데이터 입력)'!W11 -> 0 | I13: ='전체-일별(데이터 입력)'!X11 -> 0 | ... P13: ='전체-일별(데이터 입력)'!AE11 -> 144028
A14: 46030 | B14: ='전체-일별(데이터 입력)'!Q12 -> 221.4 | C14: ='전체-일별(데이터 입력)'!R12 -> 125.1 | D14: ='전체-일별(데이터 입력)'!S12 -> 190 | E14: ='전체-일별(데이터 입력)'!T12 -> 26.79 | F14: ='전체-일별(데이터 입력)'!U12 -> 5.395 | G14: ='전체-일별(데이터 입력)'!V12 -> 150000 | H14: ='전체-일별(데이터 입력)'!W12 -> 0 | I14: ='전체-일별(데이터 입력)'!X12 -> 0 | ... P14: ='전체-일별(데이터 입력)'!AE12 -> 151989
A15: 46031 | B15: ='전체-일별(데이터 입력)'!Q13 -> 232.8 | C15: ='전체-일별(데이터 입력)'!R13 -> 115 | D15: ='전체-일별(데이터 입력)'!S13 -> 172 | E15: ='전체-일별(데이터 입력)'!T13 -> 41.074 | F15: ='전체-일별(데이터 입력)'!U13 -> 5.127 | G15: ='전체-일별(데이터 입력)'!V13 -> 110000 | H15: ='전체-일별(데이터 입력)'!W13 -> 4670 | I15: ='전체-일별(데이터 입력)'!X13 -> 2.34 | ... P15: ='전체-일별(데이터 입력)'!AE13 -> 144032
A16: 46032 | B16: ='전체-일별(데이터 입력)'!Q14 -> 236.4 | C16: ='전체-일별(데이터 입력)'!R14 -> 66.8 | D16: ='전체-일별(데이터 입력)'!S14 -> 186 | E16: ='전체-일별(데이터 입력)'!T14 -> 65.857 | F16: ='전체-일별(데이터 입력)'!U14 -> 4.498 | G16: ='전체-일별(데이터 입력)'!V14 -> 130000 | H16: ='전체-일별(데이터 입력)'!W14 -> 0 | I16: ='전체-일별(데이터 입력)'!X14 -> 0 | ... P16: ='전체-일별(데이터 입력)'!AE14 -> 138383
A17: 46033 | B17: ='전체-일별(데이터 입력)'!Q15 -> 120 | C17: ='전체-일별(데이터 입력)'!R15 -> 46.5 | D17: ='전체-일별(데이터 입력)'!S15 -> 168 | E17: ='전체-일별(데이터 입력)'!T15 -> 49.069 | F17: ='전체-일별(데이터 입력)'!U15 -> 3.098 | G17: ='전체-일별(데이터 입력)'!V15 -> 140000 | H17: ='전체-일별(데이터 입력)'!W15 -> 0 | I17: ='전체-일별(데이터 입력)'!X15 -> 0 | ... P17: ='전체-일별(데이터 입력)'!AE15 -> 144030
A18: 46034 | B18: ='전체-일별(데이터 입력)'!Q16 -> 199 | C18: ='전체-일별(데이터 입력)'!R16 -> 97.8 | D18: ='전체-일별(데이터 입력)'!S16 -> 220 | E18: ='전체-일별(데이터 입력)'!T16 -> 53.941 | F18: ='전체-일별(데이터 입력)'!U16 -> 5.473 | G18: ='전체-일별(데이터 입력)'!V16 -> 140000 | H18: ='전체-일별(데이터 입력)'!W16 -> 4740 | I18: ='전체-일별(데이터 입력)'!X16 -> 2.34 | ... P18: ='전체-일별(데이터 입력)'!AE16 -> 132692
... A37: 46053 | B37: ='전체-일별(데이터 입력)'!Q35 -> 178.5 | C37: ='전체-일별(데이터 입력)'!R35 -> 98.5 | D37: ='전체-일별(데이터 입력)'!S35 -> 168 | E37: ='전체-일별(데이터 입력)'!T35 -> 44.76 | F37: ='전체-일별(데이터 입력)'!U35 -> 4.597 | G37: ='전체-일별(데이터 입력)'!V35 -> 160000 | H37: ='전체-일별(데이터 입력)'!W35 -> 0 | I37: ='전체-일별(데이터 입력)'!X35 -> 0 | ... P37: ='전체-일별(데이터 입력)'!AE35 -> 158563
A38: 평균 | B38: =AVERAGE(B7:B37) -> 216.44839 | C38: =AVERAGE(C7:C37) -> 106.51613 | D38: =AVERAGE(D7:D37) -> 189.6129 | E38: =AVERAGE(E7:E37) -> 49.614323 | F38: =AVERAGE(F7:F37) -> 5.0883548 | G38: =AVERAGE(G7:G37) -> 121548.39 | H38: =AVERAGE(H7:H37) -> 1177.0968 | I38: =AVERAGE(I7:I37) -> 0.47225806 | ... P38: =AVERAGE(P7:P37) -> 143178.65
A39: 최대 | B39: =MAX(B7:B37) -> 325.2 | C39: =MAX(C7:C37) -> 173.8 | D39: =MAX(D7:D37) -> 280 | E39: =MAX(E7:E37) -> 65.857 | F39: =MAX(F7:F37) -> 5.844 | G39: =MAX(G7:G37) -> 180000 | H39: =MAX(H7:H37) -> 4740 | I39: =MAX(I7:I37) -> 2.56 | ... P39: =MAX(P7:P37) -> 161263
A40: 최소 | B40: =MIN(B7:B37) -> 119.8 | C40: =MIN(C7:C37) -> 46.5 | D40: =MIN(D7:D37) -> 155 | E40: =MIN(E7:E37) -> 26.79 | F40: =MIN(F7:F37) -> 3.098 | G40: =MIN(G7:G37) -> 60000 | H40: =MIN(H7:H37) -> 0 | I40: =MIN(I7:I37) -> 0 | ... P40: =MIN(P7:P37) -> 129061
A41: 설계 | B41: 185 | C41: 132 | D41: 221 | E41: 46.8 | F41: 5.23 | G41: - | H41: - | I41: - | J41: 4.5 | K41: 12 | L41: 3 | M41: 17.3 | N41: 0.15 | O41: - | P41: 215000
A42: =A45 -> 46054 | O42: (단위 : ㎎/ℓ, 개/㎖, ㎥/일)
A43: 일자 | B43: 유 입 수 | H43: 생물반응조 | J43: 방 류 수 | P43: 유입량
B44: BOD | C44: TOC | D44: SS | E44: T-N | F44: T-P | G44: 대장균군수 | H44: MLSS | I44: DO | J44: BOD | K44: TOC | L44: SS | M44: T-N | N44: T-P | O44: 대장균군수
A45: 46054 | B45: ='전체-일별(데이터 입력)'!Q36 -> 215.5 | C45: ='전체-일별(데이터 입력)'!R36 -> 124.7 | D45: ='전체-일별(데이터 입력)'!S36 -> 130 | E45: ='전체-일별(데이터 입력)'!T36 -> 50.723 | F45: ='전체-일별(데이터 입력)'!U36 -> 4.925 | G45: ='전체-일별(데이터 입력)'!V36 -> 140000 | H45: ='전체-일별(데이터 입력)'!W36 -> 0 | I45: ='전체-일별(데이터 입력)'!X36 -> 0 | ... P45: ='전체-일별(데이터 입력)'!AE36 -> 153410
A46: 46055 | B46: ='전체-일별(데이터 입력)'!Q37 -> 216 | C46: ='전체-일별(데이터 입력)'!R37 -> 134.3 | D46: ='전체-일별(데이터 입력)'!S37 -> 216 | E46: ='전체-일별(데이터 입력)'!T37 -> 38.627 | F46: ='전체-일별(데이터 입력)'!U37 -> 5.858 | G46: ='전체-일별(데이터 입력)'!V37 -> 120000 | H46: ='전체-일별(데이터 입력)'!W37 -> 4610 | I46: ='전체-일별(데이터 입력)'!X37 -> 2.48 | ... P46: ='전체-일별(데이터 입력)'!AE37 -> 167952
A47: 46056 | B47: ='전체-일별(데이터 입력)'!Q38 -> 235 | C47: ='전체-일별(데이터 입력)'!R38 -> 108.2 | D47: ='전체-일별(데이터 입력)'!S38 -> 214 | E47: ='전체-일별(데이터 입력)'!T38 -> 48.454 | F47: ='전체-일별(데이터 입력)'!U38 -> 5.342 | G47: ='전체-일별(데이터 입력)'!V38 -> 140000 | H47: ='전체-일별(데이터 입력)'!W38 -> 0 | I47: ='전체-일별(데이터 입력)'!X38 -> 0 | ... P47: ='전체-일별(데이터 입력)'!AE38 -> 170158
A48: 46057 | B48: ='전체-일별(데이터 입력)'!Q39 -> 227 | C48: ='전체-일별(데이터 입력)'!R39 -> 106 | D48: ='전체-일별(데이터 입력)'!S39 -> 202 | E48: ='전체-일별(데이터 입력)'!T39 -> 54.282 | F48: ='전체-일별(데이터 입력)'!U39 -> 5.638 | G48: ='전체-일별(데이터 입력)'!V39 -> 120000 | H48: ='전체-일별(데이터 입력)'!W39 -> 0 | I48: ='전체-일별(데이터 입력)'!X39 -> 0 | ... P48: ='전체-일별(데이터 입력)'!AE39 -> 170154
A49: 46058 | B49: ='전체-일별(데이터 입력)'!Q40 -> 281 | C49: ='전체-일별(데이터 입력)'!R40 -> 119.6 | D49: ='전체-일별(데이터 입력)'!S40 -> 210 | E49: ='전체-일별(데이터 입력)'!T40 -> 49.939 | F49: ='전체-일별(데이터 입력)'!U40 -> 6.043 | G49: ='전체-일별(데이터 입력)'!V40 -> 160000 | H49: ='전체-일별(데이터 입력)'!W40 -> 0 | I49: ='전체-일별(데이터 입력)'!X40 -> 0 | ... P49: ='전체-일별(데이터 입력)'!AE40 -> 162009
A50: 46059 | B50: ='전체-일별(데이터 입력)'!Q41 -> 190.5 | C50: ='전체-일별(데이터 입력)'!R41 -> 124.8 | D50: ='전체-일별(데이터 입력)'!S41 -> 182 | E50: ='전체-일별(데이터 입력)'!T41 -> 51.447 | F50: ='전체-일별(데이터 입력)'!U41 -> 5.187 | G50: ='전체-일별(데이터 입력)'!V41 -> 170000 | H50: ='전체-일별(데이터 입력)'!W41 -> 4600 | I50: ='전체-일별(데이터 입력)'!X41 -> 2.24 | ... P50: ='전체-일별(데이터 입력)'!AE41 -> 154526
A51: 46060 | B51: ='전체-일별(데이터 입력)'!Q42 -> 153.9 | C51: ='전체-일별(데이터 입력)'!R42 -> 114.2 | D51: ='전체-일별(데이터 입력)'!S42 -> 190 | E51: ='전체-일별(데이터 입력)'!T42 -> 50.088 | F51: ='전체-일별(데이터 입력)'!U42 -> 4.719 | G51: ='전체-일별(데이터 입력)'!V42 -> 150000 | H51: ='전체-일별(데이터 입력)'!W42 -> 0 | I51: ='전체-일별(데이터 입력)'!X42 -> 0 | ... P51: ='전체-일별(데이터 입력)'!AE42 -> 146871
A52: 46061 | B52: ='전체-일별(데이터 입력)'!Q43 -> 182 | C52: ='전체-일별(데이터 입력)'!R43 -> 97.4 | D52: ='전체-일별(데이터 입력)'!S43 -> 204 | E52: ='전체-일별(데이터 입력)'!T43 -> 53.836 | F52: ='전체-일별(데이터 입력)'!U43 -> 4.446 | G52: ='전체-일별(데이터 입력)'!V43 -> 130000 | H52: ='전체-일별(데이터 입력)'!W43 -> 0 | I52: ='전체-일별(데이터 입력)'!X43 -> 0 | ... P52: ='전체-일별(데이터 입력)'!AE43 -> 152811
A53: 46062 | B53: ='전체-일별(데이터 입력)'!Q44 -> 138 | C53: ='전체-일별(데이터 입력)'!R44 -> 127.7 | D53: ='전체-일별(데이터 입력)'!S44 -> 268 | E53: ='전체-일별(데이터 입력)'!T44 -> 52.113 | F53: ='전체-일별(데이터 입력)'!U44 -> 5.878 | G53: ='전체-일별(데이터 입력)'!V44 -> 110000 | H53: ='전체-일별(데이터 입력)'!W44 -> 4650 | I53: ='전체-일별(데이터 입력)'!X44 -> 0 | ... P53: ='전체-일별(데이터 입력)'!AE44 -> 162698
A54: 46063 | B54: ='전체-일별(데이터 입력)'!Q45 -> 120 | C54: ='전체-일별(데이터 입력)'!R45 -> 94.5 | D54: ='전체-일별(데이터 입력)'!S45 -> 166 | E54: ='전체-일별(데이터 입력)'!T45 -> 46.376 | F54: ='전체-일별(데이터 입력)'!U45 -> 5.149 | G54: ='전체-일별(데이터 입력)'!V45 -> 140000 | H54: ='전체-일별(데이터 입력)'!W45 -> 0 | I54: ='전체-일별(데이터 입력)'!X45 -> 0 | ... P54: ='전체-일별(데이터 입력)'!AE45 -> 169434
A55: 46064 | B55: ='전체-일별(데이터 입력)'!Q46 -> 215 | C55: ='전체-일별(데이터 입력)'!R46 -> 130.4 | D55: ='전체-일별(데이터 입력)'!S46 -> 238 | E55: ='전체-일별(데이터 입력)'!T46 -> 54.487 | F55: ='전체-일별(데이터 입력)'!U46 -> 5.784 | G55: ='전체-일별(데이터 입력)'!V46 -> 130000 | H55: ='전체-일별(데이터 입력)'!W46 -> 0 | I55: ='전체-일별(데이터 입력)'!X46 -> 0 | ... P55: ='전체-일별(데이터 입력)'!AE46 -> 157212
A56: 46065 | B56: ='전체-일별(데이터 입력)'!Q47 -> 202.5 | C56: ='전체-일별(데이터 입력)'!R47 -> 106.6 | D56: ='전체-일별(데이터 입력)'!S47 -> 190 | E56: ='전체-일별(데이터 입력)'!T47 -> 47.511 | F56: ='전체-일별(데이터 입력)'!U47 -> 5.291 | G56: ='전체-일별(데이터 입력)'!V47 -> 160000 | H56: ='전체-일별(데이터 입력)'!W47 -> 0 | I56: ='전체-일별(데이터 입력)'!X47 -> 0 | ... P56: ='전체-일별(데이터 입력)'!AE47 -> 159427
... A72: 46081 | B72: ='전체-일별(데이터 입력)'!Q63 -> 220.8 | C72: ='전체-일별(데이터 입력)'!R63 -> 151.6 | D72: ='전체-일별(데이터 입력)'!S63 -> 224 | E72: ='전체-일별(데이터 입력)'!T63 -> 45.2 | F72: ='전체-일별(데이터 입력)'!U63 -> 4.935 | G72: ='전체-일별(데이터 입력)'!V63 -> 160000 | H72: ='전체-일별(데이터 입력)'!W63 -> 0 | I72: ='전체-일별(데이터 입력)'!X63 -> 0 | ... P72: ='전체-일별(데이터 입력)'!AE63 -> 148987
A73: 평균 | B73: =AVERAGE(B45:B72) -> 213.78571 | C73: =AVERAGE(C45:C72) -> 118.77143 | D73: =AVERAGE(D45:D72) -> 204.5 | E73: =AVERAGE(E45:E72) -> 51.081321 | F73: =AVERAGE(F45:F72) -> 5.3375714 | G73: =AVERAGE(G45:G72) -> 149285.71 | H73: =AVERAGE(H45:H72) -> 1155.7143 | I73: =AVERAGE(I45:I72) -> 0.49571429 | ... P73: =AVERAGE(P45:P72) -> 154557.89
A74: 최대 | B74: =MAX(B45:B72) -> 320.4 | C74: =MAX(C45:C72) -> 162.4 | D74: =MAX(D45:D72) -> 268 | E74: =MAX(E45:E72) -> 61.095 | F74: =MAX(F45:F72) -> 6.343 | G74: =MAX(G45:G72) -> 220000 | H74: =MAX(H45:H72) -> 4780 | I74: =MAX(I45:I72) -> 2.5 | ... P74: =MAX(P45:P72) -> 170158
A75: 최소 | B75: =MIN(B45:B72) -> 120 | C75: =MIN(C45:C72) -> 60.9 | D75: =MIN(D45:D72) -> 130 | E75: =MIN(E45:E72) -> 38.627 | F75: =MIN(F45:F72) -> 4.091 | G75: =MIN(G45:G72) -> 110000 | H75: =MIN(H45:H72) -> 0 | I75: =MIN(I45:I72) -> 0 | ... P75: =MIN(P45:P72) -> 135082
A76: 설계 | B76: 185 | C76: 132 | D76: 221 | E76: 46.8 | F76: 5.23 | G76: - | H76: - | I76: - | J76: 4.5 | K76: 12 | L76: 3 | M76: 17.3 | N76: 0.15 | O76: - | P76: 215000
A77: =A80 -> 46082 | O77: (단위 : ㎎/ℓ, 개/㎖, ㎥/일)
A78: 일자 | B78: 유 입 수 | H78: 생물반응조 | J78: 방 류 수 | P78: 유입량
B79: BOD | C79: TOC | D79: SS | E79: T-N | F79: T-P | G79: 대장균군수 | H79: MLSS | I79: DO | J79: BOD | K79: TOC | L79: SS | M79: T-N | N79: T-P | O79: 대장균군수
A80: 46082 | B80: ='전체-일별(데이터 입력)'!Q64 -> 229.2 | C80: ='전체-일별(데이터 입력)'!R64 -> 147.3 | D80: ='전체-일별(데이터 입력)'!S64 -> 202 | E80: ='전체-일별(데이터 입력)'!T64 -> 42.063 | F80: ='전체-일별(데이터 입력)'!U64 -> 4.551 | G80: ='전체-일별(데이터 입력)'!V64 -> 170000 | H80: ='전체-일별(데이터 입력)'!W64 -> 0 | I80: ='전체-일별(데이터 입력)'!X64 -> 0 | ... P80: ='전체-일별(데이터 입력)'!AE64 -> 149456
A81: 46083 | B81: ='전체-일별(데이터 입력)'!Q65 -> 222.6 | C81: ='전체-일별(데이터 입력)'!R65 -> 253.4 | D81: ='전체-일별(데이터 입력)'!S65 -> 180 | E81: ='전체-일별(데이터 입력)'!T65 -> 58.554 | F81: ='전체-일별(데이터 입력)'!U65 -> 5.609 | G81: ='전체-일별(데이터 입력)'!V65 -> 210000 | H81: ='전체-일별(데이터 입력)'!W65 -> 0 | I81: ='전체-일별(데이터 입력)'!X65 -> 0 | ... P81: ='전체-일별(데이터 입력)'!AE65 -> 141044
A82: 46084 | B82: ='전체-일별(데이터 입력)'!Q66 -> 231 | C82: ='전체-일별(데이터 입력)'!R66 -> 141.4 | D82: ='전체-일별(데이터 입력)'!S66 -> 248 | E82: ='전체-일별(데이터 입력)'!T66 -> 48.547 | F82: ='전체-일별(데이터 입력)'!U66 -> 6.456 | G82: ='전체-일별(데이터 입력)'!V66 -> 180000 | H82: ='전체-일별(데이터 입력)'!W66 -> 0 | I82: ='전체-일별(데이터 입력)'!X66 -> 0 | ... P82: ='전체-일별(데이터 입력)'!AE66 -> 158019
A83: 46085 | B83: ='전체-일별(데이터 입력)'!Q67 -> 260.4 | C83: ='전체-일별(데이터 입력)'!R67 -> 128.8 | D83: ='전체-일별(데이터 입력)'!S67 -> 236 | E83: ='전체-일별(데이터 입력)'!T67 -> 55.186 | F83: ='전체-일별(데이터 입력)'!U67 -> 6.439 | G83: ='전체-일별(데이터 입력)'!V67 -> 160000 | H83: ='전체-일별(데이터 입력)'!W67 -> 0 | I83: ='전체-일별(데이터 입력)'!X67 -> 0 | ... P83: ='전체-일별(데이터 입력)'!AE67 -> 152806
A84: 46086 | B84: ='전체-일별(데이터 입력)'!Q68 -> 320.4 | C84: ='전체-일별(데이터 입력)'!R68 -> 175.6 | D84: ='전체-일별(데이터 입력)'!S68 -> 290 | E84: ='전체-일별(데이터 입력)'!T68 -> 55.36 | F84: ='전체-일별(데이터 입력)'!U68 -> 6.587 | G84: ='전체-일별(데이터 입력)'!V68 -> 180000 | H84: ='전체-일별(데이터 입력)'!W68 -> 0 | I84: ='전체-일별(데이터 입력)'!X68 -> 0 | ... P84: ='전체-일별(데이터 입력)'!AE68 -> 152018
A85: 46087 | B85: ='전체-일별(데이터 입력)'!Q69 -> 234.6 | C85: ='전체-일별(데이터 입력)'!R69 -> 155.8 | D85: ='전체-일별(데이터 입력)'!S69 -> 220 | E85: ='전체-일별(데이터 입력)'!T69 -> 59.784 | F85: ='전체-일별(데이터 입력)'!U69 -> 5.823 | G85: ='전체-일별(데이터 입력)'!V69 -> 170000 | H85: ='전체-일별(데이터 입력)'!W69 -> 4640 | I85: ='전체-일별(데이터 입력)'!X69 -> 2.34 | ... P85: ='전체-일별(데이터 입력)'!AE69 -> 148169
A86: 46088 | B86: ='전체-일별(데이터 입력)'!Q70 -> 268 | C86: ='전체-일별(데이터 입력)'!R70 -> 129.2 | D86: ='전체-일별(데이터 입력)'!S70 -> 198 | E86: ='전체-일별(데이터 입력)'!T70 -> 53.93 | F86: ='전체-일별(데이터 입력)'!U70 -> 5.108 | G86: ='전체-일별(데이터 입력)'!V70 -> 160000 | H86: ='전체-일별(데이터 입력)'!W70 -> 0 | I86: ='전체-일별(데이터 입력)'!X70 -> 0 | ... P86: ='전체-일별(데이터 입력)'!AE70 -> 154725
A87: 46089 | B87: ='전체-일별(데이터 입력)'!Q71 -> 207.5 | C87: ='전체-일별(데이터 입력)'!R71 -> 100.3 | D87: ='전체-일별(데이터 입력)'!S71 -> 184 | E87: ='전체-일별(데이터 입력)'!T71 -> 59.327 | F87: ='전체-일별(데이터 입력)'!U71 -> 5.529 | G87: ='전체-일별(데이터 입력)'!V71 -> 130000 | H87: ='전체-일별(데이터 입력)'!W71 -> 0 | I87: ='전체-일별(데이터 입력)'!X71 -> 0 | ... P87: ='전체-일별(데이터 입력)'!AE71 -> 144077
A88: 46090 | B88: ='전체-일별(데이터 입력)'!Q72 -> 318.6 | C88: ='전체-일별(데이터 입력)'!R72 -> 140.2 | D88: ='전체-일별(데이터 입력)'!S72 -> 302 | E88: ='전체-일별(데이터 입력)'!T72 -> 62.964 | F88: ='전체-일별(데이터 입력)'!U72 -> 6.453 | G88: ='전체-일별(데이터 입력)'!V72 -> 170000 | H88: ='전체-일별(데이터 입력)'!W72 -> 4640 | I88: ='전체-일별(데이터 입력)'!X72 -> 2.98 | ... P88: ='전체-일별(데이터 입력)'!AE72 -> 149058
A89: 46091 | B89: ='전체-일별(데이터 입력)'!Q73 -> 248.4 | C89: ='전체-일별(데이터 입력)'!R73 -> 146.8 | D89: ='전체-일별(데이터 입력)'!S73 -> 264 | E89: ='전체-일별(데이터 입력)'!T73 -> 62.749 | F89: ='전체-일별(데이터 입력)'!U73 -> 6.655 | G89: ='전체-일별(데이터 입력)'!V73 -> 160000 | H89: ='전체-일별(데이터 입력)'!W73 -> 0 | I89: ='전체-일별(데이터 입력)'!X73 -> 0 | ... P89: ='전체-일별(데이터 입력)'!AE73 -> 140956
A90: 46092 | B90: ='전체-일별(데이터 입력)'!Q74 -> 303 | C90: ='전체-일별(데이터 입력)'!R74 -> 126.4 | D90: ='전체-일별(데이터 입력)'!S74 -> 244 | E90: ='전체-일별(데이터 입력)'!T74 -> 61.863 | F90: ='전체-일별(데이터 입력)'!U74 -> 6.345 | G90: ='전체-일별(데이터 입력)'!V74 -> 180000 | H90: ='전체-일별(데이터 입력)'!W74 -> 0 | I90: ='전체-일별(데이터 입력)'!X74 -> 0 | ... P90: ='전체-일별(데이터 입력)'!AE74 -> 144538
A91: 46093 | B91: ='전체-일별(데이터 입력)'!Q75 -> 240 | C91: ='전체-일별(데이터 입력)'!R75 -> 121.1 | D91: ='전체-일별(데이터 입력)'!S75 -> 238 | E91: ='전체-일별(데이터 입력)'!T75 -> 56.355 | F91: ='전체-일별(데이터 입력)'!U75 -> 6.291 | G91: ='전체-일별(데이터 입력)'!V75 -> 150000 | H91: ='전체-일별(데이터 입력)'!W75 -> 0 | I91: ='전체-일별(데이터 입력)'!X75 -> 0 | ... P91: ='전체-일별(데이터 입력)'!AE75 -> 144869
... A110: 46112 | B110: ='전체-일별(데이터 입력)'!Q94 -> 233.5 | C110: ='전체-일별(데이터 입력)'!R94 -> 121.7 | D110: ='전체-일별(데이터 입력)'!S94 -> 238 | E110: ='전체-일별(데이터 입력)'!T94 -> 44.319 | F110: ='전체-일별(데이터 입력)'!U94 -> 5.611 | G110: ='전체-일별(데이터 입력)'!V94 -> 180000 | H110: ='전체-일별(데이터 입력)'!W94 -> 0 | I110: ='전체-일별(데이터 입력)'!X94 -> 0 | ... P110: ='전체-일별(데이터 입력)'!AE94 -> 167421
A111: 평균 | B111: =AVERAGE(B80:B110) -> 234.77742 | C111: =AVERAGE(C80:C110) -> 126.9129 | D111: =AVERAGE(D80:D110) -> 241.58065 | E111: =AVERAGE(E80:E110) -> 56.706839 | F111: =AVERAGE(F80:F110) -> 6.0452258 | G111: =AVERAGE(G80:G110) -> 167096.77 | H111: =AVERAGE(H80:H110) -> 1120 | I111: =AVERAGE(I80:I110) -> 0.60322581 | ... P111: =AVERAGE(P80:P110) -> 145790.29
A112: 최대 | B112: =MAX(B80:B110) -> 354 | C112: =MAX(C80:C110) -> 253.4 | D112: =MAX(D80:D110) -> 326 | E112: =MAX(E80:E110) -> 69.159 | F112: =MAX(F80:F110) -> 7.089 | G112: =MAX(G80:G110) -> 220000 | H112: =MAX(H80:H110) -> 4640 | I112: =MAX(I80:I110) -> 2.98 | ... P112: =MAX(P80:P110) -> 167421
A113: 최소 | B113: =MIN(B80:B110) -> 115.2 | C113: =MIN(C80:C110) -> 58.7 | D113: =MIN(D80:D110) -> 164 | E113: =MIN(E80:E110) -> 37.372 | F113: =MIN(F80:F110) -> 4.495 | G113: =MIN(G80:G110) -> 130000 | H113: =MIN(H80:H110) -> 0 | I113: =MIN(I80:I110) -> 0 | ... P113: =MIN(P80:P110) -> 123762
A114: 설계 | B114: 185 | C114: 132 | D114: 221 | E114: 46.8 | F114: 5.23 | G114: - | H114: - | I114: - | J114: 4.5 | K114: 12 | L114: 3 | M114: 17.3 | N114: 0.15 | O114: - | P114: 215000
A115: =A118 -> 46113 | O115: (단위 : ㎎/ℓ, 개/㎖, ㎥/일)
A116: 일자 | B116: 유 입 수 | H116: 생물반응조 | J116: 방 류 수 | P116: 유입량
B117: BOD | C117: TOC | D117: SS | E117: T-N | F117: T-P | G117: 대장균군수 | H117: MLSS | I117: DO | J117: BOD | K117: TOC | L117: SS | M117: T-N | N117: T-P | O117: 대장균군수
A118: 46113 | B118: ='전체-일별(데이터 입력)'!Q95 -> 234 | C118: ='전체-일별(데이터 입력)'!R95 -> 123.1 | D118: ='전체-일별(데이터 입력)'!S95 -> 280 | E118: ='전체-일별(데이터 입력)'!T95 -> 59.016 | F118: ='전체-일별(데이터 입력)'!U95 -> 6.509 | G118: ='전체-일별(데이터 입력)'!V95 -> 160000 | H118: ='전체-일별(데이터 입력)'!W95 -> 0 | I118: ='전체-일별(데이터 입력)'!X95 -> 0 | ... P118: ='전체-일별(데이터 입력)'!AE95 -> 150655
A119: 46114 | B119: ='전체-일별(데이터 입력)'!Q96 -> 230.5 | C119: ='전체-일별(데이터 입력)'!R96 -> 155.5 | D119: ='전체-일별(데이터 입력)'!S96 -> 286 | E119: ='전체-일별(데이터 입력)'!T96 -> 60.234 | F119: ='전체-일별(데이터 입력)'!U96 -> 6.741 | G119: ='전체-일별(데이터 입력)'!V96 -> 170000 | H119: ='전체-일별(데이터 입력)'!W96 -> 0 | I119: ='전체-일별(데이터 입력)'!X96 -> 0 | ... P119: ='전체-일별(데이터 입력)'!AE96 -> 150915
A120: 46115 | B120: ='전체-일별(데이터 입력)'!Q97 -> 286.8 | C120: ='전체-일별(데이터 입력)'!R97 -> 152.4 | D120: ='전체-일별(데이터 입력)'!S97 -> 310 | E120: ='전체-일별(데이터 입력)'!T97 -> 63.691 | F120: ='전체-일별(데이터 입력)'!U97 -> 7.156 | G120: ='전체-일별(데이터 입력)'!V97 -> 140000 | H120: ='전체-일별(데이터 입력)'!W97 -> 4400 | I120: ='전체-일별(데이터 입력)'!X97 -> 1.98 | ... P120: ='전체-일별(데이터 입력)'!AE97 -> 149137
A121: 46116 | B121: ='전체-일별(데이터 입력)'!Q98 -> 237 | C121: ='전체-일별(데이터 입력)'!R98 -> 149.8 | D121: ='전체-일별(데이터 입력)'!S98 -> 256 | E121: ='전체-일별(데이터 입력)'!T98 -> 31.874 | F121: ='전체-일별(데이터 입력)'!U98 -> 6.733 | G121: ='전체-일별(데이터 입력)'!V98 -> 150000 | H121: ='전체-일별(데이터 입력)'!W98 -> 0 | I121: ='전체-일별(데이터 입력)'!X98 -> 0 | ... P121: ='전체-일별(데이터 입력)'!AE98 -> 144628
A122: 46117 | B122: ='전체-일별(데이터 입력)'!Q99 -> 161.1 | C122: ='전체-일별(데이터 입력)'!R99 -> 145.5 | D122: ='전체-일별(데이터 입력)'!S99 -> 276 | E122: ='전체-일별(데이터 입력)'!T99 -> 30.699 | F122: ='전체-일별(데이터 입력)'!U99 -> 6.876 | G122: ='전체-일별(데이터 입력)'!V99 -> 190000 | H122: ='전체-일별(데이터 입력)'!W99 -> 0 | I122: ='전체-일별(데이터 입력)'!X99 -> 0 | ... P122: ='전체-일별(데이터 입력)'!AE99 -> 155140
A123: 46118 | B123: ='전체-일별(데이터 입력)'!Q100 -> 327.6 | C123: ='전체-일별(데이터 입력)'!R100 -> 150.1 | D123: ='전체-일별(데이터 입력)'!S100 -> 276 | E123: ='전체-일별(데이터 입력)'!T100 -> 63.818 | F123: ='전체-일별(데이터 입력)'!U100 -> 6.54 | G123: ='전체-일별(데이터 입력)'!V100 -> 150000 | H123: ='전체-일별(데이터 입력)'!W100 -> 4420 | I123: ='전체-일별(데이터 입력)'!X100 -> 1.98 | ... P123: ='전체-일별(데이터 입력)'!AE100 -> 158551
A124: 46119 | B124: ='전체-일별(데이터 입력)'!Q101 -> 298.2 | C124: ='전체-일별(데이터 입력)'!R101 -> 143 | D124: ='전체-일별(데이터 입력)'!S101 -> 256 | E124: ='전체-일별(데이터 입력)'!T101 -> 63.428 | F124: ='전체-일별(데이터 입력)'!U101 -> 6.966 | G124: ='전체-일별(데이터 입력)'!V101 -> 160000 | H124: ='전체-일별(데이터 입력)'!W101 -> 0 | I124: ='전체-일별(데이터 입력)'!X101 -> 0 | ... P124: ='전체-일별(데이터 입력)'!AE101 -> 147406
A125: 46120 | B125: ='전체-일별(데이터 입력)'!Q102 -> 248 | C125: ='전체-일별(데이터 입력)'!R102 -> 139.5 | D125: ='전체-일별(데이터 입력)'!S102 -> 344 | E125: ='전체-일별(데이터 입력)'!T102 -> 60.431 | F125: ='전체-일별(데이터 입력)'!U102 -> 6.366 | G125: ='전체-일별(데이터 입력)'!V102 -> 180000 | H125: ='전체-일별(데이터 입력)'!W102 -> 0 | I125: ='전체-일별(데이터 입력)'!X102 -> 0 | ... P125: ='전체-일별(데이터 입력)'!AE102 -> 145707
A126: 46121 | B126: ='전체-일별(데이터 입력)'!Q103 -> 238.2 | C126: ='전체-일별(데이터 입력)'!R103 -> 123.6 | D126: ='전체-일별(데이터 입력)'!S103 -> 320 | E126: ='전체-일별(데이터 입력)'!T103 -> 55.792 | F126: ='전체-일별(데이터 입력)'!U103 -> 6.838 | G126: ='전체-일별(데이터 입력)'!V103 -> 140000 | H126: ='전체-일별(데이터 입력)'!W103 -> 0 | I126: ='전체-일별(데이터 입력)'!X103 -> 0 | ... P126: ='전체-일별(데이터 입력)'!AE103 -> 143007
A127: 46122 | B127: ='전체-일별(데이터 입력)'!Q104 -> 269.4 | C127: ='전체-일별(데이터 입력)'!R104 -> 115.9 | D127: ='전체-일별(데이터 입력)'!S104 -> 260 | E127: ='전체-일별(데이터 입력)'!T104 -> 50.005 | F127: ='전체-일별(데이터 입력)'!U104 -> 4.839 | G127: ='전체-일별(데이터 입력)'!V104 -> 160000 | H127: ='전체-일별(데이터 입력)'!W104 -> 3820 | I127: ='전체-일별(데이터 입력)'!X104 -> 1.96 | ... P127: ='전체-일별(데이터 입력)'!AE104 -> 167153
A128: 46123 | B128: ='전체-일별(데이터 입력)'!Q105 -> 252 | C128: ='전체-일별(데이터 입력)'!R105 -> 190.9 | D128: ='전체-일별(데이터 입력)'!S105 -> 240 | E128: ='전체-일별(데이터 입력)'!T105 -> 46.867 | F128: ='전체-일별(데이터 입력)'!U105 -> 7.414 | G128: ='전체-일별(데이터 입력)'!V105 -> 140000 | H128: ='전체-일별(데이터 입력)'!W105 -> 0 | I128: ='전체-일별(데이터 입력)'!X105 -> 0 | ... P128: ='전체-일별(데이터 입력)'!AE105 -> 151516
A129: 46124 | B129: ='전체-일별(데이터 입력)'!Q106 -> 0 | C129: ='전체-일별(데이터 입력)'!R106 -> 202.9 | D129: ='전체-일별(데이터 입력)'!S106 -> 224 | E129: ='전체-일별(데이터 입력)'!T106 -> 45.041 | F129: ='전체-일별(데이터 입력)'!U106 -> 5.605 | G129: ='전체-일별(데이터 입력)'!V106 -> 170000 | H129: ='전체-일별(데이터 입력)'!W106 -> 0 | I129: ='전체-일별(데이터 입력)'!X106 -> 0 | ... P129: ='전체-일별(데이터 입력)'!AE106 -> 153110
... A147: 46142 | B147: ='전체-일별(데이터 입력)'!Q124 -> 0 | C147: ='전체-일별(데이터 입력)'!R124 -> 0 | D147: ='전체-일별(데이터 입력)'!S124 -> 0 | E147: ='전체-일별(데이터 입력)'!T124 -> 0 | F147: ='전체-일별(데이터 입력)'!U124 -> 0 | G147: ='전체-일별(데이터 입력)'!V124 -> 0 | H147: ='전체-일별(데이터 입력)'!W124 -> 0 | I147: ='전체-일별(데이터 입력)'!X124 -> 0 | ... P147: ='전체-일별(데이터 입력)'!AE124 -> 0
A148: 평균 | B148: =AVERAGE(B118:B147) -> 92.76 | C148: =AVERAGE(C118:C147) -> 81.21 | D148: =AVERAGE(D118:D147) -> 142.53333 | E148: =AVERAGE(E118:E147) -> 29.121333 | F148: =AVERAGE(F118:F147) -> 3.4930667 | G148: =AVERAGE(G118:G147) -> 79333.333 | H148: =AVERAGE(H118:H147) -> 567.33333 | I148: =AVERAGE(I118:I147) -> 0.26666667 | ... P148: =AVERAGE(P118:P147) -> 80745.467
A149: 최대 | B149: =MAX(B118:B147) -> 327.6 | C149: =MAX(C118:C147) -> 202.9 | D149: =MAX(D118:D147) -> 344 | E149: =MAX(E118:E147) -> 65.296 | F149: =MAX(F118:F147) -> 7.414 | G149: =MAX(G118:G147) -> 190000 | H149: =MAX(H118:H147) -> 4420 | I149: =MAX(I118:I147) -> 2.08 | ... P149: =MAX(P118:P147) -> 167153
A150: 최소 | B150: =MIN(B118:B147) -> 0 | C150: =MIN(C118:C147) -> 0 | D150: =MIN(D118:D147) -> 0 | E150: =MIN(E118:E147) -> 0 | F150: =MIN(F118:F147) -> 0 | G150: =MIN(G118:G147) -> 0 | H150: =MIN(H118:H147) -> 0 | I150: =MIN(I118:I147) -> 0 | ... P150: =MIN(P118:P147) -> 0
A151: 설계 | B151: 185 | C151: 132 | D151: 221 | E151: 46.8 | F151: 5.23 | G151: - | H151: - | I151: - | J151: 4.5 | K151: 12 | L151: 3 | M151: 17.3 | N151: 0.15 | O151: - | P151: 215000
A152: =A155 -> 46143 | O152: (단위 : ㎎/ℓ, 개/㎖, ㎥/일)
A153: 일자 | B153: 유 입 수 | H153: 생물반응조 | J153: 방 류 수 | P153: 유입량
B154: BOD | C154: TOC | D154: SS | E154: T-N | F154: T-P | G154: 대장균군수 | H154: MLSS | I154: DO | J154: BOD | K154: TOC | L154: SS | M154: T-N | N154: T-P | O154: 대장균군수
A155: 46143 | B155: ='전체-일별(데이터 입력)'!Q125 -> 0 | C155: ='전체-일별(데이터 입력)'!R125 -> 0 | D155: ='전체-일별(데이터 입력)'!S125 -> 0 | E155: ='전체-일별(데이터 입력)'!T125 -> 0 | F155: ='전체-일별(데이터 입력)'!U125 -> 0 | G155: ='전체-일별(데이터 입력)'!V125 -> 0 | J155: ='전체-일별(데이터 입력)'!Y125 -> 0 | K155: ='전체-일별(데이터 입력)'!Z125 -> 0 | L155: ='전체-일별(데이터 입력)'!AA125 -> 0 | M155: ='전체-일별(데이터 입력)'!AB125 -> 0 | N155: ='전체-일별(데이터 입력)'!AC125 -> 0 | O155: ='전체-일별(데이터 입력)'!AD125 -> 0 | P155: ='전체-일별(데이터 입력)'!AE125 -> 0
A156: 46144 | B156: ='전체-일별(데이터 입력)'!Q126 -> 0 | C156: ='전체-일별(데이터 입력)'!R126 -> 0 | D156: ='전체-일별(데이터 입력)'!S126 -> 0 | E156: ='전체-일별(데이터 입력)'!T126 -> 0 | F156: ='전체-일별(데이터 입력)'!U126 -> 0 | G156: ='전체-일별(데이터 입력)'!V126 -> 0 | H156: ='전체-일별(데이터 입력)'!W126 -> 0 | I156: ='전체-일별(데이터 입력)'!X126 -> 0 | ... P156: ='전체-일별(데이터 입력)'!AE126 -> 0
A157: 46145 | B157: ='전체-일별(데이터 입력)'!Q127 -> 0 | C157: ='전체-일별(데이터 입력)'!R127 -> 0 | D157: ='전체-일별(데이터 입력)'!S127 -> 0 | E157: ='전체-일별(데이터 입력)'!T127 -> 0 | F157: ='전체-일별(데이터 입력)'!U127 -> 0 | G157: ='전체-일별(데이터 입력)'!V127 -> 0 | J157: ='전체-일별(데이터 입력)'!Y127 -> 0 | K157: ='전체-일별(데이터 입력)'!Z127 -> 0 | L157: ='전체-일별(데이터 입력)'!AA127 -> 0 | M157: ='전체-일별(데이터 입력)'!AB127 -> 0 | N157: ='전체-일별(데이터 입력)'!AC127 -> 0 | O157: ='전체-일별(데이터 입력)'!AD127 -> 0 | P157: ='전체-일별(데이터 입력)'!AE127 -> 0
A158: 46146 | B158: ='전체-일별(데이터 입력)'!Q128 -> 0 | C158: ='전체-일별(데이터 입력)'!R128 -> 0 | D158: ='전체-일별(데이터 입력)'!S128 -> 0 | E158: ='전체-일별(데이터 입력)'!T128 -> 0 | F158: ='전체-일별(데이터 입력)'!U128 -> 0 | G158: ='전체-일별(데이터 입력)'!V128 -> 0 | J158: ='전체-일별(데이터 입력)'!Y128 -> 0 | K158: ='전체-일별(데이터 입력)'!Z128 -> 0 | L158: ='전체-일별(데이터 입력)'!AA128 -> 0 | M158: ='전체-일별(데이터 입력)'!AB128 -> 0 | N158: ='전체-일별(데이터 입력)'!AC128 -> 0 | O158: ='전체-일별(데이터 입력)'!AD128 -> 0 | P158: ='전체-일별(데이터 입력)'!AE128 -> 0
A159: 46147 | B159: ='전체-일별(데이터 입력)'!Q129 -> 0 | C159: ='전체-일별(데이터 입력)'!R129 -> 0 | D159: ='전체-일별(데이터 입력)'!S129 -> 0 | E159: ='전체-일별(데이터 입력)'!T129 -> 0 | F159: ='전체-일별(데이터 입력)'!U129 -> 0 | G159: ='전체-일별(데이터 입력)'!V129 -> 0 | J159: ='전체-일별(데이터 입력)'!Y129 -> 0 | K159: ='전체-일별(데이터 입력)'!Z129 -> 0 | L159: ='전체-일별(데이터 입력)'!AA129 -> 0 | M159: ='전체-일별(데이터 입력)'!AB129 -> 0 | N159: ='전체-일별(데이터 입력)'!AC129 -> 0 | O159: ='전체-일별(데이터 입력)'!AD129 -> 0 | P159: ='전체-일별(데이터 입력)'!AE129 -> 0
A160: 46148 | B160: ='전체-일별(데이터 입력)'!Q130 -> 0 | C160: ='전체-일별(데이터 입력)'!R130 -> 0 | D160: ='전체-일별(데이터 입력)'!S130 -> 0 | E160: ='전체-일별(데이터 입력)'!T130 -> 0 | F160: ='전체-일별(데이터 입력)'!U130 -> 0 | G160: ='전체-일별(데이터 입력)'!V130 -> 0 | J160: ='전체-일별(데이터 입력)'!Y130 -> 0 | K160: ='전체-일별(데이터 입력)'!Z130 -> 0 | L160: ='전체-일별(데이터 입력)'!AA130 -> 0 | M160: ='전체-일별(데이터 입력)'!AB130 -> 0 | N160: ='전체-일별(데이터 입력)'!AC130 -> 0 | O160: ='전체-일별(데이터 입력)'!AD130 -> 0 | P160: ='전체-일별(데이터 입력)'!AE130 -> 0
A161: 46149 | B161: ='전체-일별(데이터 입력)'!Q131 -> 0 | C161: ='전체-일별(데이터 입력)'!R131 -> 0 | D161: ='전체-일별(데이터 입력)'!S131 -> 0 | E161: ='전체-일별(데이터 입력)'!T131 -> 0 | F161: ='전체-일별(데이터 입력)'!U131 -> 0 | G161: ='전체-일별(데이터 입력)'!V131 -> 0 | J161: ='전체-일별(데이터 입력)'!Y131 -> 0 | K161: ='전체-일별(데이터 입력)'!Z131 -> 0 | L161: ='전체-일별(데이터 입력)'!AA131 -> 0 | M161: ='전체-일별(데이터 입력)'!AB131 -> 0 | N161: ='전체-일별(데이터 입력)'!AC131 -> 0 | O161: ='전체-일별(데이터 입력)'!AD131 -> 0 | P161: ='전체-일별(데이터 입력)'!AE131 -> 0
A162: 46150 | B162: ='전체-일별(데이터 입력)'!Q132 -> 0 | C162: ='전체-일별(데이터 입력)'!R132 -> 0 | D162: ='전체-일별(데이터 입력)'!S132 -> 0 | E162: ='전체-일별(데이터 입력)'!T132 -> 0 | F162: ='전체-일별(데이터 입력)'!U132 -> 0 | G162: ='전체-일별(데이터 입력)'!V132 -> 0 | J162: ='전체-일별(데이터 입력)'!Y132 -> 0 | K162: ='전체-일별(데이터 입력)'!Z132 -> 0 | L162: ='전체-일별(데이터 입력)'!AA132 -> 0 | M162: ='전체-일별(데이터 입력)'!AB132 -> 0 | N162: ='전체-일별(데이터 입력)'!AC132 -> 0 | O162: ='전체-일별(데이터 입력)'!AD132 -> 0 | P162: ='전체-일별(데이터 입력)'!AE132 -> 0
A163: 46151 | B163: ='전체-일별(데이터 입력)'!Q133 -> 0 | C163: ='전체-일별(데이터 입력)'!R133 -> 0 | D163: ='전체-일별(데이터 입력)'!S133 -> 0 | E163: ='전체-일별(데이터 입력)'!T133 -> 0 | F163: ='전체-일별(데이터 입력)'!U133 -> 0 | G163: ='전체-일별(데이터 입력)'!V133 -> 0 | H163: ='전체-일별(데이터 입력)'!W133 -> 0 | I163: ='전체-일별(데이터 입력)'!X133 -> 0 | ... P163: ='전체-일별(데이터 입력)'!AE133 -> 0
A164: 46152 | B164: ='전체-일별(데이터 입력)'!Q134 -> 0 | C164: ='전체-일별(데이터 입력)'!R134 -> 0 | D164: ='전체-일별(데이터 입력)'!S134 -> 0 | E164: ='전체-일별(데이터 입력)'!T134 -> 0 | F164: ='전체-일별(데이터 입력)'!U134 -> 0 | G164: ='전체-일별(데이터 입력)'!V134 -> 0 | J164: ='전체-일별(데이터 입력)'!Y134 -> 0 | K164: ='전체-일별(데이터 입력)'!Z134 -> 0 | L164: ='전체-일별(데이터 입력)'!AA134 -> 0 | M164: ='전체-일별(데이터 입력)'!AB134 -> 0 | N164: ='전체-일별(데이터 입력)'!AC134 -> 0 | O164: ='전체-일별(데이터 입력)'!AD134 -> 0 | P164: ='전체-일별(데이터 입력)'!AE134 -> 0
A165: 46153 | B165: ='전체-일별(데이터 입력)'!Q135 -> 0 | C165: ='전체-일별(데이터 입력)'!R135 -> 0 | D165: ='전체-일별(데이터 입력)'!S135 -> 0 | E165: ='전체-일별(데이터 입력)'!T135 -> 0 | F165: ='전체-일별(데이터 입력)'!U135 -> 0 | G165: ='전체-일별(데이터 입력)'!V135 -> 0 | J165: ='전체-일별(데이터 입력)'!Y135 -> 0 | K165: ='전체-일별(데이터 입력)'!Z135 -> 0 | L165: ='전체-일별(데이터 입력)'!AA135 -> 0 | M165: ='전체-일별(데이터 입력)'!AB135 -> 0 | N165: ='전체-일별(데이터 입력)'!AC135 -> 0 | O165: ='전체-일별(데이터 입력)'!AD135 -> 0 | P165: ='전체-일별(데이터 입력)'!AE135 -> 0
A166: 46154 | B166: ='전체-일별(데이터 입력)'!Q136 -> 0 | C166: ='전체-일별(데이터 입력)'!R136 -> 0 | D166: ='전체-일별(데이터 입력)'!S136 -> 0 | E166: ='전체-일별(데이터 입력)'!T136 -> 0 | F166: ='전체-일별(데이터 입력)'!U136 -> 0 | G166: ='전체-일별(데이터 입력)'!V136 -> 0 | H166: ='전체-일별(데이터 입력)'!W136 -> 0 | I166: ='전체-일별(데이터 입력)'!X136 -> 0 | ... P166: ='전체-일별(데이터 입력)'!AE136 -> 0
A167: 46155 | B167: ='전체-일별(데이터 입력)'!Q137 -> 0 | C167: ='전체-일별(데이터 입력)'!R137 -> 0 | D167: ='전체-일별(데이터 입력)'!S137 -> 0 | E167: ='전체-일별(데이터 입력)'!T137 -> 0 | F167: ='전체-일별(데이터 입력)'!U137 -> 0 | G167: ='전체-일별(데이터 입력)'!V137 -> 0 | H167: ='전체-일별(데이터 입력)'!W137 -> 0 | J167: ='전체-일별(데이터 입력)'!Y137 -> 0 | K167: ='전체-일별(데이터 입력)'!Z137 -> 0 | L167: ='전체-일별(데이터 입력)'!AA137 -> 0 | M167: ='전체-일별(데이터 입력)'!AB137 -> 0 | N167: ='전체-일별(데이터 입력)'!AC137 -> 0 | O167: ='전체-일별(데이터 입력)'!AD137 -> 0 | P167: ='전체-일별(데이터 입력)'!AE137 -> 0
A168: 46156 | B168: ='전체-일별(데이터 입력)'!Q138 -> 0 | C168: ='전체-일별(데이터 입력)'!R138 -> 0 | D168: ='전체-일별(데이터 입력)'!S138 -> 0 | E168: ='전체-일별(데이터 입력)'!T138 -> 0 | F168: ='전체-일별(데이터 입력)'!U138 -> 0 | G168: ='전체-일별(데이터 입력)'!V138 -> 0 | J168: ='전체-일별(데이터 입력)'!Y138 -> 0 | K168: ='전체-일별(데이터 입력)'!Z138 -> 0 | L168: ='전체-일별(데이터 입력)'!AA138 -> 0 | M168: ='전체-일별(데이터 입력)'!AB138 -> 0 | N168: ='전체-일별(데이터 입력)'!AC138 -> 0 | O168: ='전체-일별(데이터 입력)'!AD138 -> 0 | P168: ='전체-일별(데이터 입력)'!AE138 -> 0
A169: 46157 | B169: ='전체-일별(데이터 입력)'!Q139 -> 0 | C169: ='전체-일별(데이터 입력)'!R139 -> 0 | D169: ='전체-일별(데이터 입력)'!S139 -> 0 | E169: ='전체-일별(데이터 입력)'!T139 -> 0 | F169: ='전체-일별(데이터 입력)'!U139 -> 0 | G169: ='전체-일별(데이터 입력)'!V139 -> 0 | J169: ='전체-일별(데이터 입력)'!Y139 -> 0 | K169: ='전체-일별(데이터 입력)'!Z139 -> 0 | L169: ='전체-일별(데이터 입력)'!AA139 -> 0 | M169: ='전체-일별(데이터 입력)'!AB139 -> 0 | N169: ='전체-일별(데이터 입력)'!AC139 -> 0 | O169: ='전체-일별(데이터 입력)'!AD139 -> 0 | P169: ='전체-일별(데이터 입력)'!AE139 -> 0
A170: 46158 | B170: ='전체-일별(데이터 입력)'!Q140 -> 0 | C170: ='전체-일별(데이터 입력)'!R140 -> 0 | D170: ='전체-일별(데이터 입력)'!S140 -> 0 | E170: ='전체-일별(데이터 입력)'!T140 -> 0 | F170: ='전체-일별(데이터 입력)'!U140 -> 0 | G170: ='전체-일별(데이터 입력)'!V140 -> 0 | H170: ='전체-일별(데이터 입력)'!W140 -> 0 | I170: ='전체-일별(데이터 입력)'!X140 -> 0 | ... P170: ='전체-일별(데이터 입력)'!AE140 -> 0
...

Sheet 일별(판교)
A2: 판교수질복원센터 수질검사 결과
A4: =A7 -> 46023 | O4: (단위 : ㎎/ℓ, 개/㎖, ㎥/일)
A5: 일자 | B5: 유 입 수 | H5: 생물반응조 | J5: 방 류 수 | P5: 유입량 | Q5: 재이용량 | R5: 방류량
B6: BOD | C6: TOC | D6: SS | E6: T-N | F6: T-P | G6: 대장균군수 | H6: MLSS | I6: DO | J6: BOD | K6: TOC | L6: SS | M6: T-N | N6: T-P | O6: 대장균군수
A7: 46023 | B7: ='전체-일별(데이터 입력)'!AH5 -> 167.4 | C7: ='전체-일별(데이터 입력)'!AI5 -> 107.9 | D7: ='전체-일별(데이터 입력)'!AJ5 -> 356.7 | E7: ='전체-일별(데이터 입력)'!AK5 -> 64.033 | F7: ='전체-일별(데이터 입력)'!AL5 -> 6.721 | G7: ='전체-일별(데이터 입력)'!AM5 -> 160000 | H7: ='전체-일별(데이터 입력)'!AN5 -> 4027.5 | I7: ='전체-일별(데이터 입력)'!AO5 -> 2.3775 | ... R7: ='전체-일별(데이터 입력)'!AX5 -> 28726
A8: 46024 | B8: ='전체-일별(데이터 입력)'!AH6 -> 341.4 | C8: ='전체-일별(데이터 입력)'!AI6 -> 167.1 | D8: ='전체-일별(데이터 입력)'!AJ6 -> 326.7 | E8: ='전체-일별(데이터 입력)'!AK6 -> 56.068 | F8: ='전체-일별(데이터 입력)'!AL6 -> 6.825 | G8: ='전체-일별(데이터 입력)'!AM6 -> 200000 | H8: ='전체-일별(데이터 입력)'!AN6 -> 3947.5 | I8: ='전체-일별(데이터 입력)'!AO6 -> 2.9175 | ... R8: ='전체-일별(데이터 입력)'!AX6 -> 32354
A9: 46025 | B9: ='전체-일별(데이터 입력)'!AH7 -> 254.4 | C9: ='전체-일별(데이터 입력)'!AI7 -> 160.7 | D9: ='전체-일별(데이터 입력)'!AJ7 -> 320 | E9: ='전체-일별(데이터 입력)'!AK7 -> 52.593 | F9: ='전체-일별(데이터 입력)'!AL7 -> 6.571 | G9: ='전체-일별(데이터 입력)'!AM7 -> 240000 | H9: ='전체-일별(데이터 입력)'!AN7 -> 4025 | I9: ='전체-일별(데이터 입력)'!AO7 -> 4.0675 | ... R9: ='전체-일별(데이터 입력)'!AX7 -> 28116
A10: 46026 | B10: ='전체-일별(데이터 입력)'!AH8 -> 229.2 | C10: ='전체-일별(데이터 입력)'!AI8 -> 185.5 | D10: ='전체-일별(데이터 입력)'!AJ8 -> 346.7 | E10: ='전체-일별(데이터 입력)'!AK8 -> 52.41 | F10: ='전체-일별(데이터 입력)'!AL8 -> 6.311 | G10: ='전체-일별(데이터 입력)'!AM8 -> 180000 | H10: ='전체-일별(데이터 입력)'!AN8 -> 3825 | I10: ='전체-일별(데이터 입력)'!AO8 -> 3.8925 | ... R10: ='전체-일별(데이터 입력)'!AX8 -> 27556
A11: 46027 | B11: ='전체-일별(데이터 입력)'!AH9 -> 280.8 | C11: ='전체-일별(데이터 입력)'!AI9 -> 181.6 | D11: ='전체-일별(데이터 입력)'!AJ9 -> 286.7 | E11: ='전체-일별(데이터 입력)'!AK9 -> 71.331 | F11: ='전체-일별(데이터 입력)'!AL9 -> 11.72 | G11: ='전체-일별(데이터 입력)'!AM9 -> 160000 | H11: ='전체-일별(데이터 입력)'!AN9 -> 3932.5 | I11: ='전체-일별(데이터 입력)'!AO9 -> 3.285 | ... R11: ='전체-일별(데이터 입력)'!AX9 -> 36642
A12: 46028 | B12: ='전체-일별(데이터 입력)'!AH10 -> 450.8 | C12: ='전체-일별(데이터 입력)'!AI10 -> 200 | D12: ='전체-일별(데이터 입력)'!AJ10 -> 473.3 | E12: ='전체-일별(데이터 입력)'!AK10 -> 64.42 | F12: ='전체-일별(데이터 입력)'!AL10 -> 7.453 | G12: ='전체-일별(데이터 입력)'!AM10 -> 150000 | H12: ='전체-일별(데이터 입력)'!AN10 -> 3912.5 | I12: ='전체-일별(데이터 입력)'!AO10 -> 2.3075 | ... R12: ='전체-일별(데이터 입력)'!AX10 -> 35607
A13: 46029 | B13: ='전체-일별(데이터 입력)'!AH11 -> 328.8 | C13: ='전체-일별(데이터 입력)'!AI11 -> 191.7 | D13: ='전체-일별(데이터 입력)'!AJ11 -> 396.7 | E13: ='전체-일별(데이터 입력)'!AK11 -> 52.804 | F13: ='전체-일별(데이터 입력)'!AL11 -> 6.357 | G13: ='전체-일별(데이터 입력)'!AM11 -> 180000 | H13: ='전체-일별(데이터 입력)'!AN11 -> 3965 | I13: ='전체-일별(데이터 입력)'!AO11 -> 2.575 | ... R13: ='전체-일별(데이터 입력)'!AX11 -> 34280
A14: 46030 | B14: ='전체-일별(데이터 입력)'!AH12 -> 296.3 | C14: ='전체-일별(데이터 입력)'!AI12 -> 163.7 | D14: ='전체-일별(데이터 입력)'!AJ12 -> 326.7 | E14: ='전체-일별(데이터 입력)'!AK12 -> 55.551 | F14: ='전체-일별(데이터 입력)'!AL12 -> 6.462 | G14: ='전체-일별(데이터 입력)'!AM12 -> 180000 | H14: ='전체-일별(데이터 입력)'!AN12 -> 3952.5 | I14: ='전체-일별(데이터 입력)'!AO12 -> 2.11 | ... R14: ='전체-일별(데이터 입력)'!AX12 -> 35524
A15: 46031 | B15: ='전체-일별(데이터 입력)'!AH13 -> 341.3 | C15: ='전체-일별(데이터 입력)'!AI13 -> 169 | D15: ='전체-일별(데이터 입력)'!AJ13 -> 350 | E15: ='전체-일별(데이터 입력)'!AK13 -> 63.305 | F15: ='전체-일별(데이터 입력)'!AL13 -> 7.14 | G15: ='전체-일별(데이터 입력)'!AM13 -> 130000 | H15: ='전체-일별(데이터 입력)'!AN13 -> 4097.5 | I15: ='전체-일별(데이터 입력)'!AO13 -> 2.1825 | ... R15: ='전체-일별(데이터 입력)'!AX13 -> 35104
A16: 46032 | B16: ='전체-일별(데이터 입력)'!AH14 -> 277.8 | C16: ='전체-일별(데이터 입력)'!AI14 -> 101.6 | D16: ='전체-일별(데이터 입력)'!AJ14 -> 320 | E16: ='전체-일별(데이터 입력)'!AK14 -> 90.2 | F16: ='전체-일별(데이터 입력)'!AL14 -> 6.825 | G16: ='전체-일별(데이터 입력)'!AM14 -> 150000 | H16: ='전체-일별(데이터 입력)'!AN14 -> 4010 | I16: ='전체-일별(데이터 입력)'!AO14 -> 2.505 | ... R16: ='전체-일별(데이터 입력)'!AX14 -> 27874
A17: 46033 | B17: ='전체-일별(데이터 입력)'!AH15 -> 302.4 | C17: ='전체-일별(데이터 입력)'!AI15 -> 95.2 | D17: ='전체-일별(데이터 입력)'!AJ15 -> 303.3 | E17: ='전체-일별(데이터 입력)'!AK15 -> 69.731 | F17: ='전체-일별(데이터 입력)'!AL15 -> 4.948 | G17: ='전체-일별(데이터 입력)'!AM15 -> 160000 | H17: ='전체-일별(데이터 입력)'!AN15 -> 4050 | I17: ='전체-일별(데이터 입력)'!AO15 -> 2.53 | ... R17: ='전체-일별(데이터 입력)'!AX15 -> 29220
A18: 46034 | B18: ='전체-일별(데이터 입력)'!AH16 -> 324.8 | C18: ='전체-일별(데이터 입력)'!AI16 -> 174.9 | D18: ='전체-일별(데이터 입력)'!AJ16 -> 380 | E18: ='전체-일별(데이터 입력)'!AK16 -> 65.682 | F18: ='전체-일별(데이터 입력)'!AL16 -> 7.388 | G18: ='전체-일별(데이터 입력)'!AM16 -> 170000 | H18: ='전체-일별(데이터 입력)'!AN16 -> 4007.5 | I18: ='전체-일별(데이터 입력)'!AO16 -> 2.91 | ... R18: ='전체-일별(데이터 입력)'!AX16 -> 35072
... A37: 46053 | B37: ='전체-일별(데이터 입력)'!AH35 -> 408 | C37: ='전체-일별(데이터 입력)'!AI35 -> 244.4 | D37: ='전체-일별(데이터 입력)'!AJ35 -> 376.7 | E37: ='전체-일별(데이터 입력)'!AK35 -> 55.75 | F37: ='전체-일별(데이터 입력)'!AL35 -> 6.02 | G37: ='전체-일별(데이터 입력)'!AM35 -> 180000 | H37: ='전체-일별(데이터 입력)'!AN35 -> 4567.5 | I37: ='전체-일별(데이터 입력)'!AO35 -> 2.1975 | ... R37: ='전체-일별(데이터 입력)'!AX35 -> 28867
A38: 평균 | B38: =AVERAGE(B7:B37) -> 327.86129 | C38: =AVERAGE(C7:C37) -> 172.26452 | D38: =AVERAGE(D7:D37) -> 360.86129 | E38: =AVERAGE(E7:E37) -> 60.266065 | F38: =AVERAGE(F7:F37) -> 6.7111935 | G38: =AVERAGE(G7:G37) -> 152258.06 | H38: =AVERAGE(H7:H37) -> 4121.9355 | I38: =AVERAGE(I7:I37) -> 2.2825806 | ... R38: =AVERAGE(R7:R37) -> 32728.645
A39: 최대 | B39: =MAX(B7:B37) -> 454.5 | C39: =MAX(C7:C37) -> 251.2 | D39: =MAX(D7:D37) -> 473.3 | E39: =MAX(E7:E37) -> 90.2 | F39: =MAX(F7:F37) -> 11.72 | G39: =MAX(G7:G37) -> 240000 | H39: =MAX(H7:H37) -> 4567.5 | I39: =MAX(I7:I37) -> 4.0675 | ... R39: =MAX(R7:R37) -> 36642
A40: 최소 | B40: =MIN(B7:B37) -> 167.4 | C40: =MIN(C7:C37) -> 95.2 | D40: =MIN(D7:D37) -> 250 | E40: =MIN(E7:E37) -> 51.31 | F40: =MIN(F7:F37) -> 4.948 | G40: =MIN(G7:G37) -> 110000 | H40: =MIN(H7:H37) -> 3825 | I40: =MIN(I7:I37) -> 0.76 | ... R40: =MIN(R7:R37) -> 27556
A41: 설계 | B41: 190 | C41: 163 | D41: 197 | E41: 50 | F41: 6 | G41: - | H41: - | I41: - | J41: 5 | K41: 25 | L41: 5 | M41: 15 | N41: 0.5 | O41: - | P41: 47000 | Q41: - | R41: -
A42: =A45 -> 46054 | O42: (단위 : ㎎/ℓ, 개/㎖, ㎥/일)
A43: 일자 | B43: 유 입 수 | H43: 생물반응조 | J43: 방 류 수 | P43: 유입량 | Q43: 재이용량 | R43: 방류량
B44: BOD | C44: TOC | D44: SS | E44: T-N | F44: T-P | G44: 대장균군수 | H44: MLSS | I44: DO | J44: BOD | K44: TOC | L44: SS | M44: T-N | N44: T-P | O44: 대장균군수
A45: 46054 | B45: ='전체-일별(데이터 입력)'!AH36 -> 323.3 | C45: ='전체-일별(데이터 입력)'!AI36 -> 229.5 | D45: ='전체-일별(데이터 입력)'!AJ36 -> 320 | E45: ='전체-일별(데이터 입력)'!AK36 -> 51.216 | F45: ='전체-일별(데이터 입력)'!AL36 -> 6.372 | G45: ='전체-일별(데이터 입력)'!AM36 -> 150000 | H45: ='전체-일별(데이터 입력)'!AN36 -> 4452.5 | I45: ='전체-일별(데이터 입력)'!AO36 -> 2.55 | ... R45: ='전체-일별(데이터 입력)'!AX36 -> 27200
A46: 46055 | B46: ='전체-일별(데이터 입력)'!AH37 -> 333 | C46: ='전체-일별(데이터 입력)'!AI37 -> 165.2 | D46: ='전체-일별(데이터 입력)'!AJ37 -> 290 | E46: ='전체-일별(데이터 입력)'!AK37 -> 36.451 | F46: ='전체-일별(데이터 입력)'!AL37 -> 5.754 | G46: ='전체-일별(데이터 입력)'!AM37 -> 160000 | H46: ='전체-일별(데이터 입력)'!AN37 -> 4542.5 | I46: ='전체-일별(데이터 입력)'!AO37 -> 3.0425 | ... R46: ='전체-일별(데이터 입력)'!AX37 -> 34379
A47: 46056 | B47: ='전체-일별(데이터 입력)'!AH38 -> 408 | C47: ='전체-일별(데이터 입력)'!AI38 -> 156.1 | D47: ='전체-일별(데이터 입력)'!AJ38 -> 393.3 | E47: ='전체-일별(데이터 입력)'!AK38 -> 52.897 | F47: ='전체-일별(데이터 입력)'!AL38 -> 5.116 | G47: ='전체-일별(데이터 입력)'!AM38 -> 140000 | H47: ='전체-일별(데이터 입력)'!AN38 -> 4230 | I47: ='전체-일별(데이터 입력)'!AO38 -> 1.8 | ... R47: ='전체-일별(데이터 입력)'!AX38 -> 34944
A48: 46057 | B48: ='전체-일별(데이터 입력)'!AH39 -> 338.4 | C48: ='전체-일별(데이터 입력)'!AI39 -> 170.2 | D48: ='전체-일별(데이터 입력)'!AJ39 -> 290 | E48: ='전체-일별(데이터 입력)'!AK39 -> 63.427 | F48: ='전체-일별(데이터 입력)'!AL39 -> 5.8 | G48: ='전체-일별(데이터 입력)'!AM39 -> 180000 | H48: ='전체-일별(데이터 입력)'!AN39 -> 4277.5 | I48: ='전체-일별(데이터 입력)'!AO39 -> 1.0725 | ... R48: ='전체-일별(데이터 입력)'!AX39 -> 34646
A49: 46058 | B49: ='전체-일별(데이터 입력)'!AH40 -> 320.4 | C49: ='전체-일별(데이터 입력)'!AI40 -> 161.6 | D49: ='전체-일별(데이터 입력)'!AJ40 -> 396.7 | E49: ='전체-일별(데이터 입력)'!AK40 -> 51.914 | F49: ='전체-일별(데이터 입력)'!AL40 -> 6.507 | G49: ='전체-일별(데이터 입력)'!AM40 -> 160000 | H49: ='전체-일별(데이터 입력)'!AN40 -> 4312.5 | I49: ='전체-일별(데이터 입력)'!AO40 -> 1.78 | ... R49: ='전체-일별(데이터 입력)'!AX40 -> 34699
A50: 46059 | B50: ='전체-일별(데이터 입력)'!AH41 -> 374.4 | C50: ='전체-일별(데이터 입력)'!AI41 -> 150.2 | D50: ='전체-일별(데이터 입력)'!AJ41 -> 326.7 | E50: ='전체-일별(데이터 입력)'!AK41 -> 61.738 | F50: ='전체-일별(데이터 입력)'!AL41 -> 5.807 | G50: ='전체-일별(데이터 입력)'!AM41 -> 220000 | H50: ='전체-일별(데이터 입력)'!AN41 -> 4340 | I50: ='전체-일별(데이터 입력)'!AO41 -> 2.1825 | ... R50: ='전체-일별(데이터 입력)'!AX41 -> 34561
A51: 46060 | B51: ='전체-일별(데이터 입력)'!AH42 -> 251.4 | C51: ='전체-일별(데이터 입력)'!AI42 -> 227.8 | D51: ='전체-일별(데이터 입력)'!AJ42 -> 290 | E51: ='전체-일별(데이터 입력)'!AK42 -> 61.832 | F51: ='전체-일별(데이터 입력)'!AL42 -> 4.941 | G51: ='전체-일별(데이터 입력)'!AM42 -> 220000 | H51: ='전체-일별(데이터 입력)'!AN42 -> 4387.5 | I51: ='전체-일별(데이터 입력)'!AO42 -> 2.48 | ... R51: ='전체-일별(데이터 입력)'!AX42 -> 28007
A52: 46061 | B52: ='전체-일별(데이터 입력)'!AH43 -> 270.6 | C52: ='전체-일별(데이터 입력)'!AI43 -> 200.6 | D52: ='전체-일별(데이터 입력)'!AJ43 -> 300 | E52: ='전체-일별(데이터 입력)'!AK43 -> 62.776 | F52: ='전체-일별(데이터 입력)'!AL43 -> 4.883 | G52: ='전체-일별(데이터 입력)'!AM43 -> 180000 | H52: ='전체-일별(데이터 입력)'!AN43 -> 4437.5 | I52: ='전체-일별(데이터 입력)'!AO43 -> 2.495 | ... R52: ='전체-일별(데이터 입력)'!AX43 -> 28219
A53: 46062 | B53: ='전체-일별(데이터 입력)'!AH44 -> 240 | C53: ='전체-일별(데이터 입력)'!AI44 -> 164.8 | D53: ='전체-일별(데이터 입력)'!AJ44 -> 323.3 | E53: ='전체-일별(데이터 입력)'!AK44 -> 49.799 | F53: ='전체-일별(데이터 입력)'!AL44 -> 4.654 | G53: ='전체-일별(데이터 입력)'!AM44 -> 160000 | H53: ='전체-일별(데이터 입력)'!AN44 -> 4100 | I53: ='전체-일별(데이터 입력)'!AO44 -> 2.2075 | ... R53: ='전체-일별(데이터 입력)'!AX44 -> 34658
A54: 46063 | B54: ='전체-일별(데이터 입력)'!AH45 -> 325.5 | C54: ='전체-일별(데이터 입력)'!AI45 -> 218.4 | D54: ='전체-일별(데이터 입력)'!AJ45 -> 330 | E54: ='전체-일별(데이터 입력)'!AK45 -> 61.218 | F54: ='전체-일별(데이터 입력)'!AL45 -> 6.304 | G54: ='전체-일별(데이터 입력)'!AM45 -> 170000 | H54: ='전체-일별(데이터 입력)'!AN45 -> 4185 | I54: ='전체-일별(데이터 입력)'!AO45 -> 2.95 | ... R54: ='전체-일별(데이터 입력)'!AX45 -> 35321
A55: 46064 | B55: ='전체-일별(데이터 입력)'!AH46 -> 456.8 | C55: ='전체-일별(데이터 입력)'!AI46 -> 229.2 | D55: ='전체-일별(데이터 입력)'!AJ46 -> 396.7 | E55: ='전체-일별(데이터 입력)'!AK46 -> 58.366 | F55: ='전체-일별(데이터 입력)'!AL46 -> 6.237 | G55: ='전체-일별(데이터 입력)'!AM46 -> 190000 | H55: ='전체-일별(데이터 입력)'!AN46 -> 4240 | I55: ='전체-일별(데이터 입력)'!AO46 -> 2.975 | ... R55: ='전체-일별(데이터 입력)'!AX46 -> 35631
A56: 46065 | B56: ='전체-일별(데이터 입력)'!AH47 -> 411.8 | C56: ='전체-일별(데이터 입력)'!AI47 -> 243.7 | D56: ='전체-일별(데이터 입력)'!AJ47 -> 470 | E56: ='전체-일별(데이터 입력)'!AK47 -> 62.253 | F56: ='전체-일별(데이터 입력)'!AL47 -> 5.59 | G56: ='전체-일별(데이터 입력)'!AM47 -> 160000 | H56: ='전체-일별(데이터 입력)'!AN47 -> 3987.5 | I56: ='전체-일별(데이터 입력)'!AO47 -> 2.7725 | ... R56: ='전체-일별(데이터 입력)'!AX47 -> 35056
... A72: 46081 | B72: ='전체-일별(데이터 입력)'!AH63 -> 404 | C72: ='전체-일별(데이터 입력)'!AI63 -> 257.7 | D72: ='전체-일별(데이터 입력)'!AJ63 -> 326.7 | E72: ='전체-일별(데이터 입력)'!AK63 -> 55.822 | F72: ='전체-일별(데이터 입력)'!AL63 -> 5.554 | G72: ='전체-일별(데이터 입력)'!AM63 -> 230000 | H72: ='전체-일별(데이터 입력)'!AN63 -> 4182.5 | I72: ='전체-일별(데이터 입력)'!AO63 -> 2.285 | ... R72: ='전체-일별(데이터 입력)'!AX63 -> 27615
A73: 평균 | B73: =AVERAGE(B45:B72) -> 317.26429 | C73: =AVERAGE(C45:C72) -> 182.88929 | D73: =AVERAGE(D45:D72) -> 337.15 | E73: =AVERAGE(E45:E72) -> 58.534786 | F73: =AVERAGE(F45:F72) -> 5.3317143 | G73: =AVERAGE(G45:G72) -> 192857.14 | H73: =AVERAGE(H45:H72) -> 4163.3929 | I73: =AVERAGE(I45:I72) -> 2.7475893 | ... R73: =AVERAGE(R45:R72) -> 32071.607
A74: 최대 | B74: =MAX(B45:B72) -> 464.3 | C74: =MAX(C45:C72) -> 261.5 | D74: =MAX(D45:D72) -> 470 | E74: =MAX(E45:E72) -> 85.303 | F74: =MAX(F45:F72) -> 6.507 | G74: =MAX(G45:G72) -> 250000 | H74: =MAX(H45:H72) -> 4542.5 | I74: =MAX(I45:I72) -> 4.125 | ... R74: =MAX(R45:R72) -> 36714
A75: 최소 | B75: =MIN(B45:B72) -> 233.4 | C75: =MIN(C45:C72) -> 101.5 | D75: =MIN(D45:D72) -> 250 | E75: =MIN(E45:E72) -> 36.451 | F75: =MIN(F45:F72) -> 3.125 | G75: =MIN(G45:G72) -> 140000 | H75: =MIN(H45:H72) -> 3900 | I75: =MIN(I45:I72) -> 1.0725 | ... R75: =MIN(R45:R72) -> 23967
A76: 설계 | B76: 190 | C76: 163 | D76: 197 | E76: 50 | F76: 6 | G76: - | H76: - | I76: - | J76: 5 | K76: 25 | L76: 5 | M76: 15 | N76: 0.5 | O76: - | P76: 47000 | Q76: - | R76: -
A77: =A80 -> 46082 | O77: (단위 : ㎎/ℓ, 개/㎖, ㎥/일)
A78: 일자 | B78: 유 입 수 | H78: 생물반응조 | J78: 방 류 수 | P78: 유입량 | Q78: 재이용량 | R78: 방류량
B79: BOD | C79: TOC | D79: SS | E79: T-N | F79: T-P | G79: 대장균군수 | H79: MLSS | I79: DO | J79: BOD | K79: TOC | L79: SS | M79: T-N | N79: T-P | O79: 대장균군수
A80: 46082 | B80: ='전체-일별(데이터 입력)'!AH64 -> 321 | C80: ='전체-일별(데이터 입력)'!AI64 -> 209.8 | D80: ='전체-일별(데이터 입력)'!AJ64 -> 296.7 | E80: ='전체-일별(데이터 입력)'!AK64 -> 54.556 | F80: ='전체-일별(데이터 입력)'!AL64 -> 4.734 | G80: ='전체-일별(데이터 입력)'!AM64 -> 190000 | H80: ='전체-일별(데이터 입력)'!AN64 -> 4057.5 | I80: ='전체-일별(데이터 입력)'!AO64 -> 2.84 | ... R80: ='전체-일별(데이터 입력)'!AX64 -> 28724
A81: 46083 | B81: ='전체-일별(데이터 입력)'!AH65 -> 241.8 | C81: ='전체-일별(데이터 입력)'!AI65 -> 201 | D81: ='전체-일별(데이터 입력)'!AJ65 -> 220 | E81: ='전체-일별(데이터 입력)'!AK65 -> 38.713 | F81: ='전체-일별(데이터 입력)'!AL65 -> 4.04 | G81: ='전체-일별(데이터 입력)'!AM65 -> 240000 | H81: ='전체-일별(데이터 입력)'!AN65 -> 4120 | I81: ='전체-일별(데이터 입력)'!AO65 -> 2.8325 | ... R81: ='전체-일별(데이터 입력)'!AX65 -> 28016
A82: 46084 | B82: ='전체-일별(데이터 입력)'!AH66 -> 337.5 | C82: ='전체-일별(데이터 입력)'!AI66 -> 157.4 | D82: ='전체-일별(데이터 입력)'!AJ66 -> 276.7 | E82: ='전체-일별(데이터 입력)'!AK66 -> 34.26 | F82: ='전체-일별(데이터 입력)'!AL66 -> 4.8 | G82: ='전체-일별(데이터 입력)'!AM66 -> 220000 | H82: ='전체-일별(데이터 입력)'!AN66 -> 3972.5 | I82: ='전체-일별(데이터 입력)'!AO66 -> 3.13 | ... R82: ='전체-일별(데이터 입력)'!AX66 -> 38461
A83: 46085 | B83: ='전체-일별(데이터 입력)'!AH67 -> 465 | C83: ='전체-일별(데이터 입력)'!AI67 -> 300.9 | D83: ='전체-일별(데이터 입력)'!AJ67 -> 356.7 | E83: ='전체-일별(데이터 입력)'!AK67 -> 55.186 | F83: ='전체-일별(데이터 입력)'!AL67 -> 5.412 | G83: ='전체-일별(데이터 입력)'!AM67 -> 180000 | H83: ='전체-일별(데이터 입력)'!AN67 -> 3895 | I83: ='전체-일별(데이터 입력)'!AO67 -> 2.9675 | ... R83: ='전체-일별(데이터 입력)'!AX67 -> 34933
A84: 46086 | B84: ='전체-일별(데이터 입력)'!AH68 -> 401.3 | C84: ='전체-일별(데이터 입력)'!AI68 -> 252.8 | D84: ='전체-일별(데이터 입력)'!AJ68 -> 340 | E84: ='전체-일별(데이터 입력)'!AK68 -> 56.756 | F84: ='전체-일별(데이터 입력)'!AL68 -> 6.678 | G84: ='전체-일별(데이터 입력)'!AM68 -> 190000 | H84: ='전체-일별(데이터 입력)'!AN68 -> 4152.5 | I84: ='전체-일별(데이터 입력)'!AO68 -> 2.315 | ... R84: ='전체-일별(데이터 입력)'!AX68 -> 34851
A85: 46087 | B85: ='전체-일별(데이터 입력)'!AH69 -> 364.2 | C85: ='전체-일별(데이터 입력)'!AI69 -> 242.4 | D85: ='전체-일별(데이터 입력)'!AJ69 -> 333.3 | E85: ='전체-일별(데이터 입력)'!AK69 -> 59.134 | F85: ='전체-일별(데이터 입력)'!AL69 -> 6.035 | G85: ='전체-일별(데이터 입력)'!AM69 -> 230000 | H85: ='전체-일별(데이터 입력)'!AN69 -> 3895 | I85: ='전체-일별(데이터 입력)'!AO69 -> 2.75 | ... R85: ='전체-일별(데이터 입력)'!AX69 -> 34199
A86: 46088 | B86: ='전체-일별(데이터 입력)'!AH70 -> 429.8 | C86: ='전체-일별(데이터 입력)'!AI70 -> 221.1 | D86: ='전체-일별(데이터 입력)'!AJ70 -> 470 | E86: ='전체-일별(데이터 입력)'!AK70 -> 73.704 | F86: ='전체-일별(데이터 입력)'!AL70 -> 6.695 | G86: ='전체-일별(데이터 입력)'!AM70 -> 220000 | H86: ='전체-일별(데이터 입력)'!AN70 -> 4107.5 | I86: ='전체-일별(데이터 입력)'!AO70 -> 2.2075 | ... R86: ='전체-일별(데이터 입력)'!AX70 -> 28591
A87: 46089 | B87: ='전체-일별(데이터 입력)'!AH71 -> 314.4 | C87: ='전체-일별(데이터 입력)'!AI71 -> 130.6 | D87: ='전체-일별(데이터 입력)'!AJ71 -> 366.7 | E87: ='전체-일별(데이터 입력)'!AK71 -> 75.671 | F87: ='전체-일별(데이터 입력)'!AL71 -> 6.579 | G87: ='전체-일별(데이터 입력)'!AM71 -> 180000 | H87: ='전체-일별(데이터 입력)'!AN71 -> 3945 | I87: ='전체-일별(데이터 입력)'!AO71 -> 3.1975 | ... R87: ='전체-일별(데이터 입력)'!AX71 -> 28202
A88: 46090 | B88: ='전체-일별(데이터 입력)'!AH72 -> 275.3 | C88: ='전체-일별(데이터 입력)'!AI72 -> 127 | D88: ='전체-일별(데이터 입력)'!AJ72 -> 256.7 | E88: ='전체-일별(데이터 입력)'!AK72 -> 45.263 | F88: ='전체-일별(데이터 입력)'!AL72 -> 3.821 | G88: ='전체-일별(데이터 입력)'!AM72 -> 160000 | H88: ='전체-일별(데이터 입력)'!AN72 -> 4035 | I88: ='전체-일별(데이터 입력)'!AO72 -> 2.515 | ... R88: ='전체-일별(데이터 입력)'!AX72 -> 35252
A89: 46091 | B89: ='전체-일별(데이터 입력)'!AH73 -> 440.3 | C89: ='전체-일별(데이터 입력)'!AI73 -> 253 | D89: ='전체-일별(데이터 입력)'!AJ73 -> 346.7 | E89: ='전체-일별(데이터 입력)'!AK73 -> 60.901 | F89: ='전체-일별(데이터 입력)'!AL73 -> 6.513 | G89: ='전체-일별(데이터 입력)'!AM73 -> 190000 | H89: ='전체-일별(데이터 입력)'!AN73 -> 4212.5 | I89: ='전체-일별(데이터 입력)'!AO73 -> 2.65 | ... R89: ='전체-일별(데이터 입력)'!AX73 -> 34787
A90: 46092 | B90: ='전체-일별(데이터 입력)'!AH74 -> 411.8 | C90: ='전체-일별(데이터 입력)'!AI74 -> 246.7 | D90: ='전체-일별(데이터 입력)'!AJ74 -> 380 | E90: ='전체-일별(데이터 입력)'!AK74 -> 61.645 | F90: ='전체-일별(데이터 입력)'!AL74 -> 7.139 | G90: ='전체-일별(데이터 입력)'!AM74 -> 230000 | H90: ='전체-일별(데이터 입력)'!AN74 -> 4230 | I90: ='전체-일별(데이터 입력)'!AO74 -> 2.835 | ... R90: ='전체-일별(데이터 입력)'!AX74 -> 35721
A91: 46093 | B91: ='전체-일별(데이터 입력)'!AH75 -> 335.4 | C91: ='전체-일별(데이터 입력)'!AI75 -> 250.9 | D91: ='전체-일별(데이터 입력)'!AJ75 -> 313.3 | E91: ='전체-일별(데이터 입력)'!AK75 -> 60.147 | F91: ='전체-일별(데이터 입력)'!AL75 -> 6.816 | G91: ='전체-일별(데이터 입력)'!AM75 -> 180000 | H91: ='전체-일별(데이터 입력)'!AN75 -> 4227.5 | I91: ='전체-일별(데이터 입력)'!AO75 -> 2.305 | ... R91: ='전체-일별(데이터 입력)'!AX75 -> 34520
... A110: 46112 | B110: ='전체-일별(데이터 입력)'!AH94 -> 369.8 | C110: ='전체-일별(데이터 입력)'!AI94 -> 166.7 | D110: ='전체-일별(데이터 입력)'!AJ94 -> 373.3 | E110: ='전체-일별(데이터 입력)'!AK94 -> 62.365 | F110: ='전체-일별(데이터 입력)'!AL94 -> 5.584 | G110: ='전체-일별(데이터 입력)'!AM94 -> 190000 | H110: ='전체-일별(데이터 입력)'!AN94 -> 4142.5 | I110: ='전체-일별(데이터 입력)'!AO94 -> 1.2025 | ... R110: ='전체-일별(데이터 입력)'!AX94 -> 36572
A111: 평균 | B111: =AVERAGE(B80:B110) -> 349.40968 | C111: =AVERAGE(C80:C110) -> 195.73548 | D111: =AVERAGE(D80:D110) -> 348.92581 | E111: =AVERAGE(E80:E110) -> 57.747839 | F111: =AVERAGE(F80:F110) -> 6.0558065 | G111: =AVERAGE(G80:G110) -> 202258.06 | H111: =AVERAGE(H80:H110) -> 4102.6613 | I111: =AVERAGE(I80:I110) -> 2.1975806 | ... R111: =AVERAGE(R80:R110) -> 33617.903
A112: 최대 | B112: =MAX(B80:B110) -> 514 | C112: =MAX(C80:C110) -> 300.9 | D112: =MAX(D80:D110) -> 470 | E112: =MAX(E80:E110) -> 94.054 | F112: =MAX(F80:F110) -> 7.24 | G112: =MAX(G80:G110) -> 240000 | H112: =MAX(H80:H110) -> 4362.5 | I112: =MAX(I80:I110) -> 3.1975 | ... R112: =MAX(R80:R110) -> 38967
A113: 최소 | B113: =MIN(B80:B110) -> 238.2 | C113: =MIN(C80:C110) -> 121.2 | D113: =MIN(D80:D110) -> 220 | E113: =MIN(E80:E110) -> 34.26 | F113: =MIN(F80:F110) -> 3.821 | G113: =MIN(G80:G110) -> 160000 | H113: =MIN(H80:H110) -> 3895 | I113: =MIN(I80:I110) -> 0.85 | ... R113: =MIN(R80:R110) -> 28016
A114: 설계 | B114: 190 | C114: 163 | D114: 197 | E114: 50 | F114: 6 | G114: - | H114: - | I114: - | J114: 5 | K114: 25 | L114: 5 | M114: 15 | N114: 0.5 | O114: - | P114: 47000 | Q114: - | R114: -
A115: =A118 -> 46113 | O115: (단위 : ㎎/ℓ, 개/㎖, ㎥/일)
A116: 일자 | B116: 유 입 수 | H116: 생물반응조 | J116: 방 류 수 | P116: 유입량 | Q116: 재이용량 | R116: 방류량
B117: BOD | C117: TOC | D117: SS | E117: T-N | F117: T-P | G117: 대장균군수 | H117: MLSS | I117: DO | J117: BOD | K117: TOC | L117: SS | M117: T-N | N117: T-P | O117: 대장균군수
A118: 46113 | B118: ='전체-일별(데이터 입력)'!AH95 -> 366.8 | C118: ='전체-일별(데이터 입력)'!AI95 -> 204.5 | D118: ='전체-일별(데이터 입력)'!AJ95 -> 380 | E118: ='전체-일별(데이터 입력)'!AK95 -> 55.395 | F118: ='전체-일별(데이터 입력)'!AL95 -> 5.872 | G118: ='전체-일별(데이터 입력)'!AM95 -> 210000 | H118: ='전체-일별(데이터 입력)'!AN95 -> 4137.5 | I118: ='전체-일별(데이터 입력)'!AO95 -> 0.86 | ... R118: ='전체-일별(데이터 입력)'!AX95 -> 37197
A119: 46114 | B119: ='전체-일별(데이터 입력)'!AH96 -> 457.5 | C119: ='전체-일별(데이터 입력)'!AI96 -> 227.8 | D119: ='전체-일별(데이터 입력)'!AJ96 -> 460 | E119: ='전체-일별(데이터 입력)'!AK96 -> 57.243 | F119: ='전체-일별(데이터 입력)'!AL96 -> 5.933 | G119: ='전체-일별(데이터 입력)'!AM96 -> 240000 | H119: ='전체-일별(데이터 입력)'!AN96 -> 4230 | I119: ='전체-일별(데이터 입력)'!AO96 -> 0.81 | ... R119: ='전체-일별(데이터 입력)'!AX96 -> 36570
A120: 46115 | B120: ='전체-일별(데이터 입력)'!AH97 -> 454.5 | C120: ='전체-일별(데이터 입력)'!AI97 -> 262 | D120: ='전체-일별(데이터 입력)'!AJ97 -> 316.7 | E120: ='전체-일별(데이터 입력)'!AK97 -> 59.127 | F120: ='전체-일별(데이터 입력)'!AL97 -> 5.97 | G120: ='전체-일별(데이터 입력)'!AM97 -> 260000 | H120: ='전체-일별(데이터 입력)'!AN97 -> 4242.5 | I120: ='전체-일별(데이터 입력)'!AO97 -> 1.1375 | ... R120: ='전체-일별(데이터 입력)'!AX97 -> 35267
A121: 46116 | B121: ='전체-일별(데이터 입력)'!AH98 -> 331.8 | C121: ='전체-일별(데이터 입력)'!AI98 -> 273.8 | D121: ='전체-일별(데이터 입력)'!AJ98 -> 276.7 | E121: ='전체-일별(데이터 입력)'!AK98 -> 58.638 | F121: ='전체-일별(데이터 입력)'!AL98 -> 5.696 | G121: ='전체-일별(데이터 입력)'!AM98 -> 240000 | H121: ='전체-일별(데이터 입력)'!AN98 -> 4172.5 | I121: ='전체-일별(데이터 입력)'!AO98 -> 1.0425 | ... R121: ='전체-일별(데이터 입력)'!AX98 -> 30172
A122: 46117 | B122: ='전체-일별(데이터 입력)'!AH99 -> 268.2 | C122: ='전체-일별(데이터 입력)'!AI99 -> 232.4 | D122: ='전체-일별(데이터 입력)'!AJ99 -> 290 | E122: ='전체-일별(데이터 입력)'!AK99 -> 61.507 | F122: ='전체-일별(데이터 입력)'!AL99 -> 5.631 | G122: ='전체-일별(데이터 입력)'!AM99 -> 250000 | H122: ='전체-일별(데이터 입력)'!AN99 -> 4020 | I122: ='전체-일별(데이터 입력)'!AO99 -> 1.81 | ... R122: ='전체-일별(데이터 입력)'!AX99 -> 35296
A123: 46118 | B123: ='전체-일별(데이터 입력)'!AH100 -> 376.5 | C123: ='전체-일별(데이터 입력)'!AI100 -> 193.6 | D123: ='전체-일별(데이터 입력)'!AJ100 -> 486.7 | E123: ='전체-일별(데이터 입력)'!AK100 -> 58.601 | F123: ='전체-일별(데이터 입력)'!AL100 -> 7.41 | G123: ='전체-일별(데이터 입력)'!AM100 -> 220000 | H123: ='전체-일별(데이터 입력)'!AN100 -> 4222.5 | I123: ='전체-일별(데이터 입력)'!AO100 -> 0.8375 | ... R123: ='전체-일별(데이터 입력)'!AX100 -> 39931
A124: 46119 | B124: ='전체-일별(데이터 입력)'!AH101 -> 435.8 | C124: ='전체-일별(데이터 입력)'!AI101 -> 257 | D124: ='전체-일별(데이터 입력)'!AJ101 -> 396.7 | E124: ='전체-일별(데이터 입력)'!AK101 -> 56.545 | F124: ='전체-일별(데이터 입력)'!AL101 -> 6.507 | G124: ='전체-일별(데이터 입력)'!AM101 -> 190000 | H124: ='전체-일별(데이터 입력)'!AN101 -> 4270 | I124: ='전체-일별(데이터 입력)'!AO101 -> 1.0325 | ... R124: ='전체-일별(데이터 입력)'!AX101 -> 38273
A125: 46120 | B125: ='전체-일별(데이터 입력)'!AH102 -> 450 | C125: ='전체-일별(데이터 입력)'!AI102 -> 195.2 | D125: ='전체-일별(데이터 입력)'!AJ102 -> 350 | E125: ='전체-일별(데이터 입력)'!AK102 -> 62.7463 | F125: ='전체-일별(데이터 입력)'!AL102 -> 5.988 | G125: ='전체-일별(데이터 입력)'!AM102 -> 230000 | H125: ='전체-일별(데이터 입력)'!AN102 -> 4237.5 | I125: ='전체-일별(데이터 입력)'!AO102 -> 1.5625 | ... R125: ='전체-일별(데이터 입력)'!AX102 -> 37050
A126: 46121 | B126: ='전체-일별(데이터 입력)'!AH103 -> 362.4 | C126: ='전체-일별(데이터 입력)'!AI103 -> 185.2 | D126: ='전체-일별(데이터 입력)'!AJ103 -> 313.3 | E126: ='전체-일별(데이터 입력)'!AK103 -> 54.434 | F126: ='전체-일별(데이터 입력)'!AL103 -> 4.934 | G126: ='전체-일별(데이터 입력)'!AM103 -> 220000 | H126: ='전체-일별(데이터 입력)'!AN103 -> 4140 | I126: ='전체-일별(데이터 입력)'!AO103 -> 0.94 | ... R126: ='전체-일별(데이터 입력)'!AX103 -> 40548
A127: 46122 | B127: ='전체-일별(데이터 입력)'!AH104 -> 217.2 | C127: ='전체-일별(데이터 입력)'!AI104 -> 156.8 | D127: ='전체-일별(데이터 입력)'!AJ104 -> 320 | E127: ='전체-일별(데이터 입력)'!AK104 -> 59.416 | F127: ='전체-일별(데이터 입력)'!AL104 -> 6.779 | G127: ='전체-일별(데이터 입력)'!AM104 -> 250000 | H127: ='전체-일별(데이터 입력)'!AN104 -> 4075 | I127: ='전체-일별(데이터 입력)'!AO104 -> 0.885 | ... R127: ='전체-일별(데이터 입력)'!AX104 -> 36852
A128: 46123 | B128: ='전체-일별(데이터 입력)'!AH105 -> 370.5 | C128: ='전체-일별(데이터 입력)'!AI105 -> 232.7 | D128: ='전체-일별(데이터 입력)'!AJ105 -> 396.7 | E128: ='전체-일별(데이터 입력)'!AK105 -> 48.761 | F128: ='전체-일별(데이터 입력)'!AL105 -> 6.498 | G128: ='전체-일별(데이터 입력)'!AM105 -> 220000 | H128: ='전체-일별(데이터 입력)'!AN105 -> 4317.5 | I128: ='전체-일별(데이터 입력)'!AO105 -> 0.9975 | ... R128: ='전체-일별(데이터 입력)'!AX105 -> 32672
A129: 46124 | B129: ='전체-일별(데이터 입력)'!AH106 -> 0 | C129: ='전체-일별(데이터 입력)'!AI106 -> 241.2 | D129: ='전체-일별(데이터 입력)'!AJ106 -> 423.3 | E129: ='전체-일별(데이터 입력)'!AK106 -> 50.18 | F129: ='전체-일별(데이터 입력)'!AL106 -> 6.426 | G129: ='전체-일별(데이터 입력)'!AM106 -> 190000 | H129: ='전체-일별(데이터 입력)'!AN106 -> 4275 | I129: ='전체-일별(데이터 입력)'!AO106 -> 1.3725 | ... R129: ='전체-일별(데이터 입력)'!AX106 -> 32028
... A147: 46142 | B147: ='전체-일별(데이터 입력)'!AH124 -> 0 | C147: ='전체-일별(데이터 입력)'!AI124 -> 0 | D147: ='전체-일별(데이터 입력)'!AJ124 -> 0 | E147: ='전체-일별(데이터 입력)'!AK124 -> 0 | F147: ='전체-일별(데이터 입력)'!AL124 -> 0 | G147: ='전체-일별(데이터 입력)'!AM124 -> 0 | H147: ='전체-일별(데이터 입력)'!AN124 -> 0 | I147: ='전체-일별(데이터 입력)'!AO124 -> 0 | ... R147: ='전체-일별(데이터 입력)'!AX124 -> 0
A148: 평균 | B148: =AVERAGE(B118:B147) -> 136.37333 | C148: =AVERAGE(C118:C147) -> 120.46667 | D148: =AVERAGE(D118:D147) -> 193.78333 | E148: =AVERAGE(E118:E147) -> 30.307677 | F148: =AVERAGE(F118:F147) -> 3.2611 | G148: =AVERAGE(G118:G147) -> 114333.33 | H148: =AVERAGE(H118:H147) -> 2226.9167 | I148: =AVERAGE(I118:I147) -> 0.56858333 | ... R148: =AVERAGE(R118:R147) -> 19368.6
A149: 최대 | B149: =MAX(B118:B147) -> 457.5 | C149: =MAX(C118:C147) -> 312 | D149: =MAX(D118:D147) -> 486.7 | E149: =MAX(E118:E147) -> 62.961 | F149: =MAX(F118:F147) -> 7.41 | G149: =MAX(G118:G147) -> 260000 | H149: =MAX(H118:H147) -> 4317.5 | I149: =MAX(I118:I147) -> 1.81 | ... R149: =MAX(R118:R147) -> 40548
A150: 최소 | B150: =MIN(B118:B147) -> 0 | C150: =MIN(C118:C147) -> 0 | D150: =MIN(D118:D147) -> 0 | E150: =MIN(E118:E147) -> 0 | F150: =MIN(F118:F147) -> 0 | G150: =MIN(G118:G147) -> 0 | H150: =MIN(H118:H147) -> 0 | I150: =MIN(I118:I147) -> 0 | ... R150: =MIN(R118:R147) -> 0
A151: 설계 | B151: 190 | C151: 163 | D151: 197 | E151: 50 | F151: 6 | H151: 3300 | J151: 5 | K151: 25 | L151: 5 | M151: 15 | N151: 1 | O151: <30 | P151: 47000 | Q151: 32000
A152: =A155 -> 46143 | O152: (단위 : ㎎/ℓ, 개/㎖, ㎥/일)
A153: 일자 | B153: 유 입 수 | H153: 생물반응조 | J153: 방 류 수 | P153: 유입량 | Q153: 재이용량 | R153: 방류량
B154: BOD | C154: TOC | D154: SS | E154: T-N | F154: T-P | G154: 대장균군수 | H154: MLSS | I154: DO | J154: BOD | K154: TOC | L154: SS | M154: T-N | N154: T-P | O154: 대장균군수
A155: 46143 | B155: ='전체-일별(데이터 입력)'!AH125 -> 0 | C155: ='전체-일별(데이터 입력)'!AI125 -> 0 | D155: ='전체-일별(데이터 입력)'!AJ125 -> 0 | E155: ='전체-일별(데이터 입력)'!AK125 -> 0 | F155: ='전체-일별(데이터 입력)'!AL125 -> 0 | G155: ='전체-일별(데이터 입력)'!AM125 -> 0 | H155: ='전체-일별(데이터 입력)'!AN125 -> 0 | I155: ='전체-일별(데이터 입력)'!AO125 -> 0 | ... R155: ='전체-일별(데이터 입력)'!AX125 -> 0
A156: 46144 | B156: ='전체-일별(데이터 입력)'!AH126 -> 0 | C156: ='전체-일별(데이터 입력)'!AI126 -> 0 | D156: ='전체-일별(데이터 입력)'!AJ126 -> 0 | E156: ='전체-일별(데이터 입력)'!AK126 -> 0 | F156: ='전체-일별(데이터 입력)'!AL126 -> 0 | G156: ='전체-일별(데이터 입력)'!AM126 -> 0 | H156: ='전체-일별(데이터 입력)'!AN126 -> 0 | I156: ='전체-일별(데이터 입력)'!AO126 -> 0 | ... R156: ='전체-일별(데이터 입력)'!AX126 -> 0
A157: 46145 | B157: ='전체-일별(데이터 입력)'!AH127 -> 0 | C157: ='전체-일별(데이터 입력)'!AI127 -> 0 | D157: ='전체-일별(데이터 입력)'!AJ127 -> 0 | E157: ='전체-일별(데이터 입력)'!AK127 -> 0 | F157: ='전체-일별(데이터 입력)'!AL127 -> 0 | G157: ='전체-일별(데이터 입력)'!AM127 -> 0 | H157: ='전체-일별(데이터 입력)'!AN127 -> 0 | I157: ='전체-일별(데이터 입력)'!AO127 -> 0 | ... R157: ='전체-일별(데이터 입력)'!AX127 -> 0
A158: 46146 | B158: ='전체-일별(데이터 입력)'!AH128 -> 0 | C158: ='전체-일별(데이터 입력)'!AI128 -> 0 | D158: ='전체-일별(데이터 입력)'!AJ128 -> 0 | E158: ='전체-일별(데이터 입력)'!AK128 -> 0 | F158: ='전체-일별(데이터 입력)'!AL128 -> 0 | G158: ='전체-일별(데이터 입력)'!AM128 -> 0 | H158: ='전체-일별(데이터 입력)'!AN128 -> 0 | I158: ='전체-일별(데이터 입력)'!AO128 -> 0 | ... R158: ='전체-일별(데이터 입력)'!AX128 -> 0
A159: 46147 | B159: ='전체-일별(데이터 입력)'!AH129 -> 0 | C159: ='전체-일별(데이터 입력)'!AI129 -> 0 | D159: ='전체-일별(데이터 입력)'!AJ129 -> 0 | E159: ='전체-일별(데이터 입력)'!AK129 -> 0 | F159: ='전체-일별(데이터 입력)'!AL129 -> 0 | G159: ='전체-일별(데이터 입력)'!AM129 -> 0 | H159: ='전체-일별(데이터 입력)'!AN129 -> 0 | I159: ='전체-일별(데이터 입력)'!AO129 -> 0 | ... R159: ='전체-일별(데이터 입력)'!AX129 -> 0
A160: 46148 | B160: ='전체-일별(데이터 입력)'!AH130 -> 0 | C160: ='전체-일별(데이터 입력)'!AI130 -> 0 | D160: ='전체-일별(데이터 입력)'!AJ130 -> 0 | E160: ='전체-일별(데이터 입력)'!AK130 -> 0 | F160: ='전체-일별(데이터 입력)'!AL130 -> 0 | G160: ='전체-일별(데이터 입력)'!AM130 -> 0 | H160: ='전체-일별(데이터 입력)'!AN130 -> 0 | I160: ='전체-일별(데이터 입력)'!AO130 -> 0 | ... R160: ='전체-일별(데이터 입력)'!AX130 -> 0
A161: 46149 | B161: ='전체-일별(데이터 입력)'!AH131 -> 0 | C161: ='전체-일별(데이터 입력)'!AI131 -> 0 | D161: ='전체-일별(데이터 입력)'!AJ131 -> 0 | E161: ='전체-일별(데이터 입력)'!AK131 -> 0 | F161: ='전체-일별(데이터 입력)'!AL131 -> 0 | G161: ='전체-일별(데이터 입력)'!AM131 -> 0 | H161: ='전체-일별(데이터 입력)'!AN131 -> 0 | I161: ='전체-일별(데이터 입력)'!AO131 -> 0 | ... R161: ='전체-일별(데이터 입력)'!AX131 -> 0
A162: 46150 | B162: ='전체-일별(데이터 입력)'!AH132 -> 0 | C162: ='전체-일별(데이터 입력)'!AI132 -> 0 | D162: ='전체-일별(데이터 입력)'!AJ132 -> 0 | E162: ='전체-일별(데이터 입력)'!AK132 -> 0 | F162: ='전체-일별(데이터 입력)'!AL132 -> 0 | G162: ='전체-일별(데이터 입력)'!AM132 -> 0 | H162: ='전체-일별(데이터 입력)'!AN132 -> 0 | I162: ='전체-일별(데이터 입력)'!AO132 -> 0 | ... R162: ='전체-일별(데이터 입력)'!AX132 -> 0
A163: 46151 | B163: ='전체-일별(데이터 입력)'!AH133 -> 0 | C163: ='전체-일별(데이터 입력)'!AI133 -> 0 | D163: ='전체-일별(데이터 입력)'!AJ133 -> 0 | E163: ='전체-일별(데이터 입력)'!AK133 -> 0 | F163: ='전체-일별(데이터 입력)'!AL133 -> 0 | G163: ='전체-일별(데이터 입력)'!AM133 -> 0 | H163: ='전체-일별(데이터 입력)'!AN133 -> 0 | I163: ='전체-일별(데이터 입력)'!AO133 -> 0 | ... R163: ='전체-일별(데이터 입력)'!AX133 -> 0
A164: 46152 | B164: ='전체-일별(데이터 입력)'!AH134 -> 0 | C164: ='전체-일별(데이터 입력)'!AI134 -> 0 | D164: ='전체-일별(데이터 입력)'!AJ134 -> 0 | E164: ='전체-일별(데이터 입력)'!AK134 -> 0 | F164: ='전체-일별(데이터 입력)'!AL134 -> 0 | G164: ='전체-일별(데이터 입력)'!AM134 -> 0 | H164: ='전체-일별(데이터 입력)'!AN134 -> 0 | I164: ='전체-일별(데이터 입력)'!AO134 -> 0 | ... R164: ='전체-일별(데이터 입력)'!AX134 -> 0
A165: 46153 | B165: ='전체-일별(데이터 입력)'!AH135 -> 0 | C165: ='전체-일별(데이터 입력)'!AI135 -> 0 | D165: ='전체-일별(데이터 입력)'!AJ135 -> 0 | E165: ='전체-일별(데이터 입력)'!AK135 -> 0 | F165: ='전체-일별(데이터 입력)'!AL135 -> 0 | G165: ='전체-일별(데이터 입력)'!AM135 -> 0 | H165: ='전체-일별(데이터 입력)'!AN135 -> 0 | I165: ='전체-일별(데이터 입력)'!AO135 -> 0 | ... R165: ='전체-일별(데이터 입력)'!AX135 -> 0
A166: 46154 | B166: ='전체-일별(데이터 입력)'!AH136 -> 0 | C166: ='전체-일별(데이터 입력)'!AI136 -> 0 | D166: ='전체-일별(데이터 입력)'!AJ136 -> 0 | E166: ='전체-일별(데이터 입력)'!AK136 -> 0 | F166: ='전체-일별(데이터 입력)'!AL136 -> 0 | G166: ='전체-일별(데이터 입력)'!AM136 -> 0 | H166: ='전체-일별(데이터 입력)'!AN136 -> 0 | I166: ='전체-일별(데이터 입력)'!AO136 -> 0 | ... R166: ='전체-일별(데이터 입력)'!AX136 -> 0
... A185: 46173 | B185: ='전체-일별(데이터 입력)'!AH155 -> 0 | C185: ='전체-일별(데이터 입력)'!AI155 -> 0 | D185: ='전체-일별(데이터 입력)'!AJ155 -> 0 | E185: ='전체-일별(데이터 입력)'!AK155 -> 0 | F185: ='전체-일별(데이터 입력)'!AL155 -> 0 | G185: ='전체-일별(데이터 입력)'!AM155 -> 0 | H185: ='전체-일별(데이터 입력)'!AN155 -> 0 | I185: ='전체-일별(데이터 입력)'!AO155 -> 0 | ... R185: ='전체-일별(데이터 입력)'!AX155 -> 0
A186: 평균 | B186: =AVERAGE(B155:B185) -> 0 | C186: =AVERAGE(C155:C185) -> 0 | D186: =AVERAGE(D155:D185) -> 0 | E186: =AVERAGE(E155:E185) -> 0 | F186: =AVERAGE(F155:F185) -> 0 | G186: =AVERAGE(G155:G185) -> 0 | H186: =AVERAGE(H155:H185) -> 0 | I186: =AVERAGE(I155:I185) -> 0 | ... R186: =AVERAGE(R155:R185) -> 0
A187: 최대 | B187: =MAX(B155:B185) -> 0 | C187: =MAX(C155:C185) -> 0 | D187: =MAX(D155:D185) -> 0 | E187: =MAX(E155:E185) -> 0 | F187: =MAX(F155:F185) -> 0 | G187: =MAX(G155:G185) -> 0 | H187: =MAX(H155:H185) -> 0 | I187: =MAX(I155:I185) -> 0 | ... R187: =MAX(R155:R185) -> 0
A188: 최소 | B188: =MIN(B155:B185) -> 0 | C188: =MIN(C155:C185) -> 0 | D188: =MIN(D155:D185) -> 0 | E188: =MIN(E155:E185) -> 0 | F188: =MIN(F155:F185) -> 0 | G188: =MIN(G155:G185) -> 0 | H188: =MIN(H155:H185) -> 0 | I188: =MIN(I155:I185) -> 0 | ... R188: =MIN(R155:R185) -> 0
...

Sheet 전체-일별(데이터 입력)
A1: 날짜 | B1: 성남수질복원센터 | AH1: 판교수질복원센터
B2: 성남 제1처리장 | Q2: 성남 제2처리장 | AF2: 재이용 수량 | AG2: 최종 방류량
B3: 유 입 수 | H3: 생물반응조 | J3: 방 류 수 | P3: 유입량 | Q3: 유 입 수 | W3: 생물반응조 | Y3: 방 류 수 | AE3: 유입량 | AH3: 유 입 수 | AN3: 생물반응조 | AP3: 방 류 수 | AV3: 유입량 | AW3: 재이용량 | AX3: 방류량
B4: BOD | C4: TOC | D4: SS | E4: T-N | F4: T-P | G4: 대장균군수 | H4: MLSS | I4: DO | J4: BOD | K4: TOC | L4: SS | M4: T-N | N4: T-P | O4: 대장균군수 | Q4: BOD | R4: TOC | S4: SS | T4: T-N | U4: T-P | V4: 대장균군수 | W4: MLSS | X4: DO | Y4: BOD | Z4: TOC | AA4: SS | AB4: T-N | AC4: T-P | AD4: 대장균군수 | AH4: BOD | AI4: TOC | AJ4: SS | AK4: T-N | AL4: T-P | AM4: 대장균군수 | AN4: MLSS | AO4: DO | AP4: BOD | AQ4: TOC | AR4: SS | AS4: T-N | AT4: T-P | AU4: 대장균군수
A5: 46023 | B5: 181.5 | C5: 58.2 | D5: 116 | E5: 32.882 | F5: 2.458 | G5: 58000 | J5: 1.4 | K5: 4.7 | L5: 2.2 | M5: 8.193 | N5: 0.158 | O5: 9 | P5: 181443 | Q5: 273.6 | R5: 129.2 | S5: 198 | T5: 46.848 | U5: 4.112 | V5: 130000 | Y5: 1.4 | Z5: 4.7 | AA5: 2.2 | AB5: 8.193 | AC5: 0.158 | AD5: 9 | AE5: 147361 | AF5: 14745.915 | AG5: 310620 | AH5: 167.4 | AI5: 107.9 | AJ5: 356.7 | AK5: 64.033 | AL5: 6.721 | AM5: 160000 | AN5: 4027.5 | AO5: 2.3775 | AP5: 1.1 | AQ5: 5.8 | AR5: 2.8 | AS5: 7.151 | AT5: 0.044 | AU5: 15 | AV5: 29716 | AW5: 1344 | AX5: 28726
A6: 46024 | B6: 160.2 | C6: 65.4 | D6: 140 | E6: 30.08 | F6: 4.612 | G6: 60000 | H6: 3210 | I6: 2.675 | J6: 2.2 | K6: 5.1 | L6: 3.6 | M6: 9.253 | N6: 0.225 | O6: 13 | P6: 184730 | Q6: 220.1 | R6: 111 | S6: 208 | T6: 60.868 | U6: 5.105 | V6: 140000 | W6: 4570 | X6: 2.52 | Y6: 2.2 | Z6: 5.1 | AA6: 3.6 | AB6: 9.253 | AC6: 0.225 | AD6: 13 | AE6: 143305 | AF6: 13104.566 | AG6: 310650 | AH6: 341.4 | AI6: 167.1 | AJ6: 326.7 | AK6: 56.068 | AL6: 6.825 | AM6: 200000 | AN6: 3947.5 | AO6: 2.9175 | AP6: 1.4 | AQ6: 5.6 | AR6: 1.7 | AS6: 7.011 | AT6: 0.032 | AU6: 17 | AV6: 33222 | AW6: 1799 | AX6: 32354
A7: 46025 | B7: 78.6 | C7: 49.1 | D7: 116 | E7: 24.867 | F7: 4.164 | G7: 87500 | J7: 2.4 | K7: 5.2 | L7: 2.2 | M7: 8.654 | N7: 0.126 | O7: 19 | P7: 186085 | Q7: 170.4 | R7: 93.3 | S7: 180 | T7: 61.854 | U7: 5.577 | V7: 180000 | Y7: 2.4 | Z7: 5.2 | AA7: 2.2 | AB7: 8.654 | AC7: 0.126 | AD7: 19 | AE7: 147829 | AF7: 13510.093 | AG7: 313800 | AH7: 254.4 | AI7: 160.7 | AJ7: 320 | AK7: 52.593 | AL7: 6.571 | AM7: 240000 | AN7: 4025 | AO7: 4.0675 | AP7: 2 | AQ7: 6.7 | AR7: 1.9 | AS7: 6.629 | AT7: 0.088 | AU7: 14 | AV7: 29166 | AW7: 1784 | AX7: 28116
A8: 46026 | B8: 108.9 | C8: 46.8 | D8: 82 | E8: 22.663 | F8: 3.431 | G8: 82000 | J8: 1.2 | K8: 3.9 | L8: 1.9 | M8: 8.767 | N8: 0.168 | O8: 11 | P8: 185531 | Q8: 119.8 | R8: 99.3 | S8: 174 | T8: 56.843 | U8: 5.487 | V8: 120000 | Y8: 1.2 | Z8: 3.9 | AA8: 1.9 | AB8: 8.767 | AC8: 0.168 | AD8: 11 | AE8: 148388 | AF8: 12560.263 | AG8: 314230 | AH8: 229.2 | AI8: 185.5 | AJ8: 346.7 | AK8: 52.41 | AL8: 6.311 | AM8: 180000 | AN8: 3825 | AO8: 3.8925 | AP8: 1.5 | AQ8: 6.1 | AR8: 1.5 | AS8: 6.799 | AT8: 0.054 | AU8: 14 | AV8: 28532 | AW8: 1665 | AX8: 27556
A9: 46027 | B9: 166.2 | C9: 75.7 | D9: 112 | E9: 30.765 | F9: 3.12 | G9: 64000 | H9: 3370 | I9: 3.1 | J9: 2.7 | K9: 5 | L9: 1.7 | M9: 9.348 | N9: 0.19 | O9: 18 | P9: 185689 | Q9: 231 | R9: 142.8 | S9: 250 | T9: 56.723 | U9: 5.834 | V9: 130000 | W9: 4530 | X9: 2.52 | Y9: 2.7 | Z9: 5 | AA9: 1.7 | AB9: 9.348 | AC9: 0.19 | AD9: 18 | AE9: 147386 | AF9: 14619.175 | AG9: 309900 | AH9: 280.8 | AI9: 181.6 | AJ9: 286.7 | AK9: 71.331 | AL9: 11.72 | AM9: 160000 | AN9: 3932.5 | AO9: 3.285 | AP9: 1.8 | AQ9: 5.8 | AR9: 1.8 | AS9: 7.466 | AT9: 0.041 | AU9: 13 | AV9: 37519 | AW9: 2080 | AX9: 36642
A10: 46028 | B10: 97.6 | C10: 57.2 | D10: 84 | E10: 30.65 | F10: 3.073 | G10: 59000 | J10: 2.4 | K10: 5.2 | L10: 3 | M10: 9.048 | N10: 0.256 | O10: 12 | P10: 184644 | Q10: 283.2 | R10: 143.8 | S10: 178 | T10: 50.708 | U10: 5.166 | V10: 110000 | Y10: 2.4 | Z10: 5.2 | AA10: 3 | AB10: 9.048 | AC10: 0.256 | AD10: 12 | AE10: 147369 | AF10: 13632.825 | AG10: 313920 | AH10: 450.8 | AI10: 200 | AJ10: 473.3 | AK10: 64.42 | AL10: 7.453 | AM10: 150000 | AN10: 3912.5 | AO10: 2.3075 | AP10: 2.5 | AQ10: 7.2 | AR10: 2.2 | AS10: 10.728 | AT10: 0.084 | AU10: 17 | AV10: 36766 | AW10: 2118 | AX10: 35607
A11: 46029 | B11: 135.6 | C11: 72.5 | D11: 154 | E11: 31.42 | F11: 4.158 | G11: 72000 | J11: 1.7 | K11: 4.8 | L11: 2.6 | M11: 8.458 | N11: 0.192 | O11: 16 | P11: 190401 | Q11: 189 | R11: 102.1 | S11: 196 | T11: 44.527 | U11: 5.631 | V11: 120000 | Y11: 1.7 | Z11: 4.8 | AA11: 2.6 | AB11: 8.458 | AC11: 0.192 | AD11: 16 | AE11: 144028 | AF11: 13576.23 | AG11: 314870 | AH11: 328.8 | AI11: 191.7 | AJ11: 396.7 | AK11: 52.804 | AL11: 6.357 | AM11: 180000 | AN11: 3965 | AO11: 2.575 | AP11: 1.7 | AQ11: 6.9 | AR11: 1.7 | AS11: 8.972 | AT11: 0.119 | AU11: 39 | AV11: 35557 | AW11: 1964 | AX11: 34280
A12: 46030 | B12: 111.3 | C12: 62.3 | D12: 112 | E12: 31.773 | F12: 3.178 | G12: 78000 | J12: 2 | K12: 4.5 | L12: 1.2 | M12: 8.876 | N12: 0.224 | O12: 22 | P12: 181602 | Q12: 221.4 | R12: 125.1 | S12: 190 | T12: 26.79 | U12: 5.395 | V12: 150000 | Y12: 2 | Z12: 4.5 | AA12: 1.2 | AB12: 8.876 | AC12: 0.224 | AD12: 22 | AE12: 151989 | AF12: 14357.301 | AG12: 315380 | AH12: 296.3 | AI12: 163.7 | AJ12: 326.7 | AK12: 55.551 | AL12: 6.462 | AM12: 180000 | AN12: 3952.5 | AO12: 2.11 | AP12: 2.6 | AQ12: 6.8 | AR12: 1.4 | AS12: 9.191 | AT12: 0.121 | AU12: 38 | AV12: 36647 | AW12: 2220 | AX12: 35524
A13: 46031 | B13: 150.6 | C13: 82.8 | D13: 218 | E13: 34.448 | F13: 3.771 | G13: 60000 | H13: 3470 | I13: 2.625 | J13: 1.9 | K13: 5.1 | L13: 2 | M13: 9.116 | N13: 0.21 | O13: 13 | P13: 190485 | Q13: 232.8 | R13: 115 | S13: 172 | T13: 41.074 | U13: 5.127 | V13: 110000 | W13: 4670 | X13: 2.34 | Y13: 1.9 | Z13: 5.1 | AA13: 2 | AB13: 9.116 | AC13: 0.21 | AD13: 13 | AE13: 144032 | AF13: 13612.549 | AG13: 314150 | AH13: 341.3 | AI13: 169 | AJ13: 350 | AK13: 63.305 | AL13: 7.14 | AM13: 130000 | AN13: 4097.5 | AO13: 2.1825 | AP13: 1.3 | AQ13: 7.1 | AR13: 2 | AS13: 7.689 | AT13: 0.086 | AU13: 14 | AV13: 36181 | AW13: 2207 | AX13: 35104
A14: 46032 | B14: 160.2 | C14: 72.3 | D14: 172 | E14: 46.378 | F14: 3.448 | G14: 65000 | J14: 1.9 | K14: 5.2 | L14: 2 | M14: 10.74 | N14: 0.348 | O14: 12 | P14: 181558 | Q14: 236.4 | R14: 66.8 | S14: 186 | T14: 65.857 | U14: 4.498 | V14: 130000 | Y14: 1.9 | Z14: 5.2 | AA14: 2 | AB14: 10.74 | AC14: 0.348 | AD14: 12 | AE14: 138383 | AF14: 13019.029 | AG14: 303850 | AH14: 277.8 | AI14: 101.6 | AJ14: 320 | AK14: 90.2 | AL14: 6.825 | AM14: 150000 | AN14: 4010 | AO14: 2.505 | AP14: 1.1 | AQ14: 6.5 | AR14: 1.6 | AS14: 9.003 | AT14: 0.081 | AU14: 17 | AV14: 28967 | AW14: 2244 | AX14: 27874
A15: 46033 | B15: 165 | C15: 80.4 | D15: 156 | E15: 43.712 | F15: 3.178 | G15: 77000 | J15: 1.5 | K15: 4.6 | L15: 2.2 | M15: 9.921 | N15: 0.087 | O15: 19 | P15: 179378 | Q15: 120 | R15: 46.5 | S15: 168 | T15: 49.069 | U15: 3.098 | V15: 140000 | Y15: 1.5 | Z15: 4.6 | AA15: 2.2 | AB15: 9.921 | AC15: 0.087 | AD15: 19 | AE15: 144030 | AF15: 12526.825 | AG15: 304980 | AH15: 302.4 | AI15: 95.2 | AJ15: 303.3 | AK15: 69.731 | AL15: 4.948 | AM15: 160000 | AN15: 4050 | AO15: 2.53 | AP15: 0.5 | AQ15: 5.8 | AR15: 1.7 | AS15: 7.641 | AT15: 0.08 | AU15: 38 | AV15: 30406 | AW15: 2243 | AX15: 29220
A16: 46034 | B16: 115.4 | C16: 76.4 | D16: 140 | E16: 35.736 | F16: 4.253 | G16: 75000 | H16: 3670 | I16: 2.65 | J16: 2 | K16: 5.1 | L16: 3.4 | M16: 10.139 | N16: 0.153 | O16: 24 | P16: 181961 | Q16: 199 | R16: 97.8 | S16: 220 | T16: 53.941 | U16: 5.473 | V16: 140000 | W16: 4740 | X16: 2.34 | Y16: 2 | Z16: 5.1 | AA16: 3.4 | AB16: 10.139 | AC16: 0.153 | AD16: 24 | AE16: 132692 | AF16: 13338.412 | AG16: 293960 | AH16: 324.8 | AI16: 174.9 | AJ16: 380 | AK16: 65.682 | AL16: 7.388 | AM16: 170000 | AN16: 4007.5 | AO16: 2.91 | AP16: 1.3 | AQ16: 5.4 | AR16: 1 | AS16: 5.249 | AT16: 0.052 | AU16: 13 | AV16: 36375 | AW16: 1861 | AX16: 35072
A17: 46035 | B17: 156.6 | C17: 71.8 | D17: 190 | E17: 34.467 | F17: 3.476 | G17: 61000 | J17: 1.4 | K17: 5.3 | L17: 2.4 | M17: 8.404 | N17: 0.256 | O17: 16 | P17: 180966 | Q17: 325.2 | R17: 132.4 | S17: 226 | T17: 51.703 | U17: 5.068 | V17: 120000 | Y17: 1.4 | Z17: 5.3 | AA17: 2.4 | AB17: 8.404 | AC17: 0.256 | AD17: 16 | AE17: 144592 | AF17: 13763.984 | AG17: 308690 | AH17: 300.6 | AI17: 157.7 | AJ17: 363.3 | AK17: 58.504 | AL17: 6.647 | AM17: 140000 | AN17: 3892.5 | AO17: 3.345 | AP17: 1.6 | AQ17: 6.3 | AR17: 1.4 | AS17: 10.186 | AT17: 0.057 | AU17: 21 | AV17: 36244 | AW17: 2182 | AX17: 34972
A18: 46036 | B18: 116.1 | C18: 65.5 | D18: 110 | E18: 30.255 | F18: 2.913 | G18: 52000 | J18: 1.2 | K18: 5.1 | L18: 2.8 | M18: 9.634 | N18: 0.144 | O18: 16 | P18: 184584 | Q18: 217 | R18: 173.8 | S18: 182 | T18: 52.119 | U18: 5.139 | V18: 130000 | Y18: 1.2 | Z18: 5.1 | AA18: 2.8 | AB18: 9.634 | AC18: 0.144 | AD18: 16 | AE18: 135436 | AF18: 13851.751 | AG18: 301200 | AH18: 454.5 | AI18: 195.3 | AJ18: 326.7 | AK18: 61.74 | AL18: 6.898 | AM18: 150000 | AN18: 3962.5 | AO18: 2 | AP18: 2.6 | AQ18: 7.3 | AR18: 1.9 | AS18: 9.051 | AT18: 0.109 | AU18: 24 | AV18: 35740 | AW18: 2089 | AX18: 34636
A19: 46037 | B19: 135.3 | C19: 61.7 | D19: 136 | E19: 28.653 | F19: 2.937 | G19: 55000 | J19: 1.7 | K19: 4.8 | L19: 3.8 | M19: 8.385 | N19: 0.207 | O19: 22 | P19: 192610 | Q19: 197.5 | R19: 105.6 | S19: 172 | T19: 42.405 | U19: 4.796 | V19: 120000 | Y19: 1.7 | Z19: 4.8 | AA19: 3.8 | AB19: 8.385 | AC19: 0.207 | AD19: 22 | AE19: 129193 | AF19: 13489.939 | AG19: 309650 | AH19: 297 | AI19: 146.3 | AJ19: 413.3 | AK19: 58.244 | AL19: 6.969 | AM19: 140000 | AN19: 3997.5 | AO19: 2.6675 | AP19: 2.2 | AQ19: 6.6 | AR19: 2 | AS19: 7.731 | AT19: 0.072 | AU19: 26 | AV19: 36994 | AW19: 2134 | AX19: 35884
A20: 46038 | B20: 130.5 | C20: 77.7 | D20: 138 | E20: 29.927 | F20: 3.405 | G20: 68000 | H20: 3310 | I20: 2.875 | J20: 1.7 | K20: 4.8 | L20: 2 | M20: 9.361 | N20: 0.154 | O20: 6 | P20: 188637 | Q20: 231.6 | R20: 123.4 | S20: 196 | T20: 51.02 | U20: 5.586 | V20: 92000 | W20: 4360 | X20: 2.36 | Y20: 1.7 | Z20: 4.8 | AA20: 2 | AB20: 9.361 | AC20: 0.154 | AD20: 6 | AE20: 134805 | AF20: 14128.932 | AG20: 310530 | AH20: 349.8 | AI20: 159.1 | AJ20: 393.3 | AK20: 52.103 | AL20: 6.662 | AM20: 120000 | AN20: 4020 | AO20: 2.3075 | AP20: 1.7 | AQ20: 6.6 | AR20: 1.6 | AS20: 8.004 | AT20: 0.085 | AU20: 7 | AV20: 34601 | AW20: 2076 | AX20: 33600
A21: 46039 | B21: 176.7 | C21: 106.2 | D21: 286 | E21: 28.332 | F21: 5.534 | G21: 80000 | J21: 0.9 | K21: 5.3 | L21: 3 | M21: 7.186 | N21: 0.144 | O21: 11 | P21: 196791 | Q21: 231.6 | R21: 102.4 | S21: 155 | T21: 33.667 | U21: 3.957 | V21: 130000 | Y21: 0.9 | Z21: 5.3 | AA21: 3 | AB21: 7.186 | AC21: 0.144 | AD21: 11 | AE21: 129061 | AF21: 12523.111 | AG21: 313340 | AH21: 353.4 | AI21: 149.5 | AJ21: 320 | AK21: 52.357 | AL21: 6.979 | AM21: 160000 | AN21: 4107.5 | AO21: 1.89 | AP21: 1.2 | AQ21: 10.3 | AR21: 2.6 | AS21: 6.929 | AT21: 0.074 | AU21: 17 | AV21: 31998 | AW21: 2161 | AX21: 30991
A22: 46040 | B22: 125.7 | C22: 33.8 | D22: 200 | E22: 30.526 | F22: 6.412 | G22: 49000 | J22: 3.7 | K22: 4.5 | L22: 1 | M22: 7.189 | N22: 0.134 | O22: 18 | P22: 188076 | Q22: 247.2 | R22: 94.6 | S22: 155 | T22: 33.64 | U22: 4.009 | V22: 140000 | Y22: 3.7 | Z22: 4.5 | AA22: 1 | AB22: 7.189 | AC22: 0.134 | AD22: 18 | AE22: 137454 | AF22: 12807.18 | AG22: 310470 | AH22: 309 | AI22: 138 | AJ22: 250 | AK22: 63.029 | AL22: 7.798 | AM22: 130000 | AN22: 4052.5 | AO22: 2.21 | AP22: 2.1 | AQ22: 7.4 | AR22: 1.7 | AS22: 4.206 | AT22: 0.049 | AU22: 22 | AV22: 29710 | AW22: 2110 | AX22: 28580
A23: 46041 | B23: 145.2 | C23: 58.4 | D23: 110 | E23: 36.239 | F23: 3.259 | G23: 54000 | H23: 3570 | I23: 2.975 | J23: 2.7 | K23: 4.8 | L23: 1.6 | M23: 10.077 | N23: 0.116 | O23: 7 | P23: 191863 | Q23: 241.5 | R23: 95.5 | S23: 160 | T23: 62.457 | U23: 5.844 | V23: 91000 | Y23: 2.7 | Z23: 4.8 | AA23: 1.6 | AB23: 10.077 | AC23: 0.116 | AD23: 7 | AE23: 139833 | AF23: 13130.471 | AG23: 316590 | AH23: 354.8 | AI23: 167.9 | AJ23: 416.7 | AK23: 66.427 | AL23: 7.407 | AM23: 120000 | AN23: 4100 | AO23: 1.99 | AP23: 1.5 | AQ23: 7.7 | AR23: 1.6 | AS23: 4.991 | AT23: 0.078 | AU23: 11 | AV23: 35010 | AW23: 2078 | AX23: 33990
A24: 46042 | B24: 122.7 | C24: 62.9 | D24: 94 | E24: 30.654 | F24: 3.067 | G24: 51000 | J24: 1.5 | K24: 5.1 | L24: 1.6 | M24: 9.942 | N24: 0.15 | O24: 12 | P24: 196036 | Q24: 232.8 | R24: 111.6 | S24: 170 | T24: 48.179 | U24: 5.214 | V24: 83000 | Y24: 1.5 | Z24: 5.1 | AA24: 1.6 | AB24: 9.942 | AC24: 0.15 | AD24: 12 | AE24: 131322 | AF24: 13685.693 | AG24: 308210 | AH24: 322.8 | AI24: 162.1 | AJ24: 383.3 | AK24: 60.364 | AL24: 6.81 | AM24: 110000 | AN24: 4095 | AO24: 1.9475 | AP24: 1.5 | AQ24: 6.6 | AR24: 2.6 | AS24: 7.363 | AT24: 0.078 | AU24: 13 | AV24: 35442 | AW24: 2023 | AX24: 34269
A25: 46043 | B25: 245.5 | C25: 100.9 | D25: 182 | E25: 42.567 | F25: 6.187 | G25: 49000 | J25: 2.7 | K25: 4.8 | L25: 1.7 | M25: 9.658 | N25: 0.144 | O25: 4 | P25: 193207 | Q25: 242 | R25: 114.4 | S25: 196 | T25: 55.865 | U25: 5.789 | V25: 120000 | Y25: 2.7 | Z25: 4.8 | AA25: 1.7 | AB25: 9.658 | AC25: 0.144 | AD25: 4 | AE25: 135198 | AF25: 13853.459 | AG25: 310060 | AH25: 356.4 | AI25: 184.4 | AJ25: 420 | AK25: 53.774 | AL25: 6.463 | AM25: 140000 | AN25: 4117.5 | AO25: 1.315 | AP25: 4.2 | AQ25: 6.7 | AR25: 1.3 | AS25: 9.457 | AT25: 0.1287 | AU25: 38 | AV25: 35168 | AW25: 2037 | AX25: 34162
A26: 46044 | B26: 97.2 | C26: 61.6 | D26: 120 | E26: 32.04 | F26: 3.144 | G26: 56000 | J26: 1.3 | K26: 5.1 | L26: 2.8 | M26: 10.162 | N26: 0.136 | O26: 11 | P26: 187762 | Q26: 232.8 | R26: 105.7 | S26: 194 | T26: 50.088 | U26: 4.982 | V26: 130000 | Y26: 1.3 | Z26: 5.1 | AA26: 2.8 | AB26: 10.162 | AC26: 0.136 | AD26: 11 | AE26: 137917 | AF26: 13002.483 | AG26: 308910 | AH26: 411.8 | AI26: 178.3 | AJ26: 370 | AK26: 61.506 | AL26: 6.673 | AM26: 130000 | AN26: 4222.5 | AO26: 1.175 | AP26: 1.2 | AQ26: 7.7 | AR26: 2.4 | AS26: 7.928 | AT26: 0.097 | AU26: 19 | AV26: 36078 | AW26: 2039 | AX26: 35019
A27: 46045 | B27: 119.1 | C27: 53.3 | D27: 74 | E27: 29.094 | F27: 2.846 | G27: 70000 | H27: 3570 | J27: 3 | K27: 5.2 | L27: 3.6 | M27: 10.272 | N27: 0.131 | O27: 18 | P27: 186277 | Q27: 244.2 | R27: 130.3 | S27: 200 | T27: 50.506 | U27: 5.151 | V27: 140000 | W27: 4610 | Y27: 3 | Z27: 5.2 | AA27: 3.6 | AB27: 10.272 | AC27: 0.131 | AD27: 18 | AE27: 144077 | AF27: 14478.191 | AG27: 310870 | AH27: 269.4 | AI27: 186.2 | AJ27: 363.3 | AK27: 59.879 | AL27: 6.565 | AM27: 150000 | AN27: 4317.5 | AO27: 1.74 | AP27: 2.9 | AQ27: 7.5 | AR27: 3.7 | AS27: 8.671 | AT27: 0.111 | AU27: 25 | AV27: 34640 | AW27: 1734 | AX27: 33512
A28: 46046 | B28: 122 | C28: 53 | D28: 98 | E28: 27.856 | F28: 2.687 | G28: 47000 | J28: 1.8 | K28: 5.3 | L28: 2.2 | M28: 9.741 | N28: 0.139 | O28: 15 | P28: 185156 | Q28: 150.6 | R28: 54.6 | S28: 158 | T28: 46.308 | U28: 5.101 | V28: 110000 | Y28: 1.8 | Z28: 5.3 | AA28: 2.2 | AB28: 9.741 | AC28: 0.139 | AD28: 15 | AE28: 145051 | AF28: 13208.969 | AG28: 311590 | AH28: 371.4 | AI28: 251.2 | AJ28: 373.3 | AK28: 60.786 | AL28: 6.588 | AM28: 130000 | AN28: 4297.5 | AO28: 2.8 | AP28: 2.7 | AQ28: 7 | AR28: 1.7 | AS28: 8.82 | AT28: 0.079 | AU28: 21 | AV28: 29983 | AW28: 1792 | AX28: 28881
A29: 46047 | B29: 166.8 | C29: 62 | D29: 100 | E29: 27.194 | F29: 2.673 | G29: 52000 | J29: 2.7 | K29: 4.6 | L29: 1.7 | M29: 9.556 | N29: 0.134 | O29: 18 | P29: 178745 | Q29: 123.3 | R29: 65.2 | S29: 162 | T29: 46.364 | U29: 5.018 | V29: 120000 | Y29: 2.7 | Z29: 4.6 | AA29: 1.7 | AB29: 9.556 | AC29: 0.134 | AD29: 18 | AE29: 147369 | AF29: 14975.151 | AG29: 304900 | AH29: 324 | AI29: 117 | AJ29: 373.3 | AK29: 59.297 | AL29: 6.331 | AM29: 110000 | AN29: 4325 | AO29: 2.145 | AP29: 0.4 | AQ29: 6.2 | AR29: 1.8 | AS29: 8.693 | AT29: 0.082 | AU29: 13 | AV29: 29960 | AW29: 1813 | AX29: 28968
A30: 46048 | B30: 209.5 | C30: 66.2 | D30: 228 | E30: 32.628 | F30: 3.258 | G30: 51000 | H30: 3510 | I30: 3.05 | J30: 2.2 | K30: 5.6 | L30: 2 | M30: 10.418 | N30: 0.148 | O30: 11 | P30: 186416 | Q30: 228.5 | R30: 95.5 | S30: 162 | T30: 53.753 | U30: 5.475 | V30: 110000 | W30: 4520 | X30: 2.56 | Y30: 2.2 | Z30: 5.6 | AA30: 2 | AB30: 10.418 | AC30: 0.148 | AD30: 11 | AE30: 141572 | AF30: 13214.895 | AG30: 306110 | AH30: 322.2 | AI30: 152.6 | AJ30: 350 | AK30: 53.671 | AL30: 5.954 | AM30: 180000 | AN30: 4270 | AO30: 1.63 | AP30: 1.5 | AQ30: 5.8 | AR30: 1.8 | AS30: 3.922 | AT30: 0.058 | AU30: 17 | AV30: 35767 | AW30: 1778 | AX30: 34820
A31: 46049 | B31: 183 | C31: 90.4 | D31: 218 | E31: 18.112 | F31: 3.695 | G31: 42000 | J31: 1.3 | K31: 5 | L31: 3.4 | M31: 8.612 | N31: 0.154 | O31: 13 | P31: 175400 | Q31: 250.2 | R31: 120.5 | S31: 204 | T31: 62.474 | U31: 5.426 | V31: 82000 | Y31: 1.3 | Z31: 5 | AA31: 3.4 | AB31: 8.612 | AC31: 0.154 | AD31: 13 | AE31: 138486 | AF31: 13646.755 | AG31: 300040 | AH31: 369 | AI31: 174.2 | AJ31: 406.7 | AK31: 71.855 | AL31: 5.284 | AM31: 130000 | AN31: 4382.5 | AO31: 0.76 | AP31: 1.6 | AQ31: 7.3 | AR31: 2 | AS31: 8.221 | AT31: 0.058 | AU31: 15 | AV31: 35630 | AW31: 1917 | AX31: 34363
A32: 46050 | B32: 119.6 | C32: 65.2 | D32: 202 | E32: 25.898 | F32: 4.239 | G32: 39000 | H32: 3090 | I32: 6.75 | J32: 3.1 | K32: 4.9 | L32: 2.2 | M32: 9.795 | N32: 0.077 | O32: 11 | P32: 179975 | Q32: 220.2 | R32: 123.8 | S32: 280 | T32: 45.335 | U32: 5.766 | V32: 60000 | Y32: 3.1 | Z32: 4.9 | AA32: 2.2 | AB32: 9.795 | AC32: 0.077 | AD32: 11 | AE32: 151578 | AF32: 14600.018 | AG32: 312790 | AH32: 350.4 | AI32: 224.9 | AJ32: 420 | AK32: 51.31 | AL32: 5.804 | AM32: 110000 | AN32: 4395 | AO32: 1.015 | AP32: 3.9 | AQ32: 7.8 | AR32: 1.63 | AS32: 6.398 | AT32: 0.116 | AU32: 17 | AV32: 34752 | AW32: 1946 | AX32: 33544
A33: 46051 | B33: 180.6 | C33: 75.1 | D33: 304 | E33: 28.308 | F33: 3.076 | G33: 63000 | J33: 1.4 | K33: 4.5 | L33: 3 | M33: 9.573 | N33: 0.087 | O33: 13 | P33: 164491 | Q33: 232.8 | R33: 95.5 | S33: 212 | T33: 47.164 | U33: 5.111 | V33: 110000 | Y33: 1.4 | Z33: 4.5 | AA33: 3 | AB33: 9.573 | AC33: 0.087 | AD33: 13 | AE33: 158976 | AF33: 13668.407 | AG33: 304540 | AH33: 361.8 | AI33: 240.9 | AJ33: 286.7 | AK33: 54.605 | AL33: 5.656 | AM33: 170000 | AN33: 4370 | AO33: 2.2075 | AP33: 1.6 | AQ33: 6.8 | AR33: 3.7 | AS33: 6.532 | AT33: 0.106 | AU33: 22 | AV33: 35401 | AW33: 1922 | AX33: 34577
A34: 46052 | B34: 121.6 | C34: 69.3 | D34: 186 | E34: 25.449 | F34: 3.021 | G34: 53000 | H34: 3390 | I34: 3.35 | J34: 2.1 | K34: 5.1 | L34: 2.8 | M34: 9.244 | N34: 0.015 | O34: 22 | P34: 169467 | Q34: 185.7 | R34: 86 | S34: 206 | T34: 45.135 | U34: 5.207 | V34: 120000 | W34: 4490 | Y34: 2.1 | Z34: 5.1 | AA34: 2.8 | AB34: 9.244 | AC34: 0.015 | AD34: 22 | AE34: 161263 | AF34: 15048.758 | AG34: 307530 | AH34: 282 | AI34: 211.3 | AJ34: 393.3 | AK34: 54.919 | AL34: 5.818 | AM34: 160000 | AN34: 4535 | AO34: 1.7575 | AP34: 1.1 | AQ34: 7.5 | AR34: 3.2 | AS34: 5.636 | AT34: 0.107 | AU34: 25 | AV34: 35581 | AW34: 1952 | AX34: 34878
A35: 46053 | B35: 101 | C35: 54.4 | D35: 132 | E35: 24.482 | F35: 4.089 | G35: 65000 | J35: 1.6 | K35: 4.7 | L35: 2.2 | M35: 8.991 | N35: 0.128 | O35: 24 | P35: 173871 | Q35: 178.5 | R35: 98.5 | S35: 168 | T35: 44.76 | U35: 4.597 | V35: 160000 | Y35: 1.6 | Z35: 4.7 | AA35: 2.2 | AB35: 8.991 | AC35: 0.128 | AD35: 24 | AE35: 158563 | AF35: 13271.101 | AG35: 311740 | AH35: 408 | AI35: 244.4 | AJ35: 376.7 | AK35: 55.75 | AL35: 6.02 | AM35: 180000 | AN35: 4567.5 | AO35: 2.1975 | AP35: 2 | AQ35: 5.4 | AR35: 1.6 | AS35: 5.001 | AT35: 0.071 | AU35: 37 | AV35: 29811 | AW35: 1878 | AX35: 28867
A36: 46054 | B36: 119.8 | C36: 60.5 | D36: 88 | E36: 27.202 | F36: 2.629 | G36: 47000 | J36: 4.1 | K36: 6.3 | L36: 1.7 | M36: 10.26 | N36: 0.13 | O36: 14 | P36: 174026 | Q36: 215.5 | R36: 124.7 | S36: 130 | T36: 50.723 | U36: 4.925 | V36: 140000 | Y36: 4.1 | Z36: 6.3 | AA36: 1.7 | AB36: 10.26 | AC36: 0.13 | AD36: 14 | AE36: 153410 | AF36: 12228.651 | AG36: 306440 | AH36: 323.3 | AI36: 229.5 | AJ36: 320 | AK36: 51.216 | AL36: 6.372 | AM36: 150000 | AN36: 4452.5 | AO36: 2.55 | AP36: 1.6 | AQ36: 6.2 | AR36: 1.7 | AS36: 5.352 | AT36: 0.084 | AU36: 23 | AV36: 28455 | AW36: 1923 | AX36: 27200
A37: 46055 | B37: 140.7 | C37: 67.1 | D37: 164 | E37: 25.147 | F37: 3.157 | G37: 57000 | H37: 3520 | I37: 4.175 | J37: 1.7 | K37: 4.8 | L37: 2 | M37: 8.367 | N37: 0.141 | O37: 11 | P37: 162600 | Q37: 216 | R37: 134.3 | S37: 216 | T37: 38.627 | U37: 5.858 | V37: 120000 | W37: 4610 | X37: 2.48 | Y37: 1.7 | Z37: 4.8 | AA37: 2 | AB37: 8.367 | AC37: 0.141 | AD37: 11 | AE37: 167952 | AF37: 14626.957 | AG37: 311080 | AH37: 333 | AI37: 165.2 | AJ37: 290 | AK37: 36.451 | AL37: 5.754 | AM37: 160000 | AN37: 4542.5 | AO37: 3.0425 | AP37: 0.5 | AQ37: 5.6 | AR37: 4 | AS37: 2.147 | AT37: 0.117 | AU37: 18 | AV37: 35893 | AW37: 1869 | AX37: 34379
A38: 46056 | B38: 207 | C38: 76.7 | D38: 214 | E38: 35.629 | F38: 3.481 | G38: 54000 | H38: 3370 | I38: 5.35 | J38: 2.2 | K38: 5.2 | L38: 1.5 | M38: 9.987 | N38: 0.114 | O38: 19 | P38: 164358 | Q38: 235 | R38: 108.2 | S38: 214 | T38: 48.454 | U38: 5.342 | V38: 140000 | Y38: 2.2 | Z38: 5.2 | AA38: 1.5 | AB38: 9.987 | AC38: 0.114 | AD38: 19 | AE38: 170158 | AF38: 14580.413 | AG38: 314200 | AH38: 408 | AI38: 156.1 | AJ38: 393.3 | AK38: 52.897 | AL38: 5.116 | AM38: 140000 | AN38: 4230 | AO38: 1.8 | AP38: 1.9 | AQ38: 6.2 | AR38: 1.3 | AS38: 7.917 | AT38: 0.07 | AU38: 26 | AV38: 35936 | AW38: 1812 | AX38: 34944
A39: 46057 | B39: 147.6 | C39: 55.9 | D39: 194 | E39: 36.656 | F39: 3.247 | G39: 71000 | J39: 2.5 | K39: 4.9 | L39: 2.8 | M39: 9.615 | N39: 0.112 | O39: 13 | P39: 163221 | Q39: 227 | R39: 106 | S39: 202 | T39: 54.282 | U39: 5.638 | V39: 120000 | Y39: 2.5 | Z39: 4.9 | AA39: 2.8 | AB39: 9.615 | AC39: 0.112 | AD39: 13 | AE39: 170154 | AF39: 13485.193 | AG39: 310090 | AH39: 338.4 | AI39: 170.2 | AJ39: 290 | AK39: 63.427 | AL39: 5.8 | AM39: 180000 | AN39: 4277.5 | AO39: 1.0725 | AP39: 2.4 | AQ39: 6.6 | AR39: 1.4 | AS39: 6.444 | AT39: 0.097 | AU39: 15 | AV39: 35717 | AW39: 1851 | AX39: 34646
A40: 46058 | B40: 155.4 | C40: 59.4 | D40: 146 | E40: 25.47 | F40: 2.976 | G40: 88000 | J40: 0.8 | K40: 5.1 | L40: 3 | M40: 8.369 | N40: 0.105 | O40: 13 | P40: 168786 | Q40: 281 | R40: 119.6 | S40: 210 | T40: 49.939 | U40: 6.043 | V40: 160000 | Y40: 0.8 | Z40: 5.1 | AA40: 3 | AB40: 8.369 | AC40: 0.105 | AD40: 13 | AE40: 162009 | AF40: 14162.127 | AG40: 311270 | AH40: 320.4 | AI40: 161.6 | AJ40: 396.7 | AK40: 51.914 | AL40: 6.507 | AM40: 160000 | AN40: 4312.5 | AO40: 1.78 | AP40: 1 | AQ40: 6.6 | AR40: 1.7 | AS40: 5.854 | AT40: 0.067 | AU40: 21 | AV40: 35555 | AW40: 1824 | AX40: 34699
A41: 46059 | B41: 183.3 | C41: 72.8 | D41: 190 | E41: 33.796 | F41: 3.59 | G41: 77000 | H41: 3290 | I41: 5.55 | J41: 1.4 | K41: 4.8 | L41: 1.6 | M41: 8.512 | N41: 0.132 | O41: 17 | P41: 167392 | Q41: 190.5 | R41: 124.8 | S41: 182 | T41: 51.447 | U41: 5.187 | V41: 170000 | W41: 4600 | X41: 2.24 | Y41: 1.4 | Z41: 4.8 | AA41: 1.6 | AB41: 8.512 | AC41: 0.132 | AD41: 17 | AE41: 154526 | AF41: 15174.881 | AG41: 308710 | AH41: 374.4 | AI41: 150.2 | AJ41: 326.7 | AK41: 61.738 | AL41: 5.807 | AM41: 220000 | AN41: 4340 | AO41: 2.1825 | AP41: 4.1 | AQ41: 6.8 | AR41: 3.4 | AS41: 7.56 | AT41: 0.11 | AU41: 26 | AV41: 35555 | AW41: 1826 | AX41: 34561
A42: 46060 | B42: 184.8 | C42: 69.2 | D42: 178 | E42: 34.901 | F42: 3.433 | G42: 96000 | J42: 2.1 | K42: 3.9 | L42: 2 | M42: 8.46 | N42: 0.119 | O42: 25 | P42: 182517 | Q42: 153.9 | R42: 114.2 | S42: 190 | T42: 50.088 | U42: 4.719 | V42: 150000 | Y42: 2.1 | Z42: 3.9 | AA42: 2 | AB42: 8.46 | AC42: 0.119 | AD42: 25 | AE42: 146871 | AF42: 14433.266 | AG42: 315170 | AH42: 251.4 | AI42: 227.8 | AJ42: 290 | AK42: 61.832 | AL42: 4.941 | AM42: 220000 | AN42: 4387.5 | AO42: 2.48 | AP42: 2 | AQ42: 5.3 | AR42: 3.6 | AS42: 7.702 | AT42: 0.106 | AU42: 14 | AV42: 29181 | AW42: 1998 | AX42: 28007
A43: 46061 | B43: 180.6 | C43: 111.5 | D43: 180 | E43: 30.5 | F43: 2.931 | G43: 88000 | J43: 1.5 | K43: 3.1 | L43: 1.7 | M43: 8.11 | N43: 0.127 | O43: 14 | P43: 167135 | Q43: 182 | R43: 97.4 | S43: 204 | T43: 53.836 | U43: 4.446 | V43: 130000 | Y43: 1.5 | Z43: 3.1 | AA43: 1.7 | AB43: 8.11 | AC43: 0.127 | AD43: 14 | AE43: 152811 | AF43: 14722.471 | AG43: 307390 | AH43: 270.6 | AI43: 200.6 | AJ43: 300 | AK43: 62.776 | AL43: 4.883 | AM43: 180000 | AN43: 4437.5 | AO43: 2.495 | AP43: 1 | AQ43: 4.6 | AR43: 3.2 | AS43: 7.752 | AT43: 0.113 | AU43: 21 | AV43: 29038 | AW43: 1919 | AX43: 28219
A44: 46062 | B44: 75.6 | C44: 64.2 | D44: 134 | E44: 28.764 | F44: 2.902 | G44: 76000 | H44: 3260 | I44: 3.725 | J44: 2.4 | K44: 5 | L44: 2.6 | M44: 9.346 | N44: 0.092 | O44: 17 | P44: 166865 | Q44: 138 | R44: 127.7 | S44: 268 | T44: 52.113 | U44: 5.878 | V44: 110000 | W44: 4650 | Y44: 2.4 | Z44: 5 | AA44: 2.6 | AB44: 9.346 | AC44: 0.092 | AD44: 17 | AE44: 162698 | AF44: 14575.426 | AG44: 310570 | AH44: 240 | AI44: 164.8 | AJ44: 323.3 | AK44: 49.799 | AL44: 4.654 | AM44: 160000 | AN44: 4100 | AO44: 2.2075 | AP44: 1.3 | AQ44: 5.5 | AR44: 1.7 | AS44: 4.234 | AT44: 0.036 | AU44: 16 | AV44: 35692 | AW44: 1911 | AX44: 34658
A45: 46063 | B45: 82 | C45: 74.5 | D45: 132 | E45: 32.747 | F45: 4.126 | G45: 69000 | J45: 4 | K45: 5.1 | L45: 2.6 | M45: 9.048 | N45: 0.138 | O45: 11 | P45: 163535 | Q45: 120 | R45: 94.5 | S45: 166 | T45: 46.376 | U45: 5.149 | V45: 140000 | Y45: 4 | Z45: 5.1 | AA45: 2.6 | AB45: 9.048 | AC45: 0.138 | AD45: 11 | AE45: 169434 | AF45: 12096.72 | AG45: 311920 | AH45: 325.5 | AI45: 218.4 | AJ45: 330 | AK45: 61.218 | AL45: 6.304 | AM45: 170000 | AN45: 4185 | AO45: 2.95 | AP45: 2.7 | AQ45: 6.5 | AR45: 3 | AS45: 7.724 | AT45: 0.079 | AU45: 12 | AV45: 36084 | AW45: 1805 | AX45: 35321
A46: 46064 | B46: 149.1 | C46: 88.7 | D46: 220 | E46: 38.156 | F46: 4.407 | G46: 62000 | J46: 2.2 | K46: 5.4 | L46: 3.2 | M46: 8.639 | N46: 0.13 | O46: 18 | P46: 170245 | Q46: 215 | R46: 130.4 | S46: 238 | T46: 54.487 | U46: 5.784 | V46: 130000 | Y46: 2.2 | Z46: 5.4 | AA46: 3.2 | AB46: 8.639 | AC46: 0.13 | AD46: 18 | AE46: 157212 | AF46: 15543.412 | AG46: 307230 | AH46: 456.8 | AI46: 229.2 | AJ46: 396.7 | AK46: 58.366 | AL46: 6.237 | AM46: 190000 | AN46: 4240 | AO46: 2.975 | AP46: 2 | AQ46: 6.3 | AR46: 1.3 | AS46: 5.733 | AT46: 0.076 | AU46: 24 | AV46: 36607 | AW46: 1786 | AX46: 35631
A47: 46065 | B47: 198 | C47: 74.3 | D47: 240 | E47: 29.959 | F47: 3.632 | G47: 74000 | H47: 3550 | I47: 3.9 | J47: 1.5 | K47: 4.8 | L47: 1.7 | M47: 8.175 | N47: 0.122 | O47: 8 | P47: 172986 | Q47: 202.5 | R47: 106.6 | S47: 190 | T47: 47.511 | U47: 5.291 | V47: 160000 | Y47: 1.5 | Z47: 4.8 | AA47: 1.7 | AB47: 8.175 | AC47: 0.122 | AD47: 8 | AE47: 159427 | AF47: 13424.106 | AG47: 311970 | AH47: 411.8 | AI47: 243.7 | AJ47: 470 | AK47: 62.253 | AL47: 5.59 | AM47: 160000 | AN47: 3987.5 | AO47: 2.7725 | AP47: 0.9 | AQ47: 6 | AR47: 1.6 | AS47: 5.479 | AT47: 0.066 | AU47: 17 | AV47: 36152 | AW47: 1930 | AX47: 35056
A48: 46066 | B48: 183.9 | C48: 106.8 | D48: 184 | E48: 38.073 | F48: 4.793 | G48: 70000 | H48: 4150 | I48: 3.725 | J48: 3.8 | K48: 5.3 | L48: 4 | M48: 8.106 | N48: 0.126 | O48: 13 | P48: 170124 | Q48: 259.2 | R48: 124.7 | S48: 226 | T48: 54.048 | U48: 5.599 | V48: 140000 | W48: 4780 | X48: 2 | Y48: 3.8 | Z48: 5.3 | AA48: 4 | AB48: 8.106 | AC48: 0.126 | AD48: 13 | AE48: 163156 | AF48: 14546.352 | AG48: 312970 | AH48: 464.3 | AI48: 243.2 | AJ48: 360 | AK48: 65.125 | AL48: 6.445 | AM48: 150000 | AN48: 3910 | AO48: 2.7475 | AP48: 3.4 | AQ48: 7 | AR48: 3.1 | AS48: 6.575 | AT48: 0.098 | AU48: 17 | AV48: 36277 | AW48: 2010 | AX48: 35524
A49: 46067 | B49: 129.6 | C49: 92.9 | D49: 176 | E49: 40.62 | F49: 6.094 | G49: 80000 | J49: 2 | K49: 5.5 | L49: 2 | M49: 8.275 | N49: 0.208 | O49: 16 | P49: 160385 | Q49: 256.8 | R49: 102.3 | S49: 222 | T49: 57.082 | U49: 4.8 | V49: 130000 | Y49: 2 | Z49: 5.5 | AA49: 2 | AB49: 8.275 | AC49: 0.208 | AD49: 16 | AE49: 164740 | AF49: 21771.167 | AG49: 306380 | AH49: 261.6 | AI49: 169.4 | AJ49: 313.3 | AK49: 64.448 | AL49: 5.635 | AM49: 180000 | AN49: 3900 | AO49: 3.055 | AP49: 1 | AQ49: 6.8 | AR49: 2.4 | AS49: 5.626 | AT49: 0.08 | AU49: 19 | AV49: 29174 | AW49: 1937 | AX49: 28326
A50: 46068 | B50: 131.4 | C50: 140.4 | D50: 234 | E50: 43.162 | F50: 8.08 | G50: 72000 | J50: 2.5 | K50: 5.5 | L50: 2.2 | M50: 7.651 | N50: 0.172 | O50: 15 | P50: 168821 | Q50: 179.4 | R50: 77.6 | S50: 208 | T50: 61.095 | U50: 5.53 | V50: 110000 | Y50: 2.5 | Z50: 5.5 | AA50: 2.2 | AB50: 7.651 | AC50: 0.172 | AD50: 15 | AE50: 156031 | AF50: 16448.485 | AG50: 306600 | AH50: 277.8 | AI50: 120.4 | AJ50: 326.7 | AK50: 43.121 | AL50: 3.125 | AM50: 190000 | AN50: 3917.5 | AO50: 3.925 | AP50: 1.4 | AQ50: 6.1 | AR50: 2.2 | AS50: 3.79 | AT50: 0.068 | AU50: 25 | AV50: 27871 | AW50: 1998 | AX50: 27280
A51: 46069 | B51: 309 | C51: 114.5 | D51: 168 | E51: 41.626 | F51: 5.139 | G51: 85000 | J51: 2.2 | K51: 5.2 | L51: 1.6 | M51: 6.483 | N51: 0.093 | O51: 19 | P51: 167410 | Q51: 320.4 | R51: 139.1 | S51: 170 | T51: 48.872 | U51: 4.989 | V51: 160000 | Y51: 2.2 | Z51: 5.2 | AA51: 1.6 | AB51: 6.483 | AC51: 0.093 | AD51: 19 | AE51: 142078 | AF51: 13004.148 | AG51: 295290 | AH51: 291.6 | AI51: 140.4 | AJ51: 370 | AK51: 76.454 | AL51: 5.629 | AM51: 210000 | AN51: 3992.5 | AO51: 4.025 | AP51: 1 | AQ51: 4.9 | AR51: 1.7 | AS51: 4.929 | AT51: 0.04 | AU51: 58 | AV51: 26499 | AW51: 2347 | AX51: 25755
A52: 46070 | B52: 281.4 | C52: 59.2 | D52: 172 | E52: 42.72 | F52: 5.015 | G52: 77000 | J52: 1.4 | K52: 5.5 | L52: 1.9 | M52: 6.389 | N52: 0.119 | O52: 15 | P52: 158672 | Q52: 154.2 | R52: 122.4 | S52: 174 | T52: 50.515 | U52: 5.766 | V52: 150000 | Y52: 1.4 | Z52: 5.5 | AA52: 1.9 | AB52: 6.389 | AC52: 0.119 | AD52: 15 | AE52: 135082 | AF52: 12926.651 | AG52: 280400 | AH52: 261 | AI52: 159.8 | AJ52: 380 | AK52: 76.412 | AL52: 3.769 | AM52: 170000 | AN52: 3985 | AO52: 4.125 | AP52: 1.1 | AQ52: 5.9 | AR52: 2 | AS52: 5.158 | AT52: 0.109 | AU52: 45 | AV52: 24865 | AW52: 2344 | AX52: 23967
A53: 46071 | B53: 111.9 | C53: 42.9 | D53: 174 | E53: 34.499 | F53: 3.187 | G53: 88000 | J53: 1.2 | K53: 4.9 | L53: 1.8 | M53: 9.294 | N53: 0.134 | O53: 17 | P53: 168267 | Q53: 139.8 | R53: 60.9 | S53: 212 | T53: 57.642 | U53: 4.181 | V53: 180000 | Y53: 1.2 | Z53: 4.9 | AA53: 1.8 | AB53: 9.294 | AC53: 0.134 | AD53: 17 | AE53: 143740 | AF53: 12474.032 | AG53: 296000 | AH53: 267.6 | AI53: 112.1 | AJ53: 346.7 | AK53: 52.983 | AL53: 3.604 | AM53: 170000 | AN53: 4207.5 | AO53: 3.4625 | AP53: 0.7 | AQ53: 6.8 | AR53: 2.2 | AS53: 7.357 | AT53: 0.06 | AU53: 35 | AV53: 29541 | AW53: 2317 | AX53: 28571
A54: 46072 | B54: 166.8 | C54: 91.6 | D54: 188 | E54: 38.14 | F54: 4.685 | G54: 84000 | H54: 3420 | I54: 2.9 | J54: 1.2 | K54: 5.5 | L54: 2.2 | M54: 6.274 | N54: 0.135 | O54: 24 | P54: 173862 | Q54: 241.8 | R54: 162.4 | S54: 202 | T54: 47.828 | U54: 5.379 | V54: 160000 | Y54: 1.2 | Z54: 5.5 | AA54: 2.2 | AB54: 6.274 | AC54: 0.135 | AD54: 24 | AE54: 143639 | AF54: 14442.807 | AG54: 299360 | AH54: 240 | AI54: 211.3 | AJ54: 366.7 | AK54: 69.822 | AL54: 3.761 | AM54: 230000 | AN54: 4087.5 | AO54: 2.3725 | AP54: 0.7 | AQ54: 6.8 | AR54: 2.4 | AS54: 4.737 | AT54: 0.05 | AU54: 38 | AV54: 36276 | AW54: 2145 | AX54: 35431
A55: 46073 | B55: 215.5 | C55: 80.4 | D55: 238 | E55: 32.566 | F55: 3.833 | G55: 68000 | H55: 3950 | I55: 3.125 | J55: 1 | K55: 5.1 | L55: 2.2 | M55: 8.908 | N55: 0.089 | O55: 17 | P55: 177810 | Q55: 267 | R55: 138.4 | S55: 220 | T55: 50.265 | U55: 5.513 | V55: 150000 | W55: 4780 | X55: 2.3 | Y55: 1 | Z55: 5.1 | AA55: 2.2 | AB55: 8.908 | AC55: 0.089 | AD55: 17 | AE55: 138461 | AF55: 13153.113 | AG55: 298980 | AH55: 250.8 | AI55: 160.4 | AJ55: 370 | AK55: 53.732 | AL55: 5.602 | AM55: 190000 | AN55: 4035 | AO55: 1.1775 | AP55: 2.5 | AQ55: 6.2 | AR55: 2.5 | AS55: 6.974 | AT55: 0.058 | AU55: 46 | AV55: 36053 | AW55: 1932 | AX55: 34802
A56: 46074 | B56: 242.4 | C56: 89.7 | D56: 174 | E56: 31.897 | F56: 5.456 | G56: 93000 | J56: 1.9 | K56: 5.1 | L56: 2.8 | M56: 8.403 | N56: 0.084 | O56: 24 | P56: 168770 | Q56: 204 | R56: 142.4 | S56: 156 | T56: 43.809 | U56: 4.091 | V56: 120000 | Y56: 1.9 | Z56: 5.1 | AA56: 2.8 | AB56: 8.403 | AC56: 0.084 | AD56: 24 | AE56: 148410 | AF56: 13854.558 | AG56: 297190 | AH56: 334.2 | AI56: 153.4 | AJ56: 283.3 | AK56: 53.1 | AL56: 5.58 | AM56: 220000 | AN56: 4052.5 | AO56: 2.645 | AP56: 1.1 | AQ56: 6.5 | AR56: 2.8 | AS56: 5.546 | AT56: 0.075 | AU56: 42 | AV56: 30216 | AW56: 2215 | AX56: 29278
A57: 46075 | B57: 248.5 | C57: 110.2 | D57: 192 | E57: 42.384 | F57: 2.966 | G57: 68000 | J57: 2.1 | K57: 5.7 | L57: 2.2 | M57: 7.325 | N57: 0.078 | O57: 17 | P57: 172172 | Q57: 238.2 | R57: 87.8 | S57: 186 | T57: 47.74 | U57: 4.495 | V57: 160000 | Y57: 2.1 | Z57: 5.7 | AA57: 2.2 | AB57: 7.325 | AC57: 0.078 | AD57: 17 | AE57: 152745 | AF57: 13571.121 | AG57: 303830 | AH57: 233.4 | AI57: 101.5 | AJ57: 396.7 | AK57: 55.684 | AL57: 4.674 | AM57: 230000 | AN57: 4055 | AO57: 3.395 | AP57: 1.3 | AQ57: 6.1 | AR57: 2.6 | AS57: 2.707 | AT57: 0.063 | AU57: 26 | AV57: 29139 | AW57: 2105 | AX57: 28174
A58: 46076 | B58: 120.6 | C58: 137.6 | D58: 226 | E58: 46.395 | F58: 7.047 | G58: 71000 | H58: 4080 | I58: 3.175 | J58: 2.2 | K58: 5.4 | L58: 2.8 | M58: 7.91 | N58: 0.126 | O58: 21 | P58: 171458 | Q58: 256.2 | R58: 124.7 | S58: 214 | T58: 57.046 | U58: 5.786 | V58: 170000 | W58: 4480 | X58: 2.5 | Y58: 2.2 | Z58: 5.4 | AA58: 2.8 | AB58: 7.91 | AC58: 0.126 | AD58: 21 | AE58: 155450 | AF58: 13433.466 | AG58: 303980 | AH58: 325.5 | AI58: 136 | AJ58: 250 | AK58: 45.303 | AL58: 4.56 | AM58: 180000 | AN58: 4025 | AO58: 3.2675 | AP58: 2.1 | AQ58: 5.9 | AR58: 1.7 | AS58: 2.677 | AT58: 0.059 | AU58: 17 | AV58: 36240 | AW58: 2050 | AX58: 35525
A59: 46077 | B59: 110.1 | C59: 78.2 | D59: 258 | E59: 36.558 | F59: 4.065 | G59: 63000 | J59: 2 | K59: 6.9 | L59: 1.8 | M59: 7.619 | N59: 0.11 | O59: 11 | P59: 164383 | Q59: 228 | R59: 116.7 | S59: 228 | T59: 60.281 | U59: 6.343 | V59: 130000 | Y59: 2 | Z59: 6.9 | AA59: 1.8 | AB59: 7.619 | AC59: 0.11 | AD59: 11 | AE59: 153144 | AF59: 13428.209 | AG59: 296530 | AH59: 297 | AI59: 208.3 | AJ59: 286.7 | AK59: 55.006 | AL59: 6.073 | AM59: 220000 | AN59: 4185 | AO59: 3.4825 | AP59: 2.1 | AQ59: 6.8 | AR59: 2.6 | AS59: 6.719 | AT59: 0.095 | AU59: 16 | AV59: 35001 | AW59: 1970 | AX59: 34278
A60: 46078 | B60: 183.9 | C60: 103.4 | D60: 280 | E60: 48.875 | F60: 4.199 | G60: 120000 | J60: 2.5 | K60: 5.5 | L60: 3.2 | M60: 7.452 | N60: 0.105 | O60: 11 | P60: 170971 | Q60: 184.8 | R60: 135.6 | S60: 234 | T60: 54.338 | U60: 6 | V60: 220000 | Y60: 2.5 | Z60: 5.5 | AA60: 3.2 | AB60: 7.452 | AC60: 0.105 | AD60: 11 | AE60: 152947 | AF60: 15388.609 | AG60: 302290 | AH60: 298.8 | AI60: 189 | AJ60: 306.7 | AK60: 53.259 | AL60: 5.313 | AM60: 250000 | AN60: 4212.5 | AO60: 2.8375 | AP60: 1.9 | AQ60: 7.3 | AR60: 3 | AS60: 6.626 | AT60: 0.073 | AU60: 25 | AV60: 35640 | AW60: 1928 | AX60: 34658
A61: 46079 | B61: 244.2 | C61: 57 | D61: 228 | E61: 51.047 | F61: 5.535 | G61: 88000 | J61: 2.7 | K61: 7.3 | L61: 2.6 | M61: 6.403 | N61: 0.116 | O61: 15 | P61: 167500 | Q61: 237 | R61: 126 | S61: 228 | T61: 42.338 | U61: 5.964 | V61: 190000 | Y61: 2.7 | Z61: 7.3 | AA61: 2.6 | AB61: 6.403 | AC61: 0.116 | AD61: 15 | AE61: 149217 | AF61: 12747.337 | AG61: 295020 | AH61: 333.6 | AI61: 261.5 | AJ61: 343.3 | AK61: 85.303 | AL61: 5.58 | AM61: 240000 | AN61: 4180 | AO61: 3.0875 | AP61: 2.4 | AQ61: 7.3 | AR61: 2.4 | AS61: 6.903 | AT61: 0.086 | AU61: 21 | AV61: 37803 | AW61: 1858 | AX61: 36714
A62: 46080 | B62: 114 | C62: 115.5 | D62: 268 | E62: 43.237 | F62: 7.765 | G62: 92000 | H62: 3590 | I62: 2.95 | J62: 1.9 | K62: 5 | L62: 2.6 | M62: 7.511 | N62: 0.113 | O62: 18 | P62: 175897 | Q62: 222 | R62: 124.6 | S62: 212 | T62: 54.295 | U62: 5.821 | V62: 180000 | W62: 4460 | X62: 2.36 | Y62: 1.9 | Z62: 5 | AA62: 2.6 | AB62: 7.511 | AC62: 0.113 | AD62: 18 | AE62: 153132 | AF62: 15317.63 | AG62: 302330 | AH62: 288.6 | AI62: 179.2 | AJ62: 286.7 | AK62: 59.513 | AL62: 6.419 | AM62: 250000 | AN62: 4155 | AO62: 2.735 | AP62: 1.1 | AQ62: 6.8 | AR62: 3 | AS62: 5.274 | AT62: 0.078 | AU62: 26 | AV62: 35901 | AW62: 1634 | AX62: 34786
A63: 46081 | B63: 116.4 | C63: 80.8 | D63: 218 | E63: 36.634 | F63: 6.211 | G63: 79000 | J63: 2.7 | K63: 6.2 | L63: 2.2 | M63: 7.764 | N63: 0.099 | O63: 12 | P63: 167145 | Q63: 220.8 | R63: 151.6 | S63: 224 | T63: 45.2 | U63: 4.935 | V63: 160000 | Y63: 2.7 | Z63: 6.2 | AA63: 2.2 | AB63: 7.764 | AC63: 0.099 | AD63: 12 | AE63: 148987 | AF63: 13487.573 | AG63: 293140 | AH63: 404 | AI63: 257.7 | AJ63: 326.7 | AK63: 55.822 | AL63: 5.554 | AM63: 230000 | AN63: 4182.5 | AO63: 2.285 | AP63: 2.4 | AQ63: 8.1 | AR63: 2.8 | AS63: 5.434 | AT63: 0.065 | AU63: 20 | AV63: 28506 | AW63: 1746 | AX63: 27615
A64: 46082 | B64: 185.1 | C64: 62.7 | D64: 154 | E64: 35.341 | F64: 5.714 | G64: 130000 | J64: 2.8 | K64: 4.8 | L64: 2 | M64: 7.473 | N64: 0.088 | O64: 19 | P64: 170877 | Q64: 229.2 | R64: 147.3 | S64: 202 | T64: 42.063 | U64: 4.551 | V64: 170000 | Y64: 2.8 | Z64: 4.8 | AA64: 2 | AB64: 7.473 | AC64: 0.088 | AD64: 19 | AE64: 149456 | AF64: 13318.201 | AG64: 296140 | AH64: 321 | AI64: 209.8 | AJ64: 296.7 | AK64: 54.556 | AL64: 4.734 | AM64: 190000 | AN64: 4057.5 | AO64: 2.84 | AP64: 1.8 | AQ64: 6.5 | AR64: 2.4 | AS64: 5.288 | AT64: 0.058 | AU64: 25 | AV64: 29366 | AW64: 1409 | AX64: 28724
A65: 46083 | B65: 462.8 | C65: 391.7 | D65: 466.7 | E65: 68.296 | F65: 6.307 | G65: 190000 | J65: 1.1 | K65: 6.3 | L65: 3.4 | M65: 8.05 | N65: 0.085 | O65: 8 | P65: 250759 | Q65: 222.6 | R65: 253.4 | S65: 180 | T65: 58.554 | U65: 5.609 | V65: 210000 | Y65: 1.1 | Z65: 6.3 | AA65: 3.4 | AB65: 8.05 | AC65: 0.085 | AD65: 8 | AE65: 141044 | AF65: 14061.586 | AG65: 297020 | AH65: 241.8 | AI65: 201 | AJ65: 220 | AK65: 38.713 | AL65: 4.04 | AM65: 240000 | AN65: 4120 | AO65: 2.8325 | AP65: 1.8 | AQ65: 6.2 | AR65: 2.4 | AS65: 3.65 | AT65: 0.042 | AU65: 15 | AV65: 29073 | AW65: 1531 | AX65: 28016
A66: 46084 | B66: 191.5 | C66: 143.3 | D66: 316 | E66: 43.897 | F66: 7.151 | G66: 150000 | H66: 3270 | I66: 4.55 | J66: 1.4 | K66: 6 | L66: 3.2 | M66: 5.266 | N66: 0.117 | O66: 8 | P66: 193645 | Q66: 231 | R66: 141.4 | S66: 248 | T66: 48.547 | U66: 6.456 | V66: 180000 | Y66: 1.4 | Z66: 6 | AA66: 3.2 | AB66: 5.266 | AC66: 0.117 | AD66: 8 | AE66: 158019 | AF66: 13368.591 | AG66: 319740 | AH66: 337.5 | AI66: 157.4 | AJ66: 276.7 | AK66: 34.26 | AL66: 4.8 | AM66: 220000 | AN66: 3972.5 | AO66: 3.13 | AP66: 1.1 | AQ66: 6.4 | AR66: 3.8 | AS66: 2.799 | AT66: 0.068 | AU66: 19 | AV66: 39653 | AW66: 1648 | AX66: 38461
A67: 46085 | B67: 324.6 | C67: 134.3 | D67: 264 | E67: 56.234 | F67: 5.117 | G67: 120000 | J67: 3.4 | K67: 6.6 | L67: 2.8 | M67: 7.043 | N67: 0.12 | O67: 12 | P67: 181702 | Q67: 260.4 | R67: 128.8 | S67: 236 | T67: 55.186 | U67: 6.439 | V67: 160000 | Y67: 3.4 | Z67: 6.6 | AA67: 2.8 | AB67: 7.043 | AC67: 0.12 | AD67: 12 | AE67: 152806 | AF67: 13773.123 | AG67: 306880 | AH67: 465 | AI67: 300.9 | AJ67: 356.7 | AK67: 55.186 | AL67: 5.412 | AM67: 180000 | AN67: 3895 | AO67: 2.9675 | AP67: 2.8 | AQ67: 7.4 | AR67: 2.7 | AS67: 5.966 | AT67: 0.09 | AU67: 13 | AV67: 35928 | AW67: 1590 | AX67: 34933
A68: 46086 | B68: 364.2 | C68: 134.8 | D68: 317.5 | E68: 41.21 | F68: 4.794 | G68: 190000 | J68: 2.2 | K68: 6.4 | L68: 3.8 | M68: 7.482 | N68: 0.097 | O68: 14 | P68: 208580 | Q68: 320.4 | R68: 175.6 | S68: 290 | T68: 55.36 | U68: 6.587 | V68: 180000 | Y68: 2.2 | Z68: 6.4 | AA68: 3.8 | AB68: 7.482 | AC68: 0.097 | AD68: 14 | AE68: 152018 | AF68: 13341.31 | AG68: 307770 | AH68: 401.3 | AI68: 252.8 | AJ68: 340 | AK68: 56.756 | AL68: 6.678 | AM68: 190000 | AN68: 4152.5 | AO68: 2.315 | AP68: 3.1 | AQ68: 7.3 | AR68: 3 | AS68: 5.16 | AT68: 0.103 | AU68: 22 | AV68: 35525 | AW68: 1863 | AX68: 34851
A69: 46087 | B69: 201.5 | C69: 112.2 | D69: 204 | E69: 37.898 | F69: 3.715 | G69: 87000 | H69: 3500 | I69: 4.5 | J69: 1.7 | K69: 5.8 | L69: 3.8 | M69: 6.165 | N69: 0.09 | O69: 15 | P69: 212911 | Q69: 234.6 | R69: 155.8 | S69: 220 | T69: 59.784 | U69: 5.823 | V69: 170000 | W69: 4640 | X69: 2.34 | Y69: 1.7 | Z69: 5.8 | AA69: 3.8 | AB69: 6.165 | AC69: 0.09 | AD69: 15 | AE69: 148169 | AF69: 14609.03 | AG69: 312730 | AH69: 364.2 | AI69: 242.4 | AJ69: 333.3 | AK69: 59.134 | AL69: 6.035 | AM69: 230000 | AN69: 3895 | AO69: 2.75 | AP69: 2.3 | AQ69: 7.8 | AR69: 3.2 | AS69: 6.468 | AT69: 0.116 | AU69: 29 | AV69: 35175 | AW69: 1720 | AX69: 34199
A70: 46088 | B70: 273 | C70: 110.1 | D70: 200 | E70: 40.609 | F70: 4 | G70: 73000 | J70: 3.4 | K70: 5.1 | L70: 1.6 | M70: 8.417 | N70: 0.118 | O70: 8 | P70: 193448 | Q70: 268 | R70: 129.2 | S70: 198 | T70: 53.93 | U70: 5.108 | V70: 160000 | Y70: 3.4 | Z70: 5.1 | AA70: 1.6 | AB70: 8.417 | AC70: 0.118 | AD70: 8 | AE70: 154725 | AF70: 13674.002 | AG70: 315110 | AH70: 429.8 | AI70: 221.1 | AJ70: 470 | AK70: 73.704 | AL70: 6.695 | AM70: 220000 | AN70: 4107.5 | AO70: 2.2075 | AP70: 4.1 | AQ70: 7.6 | AR70: 2.6 | AS70: 5.736 | AT70: 0.127 | AU70: 21 | AV70: 29581 | AW70: 1663 | AX70: 28591
A71: 46089 | B71: 235.5 | C71: 78.6 | D71: 138 | E71: 34.679 | F71: 3.3 | G71: 88000 | J71: 0.6 | K71: 4.9 | L71: 2.3 | M71: 9.291 | N71: 0.098 | O71: 21 | P71: 187045 | Q71: 207.5 | R71: 100.3 | S71: 184 | T71: 59.327 | U71: 5.529 | V71: 130000 | Y71: 0.6 | Z71: 4.9 | AA71: 2.3 | AB71: 9.291 | AC71: 0.098 | AD71: 21 | AE71: 144077 | AF71: 13475.34 | AG71: 300020 | AH71: 314.4 | AI71: 130.6 | AJ71: 366.7 | AK71: 75.671 | AL71: 6.579 | AM71: 180000 | AN71: 3945 | AO71: 3.1975 | AP71: 0.8 | AQ71: 7.4 | AR71: 1.7 | AS71: 5.518 | AT71: 0.098 | AU71: 24 | AV71: 29826 | AW71: 1658 | AX71: 28202
A72: 46090 | B72: 137.1 | C72: 78 | D72: 150 | E72: 41.277 | F72: 4.522 | G72: 120000 | H72: 3480 | I72: 4.5625 | J72: 2.6 | K72: 6.1 | L72: 4.7 | M72: 9.316 | N72: 0.139 | O72: 13 | P72: 197842 | Q72: 318.6 | R72: 140.2 | S72: 302 | T72: 62.964 | U72: 6.453 | V72: 170000 | W72: 4640 | X72: 2.98 | Y72: 2.6 | Z72: 6.1 | AA72: 4.7 | AB72: 9.316 | AC72: 0.139 | AD72: 13 | AE72: 149058 | AF72: 13351.486 | AG72: 313150 | AH72: 275.3 | AI72: 127 | AJ72: 256.7 | AK72: 45.263 | AL72: 3.821 | AM72: 160000 | AN72: 4035 | AO72: 2.515 | AP72: 1.9 | AQ72: 8.7 | AR72: 1.4 | AS72: 4.58 | AT72: 0.08 | AU72: 16 | AV72: 36117 | AW72: 1649 | AX72: 35252
A73: 46091 | B73: 111 | C73: 84.6 | D73: 174 | E73: 39.227 | F73: 4.885 | G73: 93000 | J73: 3.1 | K73: 5.7 | L73: 3.6 | M73: 8.981 | N73: 0.15 | O73: 7 | P73: 189002 | Q73: 248.4 | R73: 146.8 | S73: 264 | T73: 62.749 | U73: 6.655 | V73: 160000 | Y73: 3.1 | Z73: 5.7 | AA73: 3.6 | AB73: 8.981 | AC73: 0.15 | AD73: 7 | AE73: 140956 | AF73: 14184.715 | AG73: 298370 | AH73: 440.3 | AI73: 253 | AJ73: 346.7 | AK73: 60.901 | AL73: 6.513 | AM73: 190000 | AN73: 4212.5 | AO73: 2.65 | AP73: 3.2 | AQ73: 5.9 | AR73: 2.2 | AS73: 6.905 | AT73: 0.122 | AU73: 21 | AV73: 35589 | AW73: 1832 | AX73: 34787
A74: 46092 | B74: 117 | C74: 91.3 | D74: 150 | E74: 38.356 | F74: 4.409 | G74: 89000 | J74: 3.1 | K74: 6.2 | L74: 3.7 | M74: 8.501 | N74: 0.135 | O74: 24 | P74: 184356 | Q74: 303 | R74: 126.4 | S74: 244 | T74: 61.863 | U74: 6.345 | V74: 180000 | Y74: 3.1 | Z74: 6.2 | AA74: 3.7 | AB74: 8.501 | AC74: 0.135 | AD74: 24 | AE74: 144538 | AF74: 13150.931 | AG74: 300300 | AH74: 411.8 | AI74: 246.7 | AJ74: 380 | AK74: 61.645 | AL74: 7.139 | AM74: 230000 | AN74: 4230 | AO74: 2.835 | AP74: 2.6 | AQ74: 8 | AR74: 2.5 | AS74: 5.313 | AT74: 0.116 | AU74: 18 | AV74: 36574 | AW74: 1600 | AX74: 35721
A75: 46093 | B75: 123.3 | C75: 77.8 | D75: 130 | E75: 34.236 | F75: 3.988 | G75: 93000 | J75: 2.6 | K75: 6.3 | L75: 4.3 | M75: 8.073 | N75: 0.123 | O75: 11 | P75: 182922 | Q75: 240 | R75: 121.1 | S75: 238 | T75: 56.355 | U75: 6.291 | V75: 150000 | Y75: 2.6 | Z75: 6.3 | AA75: 4.3 | AB75: 8.073 | AC75: 0.123 | AD75: 11 | AE75: 144869 | AF75: 12945.437 | AG75: 290200 | AH75: 335.4 | AI75: 250.9 | AJ75: 313.3 | AK75: 60.147 | AL75: 6.816 | AM75: 180000 | AN75: 4227.5 | AO75: 2.305 | AP75: 3 | AQ75: 8.1 | AR75: 3.5 | AS75: 4.207 | AT75: 0.118 | AU75: 25 | AV75: 35642 | AW75: 1558 | AX75: 34520
A76: 46094 | B76: 143.4 | C76: 80.5 | D76: 164 | E76: 34.241 | F76: 5.436 | G76: 94000 | H76: 3470 | I76: 2.95 | J76: 3.8 | K76: 6.3 | L76: 4.6 | M76: 8.139 | N76: 0.127 | O76: 12 | P76: 190185 | Q76: 250.2 | R76: 114.2 | S76: 240 | T76: 58.314 | U76: 6.361 | V76: 160000 | W76: 4550 | X76: 2.56 | Y76: 3.8 | Z76: 6.3 | AA76: 4.6 | AB76: 8.139 | AC76: 0.127 | AD76: 12 | AE76: 143457 | AF76: 13220.022 | AG76: 304670 | AH76: 339 | AI76: 183.5 | AJ76: 336.7 | AK76: 53.759 | AL76: 6.308 | AM76: 200000 | AN76: 3992.5 | AO76: 2.405 | AP76: 3.7 | AQ76: 7.9 | AR76: 3.8 | AS76: 4.647 | AT76: 0.129 | AU76: 12 | AV76: 36478 | AW76: 1557 | AX76: 35460
A77: 46095 | B77: 175.5 | C77: 56 | D77: 190 | E77: 42.073 | F77: 4.248 | G77: 110000 | J77: 3.7 | K77: 5.8 | L77: 3.4 | M77: 9.278 | N77: 0.144 | O77: 15 | P77: 180930 | Q77: 354 | R77: 117.3 | S77: 258 | T77: 69.159 | U77: 5.622 | V77: 190000 | Y77: 3.7 | Z77: 5.8 | AA77: 3.4 | AB77: 9.278 | AC77: 0.144 | AD77: 15 | AE77: 144637 | AF77: 13661.583 | AG77: 300770 | AH77: 392.3 | AI77: 187.8 | AJ77: 356.7 | AK77: 72.691 | AL77: 5.8 | AM77: 210000 | AN77: 3990 | AO77: 2.36 | AP77: 3 | AQ77: 6.9 | AR77: 3 | AS77: 4.912 | AT77: 0.12 | AU77: 14 | AV77: 30693 | AW77: 1586 | AX77: 29753
A78: 46096 | B78: 366 | C78: 155.1 | D78: 180 | E78: 62.786 | F78: 5.419 | G78: 82000 | J78: 3.1 | K78: 5.3 | L78: 3.1 | M78: 9.416 | N78: 0.132 | O78: 17 | P78: 185797 | Q78: 228 | R78: 82.1 | S78: 236 | T78: 59.195 | U78: 5.181 | V78: 150000 | Y78: 3.1 | Z78: 5.3 | AA78: 3.1 | AB78: 9.416 | AC78: 0.132 | AD78: 17 | AE78: 139816 | AF78: 14097.22 | AG78: 297180 | AH78: 268.2 | AI78: 121.2 | AJ78: 330 | AK78: 94.054 | AL78: 7.24 | AM78: 190000 | AN78: 4200 | AO78: 2.7575 | AP78: 2.4 | AQ78: 4.5 | AR78: 3.2 | AS78: 4.333 | AT78: 0.184 | AU78: 21 | AV78: 29194 | AW78: 1841 | AX78: 28543
A79: 46097 | B79: 232.8 | C79: 89.4 | D79: 200 | E79: 46.99 | F79: 5.973 | G79: 88000 | H79: 3400 | I79: 3.025 | J79: 2.2 | K79: 5.9 | L79: 4 | M79: 9.023 | N79: 0.149 | O79: 11 | P79: 192608 | Q79: 255 | R79: 134.6 | S79: 275 | T79: 63.198 | U79: 6.588 | V79: 160000 | W79: 4550 | X79: 2.54 | Y79: 2.2 | Z79: 5.9 | AA79: 4 | AB79: 9.023 | AC79: 0.149 | AD79: 11 | AE79: 138061 | AF79: 13453.127 | AG79: 303840 | AH79: 238.2 | AI79: 155 | AJ79: 350 | AK79: 56.528 | AL79: 6.533 | AM79: 220000 | AN79: 4182.5 | AO79: 2.715 | AP79: 1.4 | AQ79: 6.9 | AR79: 3.4 | AS79: 4.095 | AT79: 0.111 | AU79: 17 | AV79: 35696 | AW79: 1559 | AX79: 34987
A80: 46098 | B80: 121.5 | C80: 70.6 | D80: 152 | E80: 38.89 | F80: 4.438 | G80: 120000 | J80: 2.2 | K80: 6.4 | L80: 4.4 | M80: 9.053 | N80: 0.126 | O80: 25 | P80: 194675 | Q80: 241.8 | R80: 146 | S80: 262 | T80: 56.88 | U80: 6.968 | V80: 170000 | Y80: 2.2 | Z80: 6.4 | AA80: 4.4 | AB80: 9.053 | AC80: 0.126 | AD80: 25 | AE80: 130093 | AF80: 13167.147 | AG80: 298550 | AH80: 253.8 | AI80: 241.8 | AJ80: 363.3 | AK80: 57.697 | AL80: 6.383 | AM80: 180000 | AN80: 4165 | AO80: 2.9375 | AP80: 0.6 | AQ80: 6.9 | AR80: 3.4 | AS80: 4.14 | AT80: 0.105 | AU80: 13 | AV80: 36242 | AW80: 1541 | AX80: 35389
A81: 46099 | B81: 132.9 | C81: 120 | D81: 216 | E81: 41.218 | F81: 4.913 | G81: 94000 | J81: 2.5 | K81: 6.2 | L81: 4 | M81: 8.728 | N81: 0.111 | O81: 23 | P81: 218167 | Q81: 189.5 | R81: 124.6 | S81: 248 | T81: 56.405 | U81: 6.17 | V81: 150000 | Y81: 2.5 | Z81: 6.2 | AA81: 4 | AB81: 8.728 | AC81: 0.111 | AD81: 23 | AE81: 123762 | AF81: 14417.629 | AG81: 302270 | AH81: 333 | AI81: 213.6 | AJ81: 383.3 | AK81: 63.65 | AL81: 5.873 | AM81: 190000 | AN81: 4202.5 | AO81: 2.675 | AP81: 2.2 | AQ81: 7 | AR81: 3.1 | AS81: 4.478 | AT81: 0.141 | AU81: 22 | AV81: 37375 | AW81: 1549 | AX81: 36220
A82: 46100 | B82: 174.9 | C82: 108.6 | D82: 192 | E82: 47.196 | F82: 5.744 | G82: 120000 | J82: 2.7 | K82: 6.3 | L82: 4.5 | M82: 9.079 | N82: 0.103 | O82: 24 | P82: 204220 | Q82: 253.8 | R82: 144.3 | S82: 272 | T82: 59.336 | U82: 6.083 | V82: 180000 | Y82: 2.7 | Z82: 6.3 | AA82: 4.5 | AB82: 9.079 | AC82: 0.103 | AD82: 24 | AE82: 131671 | AF82: 13342.228 | AG82: 310230 | AH82: 500 | AI82: 240.5 | AJ82: 363.3 | AK82: 64.277 | AL82: 6.271 | AM82: 230000 | AN82: 4087.5 | AO82: 1.58 | AP82: 2.5 | AQ82: 6.9 | AR82: 2.4 | AS82: 3.711 | AT82: 0.099 | AU82: 24 | AV82: 36993 | AW82: 1504 | AX82: 35951
A83: 46101 | B83: 125.7 | C83: 87.7 | D83: 162 | E83: 40.743 | F83: 5.078 | G83: 70000 | H83: 3450 | I83: 2.825 | J83: 3 | K83: 6.1 | L83: 5.2 | M83: 9.222 | N83: 0.117 | O83: 23 | P83: 194361 | Q83: 234.6 | R83: 136.6 | S83: 252 | T83: 56.984 | U83: 6.226 | V83: 130000 | W83: 4310 | X83: 2.44 | Y83: 3 | Z83: 6.1 | AA83: 5.2 | AB83: 9.222 | AC83: 0.117 | AD83: 23 | AE83: 152298 | AF83: 13359.639 | AG83: 317570 | AH83: 514 | AI83: 255.5 | AJ83: 386.7 | AK83: 60.309 | AL83: 6.747 | AM83: 180000 | AN83: 4025 | AO83: 2.1975 | AP83: 2.4 | AQ83: 6.7 | AR83: 2.8 | AS83: 4.128 | AT83: 0.095 | AU83: 15 | AV83: 36306 | AW83: 1614 | AX83: 35357
A84: 46102 | B84: 118.8 | C84: 81.7 | D84: 142 | E84: 38.686 | F84: 4.467 | G84: 60000 | J84: 1.1 | K84: 5.9 | L84: 4.1 | M84: 9.346 | N84: 0.166 | O84: 17 | P84: 179656 | Q84: 118.8 | R84: 58.7 | S84: 202 | T84: 58.129 | U84: 5.433 | V84: 130000 | Y84: 1.1 | Z84: 5.9 | AA84: 4.1 | AB84: 9.346 | AC84: 0.166 | AD84: 17 | AE84: 145944 | AF84: 14313.478 | AG84: 300820 | AH84: 238.8 | AI84: 148.5 | AJ84: 333.3 | AK84: 50.525 | AL84: 6.461 | AM84: 210000 | AN84: 4362.5 | AO84: 2.225 | AP84: 0.74 | AQ84: 5.9 | AR84: 2.7 | AS84: 4.07 | AT84: 0.09 | AU84: 13 | AV84: 30913 | AW84: 1767 | AX84: 29970
A85: 46103 | B85: 117.6 | C85: 79 | D85: 126 | E85: 35.076 | F85: 4.182 | G85: 83000 | J85: 1.3 | K85: 5.6 | L85: 4.2 | M85: 8.637 | N85: 0.106 | O85: 17 | P85: 181048 | Q85: 115.2 | R85: 65.2 | S85: 188 | T85: 53.325 | U85: 6.279 | V85: 160000 | Y85: 1.3 | Z85: 5.6 | AA85: 4.2 | AB85: 8.637 | AC85: 0.106 | AD85: 17 | AE85: 146542 | AF85: 13419.737 | AG85: 301330 | AH85: 240.6 | AI85: 123.6 | AJ85: 363.3 | AK85: 51.239 | AL85: 6.29 | AM85: 190000 | AN85: 4080 | AO85: 2.71 | AP85: 1 | AQ85: 5.9 | AR85: 2.8 | AS85: 3.603 | AT85: 0.107 | AU85: 12 | AV85: 31600 | AW85: 1910 | AX85: 30726
A86: 46104 | B86: 137.4 | C86: 78.8 | D86: 150 | E86: 38.932 | F86: 4.198 | G86: 95000 | H86: 3660 | I86: 3 | J86: 2.2 | K86: 5.8 | L86: 4.2 | M86: 9.223 | N86: 0.119 | O86: 9 | P86: 185759 | Q86: 259.5 | R86: 131.2 | S86: 230 | T86: 64.615 | U86: 7.089 | V86: 150000 | W86: 3960 | X86: 2.64 | Y86: 2.2 | Z86: 5.8 | AA86: 4.2 | AB86: 9.223 | AC86: 0.119 | AD86: 9 | AE86: 144867 | AF86: 13288.932 | AG86: 299950 | AH86: 273.8 | AI86: 150.7 | AJ86: 343.3 | AK86: 58.627 | AL86: 7.021 | AM86: 230000 | AN86: 3962.5 | AO86: 2.035 | AP86: 1.9 | AQ86: 6.1 | AR86: 3 | AS86: 3.435 | AT86: 0.088 | AU86: 24 | AV86: 36122 | AW86: 1896 | AX86: 35047
A87: 46105 | B87: 144.9 | C87: 85.7 | D87: 150 | E87: 45.377 | F87: 4.704 | G87: 120000 | J87: 2.1 | K87: 6 | L87: 4 | M87: 9.119 | N87: 0.103 | O87: 18 | P87: 178345 | Q87: 231 | R87: 118.1 | S87: 230 | T87: 66.557 | U87: 6.382 | V87: 180000 | Y87: 2.1 | Z87: 6 | AA87: 4 | AB87: 9.119 | AC87: 0.103 | AD87: 18 | AE87: 145066 | AF87: 14266.085 | AG87: 298850 | AH87: 349.5 | AI87: 175.4 | AJ87: 366.7 | AK87: 60.603 | AL87: 6.875 | AM87: 170000 | AN87: 4217.5 | AO87: 1.25 | AP87: 2.4 | AQ87: 6.5 | AR87: 2 | AS87: 4.516 | AT87: 0.086 | AU87: 36 | AV87: 36043 | AW87: 1908 | AX87: 35078
A88: 46106 | B88: 210.5 | C88: 128 | D88: 252 | E88: 57.222 | F88: 7.301 | G88: 110000 | H88: 3050 | I88: 3.185 | J88: 4.3 | K88: 6.9 | L88: 5.4 | M88: 8.206 | N88: 0.139 | O88: 38 | P88: 189617 | Q88: 235.8 | R88: 126.8 | S88: 326 | T88: 61.519 | U88: 6.789 | V88: 180000 | Y88: 4.3 | Z88: 6.9 | AA88: 5.4 | AB88: 8.206 | AC88: 0.139 | AD88: 38 | AE88: 146469 | AF88: 13100.911 | AG88: 309630 | AH88: 419.3 | AI88: 182.1 | AJ88: 410 | AK88: 65.59 | AL88: 6.235 | AM88: 180000 | AN88: 4232.5 | AO88: 1.0875 | AP88: 3.4 | AQ88: 7.4 | AR88: 3.6 | AS88: 4.54 | AT88: 0.163 | AU88: 43 | AV88: 36653 | AW88: 1911 | AX88: 35340
A89: 46107 | B89: 84 | C89: 75.6 | D89: 124 | E89: 28.879 | F89: 4.771 | G89: 120000 | J89: 3.4 | K89: 6.5 | L89: 3.8 | M89: 7.673 | N89: 0.13 | O89: 38 | P89: 181457 | Q89: 144 | R89: 88.2 | S89: 240 | T89: 37.372 | U89: 5.564 | V89: 190000 | Y89: 3.4 | Z89: 6.5 | AA89: 3.8 | AB89: 7.673 | AC89: 0.13 | AD89: 38 | AE89: 146213 | AF89: 12225.575 | AG89: 301180 | AH89: 434.3 | AI89: 242.6 | AJ89: 453.3 | AK89: 53.355 | AL89: 6.129 | AM89: 210000 | AN89: 4127.5 | AO89: 0.865 | AP89: 4.5 | AQ89: 7.8 | AR89: 4.4 | AS89: 3.854 | AT89: 0.194 | AU89: 33 | AV89: 36658 | AW89: 1821 | AX89: 35893
A90: 46108 | B90: 157.8 | C90: 179.2 | D90: 328 | E90: 53.799 | F90: 8.57 | G90: 93000 | H90: 3380 | I90: 3.275 | J90: 3.7 | K90: 6.8 | L90: 3.8 | M90: 7.361 | N90: 0.14 | O90: 26 | P90: 176684 | Q90: 238.2 | R90: 143.1 | S90: 260 | T90: 53.309 | U90: 6.843 | V90: 150000 | W90: 3900 | X90: 1.56 | Y90: 3.7 | Z90: 6.8 | AA90: 3.8 | AB90: 7.361 | AC90: 0.14 | AD90: 26 | AE90: 148877 | AF90: 16531.558 | AG90: 297280 | AH90: 328.8 | AI90: 224.7 | AJ90: 360 | AK90: 41.382 | AL90: 6.012 | AM90: 240000 | AN90: 4327.5 | AO90: 1.1975 | AP90: 3.6 | AQ90: 7.7 | AR90: 3.3 | AS90: 3.828 | AT90: 0.164 | AU90: 38 | AV90: 35774 | AW90: 1854 | AX90: 35064
A91: 46109 | B91: 73 | C91: 45.6 | D91: 98 | E91: 27.913 | F91: 3.341 | G91: 130000 | J91: 3.6 | K91: 6.2 | L91: 4.4 | M91: 9.411 | N91: 0.114 | O91: 21 | P91: 180496 | Q91: 223.8 | R91: 114.8 | S91: 164 | T91: 47.543 | U91: 4.988 | V91: 180000 | Y91: 3.6 | Z91: 6.2 | AA91: 4.4 | AB91: 9.411 | AC91: 0.114 | AD91: 21 | AE91: 148455 | AF91: 15284.415 | AG91: 299850 | AH91: 364.8 | AI91: 177.7 | AJ91: 336.7 | AK91: 55.935 | AL91: 5.442 | AM91: 190000 | AN91: 4087.5 | AO91: 0.85 | AP91: 3.9 | AQ91: 6.6 | AR91: 4.7 | AS91: 3.707 | AT91: 0.101 | AU91: 44 | AV91: 31510 | AW91: 1916 | AX91: 30777
A92: 46110 | B92: 312.6 | C92: 135.6 | D92: 310 | E92: 37.293 | F92: 3.85 | G92: 160000 | J92: 3.2 | K92: 5.6 | L92: 3.6 | M92: 8.244 | N92: 0.088 | O92: 24 | P92: 178334 | Q92: 176.7 | R92: 73.7 | S92: 300 | T92: 55.231 | U92: 4.495 | V92: 220000 | Y92: 3.2 | Z92: 5.6 | AA92: 3.6 | AB92: 8.244 | AC92: 0.088 | AD92: 24 | AE92: 148731 | AF92: 14379.896 | AG92: 302210 | AH92: 295.2 | AI92: 126.7 | AJ92: 243.3 | AK92: 36.768 | AL92: 4.064 | AM92: 230000 | AN92: 3930 | AO92: 1.0775 | AP92: 3.7 | AQ92: 5.9 | AR92: 2.2 | AS92: 3.758 | AT92: 0.064 | AU92: 21 | AV92: 31525 | AW92: 1867 | AX92: 30804
A93: 46111 | B93: 194 | C93: 96.3 | D93: 186 | E93: 40.898 | F93: 5.354 | G93: 78000 | H93: 3340 | I93: 3.175 | J93: 2.8 | K93: 5.7 | L93: 5.4 | M93: 8.99 | N93: 0.112 | O93: 21 | P93: 181561 | Q93: 211 | R93: 126.8 | S93: 262 | T93: 59.84 | U93: 6.884 | V93: 150000 | W93: 4170 | X93: 1.64 | Y93: 2.8 | Z93: 5.7 | AA93: 5.4 | AB93: 8.99 | AC93: 0.112 | AD93: 21 | AE93: 147384 | AF93: 16805.767 | AG93: 302200 | AH93: 340.5 | AI93: 156.6 | AJ93: 406.7 | AK93: 54.893 | AL93: 7.2 | AM93: 220000 | AN93: 4017.5 | AO93: 1.4525 | AP93: 1.7 | AQ93: 5.2 | AR93: 1.4 | AS93: 1.876 | AT93: 0.052 | AU93: 38 | AV93: 39751 | AW93: 1924 | AX93: 38967
A94: 46112 | B94: 144.3 | C94: 80.4 | D94: 212 | E94: 32.356 | F94: 5.223 | G94: 85000 | H94: 2980 | I94: 3.225 | J94: 3.5 | K94: 6.5 | L94: 4.8 | M94: 8.813 | N94: 0.138 | O94: 38 | P94: 224411 | Q94: 233.5 | R94: 121.7 | S94: 238 | T94: 44.319 | U94: 5.611 | V94: 180000 | Y94: 3.5 | Z94: 6.5 | AA94: 4.8 | AB94: 8.813 | AC94: 0.138 | AD94: 38 | AE94: 167421 | AF94: 15528.395 | AG94: 345620 | AH94: 369.8 | AI94: 166.7 | AJ94: 373.3 | AK94: 62.365 | AL94: 5.584 | AM94: 190000 | AN94: 4142.5 | AO94: 1.2025 | AP94: 1.6 | AQ94: 6.9 | AR94: 2.2 | AS94: 4.456 | AT94: 0.105 | AU94: 46 | AV94: 37540 | AW94: 1862 | AX94: 36572
A95: 46113 | B95: 162.3 | C95: 182 | D95: 282 | E95: 54.226 | F95: 8.938 | G95: 82000 | J95: 3.4 | K95: 6.2 | L95: 3.2 | M95: 7.09 | N95: 0.114 | O95: 39 | P95: 195396 | Q95: 234 | R95: 123.1 | S95: 280 | T95: 59.016 | U95: 6.509 | V95: 160000 | Y95: 3.4 | Z95: 6.2 | AA95: 3.2 | AB95: 7.09 | AC95: 0.114 | AD95: 39 | AE95: 150655 | AF95: 15560.211 | AG95: 321410 | AH95: 366.8 | AI95: 204.5 | AJ95: 380 | AK95: 55.395 | AL95: 5.872 | AM95: 210000 | AN95: 4137.5 | AO95: 0.86 | AP95: 3.8 | AQ95: 7.4 | AR95: 3.2 | AS95: 4.101 | AT95: 0.155 | AU95: 59 | AV95: 37948 | AW95: 1860 | AX95: 37197
A96: 46114 | B96: 252 | C96: 114.5 | D96: 268 | E96: 45.907 | F96: 6.917 | G96: 84000 | J96: 3 | K96: 5.8 | L96: 3.8 | M96: 7.645 | N96: 0.12 | O96: 41 | P96: 183124 | Q96: 230.5 | R96: 155.5 | S96: 286 | T96: 60.234 | U96: 6.741 | V96: 170000 | Y96: 3 | Z96: 5.8 | AA96: 3.8 | AB96: 7.645 | AC96: 0.12 | AD96: 41 | AE96: 150915 | AF96: 16717.074 | AG96: 309170 | AH96: 457.5 | AI96: 227.8 | AJ96: 460 | AK96: 57.243 | AL96: 5.933 | AM96: 240000 | AN96: 4230 | AO96: 0.81 | AP96: 4.4 | AQ96: 7.3 | AR96: 4.5 | AS96: 5.414 | AT96: 0.172 | AU96: 52 | AV96: 37700 | AW96: 1848 | AX96: 36570
A97: 46115 | B97: 195.5 | C97: 135.5 | D97: 318 | E97: 46.758 | F97: 7.222 | G97: 92000 | H97: 3120 | I97: 2.975 | J97: 2.6 | K97: 5.4 | L97: 2.4 | M97: 6.896 | N97: 0.086 | O97: 33 | P97: 178960 | Q97: 286.8 | R97: 152.4 | S97: 310 | T97: 63.691 | U97: 7.156 | V97: 140000 | W97: 4400 | X97: 1.98 | Y97: 2.6 | Z97: 5.4 | AA97: 2.4 | AB97: 6.896 | AC97: 0.086 | AD97: 33 | AE97: 149137 | AF97: 14815.872 | AG97: 304890 | AH97: 454.5 | AI97: 262 | AJ97: 316.7 | AK97: 59.127 | AL97: 5.97 | AM97: 260000 | AN97: 4242.5 | AO97: 1.1375 | AP97: 3.8 | AQ97: 7.4 | AR97: 3.5 | AS97: 6.176 | AT97: 0.181 | AU97: 45 | AV97: 36506 | AW97: 1841 | AX97: 35267
A98: 46116 | B98: 155.7 | C98: 93.9 | D98: 166 | E98: 22.324 | F98: 4.434 | G98: 95000 | J98: 3.6 | K98: 5.4 | L98: 2.2 | M98: 7.246 | N98: 0.122 | O98: 42 | P98: 185142 | Q98: 237 | R98: 149.8 | S98: 256 | T98: 31.874 | U98: 6.733 | V98: 150000 | Y98: 3.6 | Z98: 5.4 | AA98: 2.2 | AB98: 7.246 | AC98: 0.122 | AD98: 42 | AE98: 144628 | AF98: 15254.077 | AG98: 307680 | AH98: 331.8 | AI98: 273.8 | AJ98: 276.7 | AK98: 58.638 | AL98: 5.696 | AM98: 240000 | AN98: 4172.5 | AO98: 1.0425 | AP98: 5.2 | AQ98: 7.1 | AR98: 3 | AS98: 4.525 | AT98: 0.149 | AU98: 55 | AV98: 31324 | AW98: 1838 | AX98: 30172
A99: 46117 | B99: 153.9 | C99: 73.6 | D99: 194 | E99: 22.803 | F99: 4.581 | G99: 140000 | J99: 0.8 | K99: 5 | L99: 2.6 | M99: 6.41 | N99: 0.105 | O99: 36 | P99: 171074 | Q99: 161.1 | R99: 145.5 | S99: 276 | T99: 30.699 | U99: 6.876 | V99: 190000 | Y99: 0.8 | Z99: 5 | AA99: 2.6 | AB99: 6.41 | AC99: 0.105 | AD99: 36 | AE99: 155140 | AF99: 15991.499 | AG99: 301250 | AH99: 268.2 | AI99: 232.4 | AJ99: 290 | AK99: 61.507 | AL99: 5.631 | AM99: 250000 | AN99: 4020 | AO99: 1.81 | AP99: 1.9 | AQ99: 6.6 | AR99: 3.2 | AS99: 4.435 | AT99: 0.172 | AU99: 48 | AV99: 36059 | AW99: 1912 | AX99: 35296
A100: 46118 | B100: 149.4 | C100: 106.8 | D100: 182 | E100: 42.75 | F100: 5.377 | G100: 77000 | H100: 3180 | I100: 3.15 | J100: 3.6 | K100: 4.2 | L100: 2.6 | M100: 7.931 | N100: 0.096 | O100: 19 | P100: 196554 | Q100: 327.6 | R100: 150.1 | S100: 276 | T100: 63.818 | U100: 6.54 | V100: 150000 | W100: 4420 | X100: 1.98 | Y100: 3.6 | Z100: 4.2 | AA100: 2.6 | AB100: 7.931 | AC100: 0.096 | AD100: 19 | AE100: 158551 | AF100: 15764.461 | AG100: 333440 | AH100: 376.5 | AI100: 193.6 | AJ100: 486.7 | AK100: 58.601 | AL100: 7.41 | AM100: 220000 | AN100: 4222.5 | AO100: 0.8375 | AP100: 2.7 | AQ100: 5.2 | AR100: 2.5 | AS100: 3.236 | AT100: 0.119 | AU100: 71 | AV100: 40823 | AW100: 1869 | AX100: 39931
...
