Workbook

Sheet 월별(성남시)
B1: 공공하수처리시설 수질검사 결과 (2026년)
B3: 시군명 (시설명) | C3: 시설용량 (㎥/일) | D3: 월별 | E3: 구분 | F3: 유 입 수 (㎎/ℓ) | L3: 방 류 수 (㎎/ℓ) | R3: 유입량 (㎥/일) | S3: 재이용량 (㎥/일) | T3: 최종방류량 (㎥/일)
F4: BOD | G4: TOC | H4: SS | I4: T-N | J4: T-P | K4: 대장균군수 (개/㎖) | L4: BOD | M4: TOC | N4: SS | O4: T-N | P4: T-P | Q4: 대장균군수 (개/㎖)
B6: 제1처리장 | C6: 245000 | D6: 계 | E6: 평균 | F6: ='전체-일별(데이터 입력)'!B370 -> 169.76436 | G6: ='전체-일별(데이터 입력)'!C370 -> 95.990566 | H6: ='전체-일별(데이터 입력)'!D370 -> 197.4783 | I6: ='전체-일별(데이터 입력)'!E370 -> 37.773255 | J6: ='전체-일별(데이터 입력)'!F370 -> 4.9225566 | K6: ='전체-일별(데이터 입력)'!G370 -> 82566.667 | L6: ='전체-일별(데이터 입력)'!J370 -> 2.3376238 | M6: ='전체-일별(데이터 입력)'!K370 -> 5.3971698 | N6: ='전체-일별(데이터 입력)'!L370 -> 2.9415094 | O6: ='전체-일별(데이터 입력)'!M370 -> 8.3932358 | P6: ='전체-일별(데이터 입력)'!N370 -> 0.13210377 | Q6: ='전체-일별(데이터 입력)'!O370 -> 18.857143 | R6: ='전체-일별(데이터 입력)'!P370 -> 183608.46 | S6: ='전체-일별(데이터 입력)'!AF370 -> 14218.266 | T6: ='전체-일별(데이터 입력)'!AG370 -> 307948.57
E7: 최대 | F7: ='전체-일별(데이터 입력)'!B371 -> 462.8 | G7: ='전체-일별(데이터 입력)'!C371 -> 391.7 | H7: ='전체-일별(데이터 입력)'!D371 -> 466.7 | I7: ='전체-일별(데이터 입력)'!E371 -> 68.454 | J7: ='전체-일별(데이터 입력)'!F371 -> 12.247 | K7: ='전체-일별(데이터 입력)'!G371 -> 190000 | L7: ='전체-일별(데이터 입력)'!J371 -> 4.7 | M7: ='전체-일별(데이터 입력)'!K371 -> 7.3 | N7: ='전체-일별(데이터 입력)'!L371 -> 5.4 | O7: ='전체-일별(데이터 입력)'!M371 -> 10.74 | P7: ='전체-일별(데이터 입력)'!N371 -> 0.348 | Q7: ='전체-일별(데이터 입력)'!O371 -> 52 | R7: ='전체-일별(데이터 입력)'!P371 -> 250759 | S7: ='전체-일별(데이터 입력)'!AF371 -> 21771.167 | T7: ='전체-일별(데이터 입력)'!AG371 -> 352640
E8: 최소 | F8: ='전체-일별(데이터 입력)'!B372 -> 73 | G8: ='전체-일별(데이터 입력)'!C372 -> 33.8 | H8: ='전체-일별(데이터 입력)'!D372 -> 74 | I8: ='전체-일별(데이터 입력)'!E372 -> 18.112 | J8: ='전체-일별(데이터 입력)'!F372 -> 2.458 | K8: ='전체-일별(데이터 입력)'!G372 -> 39000 | L8: ='전체-일별(데이터 입력)'!J372 -> 0.6 | M8: ='전체-일별(데이터 입력)'!K372 -> 3.1 | N8: ='전체-일별(데이터 입력)'!L372 -> 1 | O8: ='전체-일별(데이터 입력)'!M372 -> 4.955 | P8: ='전체-일별(데이터 입력)'!N372 -> 0.015 | Q8: ='전체-일별(데이터 입력)'!O372 -> 4 | R8: ='전체-일별(데이터 입력)'!P372 -> 158672 | S8: ='전체-일별(데이터 입력)'!AF372 -> 12096.72 | T8: ='전체-일별(데이터 입력)'!AG372 -> 280400
D9: 1월 | E9: 평균 | F9: 142.12258 | G9: 67.370968 | H9: 151.93548 | I9: 30.905 | J9: 3.6374839 | K9: 61112.903 | L9: 1.9774194 | M9: 4.9322581 | N9: 2.3806452 | O9: 9.2488065 | P9: 0.15919355 | Q9: 14.709677 | R9: 184317.32 | S9: 13643.627 | T9: 309292.58
E10: 최대 | F10: 245.5 | G10: 106.2 | H10: 304 | I10: 46.378 | J10: 6.412 | K10: 87500 | L10: 3.7 | M10: 5.6 | N10: 3.8 | O10: 10.74 | P10: 0.348 | Q10: 24 | R10: 196791 | S10: 15048.758 | T10: 316590
E11: 최소 | F11: 78.6 | G11: 33.8 | H11: 74 | I11: 18.112 | J11: 2.458 | K11: 39000 | L11: 0.9 | M11: 3.9 | N11: 1 | O11: 7.186 | P11: 0.015 | Q11: 4 | R11: 164491 | S11: 12523.111 | T11: 293960
D12: 2월 | E12: 평균 | F12: 169.05357 | G12: 84.853571 | H12: 194.92857 | I12: 36.691429 | J12: 4.4493214 | K12: 77035.714 | L12: 2.1321429 | M12: 5.2857143 | N12: 2.3035714 | O12: 8.16625 | P12: 0.12032143 | Q12: 15.892857 | R12: 168832.61 | S12: 14251.746 | T12: 304154.64
E13: 최대 | F13: 309 | G13: 140.4 | H13: 280 | I13: 51.047 | J13: 8.08 | K13: 120000 | L13: 4.1 | M13: 7.3 | N13: 4 | O13: 10.26 | P13: 0.208 | Q13: 25 | R13: 182517 | S13: 21771.167 | T13: 315170
E14: 최소 | F14: 75.6 | G14: 42.9 | H14: 88 | I14: 25.147 | J14: 2.629 | K14: 47000 | L14: 0.8 | M14: 3.1 | N14: 1.5 | O14: 6.274 | P14: 0.078 | Q14: 8 | R14: 158672 | S14: 12096.72 | T14: 280400
D15: 3월 | E15: 평균 | F15: 190.13548 | G15: 107.52258 | H15: 199.94194 | I15: 41.994452 | J15: 5.0036129 | K15: 107580.65 | L15: 2.6580645 | M15: 6 | N15: 3.8741935 | O15: 8.4199677 | P15: 0.12012903 | Q15: 18.612903 | R15: 191980.65 | S15: 13907.003 | T15: 304884.84
E16: 최대 | F16: 462.8 | G16: 391.7 | H16: 466.7 | I16: 68.296 | J16: 8.57 | K16: 190000 | L16: 4.3 | M16: 6.9 | N16: 5.4 | O16: 9.416 | P16: 0.166 | Q16: 38 | R16: 250759 | S16: 16805.767 | T16: 345620
E17: 최소 | F17: 73 | G17: 45.6 | H17: 98 | I17: 27.913 | J17: 3.3 | K17: 60000 | L17: 0.6 | M17: 4.8 | N17: 1.6 | O17: 5.266 | P17: 0.085 | Q17: 7 | R17: 170877 | S17: 12225.575 | T17: 290200
D18: 4월 | E18: 평균
E19: 최대
E20: 최소
D21: 5월 | E21: 평균
E22: 최대
E23: 최소
D24: 6월 | E24: 평균
E25: 최대
E26: 최소
D27: 7월 | E27: 평균
E28: 최대
E29: 최소
D30: 8월 | E30: 평균
E31: 최대
E32: 최소
D33: 9월 | E33: 평균
E34: 최대
E35: 최소
D36: 10월 | E36: 평균
E37: 최대
E38: 최소
D39: 11월 | E39: 평균
E40: 최대
E41: 최소
D42: 12월 | E42: 평균
...

Sheet 일별(제1처리장)
A2: =A7 -> 46023
A4: =A7 -> 46023 | O4: (단위 : ㎎/ℓ, 개/㎖, ㎥/일)
A5: 일자 | B5: 유 입 수 | H5: 생물반응조 | J5: 방 류 수 | P5: 유입량 | Q5: 재이용량 | R5: 최종 방류량
B6: BOD | C6: TOC | D6: SS | E6: T-N | F6: T-P | G6: 대장균군수 | H6: MLSS | I6: DO | J6: BOD | K6: TOC | L6: SS | M6: T-N | N6: T-P | O6: 대장균군수
A7: 46023 | B7: ='전체-일별(데이터 입력)'!B5 -> 181.5 | C7: ='전체-일별(데이터 입력)'!C5 -> 58.2 | D7: ='전체-일별(데이터 입력)'!D5 -> 116 | E7: ='전체-일별(데이터 입력)'!E5 -> 32.882 | F7: ='전체-일별(데이터 입력)'!F5 -> 2.458 | G7: ='전체-일별(데이터 입력)'!G5 -> 58000 | H7: ='전체-일별(데이터 입력)'!H5 -> 0 | I7: ='전체-일별(데이터 입력)'!I5 -> 0 | ... P7: ='전체-일별(데이터 입력)'!P5 -> 181443 | Q7: ='전체-일별(데이터 입력)'!AF5 -> 14745.915 | R7: ='전체-일별(데이터 입력)'!AG5 -> 310620
A8: 46024 | B8: ='전체-일별(데이터 입력)'!B6 -> 160.2 | C8: ='전체-일별(데이터 입력)'!C6 -> 65.4 | D8: ='전체-일별(데이터 입력)'!D6 -> 140 | E8: ='전체-일별(데이터 입력)'!E6 -> 30.08 | F8: ='전체-일별(데이터 입력)'!F6 -> 4.612 | G8: ='전체-일별(데이터 입력)'!G6 -> 60000 | H8: ='전체-일별(데이터 입력)'!H6 -> 3210 | I8: ='전체-일별(데이터 입력)'!I6 -> 2.675 | ... P8: ='전체-일별(데이터 입력)'!P6 -> 184730 | Q8: ='전체-일별(데이터 입력)'!AF6 -> 13104.566 | R8: ='전체-일별(데이터 입력)'!AG6 -> 310650
A9: 46025 | B9: ='전체-일별(데이터 입력)'!B7 -> 78.6 | C9: ='전체-일별(데이터 입력)'!C7 -> 49.1 | D9: ='전체-일별(데이터 입력)'!D7 -> 116 | E9: ='전체-일별(데이터 입력)'!E7 -> 24.867 | F9: ='전체-일별(데이터 입력)'!F7 -> 4.164 | G9: ='전체-일별(데이터 입력)'!G7 -> 87500 | H9: ='전체-일별(데이터 입력)'!H7 -> 0 | I9: ='전체-일별(데이터 입력)'!I7 -> 0 | ... P9: ='전체-일별(데이터 입력)'!P7 -> 186085 | Q9: ='전체-일별(데이터 입력)'!AF7 -> 13510.093 | R9: ='전체-일별(데이터 입력)'!AG7 -> 313800
A10: 46026 | B10: ='전체-일별(데이터 입력)'!B8 -> 108.9 | C10: ='전체-일별(데이터 입력)'!C8 -> 46.8 | D10: ='전체-일별(데이터 입력)'!D8 -> 82 | E10: ='전체-일별(데이터 입력)'!E8 -> 22.663 | F10: ='전체-일별(데이터 입력)'!F8 -> 3.431 | G10: ='전체-일별(데이터 입력)'!G8 -> 82000 | H10: ='전체-일별(데이터 입력)'!H8 -> 0 | I10: ='전체-일별(데이터 입력)'!I8 -> 0 | ... P10: ='전체-일별(데이터 입력)'!P8 -> 185531 | Q10: ='전체-일별(데이터 입력)'!AF8 -> 12560.263 | R10: ='전체-일별(데이터 입력)'!AG8 -> 314230
A11: 46027 | B11: ='전체-일별(데이터 입력)'!B9 -> 166.2 | C11: ='전체-일별(데이터 입력)'!C9 -> 75.7 | D11: ='전체-일별(데이터 입력)'!D9 -> 112 | E11: ='전체-일별(데이터 입력)'!E9 -> 30.765 | F11: ='전체-일별(데이터 입력)'!F9 -> 3.12 | G11: ='전체-일별(데이터 입력)'!G9 -> 64000 | H11: ='전체-일별(데이터 입력)'!H9 -> 3370 | I11: ='전체-일별(데이터 입력)'!I9 -> 3.1 | ... P11: ='전체-일별(데이터 입력)'!P9 -> 185689 | Q11: ='전체-일별(데이터 입력)'!AF9 -> 14619.175 | R11: ='전체-일별(데이터 입력)'!AG9 -> 309900
A12: 46028 | B12: ='전체-일별(데이터 입력)'!B10 -> 97.6 | C12: ='전체-일별(데이터 입력)'!C10 -> 57.2 | D12: ='전체-일별(데이터 입력)'!D10 -> 84 | E12: ='전체-일별(데이터 입력)'!E10 -> 30.65 | F12: ='전체-일별(데이터 입력)'!F10 -> 3.073 | G12: ='전체-일별(데이터 입력)'!G10 -> 59000 | H12: ='전체-일별(데이터 입력)'!H10 -> 0 | I12: ='전체-일별(데이터 입력)'!I10 -> 0 | ... P12: ='전체-일별(데이터 입력)'!P10 -> 184644 | Q12: ='전체-일별(데이터 입력)'!AF10 -> 13632.825 | R12: ='전체-일별(데이터 입력)'!AG10 -> 313920
A13: 46029 | B13: ='전체-일별(데이터 입력)'!B11 -> 135.6 | C13: ='전체-일별(데이터 입력)'!C11 -> 72.5 | D13: ='전체-일별(데이터 입력)'!D11 -> 154 | E13: ='전체-일별(데이터 입력)'!E11 -> 31.42 | F13: ='전체-일별(데이터 입력)'!F11 -> 4.158 | G13: ='전체-일별(데이터 입력)'!G11 -> 72000 | H13: ='전체-일별(데이터 입력)'!H11 -> 0 | I13: ='전체-일별(데이터 입력)'!I11 -> 0 | ... P13: ='전체-일별(데이터 입력)'!P11 -> 190401 | Q13: ='전체-일별(데이터 입력)'!AF11 -> 13576.23 | R13: ='전체-일별(데이터 입력)'!AG11 -> 314870
A14: 46030 | B14: ='전체-일별(데이터 입력)'!B12 -> 111.3 | C14: ='전체-일별(데이터 입력)'!C12 -> 62.3 | D14: ='전체-일별(데이터 입력)'!D12 -> 112 | E14: ='전체-일별(데이터 입력)'!E12 -> 31.773 | F14: ='전체-일별(데이터 입력)'!F12 -> 3.178 | G14: ='전체-일별(데이터 입력)'!G12 -> 78000 | H14: ='전체-일별(데이터 입력)'!H12 -> 0 | I14: ='전체-일별(데이터 입력)'!I12 -> 0 | ... P14: ='전체-일별(데이터 입력)'!P12 -> 181602 | Q14: ='전체-일별(데이터 입력)'!AF12 -> 14357.301 | R14: ='전체-일별(데이터 입력)'!AG12 -> 315380
A15: 46031 | B15: ='전체-일별(데이터 입력)'!B13 -> 150.6 | C15: ='전체-일별(데이터 입력)'!C13 -> 82.8 | D15: ='전체-일별(데이터 입력)'!D13 -> 218 | E15: ='전체-일별(데이터 입력)'!E13 -> 34.448 | F15: ='전체-일별(데이터 입력)'!F13 -> 3.771 | G15: ='전체-일별(데이터 입력)'!G13 -> 60000 | H15: ='전체-일별(데이터 입력)'!H13 -> 3470 | I15: ='전체-일별(데이터 입력)'!I13 -> 2.625 | ... P15: ='전체-일별(데이터 입력)'!P13 -> 190485 | Q15: ='전체-일별(데이터 입력)'!AF13 -> 13612.549 | R15: ='전체-일별(데이터 입력)'!AG13 -> 314150
A16: 46032 | B16: ='전체-일별(데이터 입력)'!B14 -> 160.2 | C16: ='전체-일별(데이터 입력)'!C14 -> 72.3 | D16: ='전체-일별(데이터 입력)'!D14 -> 172 | E16: ='전체-일별(데이터 입력)'!E14 -> 46.378 | F16: ='전체-일별(데이터 입력)'!F14 -> 3.448 | G16: ='전체-일별(데이터 입력)'!G14 -> 65000 | H16: ='전체-일별(데이터 입력)'!H14 -> 0 | I16: ='전체-일별(데이터 입력)'!I14 -> 0 | ... P16: ='전체-일별(데이터 입력)'!P14 -> 181558 | Q16: ='전체-일별(데이터 입력)'!AF14 -> 13019.029 | R16: ='전체-일별(데이터 입력)'!AG14 -> 303850
A17: 46033 | B17: ='전체-일별(데이터 입력)'!B15 -> 165 | C17: ='전체-일별(데이터 입력)'!C15 -> 80.4 | D17: ='전체-일별(데이터 입력)'!D15 -> 156 | E17: ='전체-일별(데이터 입력)'!E15 -> 43.712 | F17: ='전체-일별(데이터 입력)'!F15 -> 3.178 | G17: ='전체-일별(데이터 입력)'!G15 -> 77000 | H17: ='전체-일별(데이터 입력)'!H15 -> 0 | I17: ='전체-일별(데이터 입력)'!I15 -> 0 | ... P17: ='전체-일별(데이터 입력)'!P15 -> 179378 | Q17: ='전체-일별(데이터 입력)'!AF15 -> 12526.825 | R17: ='전체-일별(데이터 입력)'!AG15 -> 304980
A18: 46034 | B18: ='전체-일별(데이터 입력)'!B16 -> 115.4 | C18: ='전체-일별(데이터 입력)'!C16 -> 76.4 | D18: ='전체-일별(데이터 입력)'!D16 -> 140 | E18: ='전체-일별(데이터 입력)'!E16 -> 35.736 | F18: ='전체-일별(데이터 입력)'!F16 -> 4.253 | G18: ='전체-일별(데이터 입력)'!G16 -> 75000 | H18: ='전체-일별(데이터 입력)'!H16 -> 3670 | I18: ='전체-일별(데이터 입력)'!I16 -> 2.65 | ... P18: ='전체-일별(데이터 입력)'!P16 -> 181961 | Q18: ='전체-일별(데이터 입력)'!AF16 -> 13338.412 | R18: ='전체-일별(데이터 입력)'!AG16 -> 293960
... A37: 46053 | B37: ='전체-일별(데이터 입력)'!B35 -> 101 | C37: ='전체-일별(데이터 입력)'!C35 -> 54.4 | D37: ='전체-일별(데이터 입력)'!D35 -> 132 | E37: ='전체-일별(데이터 입력)'!E35 -> 24.482 | F37: ='전체-일별(데이터 입력)'!F35 -> 4.089 | G37: ='전체-일별(데이터 입력)'!G35 -> 65000 | H37: ='전체-일별(데이터 입력)'!H35 -> 0 | I37: ='전체-일별(데이터 입력)'!I35 -> 0 | ... P37: ='전체-일별(데이터 입력)'!P35 -> 173871 | Q37: ='전체-일별(데이터 입력)'!AF35 -> 13271.101 | R37: ='전체-일별(데이터 입력)'!AG35 -> 311740
A38: 평균 | B38: =AVERAGE(B7:B37) -> 142.12258 | C38: =AVERAGE(C7:C37) -> 67.370968 | D38: =AVERAGE(D7:D37) -> 151.93548 | E38: =AVERAGE(E7:E37) -> 30.905 | F38: =AVERAGE(F7:F37) -> 3.6374839 | G38: =AVERAGE(G7:G37) -> 61112.903 | H38: =AVERAGE(H7:H37) -> 1101.9355 | I38: =AVERAGE(I7:I37) -> 0.96935484 | ... R38: =AVERAGE(R7:R37) -> 309292.58
A39: 최대 | B39: =MAX(B7:B37) -> 245.5 | C39: =MAX(C7:C37) -> 106.2 | D39: =MAX(D7:D37) -> 304 | E39: =MAX(E7:E37) -> 46.378 | F39: =MAX(F7:F37) -> 6.412 | G39: =MAX(G7:G37) -> 87500 | H39: =MAX(H7:H37) -> 3670 | I39: =MAX(I7:I37) -> 6.75 | ... R39: =MAX(R7:R37) -> 316590
A40: 최소 | B40: =MIN(B7:B37) -> 78.6 | C40: =MIN(C7:C37) -> 33.8 | D40: =MIN(D7:D37) -> 74 | E40: =MIN(E7:E37) -> 18.112 | F40: =MIN(F7:F37) -> 2.458 | G40: =MIN(G7:G37) -> 39000 | H40: =MIN(H7:H37) -> 0 | I40: =MIN(I7:I37) -> 0 | ... R40: =MIN(R7:R37) -> 293960
A41: 설계 | B41: 151 | C41: 111 | D41: 141 | E41: 40.4 | F41: 4.29 | G41: - | H41: - | I41: - | J41: 4.5 | K41: 12 | L41: 3 | M41: 17.3 | N41: 0.15 | O41: - | P41: 245000 | Q41: - | R41: -
A42: =A45 -> 46054 | O42: (단위 : ㎎/ℓ, 개/㎖, ㎥/일)
A43: 일자 | B43: 유 입 수 | H43: 생물반응조 | J43: 방 류 수 | P43: 유입량 | Q43: 재이용량 | R43: 최종 방류량
B44: BOD | C44: TOC | D44: SS | E44: T-N | F44: T-P | G44: 대장균군수 | H44: MLSS | I44: DO | J44: BOD | K44: TOC | L44: SS | M44: T-N | N44: T-P | O44: 대장균군수
A45: 46054 | B45: ='전체-일별(데이터 입력)'!B36 -> 119.8 | C45: ='전체-일별(데이터 입력)'!C36 -> 60.5 | D45: ='전체-일별(데이터 입력)'!D36 -> 88 | E45: ='전체-일별(데이터 입력)'!E36 -> 27.202 | F45: ='전체-일별(데이터 입력)'!F36 -> 2.629 | G45: ='전체-일별(데이터 입력)'!G36 -> 47000 | H45: ='전체-일별(데이터 입력)'!H36 -> 0 | I45: ='전체-일별(데이터 입력)'!I36 -> 0 | ... P45: ='전체-일별(데이터 입력)'!P36 -> 174026 | Q45: ='전체-일별(데이터 입력)'!AF36 -> 12228.651 | R45: ='전체-일별(데이터 입력)'!AG36 -> 306440
A46: 46055 | B46: ='전체-일별(데이터 입력)'!B37 -> 140.7 | C46: ='전체-일별(데이터 입력)'!C37 -> 67.1 | D46: ='전체-일별(데이터 입력)'!D37 -> 164 | E46: ='전체-일별(데이터 입력)'!E37 -> 25.147 | F46: ='전체-일별(데이터 입력)'!F37 -> 3.157 | G46: ='전체-일별(데이터 입력)'!G37 -> 57000 | H46: ='전체-일별(데이터 입력)'!H37 -> 3520 | I46: ='전체-일별(데이터 입력)'!I37 -> 4.175 | ... P46: ='전체-일별(데이터 입력)'!P37 -> 162600 | Q46: ='전체-일별(데이터 입력)'!AF37 -> 14626.957 | R46: ='전체-일별(데이터 입력)'!AG37 -> 311080
A47: 46056 | B47: ='전체-일별(데이터 입력)'!B38 -> 207 | C47: ='전체-일별(데이터 입력)'!C38 -> 76.7 | D47: ='전체-일별(데이터 입력)'!D38 -> 214 | E47: ='전체-일별(데이터 입력)'!E38 -> 35.629 | F47: ='전체-일별(데이터 입력)'!F38 -> 3.481 | G47: ='전체-일별(데이터 입력)'!G38 -> 54000 | H47: ='전체-일별(데이터 입력)'!H38 -> 3370 | I47: ='전체-일별(데이터 입력)'!I38 -> 5.35 | ... P47: ='전체-일별(데이터 입력)'!P38 -> 164358 | Q47: ='전체-일별(데이터 입력)'!AF38 -> 14580.413 | R47: ='전체-일별(데이터 입력)'!AG38 -> 314200
A48: 46057 | B48: ='전체-일별(데이터 입력)'!B39 -> 147.6 | C48: ='전체-일별(데이터 입력)'!C39 -> 55.9 | D48: ='전체-일별(데이터 입력)'!D39 -> 194 | E48: ='전체-일별(데이터 입력)'!E39 -> 36.656 | F48: ='전체-일별(데이터 입력)'!F39 -> 3.247 | G48: ='전체-일별(데이터 입력)'!G39 -> 71000 | H48: ='전체-일별(데이터 입력)'!H39 -> 0 | I48: ='전체-일별(데이터 입력)'!I39 -> 0 | ... P48: ='전체-일별(데이터 입력)'!P39 -> 163221 | Q48: ='전체-일별(데이터 입력)'!AF39 -> 13485.193 | R48: ='전체-일별(데이터 입력)'!AG39 -> 310090
A49: 46058 | B49: ='전체-일별(데이터 입력)'!B40 -> 155.4 | C49: ='전체-일별(데이터 입력)'!C40 -> 59.4 | D49: ='전체-일별(데이터 입력)'!D40 -> 146 | E49: ='전체-일별(데이터 입력)'!E40 -> 25.47 | F49: ='전체-일별(데이터 입력)'!F40 -> 2.976 | G49: ='전체-일별(데이터 입력)'!G40 -> 88000 | H49: ='전체-일별(데이터 입력)'!H40 -> 0 | I49: ='전체-일별(데이터 입력)'!I40 -> 0 | ... P49: ='전체-일별(데이터 입력)'!P40 -> 168786 | Q49: ='전체-일별(데이터 입력)'!AF40 -> 14162.127 | R49: ='전체-일별(데이터 입력)'!AG40 -> 311270
A50: 46059 | B50: ='전체-일별(데이터 입력)'!B41 -> 183.3 | C50: ='전체-일별(데이터 입력)'!C41 -> 72.8 | D50: ='전체-일별(데이터 입력)'!D41 -> 190 | E50: ='전체-일별(데이터 입력)'!E41 -> 33.796 | F50: ='전체-일별(데이터 입력)'!F41 -> 3.59 | G50: ='전체-일별(데이터 입력)'!G41 -> 77000 | H50: ='전체-일별(데이터 입력)'!H41 -> 3290 | I50: ='전체-일별(데이터 입력)'!I41 -> 5.55 | ... P50: ='전체-일별(데이터 입력)'!P41 -> 167392 | Q50: ='전체-일별(데이터 입력)'!AF41 -> 15174.881 | R50: ='전체-일별(데이터 입력)'!AG41 -> 308710
A51: 46060 | B51: ='전체-일별(데이터 입력)'!B42 -> 184.8 | C51: ='전체-일별(데이터 입력)'!C42 -> 69.2 | D51: ='전체-일별(데이터 입력)'!D42 -> 178 | E51: ='전체-일별(데이터 입력)'!E42 -> 34.901 | F51: ='전체-일별(데이터 입력)'!F42 -> 3.433 | G51: ='전체-일별(데이터 입력)'!G42 -> 96000 | H51: ='전체-일별(데이터 입력)'!H42 -> 0 | I51: ='전체-일별(데이터 입력)'!I42 -> 0 | ... P51: ='전체-일별(데이터 입력)'!P42 -> 182517 | Q51: ='전체-일별(데이터 입력)'!AF42 -> 14433.266 | R51: ='전체-일별(데이터 입력)'!AG42 -> 315170
A52: 46061 | B52: ='전체-일별(데이터 입력)'!B43 -> 180.6 | C52: ='전체-일별(데이터 입력)'!C43 -> 111.5 | D52: ='전체-일별(데이터 입력)'!D43 -> 180 | E52: ='전체-일별(데이터 입력)'!E43 -> 30.5 | F52: ='전체-일별(데이터 입력)'!F43 -> 2.931 | G52: ='전체-일별(데이터 입력)'!G43 -> 88000 | H52: ='전체-일별(데이터 입력)'!H43 -> 0 | I52: ='전체-일별(데이터 입력)'!I43 -> 0 | ... P52: ='전체-일별(데이터 입력)'!P43 -> 167135 | Q52: ='전체-일별(데이터 입력)'!AF43 -> 14722.471 | R52: ='전체-일별(데이터 입력)'!AG43 -> 307390
A53: 46062 | B53: ='전체-일별(데이터 입력)'!B44 -> 75.6 | C53: ='전체-일별(데이터 입력)'!C44 -> 64.2 | D53: ='전체-일별(데이터 입력)'!D44 -> 134 | E53: ='전체-일별(데이터 입력)'!E44 -> 28.764 | F53: ='전체-일별(데이터 입력)'!F44 -> 2.902 | G53: ='전체-일별(데이터 입력)'!G44 -> 76000 | H53: ='전체-일별(데이터 입력)'!H44 -> 3260 | I53: ='전체-일별(데이터 입력)'!I44 -> 3.725 | ... P53: ='전체-일별(데이터 입력)'!P44 -> 166865 | Q53: ='전체-일별(데이터 입력)'!AF44 -> 14575.426 | R53: ='전체-일별(데이터 입력)'!AG44 -> 310570
A54: 46063 | B54: ='전체-일별(데이터 입력)'!B45 -> 82 | C54: ='전체-일별(데이터 입력)'!C45 -> 74.5 | D54: ='전체-일별(데이터 입력)'!D45 -> 132 | E54: ='전체-일별(데이터 입력)'!E45 -> 32.747 | F54: ='전체-일별(데이터 입력)'!F45 -> 4.126 | G54: ='전체-일별(데이터 입력)'!G45 -> 69000 | H54: ='전체-일별(데이터 입력)'!H45 -> 0 | I54: ='전체-일별(데이터 입력)'!I45 -> 0 | ... P54: ='전체-일별(데이터 입력)'!P45 -> 163535 | Q54: ='전체-일별(데이터 입력)'!AF45 -> 12096.72 | R54: ='전체-일별(데이터 입력)'!AG45 -> 311920
A55: 46064 | B55: ='전체-일별(데이터 입력)'!B46 -> 149.1 | C55: ='전체-일별(데이터 입력)'!C46 -> 88.7 | D55: ='전체-일별(데이터 입력)'!D46 -> 220 | E55: ='전체-일별(데이터 입력)'!E46 -> 38.156 | F55: ='전체-일별(데이터 입력)'!F46 -> 4.407 | G55: ='전체-일별(데이터 입력)'!G46 -> 62000 | H55: ='전체-일별(데이터 입력)'!H46 -> 0 | I55: ='전체-일별(데이터 입력)'!I46 -> 0 | ... P55: ='전체-일별(데이터 입력)'!P46 -> 170245 | Q55: ='전체-일별(데이터 입력)'!AF46 -> 15543.412 | R55: ='전체-일별(데이터 입력)'!AG46 -> 307230
A56: 46065 | B56: ='전체-일별(데이터 입력)'!B47 -> 198 | C56: ='전체-일별(데이터 입력)'!C47 -> 74.3 | D56: ='전체-일별(데이터 입력)'!D47 -> 240 | E56: ='전체-일별(데이터 입력)'!E47 -> 29.959 | F56: ='전체-일별(데이터 입력)'!F47 -> 3.632 | G56: ='전체-일별(데이터 입력)'!G47 -> 74000 | H56: ='전체-일별(데이터 입력)'!H47 -> 3550 | I56: ='전체-일별(데이터 입력)'!I47 -> 3.9 | ... P56: ='전체-일별(데이터 입력)'!P47 -> 172986 | Q56: ='전체-일별(데이터 입력)'!AF47 -> 13424.106 | R56: ='전체-일별(데이터 입력)'!AG47 -> 311970
... A72: 46081 | B72: ='전체-일별(데이터 입력)'!B63 -> 116.4 | C72: ='전체-일별(데이터 입력)'!C63 -> 80.8 | D72: ='전체-일별(데이터 입력)'!D63 -> 218 | E72: ='전체-일별(데이터 입력)'!E63 -> 36.634 | F72: ='전체-일별(데이터 입력)'!F63 -> 6.211 | G72: ='전체-일별(데이터 입력)'!G63 -> 79000 | H72: ='전체-일별(데이터 입력)'!H63 -> 0 | I72: ='전체-일별(데이터 입력)'!I63 -> 0 | ... P72: ='전체-일별(데이터 입력)'!P63 -> 167145 | Q72: ='전체-일별(데이터 입력)'!AF63 -> 13487.573 | R72: ='전체-일별(데이터 입력)'!AG63 -> 293140
A73: 평균 | B73: =AVERAGE(B45:B72) -> 169.05357 | C73: =AVERAGE(C45:C72) -> 84.853571 | D73: =AVERAGE(D45:D72) -> 194.92857 | E73: =AVERAGE(E45:E72) -> 36.691429 | F73: =AVERAGE(F45:F72) -> 4.4493214 | G73: =AVERAGE(G45:G72) -> 77035.714 | H73: =AVERAGE(H45:H72) -> 1292.1429 | I73: =AVERAGE(I45:I72) -> 1.3776786 | ... R73: =AVERAGE(R45:R72) -> 304154.64
A74: 최대 | B74: =MAX(B45:B72) -> 309 | C74: =MAX(C45:C72) -> 140.4 | D74: =MAX(D45:D72) -> 280 | E74: =MAX(E45:E72) -> 51.047 | F74: =MAX(F45:F72) -> 8.08 | G74: =MAX(G45:G72) -> 120000 | H74: =MAX(H45:H72) -> 4150 | I74: =MAX(I45:I72) -> 5.55 | ... R74: =MAX(R45:R72) -> 315170
A75: 최소 | B75: =MIN(B45:B72) -> 75.6 | C75: =MIN(C45:C72) -> 42.9 | D75: =MIN(D45:D72) -> 88 | E75: =MIN(E45:E72) -> 25.147 | F75: =MIN(F45:F72) -> 2.629 | G75: =MIN(G45:G72) -> 47000 | H75: =MIN(H45:H72) -> 0 | I75: =MIN(I45:I72) -> 0 | ... R75: =MIN(R45:R72) -> 280400
...

Sheet 일별(제2처리장)
A2: 42370
A4: =A7 -> 46023 | O4: (단위 : ㎎/ℓ, 개/㎖, ㎥/일)
A5: 일자 | B5: 유 입 수 | H5: 생물반응조 | J5: 방 류 수 | P5: 유입량
B6: BOD | C6: TOC | D6: SS | E6: T-N | F6: T-P | G6: 대장균군수 | H6: MLSS | I6: DO | J6: BOD | K6: TOC | L6: SS | M6: T-N | N6: T-P | O6: 대장균군수
A7: 46023 | B7: ='전체-일별(데이터 입력)'!Q5 -> 273.6 | C7: ='전체-일별(데이터 입력)'!R5 -> 129.2 | D7: ='전체-일별(데이터 입력)'!S5 -> 198 | E7: ='전체-일별(데이터 입력)'!T5 -> 46.848 | F7: ='전체-일별(데이터 입력)'!U5 -> 4.112 | G7: ='전체-일별(데이터 입력)'!V5 -> 130000 | H7: ='전체-일별(데이터 입력)'!W5 -> 0 | I7: ='전체-일별(데이터 입력)'!X5 -> 0 | ... P7: ='전체-일별(데이터 입력)'!AE5 -> 147361
A8: 46024 | B8: ='전체-일별(데이터 입력)'!Q6 -> 220.1 | C8: ='전체-일별(데이터 입력)'!R6 -> 111 | D8: ='전체-일별(데이터 입력)'!S6 -> 208 | E8: ='전체-일별(데이터 입력)'!T6 -> 60.868 | F8: ='전체-일별(데이터 입력)'!U6 -> 5.105 | G8: ='전체-일별(데이터 입력)'!V6 -> 140000 | H8: ='전체-일별(데이터 입력)'!W6 -> 4570 | I8: ='전체-일별(데이터 입력)'!X6 -> 2.52 | ... P8: ='전체-일별(데이터 입력)'!AE6 -> 143305
A9: 46025 | B9: ='전체-일별(데이터 입력)'!Q7 -> 170.4 | C9: ='전체-일별(데이터 입력)'!R7 -> 93.3 | D9: ='전체-일별(데이터 입력)'!S7 -> 180 | E9: ='전체-일별(데이터 입력)'!T7 -> 61.854 | F9: ='전체-일별(데이터 입력)'!U7 -> 5.577 | G9: ='전체-일별(데이터 입력)'!V7 -> 180000 | H9: ='전체-일별(데이터 입력)'!W7 -> 0 | I9: ='전체-일별(데이터 입력)'!X7 -> 0 | ... P9: ='전체-일별(데이터 입력)'!AE7 -> 147829
A10: 46026 | B10: ='전체-일별(데이터 입력)'!Q8 -> 119.8 | C10: ='전체-일별(데이터 입력)'!R8 -> 99.3 | D10: ='전체-일별(데이터 입력)'!S8 -> 174 | E10: ='전체-일별(데이터 입력)'!T8 -> 56.843 | F10: ='전체-일별(데이터 입력)'!U8 -> 5.487 | G10: ='전체-일별(데이터 입력)'!V8 -> 120000 | H10: ='전체-일별(데이터 입력)'!W8 -> 0 | I10: ='전체-일별(데이터 입력)'!X8 -> 0 | ... P10: ='전체-일별(데이터 입력)'!AE8 -> 148388
A11: 46027 | B11: ='전체-일별(데이터 입력)'!Q9 -> 231 | C11: ='전체-일별(데이터 입력)'!R9 -> 142.8 | D11: ='전체-일별(데이터 입력)'!S9 -> 250 | E11: ='전체-일별(데이터 입력)'!T9 -> 56.723 | F11: ='전체-일별(데이터 입력)'!U9 -> 5.834 | G11: ='전체-일별(데이터 입력)'!V9 -> 130000 | H11: ='전체-일별(데이터 입력)'!W9 -> 4530 | I11: ='전체-일별(데이터 입력)'!X9 -> 2.52 | ... P11: ='전체-일별(데이터 입력)'!AE9 -> 147386
A12: 46028 | B12: ='전체-일별(데이터 입력)'!Q10 -> 283.2 | C12: ='전체-일별(데이터 입력)'!R10 -> 143.8 | D12: ='전체-일별(데이터 입력)'!S10 -> 178 | E12: ='전체-일별(데이터 입력)'!T10 -> 50.708 | F12: ='전체-일별(데이터 입력)'!U10 -> 5.166 | G12: ='전체-일별(데이터 입력)'!V10 -> 110000 | H12: ='전체-일별(데이터 입력)'!W10 -> 0 | I12: ='전체-일별(데이터 입력)'!X10 -> 0 | ... P12: ='전체-일별(데이터 입력)'!AE10 -> 147369
A13: 46029 | B13: ='전체-일별(데이터 입력)'!Q11 -> 189 | C13: ='전체-일별(데이터 입력)'!R11 -> 102.1 | D13: ='전체-일별(데이터 입력)'!S11 -> 196 | E13: ='전체-일별(데이터 입력)'!T11 -> 44.527 | F13: ='전체-일별(데이터 입력)'!U11 -> 5.631 | G13: ='전체-일별(데이터 입력)'!V11 -> 120000 | H13: ='전체-일별(데이터 입력)'!W11 -> 0 | I13: ='전체-일별(데이터 입력)'!X11 -> 0 | ... P13: ='전체-일별(데이터 입력)'!AE11 -> 144028
A14: 46030 | B14: ='전체-일별(데이터 입력)'!Q12 -> 221.4 | C14: ='전체-일별(데이터 입력)'!R12 -> 125.1 | D14: ='전체-일별(데이터 입력)'!S12 -> 190 | E14: ='전체-일별(데이터 입력)'!T12 -> 26.79 | F14: ='전체-일별(데이터 입력)'!U12 -> 5.395 | G14: ='전체-일별(데이터 입력)'!V12 -> 150000 | H14: ='전체-일별(데이터 입력)'!W12 -> 0 | I14: ='전체-일별(데이터 입력)'!X12 -> 0 | ... P14: ='전체-일별(데이터 입력)'!AE12 -> 151989
A15: 46031 | B15: ='전체-일별(데이터 입력)'!Q13 -> 232.8 | C15: ='전체-일별(데이터 입력)'!R13 -> 115 | D15: ='전체-일별(데이터 입력)'!S13 -> 172 | E15: ='전체-일별(데이터 입력)'!T13 -> 41.074 | F15: ='전체-일별(데이터 입력)'!U13 -> 5.127 | G15: ='전체-일별(데이터 입력)'!V13 -> 110000 | H15: ='전체-일별(데이터 입력)'!W13 -> 4670 | I15: ='전체-일별(데이터 입력)'!X13 -> 2.34 | ... P15: ='전체-일별(데이터 입력)'!AE13 -> 144032
A16: 46032 | B16: ='전체-일별(데이터 입력)'!Q14 -> 236.4 | C16: ='전체-일별(데이터 입력)'!R14 -> 66.8 | D16: ='전체-일별(데이터 입력)'!S14 -> 186 | E16: ='전체-일별(데이터 입력)'!T14 -> 65.857 | F16: ='전체-일별(데이터 입력)'!U14 -> 4.498 | G16: ='전체-일별(데이터 입력)'!V14 -> 130000 | H16: ='전체-일별(데이터 입력)'!W14 -> 0 | I16: ='전체-일별(데이터 입력)'!X14 -> 0 | ... P16: ='전체-일별(데이터 입력)'!AE14 -> 138383
A17: 46033 | B17: ='전체-일별(데이터 입력)'!Q15 -> 120 | C17: ='전체-일별(데이터 입력)'!R15 -> 46.5 | D17: ='전체-일별(데이터 입력)'!S15 -> 168 | E17: ='전체-일별(데이터 입력)'!T15 -> 49.069 | F17: ='전체-일별(데이터 입력)'!U15 -> 3.098 | G17: ='전체-일별(데이터 입력)'!V15 -> 140000 | H17: ='전체-일별(데이터 입력)'!W15 -> 0 | I17: ='전체-일별(데이터 입력)'!X15 -> 0 | ... P17: ='전체-일별(데이터 입력)'!AE15 -> 144030
A18: 46034 | B18: ='전체-일별(데이터 입력)'!Q16 -> 199 | C18: ='전체-일별(데이터 입력)'!R16 -> 97.8 | D18: ='전체-일별(데이터 입력)'!S16 -> 220 | E18: ='전체-일별(데이터 입력)'!T16 -> 53.941 | F18: ='전체-일별(데이터 입력)'!U16 -> 5.473 | G18: ='전체-일별(데이터 입력)'!V16 -> 140000 | H18: ='전체-일별(데이터 입력)'!W16 -> 4740 | I18: ='전체-일별(데이터 입력)'!X16 -> 2.34 | ... P18: ='전체-일별(데이터 입력)'!AE16 -> 132692
... A37: 46053 | B37: ='전체-일별(데이터 입력)'!Q35 -> 178.5 | C37: ='전체-일별(데이터 입력)'!R35 -> 98.5 | D37: ='전체-일별(데이터 입력)'!S35 -> 168 | E37: ='전체-일별(데이터 입력)'!T35 -> 44.76 | F37: ='전체-일별(데이터 입력)'!U35 -> 4.597 | G37: ='전체-일별(데이터 입력)'!V35 -> 160000 | H37: ='전체-일별(데이터 입력)'!W35 -> 0 | I37: ='전체-일별(데이터 입력)'!X35 -> 0 | ... P37: ='전체-일별(데이터 입력)'!AE35 -> 158563
A38: 평균 | B38: =AVERAGE(B7:B37) -> 216.44839 | C38: =AVERAGE(C7:C37) -> 106.51613 | D38: =AVERAGE(D7:D37) -> 189.6129 | E38: =AVERAGE(E7:E37) -> 49.614323 | F38: =AVERAGE(F7:F37) -> 5.0883548 | G38: =AVERAGE(G7:G37) -> 121548.39 | H38: =AVERAGE(H7:H37) -> 1177.0968 | I38: =AVERAGE(I7:I37) -> 0.47225806 | ... P38: =AVERAGE(P7:P37) -> 143178.65
A39: 최대 | B39: =MAX(B7:B37) -> 325.2 | C39: =MAX(C7:C37) -> 173.8 | D39: =MAX(D7:D37) -> 280 | E39: =MAX(E7:E37) -> 65.857 | F39: =MAX(F7:F37) -> 5.844 | G39: =MAX(G7:G37) -> 180000 | H39: =MAX(H7:H37) -> 4740 | I39: =MAX(I7:I37) -> 2.56 | ... P39: =MAX(P7:P37) -> 161263
A40: 최소 | B40: =MIN(B7:B37) -> 119.8 | C40: =MIN(C7:C37) -> 46.5 | D40: =MIN(D7:D37) -> 155 | E40: =MIN(E7:E37) -> 26.79 | F40: =MIN(F7:F37) -> 3.098 | G40: =MIN(G7:G37) -> 60000 | H40: =MIN(H7:H37) -> 0 | I40: =MIN(I7:I37) -> 0 | ... P40: =MIN(P7:P37) -> 129061
A41: 설계 | B41: 185 | C41: 132 | D41: 221 | E41: 46.8 | F41: 5.23 | G41: - | H41: - | I41: - | J41: 4.5 | K41: 12 | L41: 3 | M41: 17.3 | N41: 0.15 | O41: - | P41: 215000
A42: =A45 -> 46054 | O42: (단위 : ㎎/ℓ, 개/㎖, ㎥/일)
A43: 일자 | B43: 유 입 수 | H43: 생물반응조 | J43: 방 류 수 | P43: 유입량
B44: BOD | C44: TOC | D44: SS | E44: T-N | F44: T-P | G44: 대장균군수 | H44: MLSS | I44: DO | J44: BOD | K44: TOC | L44: SS | M44: T-N | N44: T-P | O44: 대장균군수
A45: 46054 | B45: ='전체-일별(데이터 입력)'!Q36 -> 215.5 | C45: ='전체-일별(데이터 입력)'!R36 -> 124.7 | D45: ='전체-일별(데이터 입력)'!S36 -> 130 | E45: ='전체-일별(데이터 입력)'!T36 -> 50.723 | F45: ='전체-일별(데이터 입력)'!U36 -> 4.925 | G45: ='전체-일별(데이터 입력)'!V36 -> 140000 | H45: ='전체-일별(데이터 입력)'!W36 -> 0 | I45: ='전체-일별(데이터 입력)'!X36 -> 0 | ... P45: ='전체-일별(데이터 입력)'!AE36 -> 153410
A46: 46055 | B46: ='전체-일별(데이터 입력)'!Q37 -> 216 | C46: ='전체-일별(데이터 입력)'!R37 -> 134.3 | D46: ='전체-일별(데이터 입력)'!S37 -> 216 | E46: ='전체-일별(데이터 입력)'!T37 -> 38.627 | F46: ='전체-일별(데이터 입력)'!U37 -> 5.858 | G46: ='전체-일별(데이터 입력)'!V37 -> 120000 | H46: ='전체-일별(데이터 입력)'!W37 -> 4610 | I46: ='전체-일별(데이터 입력)'!X37 -> 2.48 | ... P46: ='전체-일별(데이터 입력)'!AE37 -> 167952
A47: 46056 | B47: ='전체-일별(데이터 입력)'!Q38 -> 235 | C47: ='전체-일별(데이터 입력)'!R38 -> 108.2 | D47: ='전체-일별(데이터 입력)'!S38 -> 214 | E47: ='전체-일별(데이터 입력)'!T38 -> 48.454 | F47: ='전체-일별(데이터 입력)'!U38 -> 5.342 | G47: ='전체-일별(데이터 입력)'!V38 -> 140000 | H47: ='전체-일별(데이터 입력)'!W38 -> 0 | I47: ='전체-일별(데이터 입력)'!X38 -> 0 | ... P47: ='전체-일별(데이터 입력)'!AE38 -> 170158
A48: 46057 | B48: ='전체-일별(데이터 입력)'!Q39 -> 227 | C48: ='전체-일별(데이터 입력)'!R39 -> 106 | D48: ='전체-일별(데이터 입력)'!S39 -> 202 | E48: ='전체-일별(데이터 입력)'!T39 -> 54.282 | F48: ='전체-일별(데이터 입력)'!U39 -> 5.638 | G48: ='전체-일별(데이터 입력)'!V39 -> 120000 | H48: ='전체-일별(데이터 입력)'!W39 -> 0 | I48: ='전체-일별(데이터 입력)'!X39 -> 0 | ... P48: ='전체-일별(데이터 입력)'!AE39 -> 170154
A49: 46058 | B49: ='전체-일별(데이터 입력)'!Q40 -> 281 | C49: ='전체-일별(데이터 입력)'!R40 -> 119.6 | D49: ='전체-일별(데이터 입력)'!S40 -> 210 | E49: ='전체-일별(데이터 입력)'!T40 -> 49.939 | F49: ='전체-일별(데이터 입력)'!U40 -> 6.043 | G49: ='전체-일별(데이터 입력)'!V40 -> 160000 | H49: ='전체-일별(데이터 입력)'!W40 -> 0 | I49: ='전체-일별(데이터 입력)'!X40 -> 0 | ... P49: ='전체-일별(데이터 입력)'!AE40 -> 162009
A50: 46059 | B50: ='전체-일별(데이터 입력)'!Q41 -> 190.5 | C50: ='전체-일별(데이터 입력)'!R41 -> 124.8 | D50: ='전체-일별(데이터 입력)'!S41 -> 182 | E50: ='전체-일별(데이터 입력)'!T41 -> 51.447 | F50: ='전체-일별(데이터 입력)'!U41 -> 5.187 | G50: ='전체-일별(데이터 입력)'!V41 -> 170000 | H50: ='전체-일별(데이터 입력)'!W41 -> 4600 | I50: ='전체-일별(데이터 입력)'!X41 -> 2.24 | ... P50: ='전체-일별(데이터 입력)'!AE41 -> 154526
A51: 46060 | B51: ='전체-일별(데이터 입력)'!Q42 -> 153.9 | C51: ='전체-일별(데이터 입력)'!R42 -> 114.2 | D51: ='전체-일별(데이터 입력)'!S42 -> 190 | E51: ='전체-일별(데이터 입력)'!T42 -> 50.088 | F51: ='전체-일별(데이터 입력)'!U42 -> 4.719 | G51: ='전체-일별(데이터 입력)'!V42 -> 150000 | H51: ='전체-일별(데이터 입력)'!W42 -> 0 | I51: ='전체-일별(데이터 입력)'!X42 -> 0 | ... P51: ='전체-일별(데이터 입력)'!AE42 -> 146871
A52: 46061 | B52: ='전체-일별(데이터 입력)'!Q43 -> 182 | C52: ='전체-일별(데이터 입력)'!R43 -> 97.4 | D52: ='전체-일별(데이터 입력)'!S43 -> 204 | E52: ='전체-일별(데이터 입력)'!T43 -> 53.836 | F52: ='전체-일별(데이터 입력)'!U43 -> 4.446 | G52: ='전체-일별(데이터 입력)'!V43 -> 130000 | H52: ='전체-일별(데이터 입력)'!W43 -> 0 | I52: ='전체-일별(데이터 입력)'!X43 -> 0 | ... P52: ='전체-일별(데이터 입력)'!AE43 -> 152811
A53: 46062 | B53: ='전체-일별(데이터 입력)'!Q44 -> 138 | C53: ='전체-일별(데이터 입력)'!R44 -> 127.7 | D53: ='전체-일별(데이터 입력)'!S44 -> 268 | E53: ='전체-일별(데이터 입력)'!T44 -> 52.113 | F53: ='전체-일별(데이터 입력)'!U44 -> 5.878 | G53: ='전체-일별(데이터 입력)'!V44 -> 110000 | H53: ='전체-일별(데이터 입력)'!W44 -> 4650 | I53: ='전체-일별(데이터 입력)'!X44 -> 0 | ... P53: ='전체-일별(데이터 입력)'!AE44 -> 162698
A54: 46063 | B54: ='전체-일별(데이터 입력)'!Q45 -> 120 | C54: ='전체-일별(데이터 입력)'!R45 -> 94.5 | D54: ='전체-일별(데이터 입력)'!S45 -> 166 | E54: ='전체-일별(데이터 입력)'!T45 -> 46.376 | F54: ='전체-일별(데이터 입력)'!U45 -> 5.149 | G54: ='전체-일별(데이터 입력)'!V45 -> 140000 | H54: ='전체-일별(데이터 입력)'!W45 -> 0 | I54: ='전체-일별(데이터 입력)'!X45 -> 0 | ... P54: ='전체-일별(데이터 입력)'!AE45 -> 169434
A55: 46064 | B55: ='전체-일별(데이터 입력)'!Q46 -> 215 | C55: ='전체-일별(데이터 입력)'!R46 -> 130.4 | D55: ='전체-일별(데이터 입력)'!S46 -> 238 | E55: ='전체-일별(데이터 입력)'!T46 -> 54.487 | F55: ='전체-일별(데이터 입력)'!U46 -> 5.784 | G55: ='전체-일별(데이터 입력)'!V46 -> 130000 | H55: ='전체-일별(데이터 입력)'!W46 -> 0 | I55: ='전체-일별(데이터 입력)'!X46 -> 0 | ... P55: ='전체-일별(데이터 입력)'!AE46 -> 157212
A56: 46065 | B56: ='전체-일별(데이터 입력)'!Q47 -> 202.5 | C56: ='전체-일별(데이터 입력)'!R47 -> 106.6 | D56: ='전체-일별(데이터 입력)'!S47 -> 190 | E56: ='전체-일별(데이터 입력)'!T47 -> 47.511 | F56: ='전체-일별(데이터 입력)'!U47 -> 5.291 | G56: ='전체-일별(데이터 입력)'!V47 -> 160000 | H56: ='전체-일별(데이터 입력)'!W47 -> 0 | I56: ='전체-일별(데이터 입력)'!X47 -> 0 | ... P56: ='전체-일별(데이터 입력)'!AE47 -> 159427
... A72: 46081 | B72: ='전체-일별(데이터 입력)'!Q63 -> 220.8 | C72: ='전체-일별(데이터 입력)'!R63 -> 151.6 | D72: ='전체-일별(데이터 입력)'!S63 -> 224 | E72: ='전체-일별(데이터 입력)'!T63 -> 45.2 | F72: ='전체-일별(데이터 입력)'!U63 -> 4.935 | G72: ='전체-일별(데이터 입력)'!V63 -> 160000 | H72: ='전체-일별(데이터 입력)'!W63 -> 0 | I72: ='전체-일별(데이터 입력)'!X63 -> 0 | ... P72: ='전체-일별(데이터 입력)'!AE63 -> 148987
A73: 평균 | B73: =AVERAGE(B45:B72) -> 213.78571 | C73: =AVERAGE(C45:C72) -> 118.77143 | D73: =AVERAGE(D45:D72) -> 204.5 | E73: =AVERAGE(E45:E72) -> 51.081321 | F73: =AVERAGE(F45:F72) -> 5.3375714 | G73: =AVERAGE(G45:G72) -> 149285.71 | H73: =AVERAGE(H45:H72) -> 1155.7143 | I73: =AVERAGE(I45:I72) -> 0.49571429 | ... P73: =AVERAGE(P45:P72) -> 154557.89
A74: 최대 | B74: =MAX(B45:B72) -> 320.4 | C74: =MAX(C45:C72) -> 162.4 | D74: =MAX(D45:D72) -> 268 | E74: =MAX(E45:E72) -> 61.095 | F74: =MAX(F45:F72) -> 6.343 | G74: =MAX(G45:G72) -> 220000 | H74: =MAX(H45:H72) -> 4780 | I74: =MAX(I45:I72) -> 2.5 | ... P74: =MAX(P45:P72) -> 170158
A75: 최소 | B75: =MIN(B45:B72) -> 120 | C75: =MIN(C45:C72) -> 60.9 | D75: =MIN(D45:D72) -> 130 | E75: =MIN(E45:E72) -> 38.627 | F75: =MIN(F45:F72) -> 4.091 | G75: =MIN(G45:G72) -> 110000 | H75: =MIN(H45:H72) -> 0 | I75: =MIN(I45:I72) -> 0 | ... P75: =MIN(P45:P72) -> 135082
...

Sheet 일별(판교)
A2: 판교수질복원센터 수질검사 결과
A4: =A7 -> 46023 | O4: (단위 : ㎎/ℓ, 개/㎖, ㎥/일)
A5: 일자 | B5: 유 입 수 | H5: 생물반응조 | J5: 방 류 수 | P5: 유입량 | Q5: 재이용량 | R5: 방류량
B6: BOD | C6: TOC | D6: SS | E6: T-N | F6: T-P | G6: 대장균군수 | H6: MLSS | I6: DO | J6: BOD | K6: TOC | L6: SS | M6: T-N | N6: T-P | O6: 대장균군수
A7: 46023 | B7: ='전체-일별(데이터 입력)'!AH5 -> 167.4 | C7: ='전체-일별(데이터 입력)'!AI5 -> 107.9 | D7: ='전체-일별(데이터 입력)'!AJ5 -> 356.7 | E7: ='전체-일별(데이터 입력)'!AK5 -> 64.033 | F7: ='전체-일별(데이터 입력)'!AL5 -> 6.721 | G7: ='전체-일별(데이터 입력)'!AM5 -> 160000 | H7: ='전체-일별(데이터 입력)'!AN5 -> 4027.5 | I7: ='전체-일별(데이터 입력)'!AO5 -> 2.3775 | ... R7: ='전체-일별(데이터 입력)'!AX5 -> 28726
A8: 46024 | B8: ='전체-일별(데이터 입력)'!AH6 -> 341.4 | C8: ='전체-일별(데이터 입력)'!AI6 -> 167.1 | D8: ='전체-일별(데이터 입력)'!AJ6 -> 326.7 | E8: ='전체-일별(데이터 입력)'!AK6 -> 56.068 | F8: ='전체-일별(데이터 입력)'!AL6 -> 6.825 | G8: ='전체-일별(데이터 입력)'!AM6 -> 200000 | H8: ='전체-일별(데이터 입력)'!AN6 -> 3947.5 | I8: ='전체-일별(데이터 입력)'!AO6 -> 2.9175 | ... R8: ='전체-일별(데이터 입력)'!AX6 -> 32354
A9: 46025 | B9: ='전체-일별(데이터 입력)'!AH7 -> 254.4 | C9: ='전체-일별(데이터 입력)'!AI7 -> 160.7 | D9: ='전체-일별(데이터 입력)'!AJ7 -> 320 | E9: ='전체-일별(데이터 입력)'!AK7 -> 52.593 | F9: ='전체-일별(데이터 입력)'!AL7 -> 6.571 | G9: ='전체-일별(데이터 입력)'!AM7 -> 240000 | H9: ='전체-일별(데이터 입력)'!AN7 -> 4025 | I9: ='전체-일별(데이터 입력)'!AO7 -> 4.0675 | ... R9: ='전체-일별(데이터 입력)'!AX7 -> 28116
A10: 46026 | B10: ='전체-일별(데이터 입력)'!AH8 -> 229.2 | C10: ='전체-일별(데이터 입력)'!AI8 -> 185.5 | D10: ='전체-일별(데이터 입력)'!AJ8 -> 346.7 | E10: ='전체-일별(데이터 입력)'!AK8 -> 52.41 | F10: ='전체-일별(데이터 입력)'!AL8 -> 6.311 | G10: ='전체-일별(데이터 입력)'!AM8 -> 180000 | H10: ='전체-일별(데이터 입력)'!AN8 -> 3825 | I10: ='전체-일별(데이터 입력)'!AO8 -> 3.8925 | ... R10: ='전체-일별(데이터 입력)'!AX8 -> 27556
A11: 46027 | B11: ='전체-일별(데이터 입력)'!AH9 -> 280.8 | C11: ='전체-일별(데이터 입력)'!AI9 -> 181.6 | D11: ='전체-일별(데이터 입력)'!AJ9 -> 286.7 | E11: ='전체-일별(데이터 입력)'!AK9 -> 71.331 | F11: ='전체-일별(데이터 입력)'!AL9 -> 11.72 | G11: ='전체-일별(데이터 입력)'!AM9 -> 160000 | H11: ='전체-일별(데이터 입력)'!AN9 -> 3932.5 | I11: ='전체-일별(데이터 입력)'!AO9 -> 3.285 | ... R11: ='전체-일별(데이터 입력)'!AX9 -> 36642
A12: 46028 | B12: ='전체-일별(데이터 입력)'!AH10 -> 450.8 | C12: ='전체-일별(데이터 입력)'!AI10 -> 200 | D12: ='전체-일별(데이터 입력)'!AJ10 -> 473.3 | E12: ='전체-일별(데이터 입력)'!AK10 -> 64.42 | F12: ='전체-일별(데이터 입력)'!AL10 -> 7.453 | G12: ='전체-일별(데이터 입력)'!AM10 -> 150000 | H12: ='전체-일별(데이터 입력)'!AN10 -> 3912.5 | I12: ='전체-일별(데이터 입력)'!AO10 -> 2.3075 | ... R12: ='전체-일별(데이터 입력)'!AX10 -> 35607
A13: 46029 | B13: ='전체-일별(데이터 입력)'!AH11 -> 328.8 | C13: ='전체-일별(데이터 입력)'!AI11 -> 191.7 | D13: ='전체-일별(데이터 입력)'!AJ11 -> 396.7 | E13: ='전체-일별(데이터 입력)'!AK11 -> 52.804 | F13: ='전체-일별(데이터 입력)'!AL11 -> 6.357 | G13: ='전체-일별(데이터 입력)'!AM11 -> 180000 | H13: ='전체-일별(데이터 입력)'!AN11 -> 3965 | I13: ='전체-일별(데이터 입력)'!AO11 -> 2.575 | ... R13: ='전체-일별(데이터 입력)'!AX11 -> 34280
A14: 46030 | B14: ='전체-일별(데이터 입력)'!AH12 -> 296.3 | C14: ='전체-일별(데이터 입력)'!AI12 -> 163.7 | D14: ='전체-일별(데이터 입력)'!AJ12 -> 326.7 | E14: ='전체-일별(데이터 입력)'!AK12 -> 55.551 | F14: ='전체-일별(데이터 입력)'!AL12 -> 6.462 | G14: ='전체-일별(데이터 입력)'!AM12 -> 180000 | H14: ='전체-일별(데이터 입력)'!AN12 -> 3952.5 | I14: ='전체-일별(데이터 입력)'!AO12 -> 2.11 | ... R14: ='전체-일별(데이터 입력)'!AX12 -> 35524
A15: 46031 | B15: ='전체-일별(데이터 입력)'!AH13 -> 341.3 | C15: ='전체-일별(데이터 입력)'!AI13 -> 169 | D15: ='전체-일별(데이터 입력)'!AJ13 -> 350 | E15: ='전체-일별(데이터 입력)'!AK13 -> 63.305 | F15: ='전체-일별(데이터 입력)'!AL13 -> 7.14 | G15: ='전체-일별(데이터 입력)'!AM13 -> 130000 | H15: ='전체-일별(데이터 입력)'!AN13 -> 4097.5 | I15: ='전체-일별(데이터 입력)'!AO13 -> 2.1825 | ... R15: ='전체-일별(데이터 입력)'!AX13 -> 35104
A16: 46032 | B16: ='전체-일별(데이터 입력)'!AH14 -> 277.8 | C16: ='전체-일별(데이터 입력)'!AI14 -> 101.6 | D16: ='전체-일별(데이터 입력)'!AJ14 -> 320 | E16: ='전체-일별(데이터 입력)'!AK14 -> 90.2 | F16: ='전체-일별(데이터 입력)'!AL14 -> 6.825 | G16: ='전체-일별(데이터 입력)'!AM14 -> 150000 | H16: ='전체-일별(데이터 입력)'!AN14 -> 4010 | I16: ='전체-일별(데이터 입력)'!AO14 -> 2.505 | ... R16: ='전체-일별(데이터 입력)'!AX14 -> 27874
A17: 46033 | B17: ='전체-일별(데이터 입력)'!AH15 -> 302.4 | C17: ='전체-일별(데이터 입력)'!AI15 -> 95.2 | D17: ='전체-일별(데이터 입력)'!AJ15 -> 303.3 | E17: ='전체-일별(데이터 입력)'!AK15 -> 69.731 | F17: ='전체-일별(데이터 입력)'!AL15 -> 4.948 | G17: ='전체-일별(데이터 입력)'!AM15 -> 160000 | H17: ='전체-일별(데이터 입력)'!AN15 -> 4050 | I17: ='전체-일별(데이터 입력)'!AO15 -> 2.53 | ... R17: ='전체-일별(데이터 입력)'!AX15 -> 29220
A18: 46034 | B18: ='전체-일별(데이터 입력)'!AH16 -> 324.8 | C18: ='전체-일별(데이터 입력)'!AI16 -> 174.9 | D18: ='전체-일별(데이터 입력)'!AJ16 -> 380 | E18: ='전체-일별(데이터 입력)'!AK16 -> 65.682 | F18: ='전체-일별(데이터 입력)'!AL16 -> 7.388 | G18: ='전체-일별(데이터 입력)'!AM16 -> 170000 | H18: ='전체-일별(데이터 입력)'!AN16 -> 4007.5 | I18: ='전체-일별(데이터 입력)'!AO16 -> 2.91 | ... R18: ='전체-일별(데이터 입력)'!AX16 -> 35072
... A37: 46053 | B37: ='전체-일별(데이터 입력)'!AH35 -> 408 | C37: ='전체-일별(데이터 입력)'!AI35 -> 244.4 | D37: ='전체-일별(데이터 입력)'!AJ35 -> 376.7 | E37: ='전체-일별(데이터 입력)'!AK35 -> 55.75 | F37: ='전체-일별(데이터 입력)'!AL35 -> 6.02 | G37: ='전체-일별(데이터 입력)'!AM35 -> 180000 | H37: ='전체-일별(데이터 입력)'!AN35 -> 4567.5 | I37: ='전체-일별(데이터 입력)'!AO35 -> 2.1975 | ... R37: ='전체-일별(데이터 입력)'!AX35 -> 28867
A38: 평균 | B38: =AVERAGE(B7:B37) -> 327.86129 | C38: =AVERAGE(C7:C37) -> 172.26452 | D38: =AVERAGE(D7:D37) -> 360.86129 | E38: =AVERAGE(E7:E37) -> 60.266065 | F38: =AVERAGE(F7:F37) -> 6.7111935 | G38: =AVERAGE(G7:G37) -> 152258.06 | H38: =AVERAGE(H7:H37) -> 4121.9355 | I38: =AVERAGE(I7:I37) -> 2.2825806 | ... R38: =AVERAGE(R7:R37) -> 32728.645
A39: 최대 | B39: =MAX(B7:B37) -> 454.5 | C39: =MAX(C7:C37) -> 251.2 | D39: =MAX(D7:D37) -> 473.3 | E39: =MAX(E7:E37) -> 90.2 | F39: =MAX(F7:F37) -> 11.72 | G39: =MAX(G7:G37) -> 240000 | H39: =MAX(H7:H37) -> 4567.5 | I39: =MAX(I7:I37) -> 4.0675 | ... R39: =MAX(R7:R37) -> 36642
A40: 최소 | B40: =MIN(B7:B37) -> 167.4 | C40: =MIN(C7:C37) -> 95.2 | D40: =MIN(D7:D37) -> 250 | E40: =MIN(E7:E37) -> 51.31 | F40: =MIN(F7:F37) -> 4.948 | G40: =MIN(G7:G37) -> 110000 | H40: =MIN(H7:H37) -> 3825 | I40: =MIN(I7:I37) -> 0.76 | ... R40: =MIN(R7:R37) -> 27556
A41: 설계 | B41: 190 | C41: 163 | D41: 197 | E41: 50 | F41: 6 | G41: - | H41: - | I41: - | J41: 5 | K41: 25 | L41: 5 | M41: 15 | N41: 0.5 | O41: - | P41: 47000 | Q41: - | R41: -
A42: =A45 -> 46054 | O42: (단위 : ㎎/ℓ, 개/㎖, ㎥/일)
A43: 일자 | B43: 유 입 수 | H43: 생물반응조 | J43: 방 류 수 | P43: 유입량 | Q43: 재이용량 | R43: 방류량
B44: BOD | C44: TOC | D44: SS | E44: T-N | F44: T-P | G44: 대장균군수 | H44: MLSS | I44: DO | J44: BOD | K44: TOC | L44: SS | M44: T-N | N44: T-P | O44: 대장균군수
A45: 46054 | B45: ='전체-일별(데이터 입력)'!AH36 -> 323.3 | C45: ='전체-일별(데이터 입력)'!AI36 -> 229.5 | D45: ='전체-일별(데이터 입력)'!AJ36 -> 320 | E45: ='전체-일별(데이터 입력)'!AK36 -> 51.216 | F45: ='전체-일별(데이터 입력)'!AL36 -> 6.372 | G45: ='전체-일별(데이터 입력)'!AM36 -> 150000 | H45: ='전체-일별(데이터 입력)'!AN36 -> 4452.5 | I45: ='전체-일별(데이터 입력)'!AO36 -> 2.55 | ... R45: ='전체-일별(데이터 입력)'!AX36 -> 27200
A46: 46055 | B46: ='전체-일별(데이터 입력)'!AH37 -> 333 | C46: ='전체-일별(데이터 입력)'!AI37 -> 165.2 | D46: ='전체-일별(데이터 입력)'!AJ37 -> 290 | E46: ='전체-일별(데이터 입력)'!AK37 -> 36.451 | F46: ='전체-일별(데이터 입력)'!AL37 -> 5.754 | G46: ='전체-일별(데이터 입력)'!AM37 -> 160000 | H46: ='전체-일별(데이터 입력)'!AN37 -> 4542.5 | I46: ='전체-일별(데이터 입력)'!AO37 -> 3.0425 | ... R46: ='전체-일별(데이터 입력)'!AX37 -> 34379
A47: 46056 | B47: ='전체-일별(데이터 입력)'!AH38 -> 408 | C47: ='전체-일별(데이터 입력)'!AI38 -> 156.1 | D47: ='전체-일별(데이터 입력)'!AJ38 -> 393.3 | E47: ='전체-일별(데이터 입력)'!AK38 -> 52.897 | F47: ='전체-일별(데이터 입력)'!AL38 -> 5.116 | G47: ='전체-일별(데이터 입력)'!AM38 -> 140000 | H47: ='전체-일별(데이터 입력)'!AN38 -> 4230 | I47: ='전체-일별(데이터 입력)'!AO38 -> 1.8 | ... R47: ='전체-일별(데이터 입력)'!AX38 -> 34944
A48: 46057 | B48: ='전체-일별(데이터 입력)'!AH39 -> 338.4 | C48: ='전체-일별(데이터 입력)'!AI39 -> 170.2 | D48: ='전체-일별(데이터 입력)'!AJ39 -> 290 | E48: ='전체-일별(데이터 입력)'!AK39 -> 63.427 | F48: ='전체-일별(데이터 입력)'!AL39 -> 5.8 | G48: ='전체-일별(데이터 입력)'!AM39 -> 180000 | H48: ='전체-일별(데이터 입력)'!AN39 -> 4277.5 | I48: ='전체-일별(데이터 입력)'!AO39 -> 1.0725 | ... R48: ='전체-일별(데이터 입력)'!AX39 -> 34646
A49: 46058 | B49: ='전체-일별(데이터 입력)'!AH40 -> 320.4 | C49: ='전체-일별(데이터 입력)'!AI40 -> 161.6 | D49: ='전체-일별(데이터 입력)'!AJ40 -> 396.7 | E49: ='전체-일별(데이터 입력)'!AK40 -> 51.914 | F49: ='전체-일별(데이터 입력)'!AL40 -> 6.507 | G49: ='전체-일별(데이터 입력)'!AM40 -> 160000 | H49: ='전체-일별(데이터 입력)'!AN40 -> 4312.5 | I49: ='전체-일별(데이터 입력)'!AO40 -> 1.78 | ... R49: ='전체-일별(데이터 입력)'!AX40 -> 34699
A50: 46059 | B50: ='전체-일별(데이터 입력)'!AH41 -> 374.4 | C50: ='전체-일별(데이터 입력)'!AI41 -> 150.2 | D50: ='전체-일별(데이터 입력)'!AJ41 -> 326.7 | E50: ='전체-일별(데이터 입력)'!AK41 -> 61.738 | F50: ='전체-일별(데이터 입력)'!AL41 -> 5.807 | G50: ='전체-일별(데이터 입력)'!AM41 -> 220000 | H50: ='전체-일별(데이터 입력)'!AN41 -> 4340 | I50: ='전체-일별(데이터 입력)'!AO41 -> 2.1825 | ... R50: ='전체-일별(데이터 입력)'!AX41 -> 34561
A51: 46060 | B51: ='전체-일별(데이터 입력)'!AH42 -> 251.4 | C51: ='전체-일별(데이터 입력)'!AI42 -> 227.8 | D51: ='전체-일별(데이터 입력)'!AJ42 -> 290 | E51: ='전체-일별(데이터 입력)'!AK42 -> 61.832 | F51: ='전체-일별(데이터 입력)'!AL42 -> 4.941 | G51: ='전체-일별(데이터 입력)'!AM42 -> 220000 | H51: ='전체-일별(데이터 입력)'!AN42 -> 4387.5 | I51: ='전체-일별(데이터 입력)'!AO42 -> 2.48 | ... R51: ='전체-일별(데이터 입력)'!AX42 -> 28007
A52: 46061 | B52: ='전체-일별(데이터 입력)'!AH43 -> 270.6 | C52: ='전체-일별(데이터 입력)'!AI43 -> 200.6 | D52: ='전체-일별(데이터 입력)'!AJ43 -> 300 | E52: ='전체-일별(데이터 입력)'!AK43 -> 62.776 | F52: ='전체-일별(데이터 입력)'!AL43 -> 4.883 | G52: ='전체-일별(데이터 입력)'!AM43 -> 180000 | H52: ='전체-일별(데이터 입력)'!AN43 -> 4437.5 | I52: ='전체-일별(데이터 입력)'!AO43 -> 2.495 | ... R52: ='전체-일별(데이터 입력)'!AX43 -> 28219
A53: 46062 | B53: ='전체-일별(데이터 입력)'!AH44 -> 240 | C53: ='전체-일별(데이터 입력)'!AI44 -> 164.8 | D53: ='전체-일별(데이터 입력)'!AJ44 -> 323.3 | E53: ='전체-일별(데이터 입력)'!AK44 -> 49.799 | F53: ='전체-일별(데이터 입력)'!AL44 -> 4.654 | G53: ='전체-일별(데이터 입력)'!AM44 -> 160000 | H53: ='전체-일별(데이터 입력)'!AN44 -> 4100 | I53: ='전체-일별(데이터 입력)'!AO44 -> 2.2075 | ... R53: ='전체-일별(데이터 입력)'!AX44 -> 34658
A54: 46063 | B54: ='전체-일별(데이터 입력)'!AH45 -> 325.5 | C54: ='전체-일별(데이터 입력)'!AI45 -> 218.4 | D54: ='전체-일별(데이터 입력)'!AJ45 -> 330 | E54: ='전체-일별(데이터 입력)'!AK45 -> 61.218 | F54: ='전체-일별(데이터 입력)'!AL45 -> 6.304 | G54: ='전체-일별(데이터 입력)'!AM45 -> 170000 | H54: ='전체-일별(데이터 입력)'!AN45 -> 4185 | I54: ='전체-일별(데이터 입력)'!AO45 -> 2.95 | ... R54: ='전체-일별(데이터 입력)'!AX45 -> 35321
A55: 46064 | B55: ='전체-일별(데이터 입력)'!AH46 -> 456.8 | C55: ='전체-일별(데이터 입력)'!AI46 -> 229.2 | D55: ='전체-일별(데이터 입력)'!AJ46 -> 396.7 | E55: ='전체-일별(데이터 입력)'!AK46 -> 58.366 | F55: ='전체-일별(데이터 입력)'!AL46 -> 6.237 | G55: ='전체-일별(데이터 입력)'!AM46 -> 190000 | H55: ='전체-일별(데이터 입력)'!AN46 -> 4240 | I55: ='전체-일별(데이터 입력)'!AO46 -> 2.975 | ... R55: ='전체-일별(데이터 입력)'!AX46 -> 35631
A56: 46065 | B56: ='전체-일별(데이터 입력)'!AH47 -> 411.8 | C56: ='전체-일별(데이터 입력)'!AI47 -> 243.7 | D56: ='전체-일별(데이터 입력)'!AJ47 -> 470 | E56: ='전체-일별(데이터 입력)'!AK47 -> 62.253 | F56: ='전체-일별(데이터 입력)'!AL47 -> 5.59 | G56: ='전체-일별(데이터 입력)'!AM47 -> 160000 | H56: ='전체-일별(데이터 입력)'!AN47 -> 3987.5 | I56: ='전체-일별(데이터 입력)'!AO47 -> 2.7725 | ... R56: ='전체-일별(데이터 입력)'!AX47 -> 35056
... A72: 46081 | B72: ='전체-일별(데이터 입력)'!AH63 -> 404 | C72: ='전체-일별(데이터 입력)'!AI63 -> 257.7 | D72: ='전체-일별(데이터 입력)'!AJ63 -> 326.7 | E72: ='전체-일별(데이터 입력)'!AK63 -> 55.822 | F72: ='전체-일별(데이터 입력)'!AL63 -> 5.554 | G72: ='전체-일별(데이터 입력)'!AM63 -> 230000 | H72: ='전체-일별(데이터 입력)'!AN63 -> 4182.5 | I72: ='전체-일별(데이터 입력)'!AO63 -> 2.285 | ... R72: ='전체-일별(데이터 입력)'!AX63 -> 27615
A73: 평균 | B73: =AVERAGE(B45:B72) -> 317.26429 | C73: =AVERAGE(C45:C72) -> 182.88929 | D73: =AVERAGE(D45:D72) -> 337.15 | E73: =AVERAGE(E45:E72) -> 58.534786 | F73: =AVERAGE(F45:F72) -> 5.3317143 | G73: =AVERAGE(G45:G72) -> 192857.14 | H73: =AVERAGE(H45:H72) -> 4163.3929 | I73: =AVERAGE(I45:I72) -> 2.7475893 | ... R73: =AVERAGE(R45:R72) -> 32071.607
A74: 최대 | B74: =MAX(B45:B72) -> 464.3 | C74: =MAX(C45:C72) -> 261.5 | D74: =MAX(D45:D72) -> 470 | E74: =MAX(E45:E72) -> 85.303 | F74: =MAX(F45:F72) -> 6.507 | G74: =MAX(G45:G72) -> 250000 | H74: =MAX(H45:H72) -> 4542.5 | I74: =MAX(I45:I72) -> 4.125 | ... R74: =MAX(R45:R72) -> 36714
A75: 최소 | B75: =MIN(B45:B72) -> 233.4 | C75: =MIN(C45:C72) -> 101.5 | D75: =MIN(D45:D72) -> 250 | E75: =MIN(E45:E72) -> 36.451 | F75: =MIN(F45:F72) -> 3.125 | G75: =MIN(G45:G72) -> 140000 | H75: =MIN(H45:H72) -> 3900 | I75: =MIN(I45:I72) -> 1.0725 | ... R75: =MIN(R45:R72) -> 23967
...

Sheet 전체-일별(데이터 입력)
A1: 날짜 | B1: 성남수질복원센터 | AH1: 판교수질복원센터
B2: 성남 제1처리장 | Q2: 성남 제2처리장 | AF2: 재이용 수량 | AG2: 최종 방류량
B3: 유 입 수 | H3: 생물반응조 | J3: 방 류 수 | P3: 유입량 | Q3: 유 입 수 | W3: 생물반응조 | Y3: 방 류 수 | AE3: 유입량 | AH3: 유 입 수 | AN3: 생물반응조 | AP3: 방 류 수 | AV3: 유입량 | AW3: 재이용량 | AX3: 방류량
B4: BOD | C4: TOC | D4: SS | E4: T-N | F4: T-P | G4: 대장균군수 | H4: MLSS | I4: DO | J4: BOD | K4: TOC | L4: SS | M4: T-N | N4: T-P | O4: 대장균군수 | Q4: BOD | R4: TOC | S4: SS | T4: T-N | U4: T-P | V4: 대장균군수 | W4: MLSS | X4: DO | Y4: BOD | Z4: TOC | AA4: SS | AB4: T-N | AC4: T-P | AD4: 대장균군수 | AH4: BOD | AI4: TOC | AJ4: SS | AK4: T-N | AL4: T-P | AM4: 대장균군수 | AN4: MLSS | AO4: DO | AP4: BOD | AQ4: TOC | AR4: SS | AS4: T-N | AT4: T-P | AU4: 대장균군수
A5: 46023 | B5: 181.5 | C5: 58.2 | D5: 116 | E5: 32.882 | F5: 2.458 | G5: 58000 | J5: 1.4 | K5: 4.7 | L5: 2.2 | M5: 8.193 | N5: 0.158 | O5: 9 | P5: 181443 | Q5: 273.6 | R5: 129.2 | S5: 198 | T5: 46.848 | U5: 4.112 | V5: 130000 | Y5: 1.4 | Z5: 4.7 | AA5: 2.2 | AB5: 8.193 | AC5: 0.158 | AD5: 9 | AE5: 147361 | AF5: 14745.915 | AG5: 310620 | AH5: 167.4 | AI5: 107.9 | AJ5: 356.7 | AK5: 64.033 | AL5: 6.721 | AM5: 160000 | AN5: 4027.5 | AO5: 2.3775 | AP5: 1.1 | AQ5: 5.8 | AR5: 2.8 | AS5: 7.151 | AT5: 0.044 | AU5: 15 | AV5: 29716 | AW5: 1344 | AX5: 28726
A6: 46024 | B6: 160.2 | C6: 65.4 | D6: 140 | E6: 30.08 | F6: 4.612 | G6: 60000 | H6: 3210 | I6: 2.675 | J6: 2.2 | K6: 5.1 | L6: 3.6 | M6: 9.253 | N6: 0.225 | O6: 13 | P6: 184730 | Q6: 220.1 | R6: 111 | S6: 208 | T6: 60.868 | U6: 5.105 | V6: 140000 | W6: 4570 | X6: 2.52 | Y6: 2.2 | Z6: 5.1 | AA6: 3.6 | AB6: 9.253 | AC6: 0.225 | AD6: 13 | AE6: 143305 | AF6: 13104.566 | AG6: 310650 | AH6: 341.4 | AI6: 167.1 | AJ6: 326.7 | AK6: 56.068 | AL6: 6.825 | AM6: 200000 | AN6: 3947.5 | AO6: 2.9175 | AP6: 1.4 | AQ6: 5.6 | AR6: 1.7 | AS6: 7.011 | AT6: 0.032 | AU6: 17 | AV6: 33222 | AW6: 1799 | AX6: 32354
A7: 46025 | B7: 78.6 | C7: 49.1 | D7: 116 | E7: 24.867 | F7: 4.164 | G7: 87500 | J7: 2.4 | K7: 5.2 | L7: 2.2 | M7: 8.654 | N7: 0.126 | O7: 19 | P7: 186085 | Q7: 170.4 | R7: 93.3 | S7: 180 | T7: 61.854 | U7: 5.577 | V7: 180000 | Y7: 2.4 | Z7: 5.2 | AA7: 2.2 | AB7: 8.654 | AC7: 0.126 | AD7: 19 | AE7: 147829 | AF7: 13510.093 | AG7: 313800 | AH7: 254.4 | AI7: 160.7 | AJ7: 320 | AK7: 52.593 | AL7: 6.571 | AM7: 240000 | AN7: 4025 | AO7: 4.0675 | AP7: 2 | AQ7: 6.7 | AR7: 1.9 | AS7: 6.629 | AT7: 0.088 | AU7: 14 | AV7: 29166 | AW7: 1784 | AX7: 28116
A8: 46026 | B8: 108.9 | C8: 46.8 | D8: 82 | E8: 22.663 | F8: 3.431 | G8: 82000 | J8: 1.2 | K8: 3.9 | L8: 1.9 | M8: 8.767 | N8: 0.168 | O8: 11 | P8: 185531 | Q8: 119.8 | R8: 99.3 | S8: 174 | T8: 56.843 | U8: 5.487 | V8: 120000 | Y8: 1.2 | Z8: 3.9 | AA8: 1.9 | AB8: 8.767 | AC8: 0.168 | AD8: 11 | AE8: 148388 | AF8: 12560.263 | AG8: 314230 | AH8: 229.2 | AI8: 185.5 | AJ8: 346.7 | AK8: 52.41 | AL8: 6.311 | AM8: 180000 | AN8: 3825 | AO8: 3.8925 | AP8: 1.5 | AQ8: 6.1 | AR8: 1.5 | AS8: 6.799 | AT8: 0.054 | AU8: 14 | AV8: 28532 | AW8: 1665 | AX8: 27556
A9: 46027 | B9: 166.2 | C9: 75.7 | D9: 112 | E9: 30.765 | F9: 3.12 | G9: 64000 | H9: 3370 | I9: 3.1 | J9: 2.7 | K9: 5 | L9: 1.7 | M9: 9.348 | N9: 0.19 | O9: 18 | P9: 185689 | Q9: 231 | R9: 142.8 | S9: 250 | T9: 56.723 | U9: 5.834 | V9: 130000 | W9: 4530 | X9: 2.52 | Y9: 2.7 | Z9: 5 | AA9: 1.7 | AB9: 9.348 | AC9: 0.19 | AD9: 18 | AE9: 147386 | AF9: 14619.175 | AG9: 309900 | AH9: 280.8 | AI9: 181.6 | AJ9: 286.7 | AK9: 71.331 | AL9: 11.72 | AM9: 160000 | AN9: 3932.5 | AO9: 3.285 | AP9: 1.8 | AQ9: 5.8 | AR9: 1.8 | AS9: 7.466 | AT9: 0.041 | AU9: 13 | AV9: 37519 | AW9: 2080 | AX9: 36642
A10: 46028 | B10: 97.6 | C10: 57.2 | D10: 84 | E10: 30.65 | F10: 3.073 | G10: 59000 | J10: 2.4 | K10: 5.2 | L10: 3 | M10: 9.048 | N10: 0.256 | O10: 12 | P10: 184644 | Q10: 283.2 | R10: 143.8 | S10: 178 | T10: 50.708 | U10: 5.166 | V10: 110000 | Y10: 2.4 | Z10: 5.2 | AA10: 3 | AB10: 9.048 | AC10: 0.256 | AD10: 12 | AE10: 147369 | AF10: 13632.825 | AG10: 313920 | AH10: 450.8 | AI10: 200 | AJ10: 473.3 | AK10: 64.42 | AL10: 7.453 | AM10: 150000 | AN10: 3912.5 | AO10: 2.3075 | AP10: 2.5 | AQ10: 7.2 | AR10: 2.2 | AS10: 10.728 | AT10: 0.084 | AU10: 17 | AV10: 36766 | AW10: 2118 | AX10: 35607
A11: 46029 | B11: 135.6 | C11: 72.5 | D11: 154 | E11: 31.42 | F11: 4.158 | G11: 72000 | J11: 1.7 | K11: 4.8 | L11: 2.6 | M11: 8.458 | N11: 0.192 | O11: 16 | P11: 190401 | Q11: 189 | R11: 102.1 | S11: 196 | T11: 44.527 | U11: 5.631 | V11: 120000 | Y11: 1.7 | Z11: 4.8 | AA11: 2.6 | AB11: 8.458 | AC11: 0.192 | AD11: 16 | AE11: 144028 | AF11: 13576.23 | AG11: 314870 | AH11: 328.8 | AI11: 191.7 | AJ11: 396.7 | AK11: 52.804 | AL11: 6.357 | AM11: 180000 | AN11: 3965 | AO11: 2.575 | AP11: 1.7 | AQ11: 6.9 | AR11: 1.7 | AS11: 8.972 | AT11: 0.119 | AU11: 39 | AV11: 35557 | AW11: 1964 | AX11: 34280
A12: 46030 | B12: 111.3 | C12: 62.3 | D12: 112 | E12: 31.773 | F12: 3.178 | G12: 78000 | J12: 2 | K12: 4.5 | L12: 1.2 | M12: 8.876 | N12: 0.224 | O12: 22 | P12: 181602 | Q12: 221.4 | R12: 125.1 | S12: 190 | T12: 26.79 | U12: 5.395 | V12: 150000 | Y12: 2 | Z12: 4.5 | AA12: 1.2 | AB12: 8.876 | AC12: 0.224 | AD12: 22 | AE12: 151989 | AF12: 14357.301 | AG12: 315380 | AH12: 296.3 | AI12: 163.7 | AJ12: 326.7 | AK12: 55.551 | AL12: 6.462 | AM12: 180000 | AN12: 3952.5 | AO12: 2.11 | AP12: 2.6 | AQ12: 6.8 | AR12: 1.4 | AS12: 9.191 | AT12: 0.121 | AU12: 38 | AV12: 36647 | AW12: 2220 | AX12: 35524
A13: 46031 | B13: 150.6 | C13: 82.8 | D13: 218 | E13: 34.448 | F13: 3.771 | G13: 60000 | H13: 3470 | I13: 2.625 | J13: 1.9 | K13: 5.1 | L13: 2 | M13: 9.116 | N13: 0.21 | O13: 13 | P13: 190485 | Q13: 232.8 | R13: 115 | S13: 172 | T13: 41.074 | U13: 5.127 | V13: 110000 | W13: 4670 | X13: 2.34 | Y13: 1.9 | Z13: 5.1 | AA13: 2 | AB13: 9.116 | AC13: 0.21 | AD13: 13 | AE13: 144032 | AF13: 13612.549 | AG13: 314150 | AH13: 341.3 | AI13: 169 | AJ13: 350 | AK13: 63.305 | AL13: 7.14 | AM13: 130000 | AN13: 4097.5 | AO13: 2.1825 | AP13: 1.3 | AQ13: 7.1 | AR13: 2 | AS13: 7.689 | AT13: 0.086 | AU13: 14 | AV13: 36181 | AW13: 2207 | AX13: 35104
A14: 46032 | B14: 160.2 | C14: 72.3 | D14: 172 | E14: 46.378 | F14: 3.448 | G14: 65000 | J14: 1.9 | K14: 5.2 | L14: 2 | M14: 10.74 | N14: 0.348 | O14: 12 | P14: 181558 | Q14: 236.4 | R14: 66.8 | S14: 186 | T14: 65.857 | U14: 4.498 | V14: 130000 | Y14: 1.9 | Z14: 5.2 | AA14: 2 | AB14: 10.74 | AC14: 0.348 | AD14: 12 | AE14: 138383 | AF14: 13019.029 | AG14: 303850 | AH14: 277.8 | AI14: 101.6 | AJ14: 320 | AK14: 90.2 | AL14: 6.825 | AM14: 150000 | AN14: 4010 | AO14: 2.505 | AP14: 1.1 | AQ14: 6.5 | AR14: 1.6 | AS14: 9.003 | AT14: 0.081 | AU14: 17 | AV14: 28967 | AW14: 2244 | AX14: 27874
A15: 46033 | B15: 165 | C15: 80.4 | D15: 156 | E15: 43.712 | F15: 3.178 | G15: 77000 | J15: 1.5 | K15: 4.6 | L15: 2.2 | M15: 9.921 | N15: 0.087 | O15: 19 | P15: 179378 | Q15: 120 | R15: 46.5 | S15: 168 | T15: 49.069 | U15: 3.098 | V15: 140000 | Y15: 1.5 | Z15: 4.6 | AA15: 2.2 | AB15: 9.921 | AC15: 0.087 | AD15: 19 | AE15: 144030 | AF15: 12526.825 | AG15: 304980 | AH15: 302.4 | AI15: 95.2 | AJ15: 303.3 | AK15: 69.731 | AL15: 4.948 | AM15: 160000 | AN15: 4050 | AO15: 2.53 | AP15: 0.5 | AQ15: 5.8 | AR15: 1.7 | AS15: 7.641 | AT15: 0.08 | AU15: 38 | AV15: 30406 | AW15: 2243 | AX15: 29220
A16: 46034 | B16: 115.4 | C16: 76.4 | D16: 140 | E16: 35.736 | F16: 4.253 | G16: 75000 | H16: 3670 | I16: 2.65 | J16: 2 | K16: 5.1 | L16: 3.4 | M16: 10.139 | N16: 0.153 | O16: 24 | P16: 181961 | Q16: 199 | R16: 97.8 | S16: 220 | T16: 53.941 | U16: 5.473 | V16: 140000 | W16: 4740 | X16: 2.34 | Y16: 2 | Z16: 5.1 | AA16: 3.4 | AB16: 10.139 | AC16: 0.153 | AD16: 24 | AE16: 132692 | AF16: 13338.412 | AG16: 293960 | AH16: 324.8 | AI16: 174.9 | AJ16: 380 | AK16: 65.682 | AL16: 7.388 | AM16: 170000 | AN16: 4007.5 | AO16: 2.91 | AP16: 1.3 | AQ16: 5.4 | AR16: 1 | AS16: 5.249 | AT16: 0.052 | AU16: 13 | AV16: 36375 | AW16: 1861 | AX16: 35072
A17: 46035 | B17: 156.6 | C17: 71.8 | D17: 190 | E17: 34.467 | F17: 3.476 | G17: 61000 | J17: 1.4 | K17: 5.3 | L17: 2.4 | M17: 8.404 | N17: 0.256 | O17: 16 | P17: 180966 | Q17: 325.2 | R17: 132.4 | S17: 226 | T17: 51.703 | U17: 5.068 | V17: 120000 | Y17: 1.4 | Z17: 5.3 | AA17: 2.4 | AB17: 8.404 | AC17: 0.256 | AD17: 16 | AE17: 144592 | AF17: 13763.984 | AG17: 308690 | AH17: 300.6 | AI17: 157.7 | AJ17: 363.3 | AK17: 58.504 | AL17: 6.647 | AM17: 140000 | AN17: 3892.5 | AO17: 3.345 | AP17: 1.6 | AQ17: 6.3 | AR17: 1.4 | AS17: 10.186 | AT17: 0.057 | AU17: 21 | AV17: 36244 | AW17: 2182 | AX17: 34972
A18: 46036 | B18: 116.1 | C18: 65.5 | D18: 110 | E18: 30.255 | F18: 2.913 | G18: 52000 | J18: 1.2 | K18: 5.1 | L18: 2.8 | M18: 9.634 | N18: 0.144 | O18: 16 | P18: 184584 | Q18: 217 | R18: 173.8 | S18: 182 | T18: 52.119 | U18: 5.139 | V18: 130000 | Y18: 1.2 | Z18: 5.1 | AA18: 2.8 | AB18: 9.634 | AC18: 0.144 | AD18: 16 | AE18: 135436 | AF18: 13851.751 | AG18: 301200 | AH18: 454.5 | AI18: 195.3 | AJ18: 326.7 | AK18: 61.74 | AL18: 6.898 | AM18: 150000 | AN18: 3962.5 | AO18: 2 | AP18: 2.6 | AQ18: 7.3 | AR18: 1.9 | AS18: 9.051 | AT18: 0.109 | AU18: 24 | AV18: 35740 | AW18: 2089 | AX18: 34636
A19: 46037 | B19: 135.3 | C19: 61.7 | D19: 136 | E19: 28.653 | F19: 2.937 | G19: 55000 | J19: 1.7 | K19: 4.8 | L19: 3.8 | M19: 8.385 | N19: 0.207 | O19: 22 | P19: 192610 | Q19: 197.5 | R19: 105.6 | S19: 172 | T19: 42.405 | U19: 4.796 | V19: 120000 | Y19: 1.7 | Z19: 4.8 | AA19: 3.8 | AB19: 8.385 | AC19: 0.207 | AD19: 22 | AE19: 129193 | AF19: 13489.939 | AG19: 309650 | AH19: 297 | AI19: 146.3 | AJ19: 413.3 | AK19: 58.244 | AL19: 6.969 | AM19: 140000 | AN19: 3997.5 | AO19: 2.6675 | AP19: 2.2 | AQ19: 6.6 | AR19: 2 | AS19: 7.731 | AT19: 0.072 | AU19: 26 | AV19: 36994 | AW19: 2134 | AX19: 35884
A20: 46038 | B20: 130.5 | C20: 77.7 | D20: 138 | E20: 29.927 | F20: 3.405 | G20: 68000 | H20: 3310 | I20: 2.875 | J20: 1.7 | K20: 4.8 | L20: 2 | M20: 9.361 | N20: 0.154 | O20: 6 | P20: 188637 | Q20: 231.6 | R20: 123.4 | S20: 196 | T20: 51.02 | U20: 5.586 | V20: 92000 | W20: 4360 | X20: 2.36 | Y20: 1.7 | Z20: 4.8 | AA20: 2 | AB20: 9.361 | AC20: 0.154 | AD20: 6 | AE20: 134805 | AF20: 14128.932 | AG20: 310530 | AH20: 349.8 | AI20: 159.1 | AJ20: 393.3 | AK20: 52.103 | AL20: 6.662 | AM20: 120000 | AN20: 4020 | AO20: 2.3075 | AP20: 1.7 | AQ20: 6.6 | AR20: 1.6 | AS20: 8.004 | AT20: 0.085 | AU20: 7 | AV20: 34601 | AW20: 2076 | AX20: 33600
A21: 46039 | B21: 176.7 | C21: 106.2 | D21: 286 | E21: 28.332 | F21: 5.534 | G21: 80000 | J21: 0.9 | K21: 5.3 | L21: 3 | M21: 7.186 | N21: 0.144 | O21: 11 | P21: 196791 | Q21: 231.6 | R21: 102.4 | S21: 155 | T21: 33.667 | U21: 3.957 | V21: 130000 | Y21: 0.9 | Z21: 5.3 | AA21: 3 | AB21: 7.186 | AC21: 0.144 | AD21: 11 | AE21: 129061 | AF21: 12523.111 | AG21: 313340 | AH21: 353.4 | AI21: 149.5 | AJ21: 320 | AK21: 52.357 | AL21: 6.979 | AM21: 160000 | AN21: 4107.5 | AO21: 1.89 | AP21: 1.2 | AQ21: 10.3 | AR21: 2.6 | AS21: 6.929 | AT21: 0.074 | AU21: 17 | AV21: 31998 | AW21: 2161 | AX21: 30991
A22: 46040 | B22: 125.7 | C22: 33.8 | D22: 200 | E22: 30.526 | F22: 6.412 | G22: 49000 | J22: 3.7 | K22: 4.5 | L22: 1 | M22: 7.189 | N22: 0.134 | O22: 18 | P22: 188076 | Q22: 247.2 | R22: 94.6 | S22: 155 | T22: 33.64 | U22: 4.009 | V22: 140000 | Y22: 3.7 | Z22: 4.5 | AA22: 1 | AB22: 7.189 | AC22: 0.134 | AD22: 18 | AE22: 137454 | AF22: 12807.18 | AG22: 310470 | AH22: 309 | AI22: 138 | AJ22: 250 | AK22: 63.029 | AL22: 7.798 | AM22: 130000 | AN22: 4052.5 | AO22: 2.21 | AP22: 2.1 | AQ22: 7.4 | AR22: 1.7 | AS22: 4.206 | AT22: 0.049 | AU22: 22 | AV22: 29710 | AW22: 2110 | AX22: 28580
A23: 46041 | B23: 145.2 | C23: 58.4 | D23: 110 | E23: 36.239 | F23: 3.259 | G23: 54000 | H23: 3570 | I23: 2.975 | J23: 2.7 | K23: 4.8 | L23: 1.6 | M23: 10.077 | N23: 0.116 | O23: 7 | P23: 191863 | Q23: 241.5 | R23: 95.5 | S23: 160 | T23: 62.457 | U23: 5.844 | V23: 91000 | Y23: 2.7 | Z23: 4.8 | AA23: 1.6 | AB23: 10.077 | AC23: 0.116 | AD23: 7 | AE23: 139833 | AF23: 13130.471 | AG23: 316590 | AH23: 354.8 | AI23: 167.9 | AJ23: 416.7 | AK23: 66.427 | AL23: 7.407 | AM23: 120000 | AN23: 4100 | AO23: 1.99 | AP23: 1.5 | AQ23: 7.7 | AR23: 1.6 | AS23: 4.991 | AT23: 0.078 | AU23: 11 | AV23: 35010 | AW23: 2078 | AX23: 33990
A24: 46042 | B24: 122.7 | C24: 62.9 | D24: 94 | E24: 30.654 | F24: 3.067 | G24: 51000 | J24: 1.5 | K24: 5.1 | L24: 1.6 | M24: 9.942 | N24: 0.15 | O24: 12 | P24: 196036 | Q24: 232.8 | R24: 111.6 | S24: 170 | T24: 48.179 | U24: 5.214 | V24: 83000 | Y24: 1.5 | Z24: 5.1 | AA24: 1.6 | AB24: 9.942 | AC24: 0.15 | AD24: 12 | AE24: 131322 | AF24: 13685.693 | AG24: 308210 | AH24: 322.8 | AI24: 162.1 | AJ24: 383.3 | AK24: 60.364 | AL24: 6.81 | AM24: 110000 | AN24: 4095 | AO24: 1.9475 | AP24: 1.5 | AQ24: 6.6 | AR24: 2.6 | AS24: 7.363 | AT24: 0.078 | AU24: 13 | AV24: 35442 | AW24: 2023 | AX24: 34269
A25: 46043 | B25: 245.5 | C25: 100.9 | D25: 182 | E25: 42.567 | F25: 6.187 | G25: 49000 | J25: 2.7 | K25: 4.8 | L25: 1.7 | M25: 9.658 | N25: 0.144 | O25: 4 | P25: 193207 | Q25: 242 | R25: 114.4 | S25: 196 | T25: 55.865 | U25: 5.789 | V25: 120000 | Y25: 2.7 | Z25: 4.8 | AA25: 1.7 | AB25: 9.658 | AC25: 0.144 | AD25: 4 | AE25: 135198 | AF25: 13853.459 | AG25: 310060 | AH25: 356.4 | AI25: 184.4 | AJ25: 420 | AK25: 53.774 | AL25: 6.463 | AM25: 140000 | AN25: 4117.5 | AO25: 1.315 | AP25: 4.2 | AQ25: 6.7 | AR25: 1.3 | AS25: 9.457 | AT25: 0.1287 | AU25: 38 | AV25: 35168 | AW25: 2037 | AX25: 34162
A26: 46044 | B26: 97.2 | C26: 61.6 | D26: 120 | E26: 32.04 | F26: 3.144 | G26: 56000 | J26: 1.3 | K26: 5.1 | L26: 2.8 | M26: 10.162 | N26: 0.136 | O26: 11 | P26: 187762 | Q26: 232.8 | R26: 105.7 | S26: 194 | T26: 50.088 | U26: 4.982 | V26: 130000 | Y26: 1.3 | Z26: 5.1 | AA26: 2.8 | AB26: 10.162 | AC26: 0.136 | AD26: 11 | AE26: 137917 | AF26: 13002.483 | AG26: 308910 | AH26: 411.8 | AI26: 178.3 | AJ26: 370 | AK26: 61.506 | AL26: 6.673 | AM26: 130000 | AN26: 4222.5 | AO26: 1.175 | AP26: 1.2 | AQ26: 7.7 | AR26: 2.4 | AS26: 7.928 | AT26: 0.097 | AU26: 19 | AV26: 36078 | AW26: 2039 | AX26: 35019
A27: 46045 | B27: 119.1 | C27: 53.3 | D27: 74 | E27: 29.094 | F27: 2.846 | G27: 70000 | H27: 3570 | J27: 3 | K27: 5.2 | L27: 3.6 | M27: 10.272 | N27: 0.131 | O27: 18 | P27: 186277 | Q27: 244.2 | R27: 130.3 | S27: 200 | T27: 50.506 | U27: 5.151 | V27: 140000 | W27: 4610 | Y27: 3 | Z27: 5.2 | AA27: 3.6 | AB27: 10.272 | AC27: 0.131 | AD27: 18 | AE27: 144077 | AF27: 14478.191 | AG27: 310870 | AH27: 269.4 | AI27: 186.2 | AJ27: 363.3 | AK27: 59.879 | AL27: 6.565 | AM27: 150000 | AN27: 4317.5 | AO27: 1.74 | AP27: 2.9 | AQ27: 7.5 | AR27: 3.7 | AS27: 8.671 | AT27: 0.111 | AU27: 25 | AV27: 34640 | AW27: 1734 | AX27: 33512
A28: 46046 | B28: 122 | C28: 53 | D28: 98 | E28: 27.856 | F28: 2.687 | G28: 47000 | J28: 1.8 | K28: 5.3 | L28: 2.2 | M28: 9.741 | N28: 0.139 | O28: 15 | P28: 185156 | Q28: 150.6 | R28: 54.6 | S28: 158 | T28: 46.308 | U28: 5.101 | V28: 110000 | Y28: 1.8 | Z28: 5.3 | AA28: 2.2 | AB28: 9.741 | AC28: 0.139 | AD28: 15 | AE28: 145051 | AF28: 13208.969 | AG28: 311590 | AH28: 371.4 | AI28: 251.2 | AJ28: 373.3 | AK28: 60.786 | AL28: 6.588 | AM28: 130000 | AN28: 4297.5 | AO28: 2.8 | AP28: 2.7 | AQ28: 7 | AR28: 1.7 | AS28: 8.82 | AT28: 0.079 | AU28: 21 | AV28: 29983 | AW28: 1792 | AX28: 28881
A29: 46047 | B29: 166.8 | C29: 62 | D29: 100 | E29: 27.194 | F29: 2.673 | G29: 52000 | J29: 2.7 | K29: 4.6 | L29: 1.7 | M29: 9.556 | N29: 0.134 | O29: 18 | P29: 178745 | Q29: 123.3 | R29: 65.2 | S29: 162 | T29: 46.364 | U29: 5.018 | V29: 120000 | Y29: 2.7 | Z29: 4.6 | AA29: 1.7 | AB29: 9.556 | AC29: 0.134 | AD29: 18 | AE29: 147369 | AF29: 14975.151 | AG29: 304900 | AH29: 324 | AI29: 117 | AJ29: 373.3 | AK29: 59.297 | AL29: 6.331 | AM29: 110000 | AN29: 4325 | AO29: 2.145 | AP29: 0.4 | AQ29: 6.2 | AR29: 1.8 | AS29: 8.693 | AT29: 0.082 | AU29: 13 | AV29: 29960 | AW29: 1813 | AX29: 28968
A30: 46048 | B30: 209.5 | C30: 66.2 | D30: 228 | E30: 32.628 | F30: 3.258 | G30: 51000 | H30: 3510 | I30: 3.05 | J30: 2.2 | K30: 5.6 | L30: 2 | M30: 10.418 | N30: 0.148 | O30: 11 | P30: 186416 | Q30: 228.5 | R30: 95.5 | S30: 162 | T30: 53.753 | U30: 5.475 | V30: 110000 | W30: 4520 | X30: 2.56 | Y30: 2.2 | Z30: 5.6 | AA30: 2 | AB30: 10.418 | AC30: 0.148 | AD30: 11 | AE30: 141572 | AF30: 13214.895 | AG30: 306110 | AH30: 322.2 | AI30: 152.6 | AJ30: 350 | AK30: 53.671 | AL30: 5.954 | AM30: 180000 | AN30: 4270 | AO30: 1.63 | AP30: 1.5 | AQ30: 5.8 | AR30: 1.8 | AS30: 3.922 | AT30: 0.058 | AU30: 17 | AV30: 35767 | AW30: 1778 | AX30: 34820
A31: 46049 | B31: 183 | C31: 90.4 | D31: 218 | E31: 18.112 | F31: 3.695 | G31: 42000 | J31: 1.3 | K31: 5 | L31: 3.4 | M31: 8.612 | N31: 0.154 | O31: 13 | P31: 175400 | Q31: 250.2 | R31: 120.5 | S31: 204 | T31: 62.474 | U31: 5.426 | V31: 82000 | Y31: 1.3 | Z31: 5 | AA31: 3.4 | AB31: 8.612 | AC31: 0.154 | AD31: 13 | AE31: 138486 | AF31: 13646.755 | AG31: 300040 | AH31: 369 | AI31: 174.2 | AJ31: 406.7 | AK31: 71.855 | AL31: 5.284 | AM31: 130000 | AN31: 4382.5 | AO31: 0.76 | AP31: 1.6 | AQ31: 7.3 | AR31: 2 | AS31: 8.221 | AT31: 0.058 | AU31: 15 | AV31: 35630 | AW31: 1917 | AX31: 34363
A32: 46050 | B32: 119.6 | C32: 65.2 | D32: 202 | E32: 25.898 | F32: 4.239 | G32: 39000 | H32: 3090 | I32: 6.75 | J32: 3.1 | K32: 4.9 | L32: 2.2 | M32: 9.795 | N32: 0.077 | O32: 11 | P32: 179975 | Q32: 220.2 | R32: 123.8 | S32: 280 | T32: 45.335 | U32: 5.766 | V32: 60000 | Y32: 3.1 | Z32: 4.9 | AA32: 2.2 | AB32: 9.795 | AC32: 0.077 | AD32: 11 | AE32: 151578 | AF32: 14600.018 | AG32: 312790 | AH32: 350.4 | AI32: 224.9 | AJ32: 420 | AK32: 51.31 | AL32: 5.804 | AM32: 110000 | AN32: 4395 | AO32: 1.015 | AP32: 3.9 | AQ32: 7.8 | AR32: 1.63 | AS32: 6.398 | AT32: 0.116 | AU32: 17 | AV32: 34752 | AW32: 1946 | AX32: 33544
A33: 46051 | B33: 180.6 | C33: 75.1 | D33: 304 | E33: 28.308 | F33: 3.076 | G33: 63000 | J33: 1.4 | K33: 4.5 | L33: 3 | M33: 9.573 | N33: 0.087 | O33: 13 | P33: 164491 | Q33: 232.8 | R33: 95.5 | S33: 212 | T33: 47.164 | U33: 5.111 | V33: 110000 | Y33: 1.4 | Z33: 4.5 | AA33: 3 | AB33: 9.573 | AC33: 0.087 | AD33: 13 | AE33: 158976 | AF33: 13668.407 | AG33: 304540 | AH33: 361.8 | AI33: 240.9 | AJ33: 286.7 | AK33: 54.605 | AL33: 5.656 | AM33: 170000 | AN33: 4370 | AO33: 2.2075 | AP33: 1.6 | AQ33: 6.8 | AR33: 3.7 | AS33: 6.532 | AT33: 0.106 | AU33: 22 | AV33: 35401 | AW33: 1922 | AX33: 34577
A34: 46052 | B34: 121.6 | C34: 69.3 | D34: 186 | E34: 25.449 | F34: 3.021 | G34: 53000 | H34: 3390 | I34: 3.35 | J34: 2.1 | K34: 5.1 | L34: 2.8 | M34: 9.244 | N34: 0.015 | O34: 22 | P34: 169467 | Q34: 185.7 | R34: 86 | S34: 206 | T34: 45.135 | U34: 5.207 | V34: 120000 | W34: 4490 | Y34: 2.1 | Z34: 5.1 | AA34: 2.8 | AB34: 9.244 | AC34: 0.015 | AD34: 22 | AE34: 161263 | AF34: 15048.758 | AG34: 307530 | AH34: 282 | AI34: 211.3 | AJ34: 393.3 | AK34: 54.919 | AL34: 5.818 | AM34: 160000 | AN34: 4535 | AO34: 1.7575 | AP34: 1.1 | AQ34: 7.5 | AR34: 3.2 | AS34: 5.636 | AT34: 0.107 | AU34: 25 | AV34: 35581 | AW34: 1952 | AX34: 34878
