Workbook

Sheet 공원현황(구별)
A1: ○ 공원결정 현황
A2: 구분 | B2: 총계 | D2: 도시자연공원 | F2: 근린공원 | H2: 어린이공원 | J2: 주제공원 | L2: 소공원 | N2: 비고
B3: 개소 | C3: 면적 | D3: 개소 | E3: 면적 | F3: 개소 | G3: 면적 | H3: 개소 | I3: 면적 | J3: 개소 | K3: 면적 | L3: 개소 | M3: 면적
A4: 총계 | B4: =SUM(B5:B7) -> 270 | C4: =SUM(C5:C7) -> 12923488 | D4: =SUM(D5:D7) -> 2 | E4: =SUM(E5:E7) -> 575848.8 | F4: =SUM(F5:F7) -> 69 | G4: =SUM(G5:G7) -> 9988993.1 | H4: =SUM(H5:H7) -> 140 | I4: =SUM(I5:I7) -> 499980.6 | ... M4: =SUM(M5:M7) -> 32585.6 | X4: 구별면적 | Y4: 45460000 | Z4: 26410000 | AA4: 69770000
A5: 수정구 | B5: =D5+F5+H5+J5+L5 -> 62 | C5: =E5+G5+I5+K5+M5 -> 2784823.9 | D5: =SUMIF(도시자연!$D$8:$D$11,"*수정구*",도시자연!$F$8:$F$11) -> 0 | E5: =SUMIF(도시자연!$D$8:$D$11,"*수정구*",도시자연!$G$8:$G$11) -> 0 | F5: =SUMIF(근린!$D$8:$D$98,"*수정구*",근린!$F$8:$F$98) -> 18 | G5: =SUMIF(근린!$D$8:$D$98,"*수정구*",근린!$G$8:$G$98) -> 1950849.5 | H5: =SUMIF(어린이!$D$8:$D$201,"*수정구*",어린이!$F$8:$F$201) -> 24 | I5: =SUMIF(어린이!$D$8:$D$201,"*수정구*",어린이!$G$8:$G$201) -> 76480.2 | J5: =(SUMIF(역사!$D$8:$D$20,"*수정구*",역사!$F$8:$F$20)+SUMIF(문화!$D$8:$D$20,"*수정구*",문화!$F$8:$F$20)+SUMIF(수변!$D$8:$D$21,"*수정구*",수변!$F$8:$F$21)+SUMIF(묘지!$D$20,"*수정구*",묘지!$F$20)+SUMIF(체육!$D$8:$D$20,"*수정구*",체육!$F$8:$F$20)) -> 8 | K5: =(SUMIF(역사!$D$8:$D$20,"*수정구*",역사!$G$8:$G$20)+SUMIF(문화!$D$8:$D$20,"*수정구*",문화!$G$8:$G$20)+SUMIF(수변!$D$8:$D$21,"*수정구*",수변!$G$8:$G$21)+SUMIF(묘지!$D$20,"*수정구*",묘지!$G$20)+SUMIF(체육!$D$8:$D$20,"*수정구*",체육!$G$8:$G$20)) -> 742629.9 | L5: =SUMIF(소공원!$D$8:$D$100,"*수정구*",소공원!$F$8:$F$100) -> 12 | M5: =SUMIF(소공원!$D$8:$D$100,"*수정구*",소공원!$G$8:$G$100) -> 14864.3 | X5: 구별인구 | Y5: 232337 | Z5: 204000 | AA5: 469840 | AB5: <- 인구수 변동에 따라 수정하기
A6: 중원구 | B6: =D6+F6+H6+J6+L6 -> 55 | C6: =E6+G6+I6+K6+M6 -> 2122069.5 | D6: =SUMIF(도시자연!$D$8:$D$11,"*중원구*",도시자연!$F$8:$F$11) -> 0 | E6: =SUMIF(도시자연!$D$8:$D$11,"*중원구*",도시자연!$G$8:$G$11) -> 0 | F6: =SUMIF(근린!$D$8:$D$100,"*중원구*",근린!$F$8:$F$100) -> 15 | G6: =SUMIF(근린!$D$8:$D$100,"*중원구*",근린!$G$8:$G$100) -> 1882895.4 | H6: =SUMIF(어린이!$D$8:$D$201,"*중원구*",어린이!$F$8:$F$201) -> 21 | I6: =SUMIF(어린이!$D$8:$D$201,"*중원구*",어린이!$G$8:$G$201) -> 62532.8 | J6: =(SUMIF(역사!$D$8:$D$20,"*중원구*",역사!$F$8:$F$20)+SUMIF(문화!$D$8:$D$20,"*중원구*",문화!$F$8:$F$20)+SUMIF(수변!$D$8:$D$21,"*중원구*",수변!$F$8:$F$21)+SUMIF(묘지!$D$20,"*중원구*",묘지!$F$20)+SUMIF(체육!$D$8:$D$20,"*중원구*",체육!$F$8:$F$20)) -> 2 | K6: =(SUMIF(역사!$D$8:$D$20,"*중원구*",역사!$G$8:$G$20)+SUMIF(문화!$D$8:$D$20,"*중원구*",문화!$G$8:$G$20)+SUMIF(수변!$D$8:$D$21,"*중원구*",수변!$G$8:$G$21)+SUMIF(묘지!$D$20,"*중원구*",묘지!$G$20)+SUMIF(체육!$D$8:$D$20,"*중원구*",체육!$G$8:$G$20)) -> 162886.9 | L6: =SUMIF(소공원!$D$8:$D$100,"*중원구*",소공원!$F$8:$F$100) -> 17 | M6: =SUMIF(소공원!$D$8:$D$100,"*중원구*",소공원!$G$8:$G$100) -> 13754.4 | Y6: 수정 | Z6: 중원 | AA6: 분당
A7: 분당구 | B7: =D7+F7+H7+J7+L7 -> 153 | C7: =E7+G7+I7+K7+M7 -> 8016595.1 | D7: =SUMIF(도시자연!$D$8:$D$11,"*분당구*",도시자연!$F$8:$F$11) -> 2 | E7: =SUMIF(도시자연!$D$8:$D$11,"*분당구*",도시자연!$G$8:$G$11) -> 575848.8 | F7: =SUMIF(근린!$D$8:$D$98,"*분당구*",근린!$F$8:$F$98) -> 36 | G7: =SUMIF(근린!$D$8:$D$98,"*분당구*",근린!$G$8:$G$98) -> 6155248.2 | H7: =SUMIF(어린이!$D$8:$D$201,"*분당구*",어린이!$F$8:$F$201) -> 95 | I7: =SUMIF(어린이!$D$8:$D$201,"*분당구*",어린이!$G$8:$G$201) -> 360967.6 | J7: =(SUMIF(역사!$D$8:$D$20,"*분당구*",역사!$F$8:$F$20)+SUMIF(문화!$D$8:$D$20,"*분당구*",문화!$F$8:$F$20)+SUMIF(수변!$D$8:$D$21,"*분당구*",수변!$F$8:$F$21)+SUMIF(묘지!$D$8:$D$20,"*분당구*",묘지!$F$8:$F$20)+SUMIF(체육!$D$8:$D$20,"*분당구*",체육!$F$8:$F$20)) -> 18 | K7: =(SUMIF(역사!$D$8:$D$20,"*분당구*",역사!$G$8:$G$20)+SUMIF(문화!$D$8:$D$20,"*분당구*",문화!$G$8:$G$20)+SUMIF(수변!$D$8:$D$21,"*분당구*",수변!$G$8:$G$21)+SUMIF(묘지!$D$8:$D$20,"*분당구*",묘지!$G$8:$G$20)+SUMIF(체육!$D$8:$D$20,"*분당구*",체육!$G$8:$G$20)) -> 920563.6 | L7: =SUMIF(소공원!$D$8:$D$100,"*분당구*",소공원!$F$8:$F$100) -> 2 | M7: =SUMIF(소공원!$D$8:$D$100,"*분당구*",소공원!$G$8:$G$100) -> 3966.9 | N7: 0 | X7: 결정면적% | Y7: =C5/Y4 -> 0.061258775 | Z7: =C6/Z4 -> 0.080350984 | AA7: =C7/AA4 -> 0.11490032 | AC7: =C4/(Y5+Z5+AA5) -> 14.26155
X8: 조성면적% | Y8: =N13 -> 0.7411 | Z8: =N14 -> 0.9098 | AA8: =N15 -> 0.8356
A9: ○ 공원조성 현황 | X9: 1인당결정면적 | Y9: =C5/Y5 -> 11.98614 | Z9: =C6/Z5 -> 10.402301 | AA9: =C7/AA5 -> 17.062394
A10: 구분 | B10: 총계 | D10: 도시자연공원 | F10: 근린공원 | H10: 어린이공원 | J10: 주제공원 | L10: 소공원 | N10: 비고 | X10: 1인당조성면적 | Y10: =C13/Y5 -> 8.883397 | Z10: =C14/Z5 -> 9.4640868 | AA10: =C15/AA5 -> 14.258828
B11: 개소 | C11: 면적 | D11: 개소 | E11: 면적 | F11: 개소 | G11: 면적 | H11: 개소 | I11: 면적 | J11: 개소 | K11: 면적 | L11: 개소 | M11: 면적
A12: 총계 | B12: =SUM(B13:B15) -> 218 | C12: =SUM(C13:C15) -> 10693983 | D12: =SUM(D13:D15) -> 0 | E12: =SUM(E13:E15) -> 0 | F12: =SUM(F13:F15) -> 58 | G12: =SUM(G13:G15) -> 9037647 | H12: =SUM(H13:H15) -> 124 | I12: =SUM(I13:I15) -> 437025.6 | ... M12: =SUM(M13:M15) -> 24783.6
A13: 수정구 | B13: =D13+F13+H13+J13+L13 -> 32 | C13: =E13+G13+I13+K13+M13 -> 2063941.8 | D13: =SUMIF(도시자연!$D$8:$D$11,"*수정구*",도시자연!$K$8:$K$11) -> 0 | E13: =SUMIF(도시자연!$D$8:$D$11,"*수정구*",도시자연!$L$8:$L$11) -> 0 | F13: =SUMIF(근린!$D$8:$D$98,"*수정구*",근린!$I$8:$I$98) -> 10 | G13: =SUMIF(근린!$D$8:$D$98,"*수정구*",근린!$J$8:$J$98) -> 1614654.5 | H13: =SUMIF(어린이!$D$8:$D$201,"*수정구*",어린이!$I$8:$I$201) -> 12 | I13: =SUMIF(어린이!$D$8:$D$201,"*수정구*",어린이!$J$8:$J$201) -> 29814.1 | J13: =(SUMIF(역사!$D$8:$D$20,"*수정구*",역사!$I$8:$I$20)+SUMIF(문화!$D$8:$D$20,"*수정구*",문화!$I$8:$I$20)+SUMIF(수변!$D$8:$D$21,"*수정구*",수변!$I$8:$I$21)+SUMIF(묘지!$D$8:$D$20,"*수정구*",묘지!$I$8:$I$20)+SUMIF(체육!$D$8:$D$20,"*수정구*",체육!$I$8:$I$20)) -> 2 | K13: =(SUMIF(역사!$D$8:$D$20,"*수정구*",역사!$J$8:$J$20)+SUMIF(문화!$D$8:$D$20,"*수정구*",문화!$J$8:$J$20)+SUMIF(수변!$D$8:$D$21,"*수정구*",수변!$J$8:$J$21)+SUMIF(묘지!$D$8:$D$20,"*수정구*",묘지!$J$8:$J$20)+SUMIF(체육!$D$8:$D$20,"*수정구*",체육!$J$8:$J$20)) -> 409910.9 | L13: =SUMIF(소공원!$D$8:$D$100,"*수정구*",소공원!$I$8:$I$100) -> 8 | M13: =SUMIF(소공원!$D$8:$D$100,"*수정구*",소공원!$J$8:$J$100) -> 9562.3 | N13: =TRUNC(C13/C5,4) -> 0.7411 | Y13: =C12/(Y5+Z5+AA5) -> 11.801208
A14: 중원구 | B14: =D14+F14+H14+J14+L14 -> 47 | C14: =E14+G14+I14+K14+M14 -> 1930673.7 | D14: =SUMIF(도시자연!$D$8:$D$11,"*중원구*",도시자연!$K$8:$K$11) -> 0 | E14: =SUMIF(도시자연!$D$8:$D$11,"*중원구*",도시자연!$L$8:$L$11) -> 0 | F14: =SUMIF(근린!$D$8:$D$98,"*중원구*",근린!$I$8:$I$98) -> 14 | G14: =SUMIF(근린!$D$8:$D$98,"*중원구*",근린!$J$8:$J$98) -> 1872893.3 | H14: =SUMIF(어린이!$D$8:$D$201,"*중원구*",어린이!$I$8:$I$201) -> 17 | I14: =SUMIF(어린이!$D$8:$D$201,"*중원구*",어린이!$J$8:$J$201) -> 46526 | J14: =(SUMIF(역사!$D$8:$D$20,"*중원구*",역사!$I$8:$I$20)+SUMIF(문화!$D$8:$D$20,"*중원구*",문화!$I$8:$I$20)+SUMIF(수변!$D$8:$D$21,"*중원구*",수변!$I$8:$I$21)+SUMIF(묘지!$D$8:$D$20,"*중원구*",묘지!$I$8:$I$20)+SUMIF(체육!$D$8:$D$20,"*중원구*",체육!$I$8:$I$20)) -> 0 | K14: =(SUMIF(역사!$D$8:$D$20,"*중원구*",역사!$J$8:$J$20)+SUMIF(문화!$D$8:$D$20,"*중원구*",문화!$J$8:$J$20)+SUMIF(수변!$D$8:$D$21,"*중원구*",수변!$J$8:$J$21)+SUMIF(묘지!$D$8:$D$20,"*중원구*",묘지!$J$8:$J$20)+SUMIF(체육!$D$8:$D$20,"*중원구*",체육!$J$8:$J$20)) -> 0 | L14: =SUMIF(소공원!$D$8:$D$100,"*중원구*",소공원!$I$8:$I$100) -> 16 | M14: =SUMIF(소공원!$D$8:$D$100,"*중원구*",소공원!$J$8:$J$100) -> 11254.4 | N14: =TRUNC(C14/C6,4) -> 0.9098
A15: 분당구 | B15: =D15+F15+H15+J15+L15 -> 139 | C15: =E15+G15+I15+K15+M15 -> 6699367.7 | D15: =SUMIF(도시자연!$D$8:$D$11,"*분당구*",도시자연!$K$8:$K$11) -> 0 | E15: =SUMIF(도시자연!$D$8:$D$11,"*분당구*",도시자연!$L$8:$L$11) -> 0 | F15: =SUMIF(근린!$D$8:$D$98,"*분당구*",근린!$I$8:$I$98) -> 34 | G15: =SUMIF(근린!$D$8:$D$98,"*분당구*",근린!$J$8:$J$98) -> 5550099.2 | H15: =SUMIF(어린이!$D$8:$D$201,"*분당구*",어린이!$I$8:$I$201) -> 95 | I15: =SUMIF(어린이!$D$8:$D$201,"*분당구*",어린이!$J$8:$J$201) -> 360685.5 | J15: =(SUMIF(역사!$D$8:$D$20,"*분당구*",역사!$I$8:$I$20)+SUMIF(문화!$D$8:$D$20,"*분당구*",문화!$I$8:$I$20)+SUMIF(수변!$D$8:$D$21,"*분당구*",수변!$I$8:$I$21)+SUMIF(묘지!$D$8:$D$20,"*분당구*",묘지!$I$8:$I$20)+SUMIF(체육!$D$8:$D$20,"*분당구*",체육!$I$8:$I$20)) -> 8 | K15: =(SUMIF(역사!$D$8:$D$20,"*분당구*",역사!$J$8:$J$20)+SUMIF(문화!$D$8:$D$20,"*분당구*",문화!$J$8:$J$20)+SUMIF(수변!$D$8:$D$21,"*분당구*",수변!$J$8:$J$21)+SUMIF(묘지!$D$8:$D$20,"*분당구*",묘지!$J$8:$J$20)+SUMIF(체육!$D$8:$D$20,"*분당구*",체육!$J$8:$J$20)) -> 784616.1 | L15: =SUMIF(소공원!$D$8:$D$100,"*분당구*",소공원!$I$8:$I$100) -> 2 | M15: =SUMIF(소공원!$D$8:$D$100,"*분당구*",소공원!$J$8:$J$100) -> 3966.9 | N15: =TRUNC(C15/C7,4) -> 0.8356
Y16: =C12/C4 -> 0.82748425
A17: ○ 미조성 현황(부분조성 공원 중 미조성된 면적 포함, 개소는 미조성 공원으로만 작성) | P17: ○ 미조성 공원 이름
A18: 구분 | B18: 총계 | D18: 도시자연공원 | F18: 근린공원 | H18: 어린이공원 | J18: 주제공원 | L18: 소공원 | N18: 비고 | P18: 구분 | Q18: 개소 | R18: 공원명 | S18: 개소 | T18: 공원명 | U18: 개소 | V18: 공원명
B19: 개소 | C19: 면적 | D19: 개소 | E19: 면적 | F19: 개소 | G19: 면적 | H19: 개소 | I19: 면적 | J19: 개소 | K19: 면적 | L19: 개소 | M19: 면적
A20: 총계 | B20: =SUM(B21:B23) -> 52 | C20: =SUM(C21:C23) -> 2229505.3 | D20: =SUM(D21:D23) -> 2 | E20: =SUM(E21:E23) -> 575848.8 | F20: =SUM(F21:F23) -> 11 | G20: =SUM(G21:G23) -> 951346.1 | H20: =SUM(H21:H23) -> 16 | I20: =SUM(I21:I23) -> 62955 | ... M20: =SUM(M21:M23) -> 7802 | Q20: 도시자연공원 | S20: 근린공원 | U20: 주제공원
A21: 수정구 | B21: =D21+F21+H21+J21+L21 -> 30 | C21: =E21+G21+I21+K21+M21 -> 720882.1 | D21: =SUMIF(도시자연!$D$8:$D$11,"*수정구*",도시자연!$W$8:$W$11) -> 0 | E21: =SUMIF(도시자연!$D$8:$D$11,"*수정구*",도시자연!$X$8:$X$11) -> 0 | F21: =SUMIF(근린!$D$8:$D$98,"*수정구*",근린!$W$8:$W$98) -> 8 | G21: =SUMIF(근린!$D$8:$D$98,"*수정구*",근린!$X$8:$X$98) -> 336195 | H21: =SUMIF(어린이!$D$8:$D$201,"*수정구*",어린이!$W$8:$W$201) -> 12 | I21: =SUMIF(어린이!$D$8:$D$201,"*수정구*",어린이!$X$8:$X$201) -> 46666.1 | J21: =(SUMIF(역사!$D$8:$D$20,"*수정구*",역사!$W$8:$W$20)+SUMIF(문화!$D$8:$D$20,"*수정구*",문화!$W$8:$W$20)+SUMIF(수변!$D$8:$D$21,"*수정구*",수변!$W$8:$W$21)+SUMIF(묘지!$D$8:$D$20,"*수정구*",묘지!$W$8:$W$20)+SUMIF(체육!$D$8:$D$20,"*수정구*",체육!$W$8:$W$20)) -> 6 | K21: =(SUMIF(역사!$D$8:$D$20,"*수정구*",역사!$X$8:$X$20)+SUMIF(문화!$D$8:$D$20,"*수정구*",문화!$X$8:$X$20)+SUMIF(수변!$D$8:$D$21,"*수정구*",수변!$X$8:$X$21)+SUMIF(묘지!$D$8:$D$20,"*수정구*",묘지!$X$8:$X$20)+SUMIF(체육!$D$8:$D$20,"*수정구*",체육!$X$8:$X$20)) -> 332719 | L21: =SUMIF(소공원!$D$8:$D$100,"*수정구*",소공원!$W$8:$W$100) -> 4 | M21: =SUMIF(소공원!$D$8:$D$100,"*수정구*",소공원!$X$8:$X$100) -> 5302 | P21: 수정 | Q21: =D21 -> 0 | R21: 태평 | S21: =F21 -> 8 | T21: 밀리언, 위례11, 고등1, 고등2, 1공단 | U21: =J21 -> 6 | V21: 대왕,탄천변제2
A22: 중원구 | B22: =D22+F22+H22+J22+L22 -> 8 | C22: =E22+G22+I22+K22+M22 -> 191395.8 | D22: =SUMIF(도시자연!$D$8:$D$11,"*중원구*",도시자연!$W$8:$W$11) -> 0 | E22: =SUMIF(도시자연!$D$8:$D$11,"*중원구*",도시자연!$X$8:$X$11) -> 0 | F22: =SUMIF(근린!$D$8:$D$98,"*중원구*",근린!$W$8:$W$98) -> 1 | G22: =SUMIF(근린!$D$8:$D$98,"*중원구*",근린!$X$8:$X$98) -> 10002.1 | H22: =SUMIF(어린이!$D$8:$D$201,"*중원구*",어린이!$W$8:$W$201) -> 4 | I22: =SUMIF(어린이!$D$8:$D$201,"*중원구*",어린이!$X$8:$X$201) -> 16006.8 | J22: =(SUMIF(역사!$D$8:$D$20,"*중원구*",역사!$W$8:$W$20)+SUMIF(문화!$D$8:$D$20,"*중원구*",문화!$W$8:$W$20)+SUMIF(수변!$D$8:$D$21,"*중원구*",수변!$W$8:$W$21)+SUMIF(묘지!$D$8:$D$20,"*중원구*",묘지!$W$8:$W$20)+SUMIF(체육!$D$8:$D$20,"*중원구*",체육!$W$8:$W$20)) -> 2 | K22: =(SUMIF(역사!$D$8:$D$20,"*중원구*",역사!$X$8:$X$20)+SUMIF(문화!$D$8:$D$20,"*중원구*",문화!$X$8:$X$20)+SUMIF(수변!$D$8:$D$21,"*중원구*",수변!$X$8:$X$21)+SUMIF(묘지!$D$8:$D$20,"*중원구*",묘지!$X$8:$X$20)+SUMIF(체육!$D$8:$D$20,"*중원구*",체육!$X$8:$X$20)) -> 162886.9 | L22: =SUMIF(소공원!$D$8:$D$100,"*중원구*",소공원!$W$8:$W$100) -> 1 | M22: =SUMIF(소공원!$D$8:$D$100,"*중원구*",소공원!$X$8:$X$100) -> 2500 | P22: 중원 | Q22: =D22 -> 0 | S22: =F22 -> 1 | T22: 여수, 상대원2구역(주택개재개발정비사업) | U22: =J22 -> 2 | V22: 성호시장, 탄천변제1
A23: 분당구 | B23: =D23+F23+H23+J23+L23 -> 14 | C23: =E23+G23+I23+K23+M23 -> 1317227.4 | D23: =SUMIF(도시자연!$D$8:$D$11,"*분당구*",도시자연!$W$8:$W$11) -> 2 | E23: =SUMIF(도시자연!$D$8:$D$11,"*분당구*",도시자연!$X$8:$X$11) -> 575848.8 | F23: =SUMIF(근린!$D$8:$D$98,"*분당구*",근린!$W$8:$W$98) -> 2 | G23: =SUMIF(근린!$D$8:$D$98,"*분당구*",근린!$X$8:$X$98) -> 605149 | H23: =SUMIF(어린이!$D$8:$D$201,"*분당구*",어린이!$W$8:$W$201) -> 0 | I23: =SUMIF(어린이!$D$8:$D$201,"*분당구*",어린이!$X$8:$X$201) -> 282.1 | J23: =(SUMIF(역사!$D$8:$D$20,"*분당구*",역사!$W$8:$W$20)+SUMIF(문화!$D$8:$D$20,"*분당구*",문화!$W$8:$W$20)+SUMIF(수변!$D$8:$D$21,"*분당구*",수변!$W$8:$W$21)+SUMIF(묘지!$D$8:$D$20,"*분당구*",묘지!$W$8:$W$20)+SUMIF(체육!$D$8:$D$20,"*분당구*",체육!$W$8:$W$20)) -> 10 | K23: =(SUMIF(역사!$D$8:$D$20,"*분당구*",역사!$X$8:$X$20)+SUMIF(문화!$D$8:$D$20,"*분당구*",문화!$X$8:$X$20)+SUMIF(수변!$D$8:$D$21,"*분당구*",수변!$X$8:$X$21)+SUMIF(묘지!$D$8:$D$20,"*분당구*",묘지!$X$8:$X$20)+SUMIF(체육!$D$8:$D$20,"*분당구*",체육!$X$8:$X$20)) -> 135947.5 | L23: =SUMIF(소공원!$D$8:$D$100,"*분당구*",소공원!$W$8:$W$100) -> 0 | M23: =SUMIF(소공원!$D$8:$D$100,"*분당구*",소공원!$X$8:$X$100) -> 0 | P23: 분당 | Q23: =D23 -> 2 | R23: 낙생,성남 | S23: =F23 -> 2 | T23: 판교, 대장, 백현 | U23: =J23 -> 10 | V23: 서현
A25: ○ 부분조성 현황
A26: 구분 | B26: 총계 | D26: 도시자연공원 | F26: 근린공원 | H26: 어린이공원 | J26: 주제공원 | L26: 소공원 | N26: 비고
B27: 개소 | C27: 면적 | D27: 개소 | E27: 면적 | F27: 개소 | G27: 면적 | H27: 개소 | I27: 면적 | J27: 개소 | K27: 면적 | L27: 개소 | M27: 면적
A28: 총계 | B28: =SUM(B29:B31) -> 4 | D28: =SUM(D29:D31) -> 0 | F28: =SUM(F29:F31) -> 3 | H28: =SUM(H29:H31) -> 0 | J28: =SUM(J29:J31) -> 1 | L28: =SUM(L29:L31) -> 0
A29: 수정구 | B29: =D29+F29+H29+J29+L29 -> 0 | D29: 0 | F29: 0 | H29: 0 | J29: 0 | L29: 0
A30: 중원구 | B30: =D30+F30+H30+J30+L30 -> 0 | D30: 0 | F30: 0 | H30: 0 | J30: 0 | L30: 0
A31: 분당구 | B31: =D31+F31+H31+J31+L31 -> 4 | D31: 0 | F31: 3 | G31: 오리,맹산2,수내 | H31: 0 | J31: 1 | K31: 남서울묘지공원 | L31: 0
C34: 시 전체면적의 | E34: =C4/(E35*10000) -> 9.12418 | F34: % | G34: 1인당 공원결정면적 | I34: =C4/I35 -> 14.204914 | J34: ㎡
C35: 시 전체 면적 | E35: 141.64 | F35: ㎢ | G35: 성남시 인구 | I35: 909790 | J35: 명 | K35: 2025.5.인구
C36: 성남시 도시계획시설결정면적 | E36: 141.82
C38: 1인당 공원조성면적 | E38: =C12/I35 -> 11.754342 | G38: 공원조성률 | I38: =C12/C4 -> 0.82748425
G39: 공원조성률 = 1인당 공원결정면적 대비 조성률
B42: =B4-B12-B20 -> 0 | C42: =C4-C12-C20 -> 0 | D42: =D4-D12-D20 -> 0 | E42: =E4-E12-E20 -> 0 | F42: =F4-F12-F20 -> 0 | G42: =G4-G12-G20 -> 0 | H42: =H4-H12-H20 -> 0 | I42: =I4-I12-I20 -> 0 | ... M42: =M4-M12-M20 -> 0
B43: =B5-B13-B21 -> 0 | C43: =C5-C13-C21 -> 0 | D43: =D5-D13-D21 -> 0 | E43: =E5-E13-E21 -> 0 | F43: =F5-F13-F21 -> 0 | G43: =G5-G13-G21 -> 0 | H43: =H5-H13-H21 -> 0 | I43: =I5-I13-I21 -> 0 | ... M43: =M5-M13-M21 -> 0
B44: =B6-B14-B22 -> 0 | C44: =C6-C14-C22 -> 0 | D44: =D6-D14-D22 -> 0 | E44: =E6-E14-E22 -> 0 | F44: =F6-F14-F22 -> 0 | G44: =G6-G14-G22 -> 9.276846e-11 | H44: =H6-H14-H22 -> 0 | I44: =I6-I14-I22 -> 0 | ... M44: =M6-M14-M22 -> 0
B45: =B7-B15-B23 -> 0 | C45: =C7-C15-C23 -> 0 | D45: =D7-D15-D23 -> 0 | E45: =E7-E15-E23 -> 0 | F45: =F7-F15-F23 -> 0 | G45: =G7-G15-G23 -> 0 | H45: =H7-H15-H23 -> 0 | I45: =I7-I15-I23 -> 3.4901859e-11 | ... M45: =M7-M15-M23 -> 0

Sheet 시군별
A1: 도시공원 조성현황 총괄(성남시)
A2: =총괄!A2 -> (기준 : 2026.01.) | S2: (면적:㎡)
A3: 시 · 군 | B3: 도시계획시설결정 | D3: 조 성 | N3: 미 조 성
D4: 계 | F4: 조 성 (운영중) | H4: 전체조성완료 | J4: 일부조성완료 | L4: 조 성 중 | P4: 미 추 진 | R4: 계
L5: 시설공사중 | N5: 행정절차중
B6: 개소수 | C6: 면적 | D6: 개소수 | E6: 면적 | F6: 개소수 | G6: 면적 | H6: 개소수 | I6: 면적 | J6: 개소수 | K6: 면적 | L6: 개소수 | M6: 면적 | N6: 개소수 | O6: 면적 | P6: 개소수 | Q6: 면적 | R6: 개소수 | S6: 면적
A7: 성남시 | B7: =소공원!F7+어린이!F7+근린!F7+역사!F7+문화!F7+수변!F7+묘지!F7+체육!F7+도시자연!F7+공원구역!F7 -> 270 | C7: =소공원!G7+어린이!G7+근린!G7+역사!G7+문화!G7+수변!G7+묘지!G7+체육!G7+도시자연!G7+공원구역!G7 -> 12923488 | D7: =소공원!I7+어린이!I7+근린!I7+역사!I7+문화!I7+수변!I7+묘지!I7+체육!I7+도시자연!I7+공원구역!H7 -> 218 | E7: =소공원!J7+어린이!J7+근린!J7+역사!J7+문화!J7+수변!J7+묘지!J7+체육!J7+도시자연!J7+공원구역!I7 -> 10693983 | F7: =소공원!K7+어린이!K7+근린!K7+역사!K7+문화!K7+수변!K7+묘지!K7+체육!K7+도시자연!K7+공원구역!J7 -> 218 | G7: =소공원!L7+어린이!L7+근린!L7+역사!L7+문화!L7+수변!L7+묘지!L7+체육!L7+도시자연!L7+공원구역!K7 -> 10693983 | H7: =소공원!M7+어린이!M7+근린!M7+역사!M7+문화!M7+수변!M7+묘지!M7+체육!M7+도시자연!M7+공원구역!L7 -> 214 | I7: =소공원!N7+어린이!N7+근린!N7+역사!N7+문화!N7+수변!N7+묘지!N7+체육!N7+도시자연!N7+공원구역!M7 -> 9978548.9 | J7: =소공원!O7+어린이!O7+근린!O7+역사!O7+문화!O7+수변!O7+묘지!O7+체육!O7+도시자연!O7+공원구역!N7 -> 4 | K7: =소공원!P7+어린이!P7+근린!P7+역사!P7+문화!P7+수변!P7+묘지!P7+체육!P7+도시자연!P7+공원구역!O7 -> 715434.3 | ... S7: =소공원!X7+어린이!X7+근린!X7+역사!X7+문화!X7+수변!X7+묘지!X7+체육!X7+도시자연!X7+공원구역!W7 -> 2229505.3

Sheet 총괄
A1: 도시공원 조성현황 총괄
A2: (기준 : 2026.01.) | S2: (면적:㎡)
A3: 시 · 군 | B3: 도시계획시설결정 | D3: 조 성 | N3: 미 조 성
B4: 개소수 | C4: 면적 | D4: 계 | F4: 조 성 (운영중) | L4: 조 성 중 | P4: 미 추 진 | R4: 계
F5: 계 | H5: 전체조성완료 | J5: 일부조성완료 | L5: 시설공사중 | N5: 행정절차 이행중
D6: 개소수 | E6: 면적 | F6: 개소수 | G6: 면적 | H6: 개소수 | I6: 면적 | J6: 개소수 | K6: 면적 | L6: 개소수 | M6: 면적 | N6: 개소수 | O6: 면적 | P6: 개소수 | Q6: 면적 | R6: 개소수 | S6: 면적
A7: 합계 | B7: =B8+B12+B18+B19 -> 270 | C7: =C8+C12+C18+C19 -> 12923488 | D7: =D8+D12+D18+D19 -> 218 | E7: =E8+E12+E18+E19 -> 10693983 | F7: =F8+F12+F18+F19 -> 218 | G7: =G8+G12+G18+G19 -> 10693983 | H7: =H8+H12+H18+H19 -> 214 | I7: =I8+I12+I18+I19 -> 9978548.9 | ... S7: =S8+S12+S18+S19 -> 2229505.3
A8: 생활권공원 | B8: =SUM(B9:B11) -> 240 | C8: =SUM(C9:C11) -> 10521559 | D8: =SUM(D9:D11) -> 208 | E8: =SUM(E9:E11) -> 9499456.2 | F8: =SUM(F9:F11) -> 208 | G8: =SUM(G9:G11) -> 9499456.2 | H8: =SUM(H9:H11) -> 205 | I8: =SUM(I9:I11) -> 9414289.9 | ... S8: =SUM(S9:S11) -> 1022103.1
A9: 소공원 | B9: =소공원!F7 -> 31 | C9: =소공원!G7 -> 32585.6 | D9: =소공원!I7 -> 26 | E9: =소공원!J7 -> 24783.6 | F9: =소공원!K7 -> 26 | G9: =소공원!L7 -> 24783.6 | H9: =소공원!M7 -> 26 | I9: =소공원!N7 -> 24783.6 | J9: =소공원!O7 -> 0 | K9: =소공원!P7 -> 0 | ... S9: =소공원!X7 -> 7802 | U9: =B9-D9-R9 -> 0
A10: 어린이공원 | B10: =어린이!F7 -> 140 | C10: =어린이!G7 -> 499980.6 | D10: =어린이!I7 -> 124 | E10: =어린이!J7 -> 437025.6 | F10: =어린이!K7 -> 124 | G10: =어린이!L7 -> 437025.6 | H10: =어린이!M7 -> 124 | I10: =어린이!N7 -> 437025.6 | J10: =어린이!O7 -> 0 | K10: =어린이!P7 -> 0 | ... S10: =어린이!X7 -> 62955 | U10: =B10-D10-R10 -> 0
A11: 근린공원 | B11: =근린!F7 -> 69 | C11: =근린!G7 -> 9988993.1 | D11: =근린!I7 -> 58 | E11: =근린!J7 -> 9037647 | F11: =근린!K7 -> 58 | G11: =근린!L7 -> 9037647 | H11: =근린!M7 -> 55 | I11: =근린!N7 -> 8952480.7 | J11: =근린!O7 -> 3 | K11: =근린!P7 -> 85166.3 | ... S11: =근린!X7 -> 951346.1 | U11: =B11-D11-R11 -> 0
A12: 주제공원 | B12: =SUM(B13:B17) -> 28 | C12: =SUM(C13:C17) -> 1826080.4 | D12: =SUM(D13:D17) -> 10 | E12: =SUM(E13:E17) -> 1194527 | F12: =SUM(F13:F17) -> 10 | G12: =SUM(G13:G17) -> 1194527 | H12: =SUM(H13:H17) -> 9 | I12: =SUM(I13:I17) -> 564259 | ... S12: =SUM(S13:S17) -> 631553.4 | U12: =B12-D12-R12 -> 0
A13: 역사공원 | B13: =역사!F7 -> 2 | C13: =역사!G7 -> 64940.5 | D13: =역사!I7 -> 2 | E13: =역사!J7 -> 64940.5 | F13: =역사!K7 -> 2 | G13: =역사!L7 -> 64940.5 | H13: =역사!M7 -> 2 | I13: =역사!N7 -> 64940.5 | J13: =역사!O7 -> 0 | K13: =역사!P7 -> 0 | ... S13: =역사!X7 -> 0 | U13: =B13-D13-R13 -> 0
A14: 문화공원 | B14: =문화!F7 -> 11 | C14: =문화!G7 -> 97569.7 | D14: =문화!I7 -> 1 | E14: =문화!J7 -> 58788 | F14: =문화!K7 -> 1 | G14: =문화!L7 -> 58788 | H14: =문화!M7 -> 1 | I14: =문화!N7 -> 58788 | J14: =문화!O7 -> 0 | K14: =문화!P7 -> 0 | ... S14: =문화!X7 -> 38781.7 | U14: =B14-D14-R14 -> 0
A15: 수변공원 | B15: =수변!F7 -> 6 | C15: =수변!G7 -> 360215 | D15: =수변!I7 -> 0 | E15: =수변!J7 -> 0 | F15: =수변!K7 -> 0 | G15: =수변!L7 -> 0 | H15: =수변!M7 -> 0 | I15: =수변!N7 -> 0 | J15: =수변!O7 -> 0 | K15: =수변!P7 -> 0 | ... S15: =수변!X7 -> 360215 | U15: =B15-D15-R15 -> 0
A16: 묘지공원 | B16: =묘지!F7 -> 1 | C16: =묘지!G7 -> 635928 | D16: =묘지!I7 -> 1 | E16: =묘지!J7 -> 630268 | F16: =묘지!K7 -> 1 | G16: =묘지!L7 -> 630268 | H16: =묘지!M7 -> 0 | I16: =묘지!N7 -> 0 | J16: =묘지!O7 -> 1 | K16: =묘지!P7 -> 630268 | ... S16: =묘지!X7 -> 5660 | U16: =B16-D16-R16 -> 0
A17: 체육공원 | B17: =체육!F7 -> 8 | C17: =체육!G7 -> 667427.2 | D17: =체육!I7 -> 6 | E17: =체육!J7 -> 440530.5 | F17: =체육!K7 -> 6 | G17: =체육!L7 -> 440530.5 | H17: =체육!M7 -> 6 | I17: =체육!N7 -> 440530.5 | J17: =체육!O7 -> 0 | K17: =체육!P7 -> 0 | ... S17: =체육!X7 -> 226896.7 | U17: =B17-D17-R17 -> 0
A18: 도시자연공원 | B18: =도시자연!F7 -> 2 | C18: =도시자연!G7 -> 575848.8 | D18: =도시자연!I7 -> 0 | E18: =도시자연!J7 -> 0 | F18: =도시자연!K7 -> 0 | G18: =도시자연!L7 -> 0 | H18: =도시자연!M7 -> 0 | I18: =도시자연!N7 -> 0 | J18: =도시자연!O7 -> 0 | K18: =도시자연!P7 -> 0 | ... S18: =도시자연!X7 -> 575848.8 | U18: =B18-D18-R18 -> 0
A19: 도시자연공원구역 | B19: =공원구역!F7 -> 0 | C19: =공원구역!G7 -> 0 | D19: =공원구역!H7 -> 0 | E19: =공원구역!I7 -> 0 | F19: =공원구역!J7 -> 0 | G19: =공원구역!K7 -> 0 | H19: =공원구역!L7 -> 0 | I19: =공원구역!M7 -> 0 | ... S19: =공원구역!W7 -> 0 | U19: =B19-D19-R19 -> 0

Sheet 소공원
A1: 1. 소공원 조성현황 | X1: (면적:㎡)
A2: =총괄!A2 -> (기준 : 2026.01.)
A3: 번호 | B3: 시 · 군 | C3: 공원명 | D3: 위치 | E3: 도시계획시설결정 | I3: 조 성 | S3: 미 조 성 | Y3: 비고
E4: 공원 결정일자 | F4: 개소수 | G4: 면적 | H4: 시설결정 폐지일자 | I4: 계 | K4: 조 성 (운영중) | Q4: 조 성 중 | U4: 미 추 진 | W4: 계
K5: 계 | M5: 전체조성완료 | O5: 일부조성완료 | Q5: 시설공사중 | S5: 행정절차 이행중 | Z5: 검토
I6: 개소수 | J6: 면적 | K6: 개소수 | L6: 면적 | M6: 개소수 | N6: 면적 | O6: 개소수 | P6: 면적 | Q6: 개소수 | R6: 면적 | S6: 개소수 | T6: 면적 | U6: 개소수 | V6: 면적 | W6: 개소수 | X6: 면적
B7: 성남시 | F7: =SUM(F8:F76) -> 31 | G7: =SUM(G8:G76) -> 32585.6 | I7: =SUM(I8:I76) -> 26 | J7: =SUM(J8:J76) -> 24783.6 | K7: =SUM(K8:K76) -> 26 | L7: =SUM(L8:L76) -> 24783.6 | M7: =SUM(M8:M76) -> 26 | N7: =SUM(N8:N76) -> 24783.6 | O7: =SUM(O8:O76) -> 0 | P7: =SUM(P8:P76) -> 0 | ... X7: =SUM(X8:X76) -> 7802 | Z7: =G7-J7-X7 -> 0 | AA7: =F7-I7-W7 -> 0
A8: 1 | B8: 성남시 | C8: 힐스소공원 | D8: 중원구 중앙동 549 | E8: 06.1.16. | F8: 1 | G8: 1090 | I8: =K8+Q8 -> 1 | J8: =L8+R8 -> 1090 | K8: =M8+O8 -> 1 | L8: =N8+P8 -> 1090 | M8: 1 | N8: 1090 | O8: 0 | Q8: 0 | S8: 0 | U8: 0 | W8: =S8+U8 -> 0 | X8: =T8+V8 -> 0 | Z8: =G8-J8-X8 -> 0 | AA8: =F8-I8-W8 -> 0
A9: 2 | B9: 성남시 | C9: 단대지구1호(하늘빛) | D9: 수정구 단대동 101-2 | E9: 08.10.17. | F9: 1 | G9: 1998.2 | I9: =K9+Q9 -> 1 | J9: =L9+R9 -> 1998.2 | K9: =M9+O9 -> 1 | L9: =N9+P9 -> 1998.2 | M9: 1 | N9: 1998.2 | O9: 0 | Q9: 0 | S9: 0 | U9: 0 | W9: =S9+U9 -> 0 | X9: =T9+V9 -> 0 | Z9: =G9-J9-X9 -> 0 | AA9: =F9-I9-W9 -> 0
A10: 3 | B10: 성남시 | C10: 금상(금광1 주택재개발 정비사업) | D10: 중원구 금광동 653 | E10: 08.11.26. | F10: 1 | G10: 1305.6 | I10: =K10+Q10 -> 1 | J10: =L10+R10 -> 1305.6 | K10: 1 | L10: 1305.6 | M10: 1 | N10: 1305.6 | O10: 0 | S10: 0 | T10: 0 | U10: 0 | V10: 0 | W10: =S10+U10 -> 0 | X10: =T10+V10 -> 0 | Z10: =G10-J10-X10 -> 0 | AA10: =F10-I10-W10 -> 0
A11: 4 | B11: 성남시 | C11: 심곡 | D11: 수정구 심곡동 338-11 | E11: 08.06.23. | F11: 1 | G11: 356 | I11: =K11+Q11 -> 1 | J11: =L11+R11 -> 356 | K11: =M11+O11 -> 1 | L11: =N11+P11 -> 356 | M11: 1 | N11: 356 | O11: 0 | Q11: 0 | S11: 0 | U11: 0 | V11: 0 | W11: =S11+U11 -> 0 | X11: =T11+V11 -> 0 | Z11: =G11-J11-X11 -> 0 | AA11: =F11-I11-W11 -> 0
A12: 5 | B12: 성남시 | C12: 은행 제1호 | D12: 중원구 은행동 2521 | E12: 07.10.29. | F12: 1 | G12: 120.1 | I12: =K12+Q12 -> 1 | J12: =L12+R12 -> 120.1 | K12: =M12+O12 -> 1 | L12: =N12+P12 -> 120.1 | M12: 1 | N12: 120.1 | O12: 0 | Q12: 0 | S12: 0 | U12: 0 | V12: 0 | W12: 0 | X12: =T12+V12 -> 0 | Z12: =G12-J12-X12 -> 0 | AA12: =F12-I12-W12 -> 0
A13: 6 | B13: 성남시 | C13: 은행 제2호 | D13: 중원구 은행동 2515 | E13: 07.10.29. | F13: 1 | G13: 173.4 | I13: =K13+Q13 -> 1 | J13: =L13+R13 -> 173.4 | K13: =M13+O13 -> 1 | L13: =N13+P13 -> 173.4 | M13: 1 | N13: 173.4 | O13: 0 | Q13: 0 | S13: 0 | U13: 0 | V13: 0 | W13: 0 | X13: 0 | Z13: =G13-J13-X13 -> 0 | AA13: =F13-I13-W13 -> 0
A14: 7 | B14: 성남시 | C14: 은행 제3호 | D14: 중원구 은행동 2523 | E14: 07.10.29. | F14: 1 | G14: 54.9 | I14: =K14+Q14 -> 1 | J14: =L14+R14 -> 54.9 | K14: 1 | L14: =N14+P14 -> 54.9 | M14: 1 | N14: 54.9 | O14: 0 | Q14: 0 | S14: 0 | U14: 0 | V14: 0 | W14: =S14+U14 -> 0 | X14: =T14+V14 -> 0 | Z14: =G14-J14-X14 -> 0 | AA14: =F14-I14-W14 -> 0
A15: 8 | B15: 성남시 | C15: 은행 제5호 | D15: 중원구 은행동 2478 | E15: 07.10.29. | F15: 1 | G15: 54.4 | I15: =K15+Q15 -> 1 | J15: =L15+R15 -> 54.4 | K15: =M15+O15 -> 1 | L15: =N15+P15 -> 54.4 | M15: 1 | N15: 54.4 | O15: 0 | Q15: 0 | S15: 0 | U15: 0 | V15: 0 | W15: =S15+U15 -> 0 | X15: =T15+V15 -> 0 | Z15: =G15-J15-X15 -> 0 | AA15: =F15-I15-W15 -> 0
A16: 9 | B16: 성남시 | C16: 은행 제7호 | D16: 중원구 은행동 2465 | E16: 07.10.29. | F16: 1 | G16: 109.6 | I16: =K16+Q16 -> 1 | J16: =L16+R16 -> 109.6 | K16: =M16+O16 -> 1 | L16: =N16+P16 -> 109.6 | M16: 1 | N16: 109.6 | O16: 0 | Q16: 0 | S16: 0 | U16: 0 | V16: 0 | W16: =S16+U16 -> 0 | X16: =T16+V16 -> 0 | Z16: =G16-J16-X16 -> 0 | AA16: =F16-I16-W16 -> 0
A17: 10 | B17: 성남시 | C17: 은행 제8호 | D17: 중원구 은행동 2482 | E17: 07.10.29. | F17: 1 | G17: 156.2 | I17: =K17+Q17 -> 1 | J17: =L17+R17 -> 156.2 | K17: =M17+O17 -> 1 | L17: =N17+P17 -> 156.2 | M17: 1 | N17: 156.2 | O17: 0 | Q17: 0 | S17: 0 | U17: 0 | V17: 0 | W17: =S17+U17 -> 0 | X17: =T17+V17 -> 0 | Z17: =G17-J17-X17 -> 0 | AA17: =F17-I17-W17 -> 0
A18: 11 | B18: 성남시 | C18: 은행 제9호 | D18: 중원구 은행동 2487 | E18: 07.10.29. | F18: 1 | G18: 147.3 | I18: =K18+Q18 -> 1 | J18: =L18+R18 -> 147.3 | K18: =M18+O18 -> 1 | L18: =N18+P18 -> 147.3 | M18: 1 | N18: 147.3 | O18: 0 | Q18: 0 | S18: 0 | U18: 0 | V18: 0 | W18: =S18+U18 -> 0 | X18: =T18+V18 -> 0 | Z18: =G18-J18-X18 -> 0 | AA18: =F18-I18-W18 -> 0
A19: 12 | B19: 성남시 | C19: 은행 제11호 | D19: 중원구 은행동 2525 | E19: 07.10.29. | F19: 1 | G19: 1018.8 | I19: =K19+Q19 -> 1 | J19: =L19+R19 -> 1018.8 | K19: =M19+O19 -> 1 | L19: =N19+P19 -> 1018.8 | M19: 1 | N19: 1018.8 | O19: 0 | Q19: 0 | S19: 0 | U19: 0 | V19: 0 | W19: =S19+U19 -> 0 | X19: =T19+V19 -> 0 | Z19: =G19-J19-X19 -> 0 | AA19: =F19-I19-W19 -> 0
A20: 13 | B20: 성남시 | C20: 은행 제13호 | D20: 중원구 은행동 2509 | E20: 07.10.29. | F20: 1 | G20: 1762.4 | I20: =K20+Q20 -> 1 | J20: =L20+R20 -> 1762.4 | K20: =M20+O20 -> 1 | L20: =N20+P20 -> 1762.4 | M20: 1 | N20: 1762.4 | O20: 0 | Q20: 0 | S20: 0 | U20: 0 | V20: 0 | W20: =S20+U20 -> 0 | X20: =T20+V20 -> 0 | Z20: =G20-J20-X20 -> 0 | AA20: =F20-I20-W20 -> 0
A21: 14 | B21: 성남시 | C21: 은행 제14호 | D21: 중원구 은행동 2473 | E21: 07.10.29. | F21: 1 | G21: 934.9 | I21: =K21+Q21 -> 1 | J21: =L21+R21 -> 934.9 | K21: =M21+O21 -> 1 | L21: =N21+P21 -> 934.9 | M21: 1 | N21: 934.9 | O21: 0 | Q21: 0 | S21: 0 | U21: 0 | V21: 0 | W21: =S21+U21 -> 0 | X21: =T21+V21 -> 0 | Z21: =G21-J21-X21 -> 0 | AA21: =F21-I21-W21 -> 0
A22: 15 | B22: 성남시 | C22: 은행 제15호 | D22: 중원구 은행동 2519 | E22: 14.12.26 | F22: 1 | G22: 646.8 | I22: =K22+Q22 -> 1 | J22: =L22+R22 -> 646.8 | K22: =M22+O22 -> 1 | L22: =N22+P22 -> 646.8 | M22: 1 | N22: 646.8 | O22: 0 | Q22: 0 | S22: 0 | U22: 0 | V22: 0 | W22: =S22+U22 -> 0 | X22: =T22+V22 -> 0 | Z22: =G22-J22-X22 -> 0 | AA22: =F22-I22-W22 -> 0
A23: 16 | B23: 성남시 | C23: 은행 제16호 | D23: 중원구 은행동 2506 | E23: 14.12.26 | F23: 1 | G23: 605.7 | I23: =K23+Q23 -> 1 | J23: =L23+R23 -> 605.7 | K23: =M23+O23 -> 1 | L23: =N23+P23 -> 605.7 | M23: 1 | N23: 605.7 | O23: 0 | Q23: 0 | S23: 0 | U23: 0 | V23: 0 | W23: =S23+U23 -> 0 | X23: =T23+V23 -> 0 | Z23: =G23-J23-X23 -> 0 | AA23: =F23-I23-W23 -> 0
A24: 17 | B24: 성남시 | C24: 정자소공원 | D24: 분당구 정자동 179-3,179-11,179-12 | E24: 11.09.23 | H24: 24.01.08. | Z24: =G24-J24-X24 -> 0 | AA24: =F24-I24-W24 -> 0
A25: 18 | B25: 성남시 | C25: 고등 제7호 | D25: 수정구 고등동 396-9대 | E25: 05.06.27. | H25: 25.01.06.
A26: 19 | B26: 성남시 | C26: 신촌 제1호 | D26: 수정구 신촌동 211-1일원 | E26: 05.06.27. | H26: 25.01.06.
A27: 20 | B27: 성남시 | C27: 신촌 제2호 | D27: 수정구 신촌동 190-4일원 | E27: 05.06.27. | H27: 25.01.06.
A28: 21 | B28: 성남시 | C28: 신촌 제3호 | D28: 수정구 신촌동 114-31일원 | E28: 05.06.27. | H28: 25.01.06.
A29: 22 | B29: 성남시 | C29: 신촌 제4호 | D29: 수정구 신촌동 206-4일원 | E29: 05.06.27. | H29: 25.01.06.
A30: 23 | B30: 성남시 | C30: 신촌 제5호 | D30: 수정구 신촌동 203-15일원 | E30: 05.06.27. | H30: 25.01.06.
A31: 24 | B31: 성남시 | C31: 오야 제1호 | D31: 수정구 오야동 237-3일원 | E31: 05.06.27. | H31: 25.01.06.
A32: 25 | B32: 성남시 | C32: 오야 제2호 | D32: 수정구 오야동 297-2일원 | E32: 05.06.27. | H32: 25.01.06.
A33: 26 | B33: 성남시 | C33: 오야 제3호 | D33: 수정구 오야동 257-12일원 | E33: 05.06.27. | H33: 25.01.06.
A34: 27 | B34: 성남시 | C34: 오야 제4호 | D34: 수정구 오야동 245-27일원 | E34: 05.06.27. | F34: 1 | G34: 638 | I34: =K34+Q34 -> 1 | J34: =L34+R34 -> 638 | K34: =M34+O34 -> 1 | L34: =N34+P34 -> 638 | M34: 1 | N34: 638 | O34: 0 | Q34: 0 | S34: 0 | T34: 0 | U34: 0 | V34: 0 | W34: =S34+U34 -> 0 | X34: =T34+V34 -> 0 | Y34: 취락지구 | Z34: =G34-J34-X34 -> 0 | AA34: =F34-I34-W34 -> 0
A35: 28 | B35: 성남시 | C35: 심곡 제2호 | D35: 수정구 심곡동 391-4일원 | E35: 05.06.27. | H35: 25.01.06.
A36: 29 | B36: 성남시 | C36: 심곡 제3호 | D36: 수정구 심곡동 343-8일원 | E36: 05.06.27. | H36: 25.01.06.
A37: 30 | B37: 성남시 | C37: 심곡 제4호 | D37: 수정구 심곡동 330일원 | E37: 05.06.27. | H37: 25.01.06.
A38: 31 | B38: 성남시 | C38: 심곡 제5호 | D38: 수정구 심곡동 323-9일원 | E38: 05.06.27. | H38: 25.01.06.
B39: 성남시 | C39: 안골 제1호 | H39: 20.06.30. | Z39: =G39-J39-X39 -> 0 | AA39: =F39-I39-W39 -> 0
B40: 성남시 | C40: 안골 제2호 | H40: 20.06.30. | Z40: =G40-J40-X40 -> 0 | AA40: =F40-I40-W40 -> 0
B41: 성남시 | C41: 가마절 제1호 | H41: 20.06.30. | Z41: =G41-J41-X41 -> 0 | AA41: =F41-I41-W41 -> 0
B42: 성남시 | C42: 가마절 제2호 | H42: 20.06.30. | Z42: =G42-J42-X42 -> 0 | AA42: =F42-I42-W42 -> 0
A43: 32 | B43: 성남시 | C43: 등자 제1호 | D43: 수정구 고등동 169-2일원 | E43: 05.06.27. | H43: 25.01.06.
A44: 33 | B44: 성남시 | C44: 등자 제2호 | D44: 수정구 고등동 159-3일원 | E44: 05.06.27. | H44: 25.01.06.
A45: 34 | B45: 성남시 | C45: 적푸리 제1호 | D45: 수정구 상적동 19-6일원 | E45: 05.06.27. | H45: 25.01.06.
A46: 35 | B46: 성남시 | C46: 적푸리 제2호 | D46: 수정구 상적동 21-3일원 | E46: 05.06.27. | H46: 25.01.06.
A47: 36 | B47: 성남시 | C47: 적푸리 제3호 | D47: 수정구 상적동 94-9일원 | E47: 05.06.27. | H47: 25.01.06.
A48: 37 | B48: 성남시 | C48: 상적 제1호 | D48: 수정구 상적동 174-12일원 | E48: 05.06.27. | H48: 25.01.06.
A49: 38 | B49: 성남시 | C49: 상적 제2호 | D49: 수정구 상적동 168-5일원 | E49: 05.06.27. | H49: 25.01.06.
A50: 39 | B50: 성남시 | C50: 금현 제1호 | D50: 수정구 금토동 64-5일원 | E50: 05.06.27. | H50: 25.01.06.
A51: 40 | B51: 성남시 | C51: 금현 제2호 | D51: 수정구 금토동 89-2일원 | E51: 05.06.27. | H51: 25.01.06.
A52: 41 | B52: 성남시 | C52: 금현 제3호 | D52: 수정구 금토동 103일원 | E52: 05.06.27. | H52: 25.01.06.
B53: 성남시 | C53: 외동 제1호 | H53: 20.12.30. | Z53: =G53-J53-X53 -> 0 | AA53: =F53-I53-W53 -> 0
B54: 성남시 | C54: 외동 제2호 | H54: 20.12.30. | Z54: =G54-J54-X54 -> 0 | AA54: =F54-I54-W54 -> 0
B55: 성남시 | C55: 외동 제3호 | H55: 20.12.30. | Z55: =G55-J55-X55 -> 0 | AA55: =F55-I55-W55 -> 0
B56: 성남시 | C56: 내동 제1호 | H56: 20.12.30. | Z56: =G56-J56-X56 -> 0 | AA56: =F56-I56-W56 -> 0
B57: 성남시 | C57: 내동 제2호 | H57: 20.12.30. | Z57: =G57-J57-X57 -> 0 | AA57: =F57-I57-W57 -> 0
B58: 성남시 | C58: 내동 제3호 | H58: 20.12.30. | Z58: =G58-J58-X58 -> 0 | AA58: =F58-I58-W58 -> 0
A59: 42 | B59: 성남시 | C59: 수진 | D59: 수정구 수진동 4763일원 | E59: 05.06.27. | F59: 1 | G59: 795 | I59: =K59+Q59 -> 0 | J59: =L59+R59 -> 0 | K59: =M59+O59 -> 0 | L59: =N59+P59 -> 0 | M59: 0 | N59: 0 | O59: 0 | Q59: 0 | S59: 1 | T59: 795 | U59: 0 | V59: 0 | W59: =S59+U59 -> 1 | X59: =T59+V59 -> 795 | Y59: 취락지구 | AA59: =F59-I59-W59 -> 0 | AB59: =G59-J59-X59 -> 0 | AC59: =S59+U59-W59 -> 0 | AD59: =T59+V59-X59 -> 0 | AE59: =I59-K59-Q59 -> 0 | AF59: =J59-L59-R59 -> 0 | AH59: =K59-M59-O59 -> 0 | AI59: =L59-N59-P59 -> 0
A60: 43 | B60: 성남시 | C60: 샘골 | D60: 수정구 사송동 642일원 | E60: 05.06.27. | H60: 25.01.06.
A61: 44 | B61: 성남시 | C61: 아랫말 제1호 | D61: 중원구 갈현동 292-2일원 | E61: 05.06.27. | H61: 25.01.06.
A62: 45 | B62: 성남시 | C62: 아랫말 제2호 | D62: 중원구 갈현동 244-1일원 | E62: 05.06.27. | H62: 25.01.06.
A63: 46 | B63: 성남시 | C63: 아랫말 제3호 | D63: 중원구 갈현동 160일원 | E63: 05.06.27. | H63: 25.01.06.
A64: 47 | B64: 성남시 | C64: 여수지구 제1호 | D64: 중원구 하대원동 16 | E64: 15.12.24 | F64: 1 | G64: 2673.1 | I64: =K64 -> 1 | J64: =L64 -> 2673.1 | K64: =M64+O64 -> 1 | L64: =N64+P64 -> 2673.1 | M64: 1 | N64: 2673.1 | O64: 0 | P64: 0 | Q64: 0 | R64: 0 | S64: 0 | T64: 0 | U64: 0 | V64: 0 | W64: =S64+U64 -> 0 | X64: =T64+V64 -> 0 | Z64: =G64-J64-X64 -> 0 | AA64: =F64-I64-W64 -> 0
A65: 48 | B65: 성남시 | C65: 대장소공원 | D65: 분당구 대장동 235-2 일원(판교대장지구) | E65: 2016.11.8 | F65: 1 | G65: 2569.9 | I65: =K65+Q65 -> 1 | J65: =L65+R65 -> 2569.9 | K65: 1 | L65: =N65+P65 -> 2569.9 | M65: 1 | N65: 2569.9 | O65: 0 | P65: 0 | S65: 0 | T65: 0 | U65: 0 | V65: 0 | W65: =S65+U65 -> 0 | X65: =T65+V65 -> 0 | Z65: =G65-J65-X65 -> 0 | AA65: =F65-I65-W65 -> 0
A66: 49 | B66: 성남시 | C66: 백현 | D66: 분당구 백현동 516(식품연구원 지구단위계획구) | E66: 2016.12.1 | F66: 1 | G66: 1397 | I66: =K66+Q66 -> 1 | J66: =L66+R66 -> 1397 | K66: =M66+O66 -> 1 | L66: =N66+P66 -> 1397 | M66: 1 | N66: 1397 | O66: 0 | P66: 0 | Q66: 0 | R66: 0 | S66: 0 | T66: 0 | U66: 0 | V66: 0 | W66: =S66+U66 -> 0 | X66: =T66+V66 -> 0 | Z66: =G66-J66-X66 -> 0 | AA66: =F66-I66-W66 -> 0
A67: 50 | B67: 성남시 | C67: 영장산 | D67: 수정구 신흥동 6950 일원(신흥 주택재건축 정비사업) | E67: 2011.12.30 | F67: 1 | G67: 5181 | I67: =K67+Q67 -> 1 | J67: =L67+R67 -> 5181 | K67: =M67+O67 -> 1 | L67: =N67+P67 -> 5181 | M67: 1 | N67: 5181 | O67: 0 | P67: 0 | Q67: 0 | R67: 0 | S67: 0 | T67: 0 | U67: 0 | V67: 0 | W67: =S67+U67 -> 0 | X67: =T67+V67 -> 0 | Z67: =G67-J67-X67 -> 0 | AA67: =F67-I67-W67 -> 0
A68: 51 | B68: 성남시 | C68: 단남(금광1 주택재개발 정비사업) | D68: 중원구 금광동 595번지 일원 | E68: 2017.08.21. | F68: 1 | G68: 401.2 | I68: 1 | J68: =L68+R68 -> 401.2 | K68: 1 | L68: 401.2 | M68: 1 | N68: 401.2 | O68: 0 | P68: 0 | U68: 0 | V68: 0 | W68: =S68+U68 -> 0 | X68: =T68+V68 -> 0 | Z68: =G68-J68-X68 -> 0 | AA68: =F68-I68-W68 -> 0
A69: 52 | B69: 성남시 | C69: 신흥 소공원 | D69: 수정구 신흥동 863번지 일원(신흥2 주택재개발 정비사업) | E69: 2017.08.21. | F69: 1 | G69: 755.1 | I69: =K69+Q69 -> 1 | J69: =L69+R69 -> 755.1 | K69: =M69+O69 -> 1 | L69: =N69+P69 -> 755.1 | M69: 1 | N69: 755.1 | O69: 0 | P69: 0 | Q69: 0 | S69: 0 | T69: 0 | U69: 0 | V69: 0 | W69: =S69+U69 -> 0 | X69: =T69+V69 -> 0 | Y69: 성남시 고시 제2017-241호(2017.8.21.) | Z69: =G69-J69-X69 -> 0 | AA69: =F69-I69-W69 -> 0
A70: 53 | B70: 성남시 | C70: 소공원(판교제2테크노밸리) | D70: 수정구 금토동 314-1 일원 | E70: 2020.09.04. | F70: 1 | G70: 451 | I70: =K70+Q70 -> 1 | J70: =L70+R70 -> 451 | K70: =M70+O70 -> 1 | L70: =N70+P70 -> 451 | M70: 1 | N70: 451 | O70: 0 | P70: 0 | Q70: 0 | R70: 0 | S70: 0 | T70: 0 | U70: 0 | V70: 0 | W70: =S70+U70 -> 0 | X70: =T70+V70 -> 0 | Z70: =G70-J70-X70 -> 0 | AA70: =F70-I70-W70 -> 0
A71: 54 | B71: 성남시 | C71: 소공원(산성 주택재개발 정비사업) | D71: 수정구 산성동 922(수정구 수정남로 301) | E71: 2021.06.21. | F71: 1 | G71: 1042 | I71: =K71+Q71 -> 0 | J71: =L71+R71 -> 0 | K71: =M71+O71 -> 0 | L71: =N71+P71 -> 0 | M71: 0 | N71: 0 | O71: 0 | P71: 0 | Q71: 0 | R71: 0 | S71: 1 | T71: 1042 | U71: 0 | V71: 0 | W71: =S71+U71 -> 1 | X71: =T71+V71 -> 1042 | Z71: =G71-J71-X71 -> 0
A72: 55 | B72: 성남시 | C72: 소공원1(산성2도시환경개선사업) | D72: 수정구 산성동 570-4 | E72: 2009.07.27. | F72: 1 | G72: 80.5 | I72: =K72+Q72 -> 1 | J72: =L72+R72 -> 80.5 | K72: =M72+O72 -> 1 | L72: =N72+P72 -> 80.5 | M72: 1 | N72: 80.5 | O72: 0 | P72: 0 | Q72: 0 | R72: 0 | S72: 0 | T72: 0 | U72: 0 | V72: 0 | W72: =S72+U72 -> 0 | X72: =T72+V72 -> 0 | Y72: 성남시 고시 제2009-114호 신설, 성남시 고시 제2009-150호 공사완료 고시 | Z72: =G72-J72-X72 -> 0 | AA72: =F72-I72-W72 -> 0
A73: 56 | B73: 성남시 | C73: 소공원2(산성2도시환경개선사업) | D73: 수정구 산성동 580 | E73: 2009.07.27. | F73: 1 | G73: 102.5 | I73: =K73+Q73 -> 1 | J73: =L73+R73 -> 102.5 | K73: =M73+O73 -> 1 | L73: =N73+P73 -> 102.5 | M73: 1 | N73: 102.5 | O73: 0 | P73: 0 | Q73: 0 | R73: 0 | S73: 0 | T73: 0 | U73: 0 | V73: 0 | W73: =S73+U73 -> 0 | X73: =T73+V73 -> 0 | Z73: =G73-J73-X73 -> 0 | AA73: =F73-I73-W73 -> 0
A74: 57 | B74: 성남시 | C74: 소공원(성남일반산업단지 재생사업지구) | D74: 중원구 상대원동 252-1 일원 | E74: 2019.01.28. | F74: 1 | G74: 2500 | I74: =K74+Q74 -> 0 | J74: =L74+R74 -> 0 | K74: =M74+O74 -> 0 | L74: =N74+P74 -> 0 | M74: 0 | N74: 0 | O74: 0 | P74: 0 | Q74: 0 | R74: 0 | S74: 1 | T74: 2500 | U74: 0 | V74: 0 | W74: =S74+U74 -> 1 | X74: =T74+V74 -> 2500 | Z74: =G74-J74-X74 -> 0 | AA74: =F74-I74-W74 -> 0
A75: 58 | B75: 성남시 | C75: 소공원(성남복정1 공공주택지구) | D75: 수정구 복정동 72 일원 | E75: 2020.06.30. | F75: 1 | G75: 1265 | I75: =K75+Q75 -> 0 | J75: =L75+R75 -> 0 | K75: =M75+O75 -> 0 | L75: =N75+P75 -> 0 | M75: 0 | N75: 0 | O75: 0 | P75: 0 | Q75: 0 | R75: 0 | S75: 1 | T75: 1265 | U75: 0 | V75: 0 | W75: =S75+U75 -> 1 | X75: =T75+V75 -> 1265 | Z75: =G75-J75-X75 -> 0 | AA75: =F75-I75-W75 -> 0
A76: 59 | B76: 성남시 | C76: 소공원(성남금토 공공주택지구) | D76: 수정구 금토동 410-211 일원 | E76: 2020.12.30. | F76: 1 | G76: 2200 | I76: =K76+Q76 -> 0 | J76: =L76+R76 -> 0 | K76: =M76+O76 -> 0 | L76: =N76+P76 -> 0 | M76: 0 | N76: 0 | O76: 0 | P76: 0 | Q76: 0 | R76: 0 | S76: 1 | T76: 2200 | U76: 0 | V76: 0 | W76: =S76+U76 -> 1 | X76: =T76+V76 -> 2200 | Z76: =G76-J76-X76 -> 0 | AA76: =F76-I76-W76 -> 0

Sheet 어린이
A1: 2. 어린이공원 조성현황 | X1: (면적:㎡)
A2: =총괄!A2 -> (기준 : 2026.01.)
A3: 번호 | B3: 시 · 군 | C3: 공원명 | D3: 위치 | E3: 도시계획시설결정 | I3: 조 성 | S3: 미 조 성 | Y3: 비고
E4: 공원 결정일자 | F4: 개소수 | G4: 면적 | H4: 시설결정 폐지일자 | I4: 계 | K4: 조 성 (운영중) | Q4: 조 성 중 | U4: 미 추 진 | W4: 계
K5: 계 | M5: 전체조성완료 | O5: 일부조성완료 | Q5: 시설공사중 | S5: 행정절차 이행중
I6: 개소수 | J6: 면적 | K6: 개소수 | L6: 면적 | M6: 개소수 | N6: 면적 | O6: 개소수 | P6: 면적 | Q6: 개소수 | R6: 면적 | S6: 개소수 | T6: 면적 | U6: 개소수 | V6: 면적 | W6: 개소수 | X6: 면적
B7: 성남시 | F7: =SUM(F8:F201) -> 140 | G7: =SUM(G8:G201) -> 499980.6 | I7: =SUM(I8:I201) -> 124 | J7: =SUM(J8:J201) -> 437025.6 | K7: =SUM(K8:K201) -> 124 | L7: =SUM(L8:L201) -> 437025.6 | M7: =SUM(M8:M201) -> 124 | N7: =SUM(N8:N201) -> 437025.6 | O7: =SUM(O8:O201) -> 0 | P7: =SUM(P8:P201) -> 0 | ... X7: =SUM(X8:X201) -> 62955 | AA7: =G7-J7-X7 -> 0 | AB7: =F7-I7-W7 -> 0
A8: 1 | B8: 성남시 | C8: 꿈동산 어1 | D8: 분당구 야탑동 332번지 | E8: 90.06.22 | F8: 1 | G8: 5000 | I8: =K8+Q8 -> 1 | J8: =L8+R8 -> 5000 | K8: =M8+O8 -> 1 | L8: =N8+P8 -> 5000 | M8: 1 | N8: 5000 | O8: 0 | P8: 0 | Q8: 0 | R8: 0 | S8: 0 | T8: 0 | U8: 0 | V8: 0 | W8: =S8+U8 -> 0 | X8: =T8+V8 -> 0 | AA8: =G8-J8-X8 -> 0 | AB8: =F8-I8-W8 -> 0
A9: 2 | B9: 성남시 | C9: 하늘 어 2 | D9: 분당구 야탑동 337번지 | E9: 90.06.22 | F9: 1 | G9: 1946 | I9: =K9+Q9 -> 1 | J9: =L9+R9 -> 1946 | K9: =M9+O9 -> 1 | L9: =N9+P9 -> 1946 | M9: 1 | N9: 1946 | O9: 0 | P9: 0 | Q9: 0 | R9: 0 | S9: 0 | T9: 0 | U9: 0 | V9: 0 | W9: =S9+U9 -> 0 | X9: =T9+V9 -> 0 | AA9: =G9-J9-X9 -> 0 | AB9: =F9-I9-W9 -> 0
A10: 3 | B10: 성남시 | C10: 야탑 어3 | D10: 분당구 야탑동 340번지 | E10: 90.06.22 | F10: 1 | G10: 1872 | I10: =K10+Q10 -> 1 | J10: =L10+R10 -> 1872 | K10: =M10+O10 -> 1 | L10: =N10+P10 -> 1872 | M10: 1 | N10: 1872 | O10: 0 | P10: 0 | Q10: 0 | R10: 0 | S10: 0 | T10: 0 | U10: 0 | V10: 0 | W10: =S10+U10 -> 0 | X10: =T10+V10 -> 0 | AA10: =G10-J10-X10 -> 0 | AB10: =F10-I10-W10 -> 0
A11: 4 | B11: 성남시 | C11: 연꽃 어4 | D11: 분당구 야탑동 206번지 | E11: 90.06.22 | F11: 1 | G11: 1500.8 | I11: =K11+Q11 -> 1 | J11: =L11+R11 -> 1500.8 | K11: =M11+O11 -> 1 | L11: =N11+P11 -> 1500.8 | M11: 1 | N11: 1500.8 | O11: 0 | P11: 0 | Q11: 0 | R11: 0 | S11: 0 | T11: 0 | U11: 0 | V11: 0 | W11: =S11+U11 -> 0 | X11: =T11+V11 -> 0 | AA11: =G11-J11-X11 -> 0 | AB11: =F11-I11-W11 -> 0
A12: 5 | B12: 성남시 | C12: 매향 어5 | D12: 분당구 야탑동 214-1번지 | E12: 90.06.22 | F12: 1 | G12: 1663.6 | I12: =K12+Q12 -> 1 | J12: =L12+R12 -> 1663.6 | K12: =M12+O12 -> 1 | L12: =N12+P12 -> 1663.6 | M12: 1 | N12: 1663.6 | O12: 0 | P12: 0 | Q12: 0 | R12: 0 | S12: 0 | T12: 0 | U12: 0 | V12: 0 | W12: =S12+U12 -> 0 | X12: =T12+V12 -> 0 | AA12: =G12-J12-X12 -> 0 | AB12: =F12-I12-W12 -> 0
A13: 6 | B13: 성남시 | C13: 새싹 어6 | D13: 분당구 야탑동 208번지 | E13: 90.06.22 | F13: 1 | G13: 1500 | I13: =K13+Q13 -> 1 | J13: =L13+R13 -> 1500 | K13: =M13+O13 -> 1 | L13: =N13+P13 -> 1500 | M13: 1 | N13: 1500 | O13: 0 | P13: 0 | Q13: 0 | R13: 0 | S13: 0 | T13: 0 | U13: 0 | V13: 0 | W13: =S13+U13 -> 0 | X13: =T13+V13 -> 0 | AA13: =G13-J13-X13 -> 0 | AB13: =F13-I13-W13 -> 0
A14: 7 | B14: 성남시 | C14: 숲속 어7 | D14: 분당구 야탑동 213-1번지 | E14: 90.06.22 | F14: 1 | G14: 1585 | I14: 1 | J14: =L14+R14 -> 1585 | K14: =M14+O14 -> 1 | L14: =N14+P14 -> 1585 | M14: 1 | N14: 1585 | O14: 0 | P14: 0 | Q14: 0 | R14: 0 | S14: 0 | T14: 0 | U14: 0 | V14: 0 | W14: =S14+U14 -> 0 | X14: =T14+V14 -> 0 | AA14: =G14-J14-X14 -> 0 | AB14: =F14-I14-W14 -> 0
A15: 8 | B15: 성남시 | C15: 양촌 어8 | D15: 분당구 야탑동 178번지 | E15: 90.06.22 | F15: 1 | G15: 1533 | I15: =K15+Q15 -> 1 | J15: =L15+R15 -> 1533 | K15: =M15+O15 -> 1 | L15: =N15+P15 -> 1533 | M15: 1 | N15: 1533 | O15: 0 | P15: 0 | Q15: 0 | R15: 0 | S15: 0 | T15: 0 | U15: 0 | V15: 0 | W15: =S15+U15 -> 0 | X15: =T15+V15 -> 0 | AA15: =G15-J15-X15 -> 0 | AB15: =F15-I15-W15 -> 0
A16: 9 | B16: 성남시 | C16: 중탑 어9 | D16: 분당구 야탑동 301번지 | E16: 90.06.22 | F16: 1 | G16: 5856.9 | I16: =K16+Q16 -> 1 | J16: =L16+R16 -> 5856.9 | K16: =M16+O16 -> 1 | L16: =N16+P16 -> 5856.9 | M16: 1 | N16: 5856.9 | O16: 0 | P16: 0 | Q16: 0 | R16: 0 | S16: 0 | T16: 0 | U16: 0 | V16: 0 | W16: =S16+U16 -> 0 | X16: =T16+V16 -> 0 | AA16: =G16-J16-X16 -> 0 | AB16: =F16-I16-W16 -> 0
A17: 10 | B17: 성남시 | C17: 탑 어10 | D17: 분당구 야탑동 385번지 | E17: 90.06.22 | F17: 1 | G17: 4424 | I17: =K17+Q17 -> 1 | J17: =L17+R17 -> 4424 | K17: =M17+O17 -> 1 | L17: =N17+P17 -> 4424 | M17: 1 | N17: 4424 | O17: 0 | P17: 0 | Q17: 0 | R17: 0 | S17: 0 | T17: 0 | U17: 0 | V17: 0 | W17: =S17+U17 -> 0 | X17: =T17+V17 -> 0 | AA17: =G17-J17-X17 -> 0 | AB17: =F17-I17-W17 -> 0
A18: 11 | B18: 성남시 | C18: 종달새 어11 | D18: 분당구 야탑동 534번지 | E18: 90.06.22 | F18: 1 | G18: 4541 | I18: =K18+Q18 -> 1 | J18: =L18+R18 -> 4541 | K18: =M18+O18 -> 1 | L18: =N18+P18 -> 4541 | M18: 1 | N18: 4541 | O18: 0 | P18: 0 | Q18: 0 | R18: 0 | S18: 0 | T18: 0 | U18: 0 | V18: 0 | W18: =S18+U18 -> 0 | X18: =T18+V18 -> 0 | AA18: =G18-J18-X18 -> 0 | AB18: =F18-I18-W18 -> 0
A19: 12 | B19: 성남시 | C19: 오야소 어12 | D19: 분당구 야탑동 509번지 | E19: 90.06.22 | F19: 1 | G19: 1517.8 | I19: =K19+Q19 -> 1 | J19: =L19+R19 -> 1517.8 | K19: =M19+O19 -> 1 | L19: =N19+P19 -> 1517.8 | M19: 1 | N19: 1517.8 | O19: 0 | P19: 0 | Q19: 0 | R19: 0 | S19: 0 | T19: 0 | U19: 0 | V19: 0 | W19: =S19+U19 -> 0 | X19: =T19+V19 -> 0 | AA19: =G19-J19-X19 -> 0 | AB19: =F19-I19-W19 -> 0
A20: 13 | B20: 성남시 | C20: 무잡모퉁이 어13 | D20: 분당구 야탑동 529번지 | E20: 90.06.22 | F20: 1 | G20: 2018 | I20: =K20+Q20 -> 1 | J20: =L20+R20 -> 2018 | K20: =M20+O20 -> 1 | L20: =N20+P20 -> 2018 | M20: 1 | N20: 2018 | O20: 0 | P20: 0 | Q20: 0 | R20: 0 | S20: 0 | T20: 0 | U20: 0 | V20: 0 | W20: =S20+U20 -> 0 | X20: =T20+V20 -> 0 | AA20: =G20-J20-X20 -> 0 | AB20: =F20-I20-W20 -> 0
A21: 14 | B21: 성남시 | C21: 장승백이 어14 | D21: 분당구 야탑동 516번지 | E21: 90.06.22 | F21: 1 | G21: 1504 | I21: =K21+Q21 -> 1 | J21: =L21+R21 -> 1504 | K21: =M21+O21 -> 1 | L21: =N21+P21 -> 1504 | M21: 1 | N21: 1504 | O21: 0 | P21: 0 | Q21: 0 | R21: 0 | S21: 0 | T21: 0 | U21: 0 | V21: 0 | W21: =S21+U21 -> 0 | X21: =T21+V21 -> 0 | AA21: =G21-J21-X21 -> 0 | AB21: =F21-I21-W21 -> 0
A22: 15 | B22: 성남시 | C22: 무장뜰 어15 | D22: 분당구 야탑동 524번지 | E22: 90.06.22 | F22: 1 | G22: 1506.9 | I22: =K22+Q22 -> 1 | J22: =L22+R22 -> 1506.9 | K22: =M22+O22 -> 1 | L22: =N22+P22 -> 1506.9 | M22: 1 | N22: 1506.9 | O22: 0 | P22: 0 | Q22: 0 | R22: 0 | S22: 0 | T22: 0 | U22: 0 | V22: 0 | W22: =S22+U22 -> 0 | X22: =T22+V22 -> 0 | AA22: =G22-J22-X22 -> 0 | AB22: =F22-I22-W22 -> 0
A23: 16 | B23: 성남시 | C23: 탑골 어16 | D23: 분당구 야탑동 521번지 | E23: 90.06.22 | F23: 1 | G23: 4314.6 | I23: =K23+Q23 -> 1 | J23: =L23+R23 -> 4314.6 | K23: =M23+O23 -> 1 | L23: =N23+P23 -> 4314.6 | M23: 1 | N23: 4314.6 | O23: 0 | P23: 0 | Q23: 0 | R23: 0 | S23: 0 | T23: 0 | U23: 0 | V23: 0 | W23: =S23+U23 -> 0 | X23: =T23+V23 -> 0 | AA23: =G23-J23-X23 -> 0 | AB23: =F23-I23-W23 -> 0
A24: 17 | B24: 성남시 | C24: 목련 어17 | D24: 분당구 야탑동 167번지 | E24: 90.06.22 | F24: 1 | G24: 1572 | I24: =K24+Q24 -> 1 | J24: =L24+R24 -> 1572 | K24: =M24+O24 -> 1 | L24: =N24+P24 -> 1572 | M24: 1 | N24: 1572 | O24: 0 | P24: 0 | Q24: 0 | R24: 0 | S24: 0 | T24: 0 | U24: 0 | V24: 0 | W24: =S24+U24 -> 0 | X24: =T24+V24 -> 0 | AA24: =G24-J24-X24 -> 0 | AB24: =F24-I24-W24 -> 0
A25: 18 | B25: 성남시 | C25: 신일 어18 | D25: 분당구 야탑동 164번지 | E25: 90.06.22 | F25: 1 | G25: 1581.5 | I25: =K25+Q25 -> 1 | J25: =L25+R25 -> 1581.5 | K25: =M25+O25 -> 1 | L25: =N25+P25 -> 1581.5 | M25: 1 | N25: 1581.5 | O25: 0 | P25: 0 | Q25: 0 | R25: 0 | S25: 0 | T25: 0 | U25: 0 | V25: 0 | W25: =S25+U25 -> 0 | X25: =T25+V25 -> 0 | AA25: =G25-J25-X25 -> 0 | AB25: =F25-I25-W25 -> 0
A26: 19 | B26: 성남시 | C26: 과수원 어20 | D26: 분당구 이매동 103번지 | E26: 90.06.22 | F26: 1 | G26: 5180 | I26: =K26+Q26 -> 1 | J26: =L26+R26 -> 5180 | K26: =M26+O26 -> 1 | L26: =N26+P26 -> 5180 | M26: 1 | N26: 5180 | O26: 0 | P26: 0 | Q26: 0 | R26: 0 | S26: 0 | T26: 0 | U26: 0 | V26: 0 | W26: =S26+U26 -> 0 | X26: =T26+V26 -> 0 | AA26: =G26-J26-X26 -> 0 | AB26: =F26-I26-W26 -> 0
... A56: 49 | B56: 성남시 | C56: 느티마을 어50 | D56: 분당구 정자동 91-1번지 | E56: 91.01.08 | F56: 1 | G56: 5021 | I56: =K56+Q56 -> 1 | J56: =L56+R56 -> 5021 | K56: =M56+O56 -> 1 | L56: =N56+P56 -> 5021 | M56: 1 | N56: 5021 | O56: 0 | P56: 0 | Q56: 0 | R56: 0 | S56: 0 | T56: 0 | U56: 0 | V56: 0 | W56: =S56+U56 -> 0 | X56: =T56+V56 -> 0 | AA56: =G56-J56-X56 -> 0 | AB56: =F56-I56-W56 -> 0
A57: 50 | B57: 성남시 | C57: 백현 어51 | D57: 분당구 정자동 72번지 | E57: 90.06.22 | F57: 1 | G57: 4196.8 | I57: =K57+Q57 -> 1 | J57: =L57+R57 -> 4196.8 | K57: =M57+O57 -> 1 | L57: =N57+P57 -> 4196.8 | M57: 1 | N57: 4196.8 | O57: 0 | P57: 0 | Q57: 0 | R57: 0 | S57: 0 | T57: 0 | U57: 0 | V57: 0 | W57: =S57+U57 -> 0 | X57: =T57+V57 -> 0 | AA57: =F57-I57-W57 -> 0 | AB57: =G57-J57-X57 -> 0 | AC57: =S57+U57-W57 -> 0 | AD57: =T57+V57-X57 -> 0 | AE57: =I57-K57-Q57 -> 0 | AF57: =J57-L57-R57 -> 0
A58: 51 | B58: 성남시 | C58: 봉우재 어52 | D58: 분당구 정자동 145번지 | E58: 91.01.08 | F58: 1 | G58: 6101 | I58: =K58+Q58 -> 1 | J58: =L58+R58 -> 6101 | K58: =M58+O58 -> 1 | L58: =N58+P58 -> 6101 | M58: 1 | N58: 6101 | O58: 0 | P58: 0 | Q58: 0 | R58: 0 | S58: 0 | T58: 0 | U58: 0 | V58: 0 | W58: =S58+U58 -> 0 | X58: =T58+V58 -> 0 | AA58: =G58-J58-X58 -> 0 | AB58: =F58-I58-W58 -> 0
A59: 52 | B59: 성남시 | C59: 정든 어53 | D59: 분당구 정자동 196번지 | E59: 91.01.08 | F59: 1 | G59: 6217 | I59: =K59+Q59 -> 1 | J59: =L59+R59 -> 6217 | K59: =M59+O59 -> 1 | L59: =N59+P59 -> 6217 | M59: 1 | N59: 6217 | O59: 0 | P59: 0 | Q59: 0 | R59: 0 | S59: 0 | T59: 0 | U59: 0 | V59: 0 | W59: =S59+U59 -> 0 | X59: =T59+V59 -> 0 | AA59: =G59-J59-X59 -> 0 | AB59: =F59-I59-W59 -> 0
A60: 53 | B60: 성남시 | C60: 불정 어54 | D60: 분당구 정자동 204번지 | E60: 91.01.08 | F60: 1 | G60: 6870 | I60: =K60+Q60 -> 1 | J60: =L60+R60 -> 6870 | K60: =M60+O60 -> 1 | L60: =N60+P60 -> 6870 | M60: 1 | N60: 6870 | O60: 0 | P60: 0 | Q60: 0 | R60: 0 | S60: 0 | T60: 0 | U60: 0 | V60: 0 | W60: =S60+U60 -> 0 | X60: =T60+V60 -> 0 | AA60: =G60-J60-X60 -> 0 | AB60: =F60-I60-W60 -> 0
A61: 54 | B61: 성남시 | C61: 산자락 어55 | D61: 분당구 정자동 239번지 | E61: 91.01.08 | F61: 1 | G61: 1631.3 | I61: =K61+Q61 -> 1 | J61: =L61+R61 -> 1631.3 | K61: =M61+O61 -> 1 | L61: =N61+P61 -> 1631.3 | M61: 1 | N61: 1631.3 | O61: 0 | P61: 0 | Q61: 0 | R61: 0 | S61: 0 | T61: 0 | U61: 0 | V61: 0 | W61: =S61+U61 -> 0 | X61: =T61+V61 -> 0 | AA61: =G61-J61-X61 -> 0 | AB61: =F61-I61-W61 -> 0
A62: 55 | B62: 성남시 | C62: 늘푸른 어56 | D62: 분당구 정자동 182번지 | E62: 91.01.08 | F62: 1 | G62: 2000 | I62: =K62+Q62 -> 1 | J62: =L62+R62 -> 2000 | K62: =M62+O62 -> 1 | L62: =N62+P62 -> 2000 | M62: 1 | N62: 2000 | O62: 0 | P62: 0 | Q62: 0 | R62: 0 | S62: 0 | T62: 0 | U62: 0 | V62: 0 | W62: =S62+U62 -> 0 | X62: =T62+V62 -> 0 | AA62: =G62-J62-X62 -> 0 | AB62: =F62-I62-W62 -> 0
A63: 56 | B63: 성남시 | C63: 앞구미 어57 | D63: 분당구 금곡동 135번지 | E63: 91.01.08 | F63: 1 | G63: 3030 | I63: =K63+Q63 -> 1 | J63: =L63+R63 -> 3030 | K63: =M63+O63 -> 1 | L63: =N63+P63 -> 3030 | M63: 1 | N63: 3030 | O63: 0 | P63: 0 | Q63: 0 | R63: 0 | S63: 0 | T63: 0 | U63: 0 | V63: 0 | W63: =S63+U63 -> 0 | X63: =T63+V63 -> 0 | AA63: =G63-J63-X63 -> 0 | AB63: =F63-I63-W63 -> 0
A64: 57 | B64: 성남시 | C64: 청솔 어58 | D64: 분당구 금곡동 146번지 | E64: 91.01.08 | F64: 1 | G64: 3571 | I64: =K64+Q64 -> 1 | J64: =L64+R64 -> 3571 | K64: =M64+O64 -> 1 | L64: =N64+P64 -> 3571 | M64: 1 | N64: 3571 | O64: 0 | P64: 0 | Q64: 0 | R64: 0 | S64: 0 | T64: 0 | U64: 0 | V64: 0 | W64: =S64+U64 -> 0 | X64: =T64+V64 -> 0 | AA64: =G64-J64-X64 -> 0 | AB64: =F64-I64-W64 -> 0
A65: 58 | B65: 성남시 | C65: 뒷구미 어59 | D65: 분당구 구미동 32번지 | E65: 91.01.08 | F65: 1 | G65: 2312 | I65: =K65+Q65 -> 1 | J65: =L65+R65 -> 2312 | K65: =M65+O65 -> 1 | L65: =N65+P65 -> 2312 | M65: 1 | N65: 2312 | O65: 0 | P65: 0 | Q65: 0 | R65: 0 | S65: 0 | T65: 0 | U65: 0 | V65: 0 | W65: =S65+U65 -> 0 | X65: =T65+V65 -> 0 | AA65: =G65-J65-X65 -> 0 | AB65: =F65-I65-W65 -> 0
A66: 59 | B66: 성남시 | C66: 벌말 어60 | D66: 분당구 구미동 51번지 | E66: 91.01.08 | F66: 1 | G66: 1790 | I66: =K66+Q66 -> 1 | J66: =L66+R66 -> 1790 | K66: =M66+O66 -> 1 | L66: =N66+P66 -> 1790 | M66: 1 | N66: 1790 | O66: 0 | P66: 0 | Q66: 0 | R66: 0 | S66: 0 | T66: 0 | U66: 0 | V66: 0 | W66: =S66+U66 -> 0 | X66: =T66+V66 -> 0 | AA66: =G66-J66-X66 -> 0 | AB66: =F66-I66-W66 -> 0
A67: 60 | B67: 성남시 | C67: 까치마을 어61 | D67: 분당구 구미동 73번지 | E67: 91.01.08 | F67: 1 | G67: 3170 | I67: =K67+Q67 -> 1 | J67: =L67+R67 -> 3170 | K67: =M67+O67 -> 1 | L67: =N67+P67 -> 3170 | M67: 1 | N67: 3170 | O67: 0 | P67: 0 | Q67: 0 | R67: 0 | S67: 0 | T67: 0 | U67: 0 | V67: 0 | W67: =S67+U67 -> 0 | X67: =T67+V67 -> 0 | AA67: =G67-J67-X67 -> 0 | AB67: =F67-I67-W67 -> 0
A68: 61 | B68: 성남시 | C68: 샘터 어62 | D68: 분당구 구미동 87번지 | E68: 91.01.08 | F68: 1 | G68: 3620 | I68: =K68+Q68 -> 1 | J68: =L68+R68 -> 3620 | K68: =M68+O68 -> 1 | L68: =N68+P68 -> 3620 | M68: 1 | N68: 3620 | O68: 0 | P68: 0 | Q68: 0 | R68: 0 | S68: 0 | T68: 0 | U68: 0 | V68: 0 | W68: =S68+U68 -> 0 | X68: =T68+V68 -> 0 | AA68: =G68-J68-X68 -> 0 | AB68: =F68-I68-W68 -> 0
A69: 62 | B69: 성남시 | C69: 하얀 어63 | D69: 분당구 구미동 108번지 | E69: 91.01.08 | F69: 1 | G69: 3800 | I69: =K69+Q69 -> 1 | J69: =L69+R69 -> 3800 | K69: =M69+O69 -> 1 | L69: =N69+P69 -> 3800 | M69: 1 | N69: 3800 | O69: 0 | P69: 0 | Q69: 0 | R69: 0 | S69: 0 | T69: 0 | U69: 0 | V69: 0 | W69: =S69+U69 -> 0 | X69: =T69+V69 -> 0 | AA69: =G69-J69-X69 -> 0 | AB69: =F69-I69-W69 -> 0
... A87: 80 | B87: 성남시 | C87: 둔촌 어 | D87: 중원구 하대원동 249-1 | E87: 03.11.17 | F87: 1 | G87: 1937 | I87: =K87+Q87 -> 1 | J87: =L87+R87 -> 1937 | K87: =M87+O87 -> 1 | L87: =N87+P87 -> 1937 | M87: 1 | N87: 1937 | O87: 0 | P87: 0 | Q87: 0 | R87: 0 | S87: 0 | T87: 0 | U87: 0 | V87: 0 | W87: =S87+U87 -> 0 | X87: =T87+V87 -> 0 | AA87: =G87-J87-X87 -> 0 | AB87: =F87-I87-W87 -> 0
A88: 81 | B88: 성남시 | C88: 운중동 어 | D88: 분당구 운중동308-4 | E88: 05.01.25. | F88: 1 | G88: 1492 | I88: =K88+Q88 -> 1 | J88: =L88+R88 -> 1492 | K88: =M88+O88 -> 1 | L88: =N88+P88 -> 1492 | M88: 1 | N88: 1492 | O88: 0 | P88: 0 | Q88: 0 | R88: 0 | S88: 0 | T88: 0 | U88: 0 | V88: 0 | W88: =S88+U88 -> 0 | X88: =T88+V88 -> 0 | Y88: 취락지구 | AA88: =F88-I88-W88 -> 0 | AB88: =G88-J88-X88 -> 0 | AC88: =S88+U88-W88 -> 0 | AD88: =T88+V88-X88 -> 0 | AE88: =I88-K88-Q88 -> 0 | AF88: =J88-L88-R88 -> 0
A89: 82 | B89: 성남시 | C89: 도촌동어 1(여울) | D89: 중원구 도촌동 653 | E89: 03.06.20. | F89: 1 | G89: 2592.5 | I89: =K89+Q89 -> 1 | J89: =L89+R89 -> 2592.5 | K89: =M89+O89 -> 1 | L89: =N89+P89 -> 2592.5 | M89: 1 | N89: 2592.5 | O89: 0 | P89: 0 | Q89: 0 | R89: 0 | S89: 0 | T89: 0 | U89: 0 | V89: 0 | W89: =S89+U89 -> 0 | X89: =T89+V89 -> 0 | AA89: =G89-J89-X89 -> 0 | AB89: =F89-I89-W89 -> 0
A90: 83 | B90: 성남시 | C90: 도촌동어 2(산바람) | D90: 중원구 도촌동 652 | E90: 03.06.20. | F90: 1 | G90: 1540.9 | I90: =K90+Q90 -> 1 | J90: =L90+R90 -> 1540.9 | K90: =M90+O90 -> 1 | L90: =N90+P90 -> 1540.9 | M90: 1 | N90: 1540.9 | O90: 0 | P90: 0 | Q90: 0 | R90: 0 | S90: 0 | T90: 0 | U90: 0 | V90: 0 | W90: =S90+U90 -> 0 | X90: =T90+V90 -> 0 | AA90: =G90-J90-X90 -> 0 | AB90: =F90-I90-W90 -> 0
A91: 84 | B91: 성남시 | C91: 도촌동어 3(솔바람) | D91: 중원구 도촌동 655 | E91: 03.06.20. | F91: 1 | G91: 1567 | I91: =K91+Q91 -> 1 | J91: =L91+R91 -> 1567 | K91: =M91+O91 -> 1 | L91: =N91+P91 -> 1567 | M91: 1 | N91: 1567 | O91: 0 | P91: 0 | Q91: 0 | R91: 0 | S91: 0 | T91: 0 | U91: 0 | V91: 0 | W91: =S91+U91 -> 0 | X91: =T91+V91 -> 0 | AA91: =G91-J91-X91 -> 0 | AB91: =F91-I91-W91 -> 0
A92: 85 | B92: 성남시 | C92: 도촌동어 4(금잉어) | D92: 중원구 도촌동 658 | E92: 03.06.20. | F92: 1 | G92: 1550.1 | I92: =K92+Q92 -> 1 | J92: =L92+R92 -> 1550.1 | K92: =M92+O92 -> 1 | L92: =N92+P92 -> 1550.1 | M92: 1 | N92: 1550.1 | O92: 0 | P92: 0 | Q92: 0 | R92: 0 | S92: 0 | T92: 0 | U92: 0 | V92: 0 | W92: =S92+U92 -> 0 | X92: =T92+V92 -> 0 | AA92: =G92-J92-X92 -> 0 | AB92: =F92-I92-W92 -> 0
A93: 86 | B93: 성남시 | C93: 도촌동어 5(약수터) | D93: 중원구 도촌동 664 | E93: 03.06.20. | F93: 1 | G93: 1505.4 | I93: =K93+Q93 -> 1 | J93: =L93+R93 -> 1505.4 | K93: =M93+O93 -> 1 | L93: =N93+P93 -> 1505.4 | M93: 1 | N93: 1505.4 | O93: 0 | P93: 0 | Q93: 0 | R93: 0 | S93: 0 | T93: 0 | U93: 0 | V93: 0 | W93: =S93+U93 -> 0 | X93: =T93+V93 -> 0 | AA93: =G93-J93-X93 -> 0 | AB93: =F93-I93-W93 -> 0
A94: 87 | B94: 성남시 | C94: 판교제1호(바람길) | D94: 분당구 운중동 889일원 | E94: 04.12.30. | F94: 1 | G94: 5398 | I94: =K94+Q94 -> 1 | J94: =L94+R94 -> 5398 | K94: =M94+O94 -> 1 | L94: =N94+P94 -> 5398 | M94: 1 | N94: 5398 | O94: 0 | P94: 0 | Q94: 0 | R94: 0 | S94: 0 | T94: 0 | U94: 0 | V94: 0 | W94: =S94+U94 -> 0 | X94: =T94+V94 -> 0 | AA94: =G94-J94-X94 -> 0 | AB94: =F94-I94-W94 -> 0
A95: 88 | B95: 성남시 | C95: 판교제2호(물빛) | D95: 분당구 운중동 900 | E95: 04.12.30. | F95: 1 | G95: 5518 | I95: =K95+Q95 -> 1 | J95: =L95+R95 -> 5518 | K95: =M95+O95 -> 1 | L95: =N95+P95 -> 5518 | M95: 1 | N95: 5518 | O95: 0 | P95: 0 | Q95: 0 | R95: 0 | S95: 0 | T95: 0 | U95: 0 | V95: 0 | W95: =S95+U95 -> 0 | X95: =T95+V95 -> 0 | AA95: =G95-J95-X95 -> 0 | AB95: =F95-I95-W95 -> 0
A96: 89 | B96: 성남시 | C96: 판교제3호(눈꽃) | D96: 분당구 운중동 1012일원 | E96: 04.12.30. | F96: 1 | G96: 8446 | I96: =K96+Q96 -> 1 | J96: =L96+R96 -> 8446 | K96: =M96+O96 -> 1 | L96: =N96+P96 -> 8446 | M96: 1 | N96: 8446 | O96: 0 | P96: 0 | Q96: 0 | R96: 0 | S96: 0 | T96: 0 | U96: 0 | V96: 0 | W96: =S96+U96 -> 0 | X96: =T96+V96 -> 0 | AA96: =G96-J96-X96 -> 0 | AB96: =F96-I96-W96 -> 0
A97: 90 | B97: 성남시 | C97: 판교제4호(도담) | D97: 분당구 운중동 1044 | E97: 04.12.30. | F97: 1 | G97: 1906 | I97: =K97+Q97 -> 1 | J97: =L97+R97 -> 1906 | K97: =M97+O97 -> 1 | L97: =N97+P97 -> 1906 | M97: 1 | N97: 1906 | O97: 0 | P97: 0 | Q97: 0 | R97: 0 | S97: 0 | T97: 0 | U97: 0 | V97: 0 | W97: =S97+U97 -> 0 | X97: =T97+V97 -> 0 | AA97: =G97-J97-X97 -> 0 | AB97: =F97-I97-W97 -> 0
A98: 91 | B98: 성남시 | C98: 판교제5호(너울) | D98: 분당구 판교동 597 | E98: 04.12.30. | F98: 1 | G98: 1769 | I98: =K98+Q98 -> 1 | J98: =L98+R98 -> 1769 | K98: =M98+O98 -> 1 | L98: =N98+P98 -> 1769 | M98: 1 | N98: 1769 | O98: 0 | P98: 0 | Q98: 0 | R98: 0 | S98: 0 | T98: 0 | U98: 0 | V98: 0 | W98: =S98+U98 -> 0 | X98: =T98+V98 -> 0 | AA98: =G98-J98-X98 -> 0 | AB98: =F98-I98-W98 -> 0
A99: 92 | B99: 성남시 | C99: 판교제6호(너른들) | D99: 분당구 판교동 573 | E99: 04.12.30. | F99: 1 | G99: 5235 | I99: =K99+Q99 -> 1 | J99: =L99+R99 -> 5235 | K99: =M99+O99 -> 1 | L99: =N99+P99 -> 5235 | M99: 1 | N99: 5235 | O99: 0 | P99: 0 | Q99: 0 | R99: 0 | S99: 0 | T99: 0 | U99: 0 | V99: 0 | W99: =S99+U99 -> 0 | X99: =T99+V99 -> 0 | AA99: =G99-J99-X99 -> 0 | AB99: =F99-I99-W99 -> 0
A100: 93 | B100: 성남시 | C100: 판교제7호(미르) | D100: 분당구 판교동 547 | E100: 04.12.30. | F100: 1 | G100: 7393 | I100: =K100+Q100 -> 1 | J100: =L100+R100 -> 7393 | K100: =M100+O100 -> 1 | L100: =N100+P100 -> 7393 | M100: 1 | N100: 7393 | O100: 0 | P100: 0 | Q100: 0 | R100: 0 | S100: 0 | T100: 0 | U100: 0 | V100: 0 | W100: =S100+U100 -> 0 | X100: =T100+V100 -> 0 | AA100: =G100-J100-X100 -> 0 | AB100: =F100-I100-W100 -> 0
... A114: 107 | B114: 성남시 | C114: 판교제21호(어울) | D114: 분당구 삼평동 677 | E114: 06.03.22. | F114: 1 | G114: 8323.9 | I114: =K114+Q114 -> 1 | J114: =L114+R114 -> 8323.9 | K114: =M114+O114 -> 1 | L114: =N114+P114 -> 8323.9 | M114: 1 | N114: 8323.9 | O114: 0 | P114: 0 | Q114: 0 | R114: 0 | S114: 0 | T114: 0 | U114: 0 | V114: 0 | W114: =S114+U114 -> 0 | X114: =T114+V114 -> 0 | AA114: =G114-J114-X114 -> 0 | AB114: =F114-I114-W114 -> 0
B115: 성남시 | C115: 판교제22호(환상) | H115: 2020.4.13. | AA115: =G115-J115-X115 -> 0 | AB115: =F115-I115-W115 -> 0
A116: 108 | B116: 성남시 | C116: 고등 제3호 | D116: 수정구 고등동 383-5 | E116: 05.06.27. | F116: 1 | G116: 2099.1 | I116: =K116+Q116 -> 0 | J116: =L116+R116 -> 0 | K116: =M116+O116 -> 0 | L116: =N116+P116 -> 0 | M116: 0 | N116: 0 | O116: 0 | P116: 0 | Q116: 0 | R116: 0 | S116: 1 | T116: 2099.1 | U116: 0 | V116: 0 | W116: =S116+U116 -> 1 | X116: =T116+V116 -> 2099.1 | Y116: 취락지구 | AA116: =G116-J116-X116 -> 0 | AB116: =F116-I116-W116 -> 0
A117: 109 | B117: 성남시 | C117: 옛골 제1호 | D117: 수정구 상적동 273-4 일원 | E117: 05.06.27. | F117: 1 | G117: 1474 | I117: =K117+Q117 -> 1 | J117: =L117+R117 -> 1474 | K117: 1 | L117: 1474 | M117: 1 | N117: 1474 | O117: 0 | P117: 0 | Q117: 0 | R117: 0 | S117: 0 | T117: 0 | U117: 0 | V117: 0 | W117: =S117+U117 -> 0 | X117: =T117+V117 -> 0 | Y117: 취락지구 | AA117: =G117-J117-X117 -> 0 | AB117: =F117-I117-W117 -> 0
A118: 110 | B118: 성남시 | C118: 옛골 제2호 | D118: 수정구 상적동 335-10 일원 | E118: 05.06.27. | F118: 1 | G118: 1738 | I118: =K118+Q118 -> 1 | J118: =L118+R118 -> 1738 | K118: =M118+O118 -> 1 | L118: =N118+P118 -> 1738 | M118: 1 | N118: 1738 | O118: 0 | P118: 0 | Q118: 0 | R118: 0 | S118: 0 | T118: 0 | U118: 0 | V118: 0 | W118: =S118+U118 -> 0 | X118: =T118+V118 -> 0 | Y118: 취락지구 | AA118: =G118-J118-X118 -> 0 | AB118: =F118-I118-W118 -> 0
A119: 111 | B119: 성남시 | C119: 제일 (성남 중1 재개발정비사업) | D119: 중원구 중앙동 2993 | E119: 08.11.26. | F119: 1 | G119: 6134 | I119: =K119+Q119 -> 1 | J119: =L119+R119 -> 6134 | K119: =M119+O119 -> 1 | L119: =N119+P119 -> 6134 | M119: 1 | N119: 6134 | O119: 0 | P119: 0 | S119: 0 | T119: 0 | U119: 0 | V119: 0 | W119: =S119+U119 -> 0 | X119: =T119+V119 -> 0 | AA119: =G119-J119-X119 -> 0 | AB119: =F119-I119-W119 -> 0
A120: 112 | B120: 성남시 | C120: 삼창아파트 | D120: 중원구 중앙동 548 | E120: 06.01.16. | F120: 1 | G120: 1525 | I120: =K120+Q120 -> 1 | J120: =L120+R120 -> 1525 | K120: =M120+O120 -> 1 | L120: =N120+P120 -> 1525 | M120: 1 | N120: 1525 | O120: 0 | P120: 0 | Q120: 0 | R120: 0 | S120: 0 | T120: 0 | U120: 0 | V120: 0 | W120: =S120+U120 -> 0 | X120: =T120+V120 -> 0 | AA120: =G120-J120-X120 -> 0 | AB120: =F120-I120-W120 -> 0
A121: 113 | B121: 성남시 | C121: 여수지구 제1호(도란도란) | D121: 중원구 성남동 4868 | E121: 07.01.04 | F121: 1 | G121: 1729.6 | I121: =K121 -> 1 | J121: =L121 -> 1729.6 | K121: =M121+O121 -> 1 | L121: =N121+P121 -> 1729.6 | M121: 1 | N121: 1729.6 | O121: 0 | P121: 0 | Q121: 0 | R121: 0 | S121: 0 | T121: 0 | U121: 0 | V121: 0 | W121: 0 | X121: 0 | AA121: =G121-J121-X121 -> 0 | AB121: =F121-I121-W121 -> 0
A122: 114 | B122: 성남시 | C122: 여수지구 제3호(한아름) | D122: 중원구 여수동 355 | E122: 07.01.04 | F122: 1 | G122: 1725 | I122: =K122+Q122 -> 1 | J122: =L122+R122 -> 1725 | K122: =M122+O122 -> 1 | L122: =N122+P122 -> 1725 | M122: 1 | N122: 1725 | O122: 0 | P122: 0 | Q122: 0 | R122: 0 | S122: 0 | T122: 0 | U122: 0 | V122: 0 | W122: =S122+U122 -> 0 | X122: =T122+V122 -> 0 | AA122: =G122-J122-X122 -> 0 | AB122: =F122-I122-W122 -> 0
A123: 115 | B123: 성남시 | C123: 여수지구 제4호(따르릉) | D123: 중원구 여수동 538 | E123: 07.01.04 | F123: 1 | G123: 1841 | I123: =K123+Q123 -> 1 | J123: =L123+R123 -> 1841 | K123: =M123+O123 -> 1 | L123: =N123+P123 -> 1841 | M123: 1 | N123: 1841 | O123: 0 | P123: 0 | Q123: 0 | R123: 0 | S123: 0 | T123: 0 | U123: 0 | V123: 0 | W123: =S123+U123 -> 0 | X123: =T123+V123 -> 0 | AA123: =G123-J123-X123 -> 0 | AB123: =F123-I123-W123 -> 0
A124: 116 | B124: 성남시 | C124: 여수지구 제5호(사각사각) | D124: 중원구 여수동 579 | E124: 07.01.04 | F124: 1 | G124: 1512 | I124: =K124+Q124 -> 1 | J124: =L124+R124 -> 1512 | K124: =M124+O124 -> 1 | L124: =N124+P124 -> 1512 | M124: 1 | N124: 1512 | O124: 0 | P124: 0 | Q124: 0 | R124: 0 | S124: 0 | T124: 0 | U124: 0 | V124: 0 | W124: =S124+U124 -> 0 | X124: =T124+V124 -> 0 | AA124: =G124-J124-X124 -> 0 | AB124: =F124-I124-W124 -> 0
A125: 117 | B125: 성남시 | C125: 여수지구 제6호(종알종알) | D125: 중원구 여수동 614 | E125: 14.09.17 | F125: 1 | G125: 4501.3 | I125: =K125 -> 1 | J125: =L125 -> 4501.3 | K125: =M125+O125 -> 1 | L125: =N125+P125 -> 4501.3 | M125: 1 | N125: 4501.3 | O125: 0 | P125: 0 | Q125: 0 | R125: 0 | S125: 0 | T125: 0 | U125: 0 | V125: 0 | W125: =S125+U125 -> 0 | X125: =T125+V125 -> 0 | AA125: =G125-J125-X125 -> 0 | AB125: =F125-I125-W125 -> 0
A126: 118 | B126: 성남시 | C126: 단대지구 제1호(미소) | D126: 수정구 단대동 100-1 | E126: 05.11.07 | F126: 1 | G126: 1746 | I126: =K126 -> 1 | J126: =L126+R126 -> 1746 | K126: =M126+O126 -> 1 | L126: =N126+P126 -> 1746 | M126: 1 | N126: 1746 | O126: 0 | P126: 0 | Q126: 0 | R126: 0 | S126: 0 | T126: 0 | U126: 0 | V126: 0 | W126: 0 | X126: 0 | AA126: =G126-J126-X126 -> 0 | AB126: =F126-I126-W126 -> 0
A127: 119 | B127: 성남시 | C127: 은행정이 | D127: 중원구 은행동 2467 | E127: 07.08.20. | F127: 1 | G127: 1671.3 | I127: =K127+Q127 -> 1 | J127: =L127+R127 -> 1671.3 | K127: =M127+O127 -> 1 | L127: =N127+P127 -> 1671.3 | M127: 1 | N127: 1671.3 | O127: 0 | P127: 0 | Q127: 0 | R127: 0 | S127: 0 | T127: 0 | U127: 0 | V127: 0 | W127: =S127+U127 -> 0 | X127: 0 | AA127: =G127-J127-X127 -> 0 | AB127: =F127-I127-W127 -> 0
A128: 120 | B128: 성남시 | C128: 희망(신흥2 주택재개발 정비사업) | D128: 수정구 신흥동 1967 | E128: 08.11.26. | F128: 1 | G128: 4078 | I128: =K128+Q128 -> 1 | J128: =L128+R128 -> 4078 | K128: =M128+O128 -> 1 | L128: =N128+P128 -> 4078 | M128: 1 | N128: 4078 | O128: 0 | P128: 0 | Q128: 0 | R128: 0 | S128: 0 | T128: 0 | U128: 0 | V128: 0 | W128: =S128+U128 -> 0 | X128: =T128+V128 -> 0 | AA128: =G128-J128-X128 -> 0 | AB128: =F128-I128-W128 -> 0
A129: 121 | B129: 성남시 | C129: 박석(금광1 주택재개발 정비사업) | D129: 중원구 금광동 490 | E129: 08.11.26. | F129: 1 | G129: 4015.8 | I129: =K129+Q129 -> 1 | J129: =L129+R129 -> 4015.8 | K129: =M129+O129 -> 1 | L129: =N129+P129 -> 4015.8 | M129: 1 | N129: 4015.8 | O129: 0 | P129: 0 | Q129: 0 | R129: 0 | S129: 0 | T129: 0 | U129: 0 | V129: 0 | W129: =S129+U129 -> 0 | X129: =T129+V129 -> 0 | AA129: =G129-J129-X129 -> 0 | AB129: =F129-I129-W129 -> 0
A130: 122 | B130: 성남시 | C130: 금상(금광1 주택재개발 정비사업) | D130: 중원구 금광동 1639 | E130: 08.11.26. | F130: 1 | G130: 8749.7 | I130: =K130+Q130 -> 1 | J130: =L130+R130 -> 8749.7 | K130: =M130+O130 -> 1 | L130: =N130+P130 -> 8749.7 | M130: 1 | N130: 8749.7 | O130: 0 | P130: 0 | Q130: 0 | R130: 0 | S130: 0 | T130: 0 | U130: 0 | V130: 0 | W130: =S130+U130 -> 0 | X130: =T130+V130 -> 0 | AA130: =G130-J130-X130 -> 0 | AB130: =F130-I130-W130 -> 0
A131: 123 | B131: 성남시 | C131: 위례 제2호(한빛) | D131: 수정구 창곡동 589 | E131: 2010.11.03. | F131: 1 | G131: 1841.7 | I131: =K131 -> 1 | J131: =L131 -> 1841.7 | K131: =M131+O131 -> 1 | L131: =N131+P131 -> 1841.7 | M131: 1 | N131: =G131 -> 1841.7 | O131: 0 | P131: 0 | Q131: 0 | R131: 0 | S131: 0 | T131: 0 | U131: 0 | V131: 0 | W131: =S131+U131 -> 0 | X131: =T131+V131 -> 0 | AA131: =G131-J131-X131 -> 0 | AB131: =F131-I131-W131 -> 0
A132: 124 | B132: 성남시 | C132: 위례 제3호(서일로) | D132: 수정구 창곡동 542 | E132: 2010.01.06. | F132: 1 | G132: 1526.3 | I132: =K132 -> 1 | J132: =L132 -> 1526.3 | K132: =M132+O132 -> 1 | L132: =N132+P132 -> 1526.3 | M132: 1 | N132: =G132 -> 1526.3 | O132: 0 | P132: 0 | Q132: 0 | R132: 0 | S132: 0 | T132: 0 | U132: 0 | V132: 0 | W132: =S132+U132 -> 0 | X132: =T132+V132 -> 0 | AA132: =G132-J132-X132 -> 0 | AB132: =F132-I132-W132 -> 0
B133: 성남시 | C133: 영장산(신흥2 주택재건축 정비사업) | H133: 2021.09.10. | AA133: =G133-J133-X133 -> 0 | AB133: =F133-I133-W133 -> 0
A134: 125 | B134: 성남시 | C134: 어린이공원(산성 주택재개발 정비사업) | D134: 수정구 산성동 990 | E134: 2014.04.11 | F134: 1 | G134: 7953 | I134: =K134+Q134 -> 0 | J134: =L134+R134 -> 0 | K134: =M134+O134 -> 0 | L134: =N134+P134 -> 0 | M134: 0 | N134: 0 | O134: 0 | P134: 0 | Q134: 0 | R134: 0 | S134: 1 | T134: 7953 | U134: 0 | V134: 0 | W134: =S134+U134 -> 1 | X134: =T134+V134 -> 7953 | AA134: =G134-J134-X134 -> 0 | AB134: =F134-I134-W134 -> 0
A135: 126 | B135: 성남시 | C135: 제1호 어린이공원(중1도시환경정비사업) | D135: 중원구 중동 912번지 일원 | E135: 2010.08.31. | F135: 1 | G135: 4221.6 | I135: =K135+Q135 -> 0 | J135: =L135+R135 -> 0 | K135: =M135+O135 -> 0 | L135: =N135+P135 -> 0 | M135: 0 | N135: 0 | O135: 0 | P135: 0 | Q135: 0 | R135: 0 | S135: 1 | T135: 4221.6 | U135: 0 | V135: 0 | W135: =S135+U135 -> 1 | X135: =T135+V135 -> 4221.6 | AA135: =G135-J135-X135 -> 0 | AB135: =F135-I135-W135 -> 0
A136: 127 | B136: 성남시 | C136: 제2호 어린이공원(중1도시환경정비사업) | D136: 중원구 중동 912번지 일원 | E136: 2018.09.10. | F136: 1 | G136: 1740.2 | I136: =K136+Q136 -> 0 | J136: =L136+R136 -> 0 | K136: =M136+O136 -> 0 | L136: =N136+P136 -> 0 | M136: 0 | N136: 0 | O136: 0 | P136: 0 | Q136: 0 | R136: 0 | S136: 1 | T136: 1740.2 | U136: 0 | V136: 0 | W136: =S136+U136 -> 1 | X136: =T136+V136 -> 1740.2 | AA136: =G136-J136-X136 -> 0 | AB136: =F136-I136-W136 -> 0
A137: 128 | B137: 성남시 | C137: 고등(성남고등 공공주택지구) | D137: 수정구 고등동 605-2일원 | E137: 2018.12.18. | F137: 1 | G137: 2190.7 | I137: =K137+Q137 -> 1 | J137: =L137+R137 -> 2190.7 | K137: =M137+O137 -> 1 | L137: =N137+P137 -> 2190.7 | M137: 1 | N137: 2190.7 | O137: 0 | P137: 0 | Q137: 0 | R137: 0 | S137: 0 | T137: 0 | U137: 0 | V137: 0 | W137: =S137+U137 -> 0 | X137: =T137+V137 -> 0 | AA137: =G137-J137-X137 -> 0 | AB137: =F137-I137-W137 -> 0
A138: 129 | B138: 성남시 | C138: 어린이공원(미정) | D138: 수정구 수진동 4772번지 일원 | E138: 2019.02.11. | F138: 1 | G138: 1929 | I138: =K138+Q138 -> 0 | J138: =L138+R138 -> 0 | K138: =M138+O138 -> 0 | L138: =N138+P138 -> 0 | M138: 0 | N138: 0 | O138: 0 | P138: 0 | Q138: 0 | R138: 0 | S138: 0 | T138: 0 | U138: 1 | V138: 1929 | W138: =S138+U138 -> 1 | X138: =T138+V138 -> 1929 | AA138: =G138-J138-X138 -> 0 | AB138: =F138-I138-W138 -> 0
A139: 130 | B139: 성남시 | C139: 어린이공원1(은행주공아파트 주택재건축 정비사업) | D139: 중원구 은행동 550번지 일원 | E139: 2017.08.11. | F139: 1 | G139: 6352 | I139: =K139+Q139 -> 0 | J139: =L139+R139 -> 0 | K139: =M139+O139 -> 0 | L139: =N139+P139 -> 0 | M139: 0 | N139: 0 | O139: 0 | P139: 0 | Q139: 0 | R139: 0 | S139: 1 | T139: 6352 | U139: 0 | V139: 0 | W139: =S139+U139 -> 1 | X139: =T139+V139 -> 6352
A140: 131 | B140: 성남시 | C140: 어린이공원2(은행주공아파트 주택재건축 정비사업) | D140: 중원구 은행동 1018-4번지 일원 | E140: 2017.08.11. | F140: 1 | G140: 3693 | I140: =K140+Q140 -> 0 | J140: =L140+R140 -> 0 | K140: =M140+O140 -> 0 | L140: =N140+P140 -> 0 | M140: 0 | N140: 0 | O140: 0 | P140: 0 | Q140: 0 | R140: 0 | S140: 1 | T140: 3693 | U140: 0 | V140: 0 | W140: =S140+U140 -> 1 | X140: =T140+V140 -> 3693
A141: 132 | B141: 성남시 | C141: 어린이공원1(성남복정1 공공주택지구) | D141: 수정구 복정동 산27-1 일원 | E141: 2020.06.30. | F141: 1 | G141: 8292 | I141: =K141+Q141 -> 0 | J141: =L141+R141 -> 0 | K141: =M141+O141 -> 0 | L141: =N141+P141 -> 0 | M141: 0 | N141: 0 | O141: 0 | P141: 0 | Q141: 0 | R141: 0 | S141: 1 | T141: 8292 | U141: 0 | V141: 0 | W141: =S141+U141 -> 1 | X141: =T141+V141 -> 8292
A142: 133 | B142: 성남시 | C142: 어린이공원2(성남복정1 공공주택지구) | D142: 수정구 복정동 126 일원 | E142: 2020.06.30. | F142: 1 | G142: 8295 | I142: =K142+Q142 -> 0 | J142: =L142+R142 -> 0 | K142: =M142+O142 -> 0 | L142: =N142+P142 -> 0 | M142: 0 | N142: 0 | O142: 0 | P142: 0 | Q142: 0 | R142: 0 | S142: 1 | T142: 8295 | U142: 0 | V142: 0 | W142: =S142+U142 -> 1 | X142: =T142+V142 -> 8295
A143: 134 | B143: 성남시 | C143: 어린이공원3(성남복정1 공공주택지구) | D143: 수정구 복정동 154-8 일원 | E143: 2020.06.30. | F143: 1 | G143: 2271 | I143: =K143+Q143 -> 0 | J143: =L143+R143 -> 0 | K143: =M143+O143 -> 0 | L143: =N143+P143 -> 0 | M143: 0 | N143: 0 | O143: 0 | P143: 0 | Q143: 0 | R143: 0 | S143: 1 | T143: 2271 | U143: 0 | V143: 0 | W143: =S143+U143 -> 1 | X143: =T143+V143 -> 2271
A144: 135 | B144: 성남시 | C144: 어린이공원4(성남복정1 공공주택지구) | D144: 수정구 복정동 156 일원 | E144: 2020.06.30. | F144: 1 | G144: 1730 | I144: =K144+Q144 -> 0 | J144: =L144+R144 -> 0 | K144: =M144+O144 -> 0 | L144: =N144+P144 -> 0 | M144: 0 | N144: 0 | O144: 0 | P144: 0 | Q144: 0 | R144: 0 | S144: 1 | T144: 1730 | U144: 0 | V144: 0 | W144: =S144+U144 -> 1 | X144: =T144+V144 -> 1730
A145: 136 | B145: 성남시 | C145: 어린이공원5(성남복정1 공공주택지구) | D145: 수정구 복정동 40-5 일원 | E145: 2020.06.30. | F145: 1 | G145: 1500 | I145: =K145+Q145 -> 0 | J145: =L145+R145 -> 0 | K145: =M145+O145 -> 0 | L145: =N145+P145 -> 0 | M145: 0 | N145: 0 | O145: 0 | P145: 0 | Q145: 0 | R145: 0 | S145: 1 | T145: 1500 | U145: 0 | V145: 0 | W145: =S145+U145 -> 1 | X145: =T145+V145 -> 1500
A146: 137 | B146: 성남시 | C146: 어린이공원6(성남복정1 공공주택지구) | D146: 수정구 복정동 40-5 일원 | E146: 2023.1.5. | F146: 1 | G146: 1859 | I146: =K146+Q146 -> 0 | J146: =L146+R146 -> 0 | K146: =M146+O146 -> 0 | L146: =N146+P146 -> 0 | M146: 0 | N146: 0 | O146: 0 | P146: 0 | Q146: 0 | R146: 0 | S146: 1 | T146: 1859 | U146: 0 | V146: 0 | W146: =S146+U146 -> 1 | X146: =T146+V146 -> 1859
A147: 138 | B147: 성남시 | C147: 어린이공원(성남금토 공공주택지구) | D147: 수정구 금토동 486-13 일원 | E147: 2020.12.30. | F147: 1 | G147: 4637 | I147: =K147+Q147 -> 0 | J147: =L147+R147 -> 0 | K147: =M147+O147 -> 0 | L147: =N147+P147 -> 0 | M147: 0 | N147: 0 | O147: 0 | P147: 0 | Q147: 0 | R147: 0 | S147: 1 | T147: 4637 | U147: 0 | V147: 0 | W147: =S147+U147 -> 1 | X147: =T147+V147 -> 4637
A148: 139 | B148: 성남시 | C148: 어린이공원1(성남신촌 공공주택지구) | D148: 수정구 신촌동 188 일원 | E148: 2021.07.05. | F148: 1 | G148: 4403 | I148: =K148+Q148 -> 0 | J148: =L148+R148 -> 0 | K148: =M148+O148 -> 0 | L148: =N148+P148 -> 0 | M148: 0 | N148: 0 | O148: 0 | P148: 0 | Q148: 0 | R148: 0 | S148: 1 | T148: 4403 | U148: 0 | V148: 0 | W148: =S148+U148 -> 1 | X148: =T148+V148 -> 4403
A149: 140 | B149: 성남시 | C149: 어린이공원2(성남신촌 공공주택지구) | D149: 수정구 신촌동 178-3 일원 | E149: 2021.07.05. | F149: 1 | G149: 1698 | I149: =K149+Q149 -> 0 | J149: =L149+R149 -> 0 | K149: =M149+O149 -> 0 | L149: =N149+P149 -> 0 | M149: 0 | N149: 0 | O149: 0 | P149: 0 | Q149: 0 | R149: 0 | S149: 1 | T149: 1698 | U149: 0 | V149: 0 | W149: =S149+U149 -> 1 | X149: =T149+V149 -> 1698

Sheet 근린
A1: 3. 근린공원 조성현황 | X1: (면적:㎡)
A2: =총괄!A2 -> (기준 : 2026.01.)
A3: 번호 | B3: 시 · 군 | C3: 공원명 | D3: 위치 | E3: 도시계획시설결정 | I3: 조 성 | S3: 미 조 성 | Y3: 비고
E4: 공원 결정일자 | F4: 개소수 | G4: 면적 | H4: 시설결정 폐지일자 | I4: 계 | K4: 조 성 (운영중) | Q4: 조 성 중 | U4: 미 추 진 | W4: 계
K5: 계 | M5: 전체조성완료 | O5: 일부조성완료 | Q5: 시설공사중 | S5: 행정절차 이행중
I6: 개소수 | J6: 면적 | K6: 개소수 | L6: 면적 | M6: 개소수 | N6: 면적 | O6: 개소수 | P6: 면적 | Q6: 개소수 | R6: 면적 | S6: 개소수 | T6: 면적 | U6: 개소수 | V6: 면적 | W6: 개소수 | X6: 면적
B7: 성남시 | F7: =SUM(F8:F80) -> 69 | G7: =SUM(G8:G80) -> 9988993.1 | I7: =SUM(I8:I80) -> 58 | J7: =SUM(J8:J79) -> 9037647 | K7: =SUM(K8:K79) -> 58 | L7: =SUM(L8:L81) -> 9037647 | M7: =SUM(M8:M81) -> 55 | N7: =SUM(N8:N82) -> 8952480.7 | O7: =SUM(O8:O81) -> 3 | P7: =SUM(P8:P82) -> 85166.3 | Q7: =SUM(Q8:Q78) -> 0 | R7: =SUM(R8:R78) -> 0 | S7: =SUM(S8:S78) -> 10 | T7: =SUM(T8:T78) -> 224020.1 | U7: =SUM(U8:U78) -> 1 | V7: =SUM(V8:V78) -> 727326 | W7: =SUM(W8:W78) -> 11 | X7: =SUM(X8:X78) -> 951346.1 | AA7: =G7-J7-X7 -> -2.2118911e-09 | AB7: =F7-I7-W7 -> 0
A8: 1 | B8: 성남시 | C8: 대 원 | D8: 중원구 갈현동, 하대원동108-4, 성남동 산18-1 | E8: 1972.11.3. | F8: 1 | G8: 791450.5 | I8: =K8+Q8 -> 1 | J8: =L8+R8 -> 791450.5 | K8: =M8+O8 -> 1 | L8: =N8+P8 -> 791450.5 | M8: 1 | N8: 791450.5 | O8: 0 | P8: 0 | Q8: 0 | R8: 0 | S8: 0 | T8: 0 | V8: =G8-J8 -> 0 | W8: 0 | X8: =T8+V8 -> 0 | AA8: =F8-I8-W8 -> 0 | AB8: =G8-J8-X8 -> 0 | AC8: =S8+U8-W8 -> 0 | AD8: =T8+V8-X8 -> 0 | AE8: =I8-K8-Q8 -> 0 | AF8: =J8-L8-R8 -> 0 | AH8: =K8-M8-O8 -> 0 | AI8: =L8-N8-P8 -> 0
A9: 2 | B9: 성남시 | C9: 삼 평 | D9: 수정구 시흥동 72-5 | E9: 1972.11.3. | F9: 1 | G9: 173656 | I9: =K9+Q9 -> 1 | J9: =L9+R9 -> 25376 | K9: =M9+O9 -> 1 | L9: =N9+P9 -> 25376 | M9: 0 | N9: 0 | O9: 1 | P9: 25376 | Q9: 0 | R9: 0 | S9: 0 | T9: 0 | U9: 0 | V9: =G9-J9 -> 148280 | W9: 0 | X9: =T9+V9 -> 148280 | AA9: =G9-J9-X9 -> 0 | AB9: =F9-I9-W9 -> 0
A10: 3 | B10: 성남시 | C10: 서현 | D10: 분당구 서현동, 이매동 산57 | E10: 1972.11.3. | F10: 1 | G10: 37058.4 | I10: =K10+Q10 -> 1 | J10: =L10+R10 -> 33057.4 | K10: =M10+O10 -> 1 | L10: 33057.4 | M10: 1 | N10: 33057.4 | O10: 0 | Q10: 0 | R10: 0 | S10: 0 | U10: 0 | V10: 4001 | W10: 0 | X10: =T10+V10 -> 4001 | AA10: =G10-J10-X10 -> 0 | AB10: =F10-I10-W10 -> 0
A11: 4 | B11: 성남시 | C11: 여 수 | D11: 중원구 여수동413 | E11: 1972.11.3. | F11: 1 | G11: 38841 | I11: =K11+Q11 -> 1 | J11: =L11+R11 -> 38841 | K11: =M11+O11 -> 1 | L11: =N11+P11 -> 38841 | M11: 1 | N11: 38841 | O11: 0 | P11: 0 | Q11: 0 | R11: 0 | S11: 0 | T11: 0 | U11: 0 | V11: =G11-J11 -> 0 | W11: =S11+U11 -> 0 | X11: =T11+V11 -> 0 | AA11: =G11-J11-X11 -> 0 | AB11: =F11-I11-W11 -> 0
A12: 5 | B12: 성남시 | C12: 단 대 | D12: 수정구 단대동193 | E12: 1974.8.31. | F12: 1 | G12: 210700 | I12: =K12+Q12 -> 1 | J12: =L12+R12 -> 210700 | K12: =M12+O12 -> 1 | L12: =N12+P12 -> 210700 | M12: 1 | N12: 210700 | O12: 0 | P12: 0 | Q12: 0 | R12: 0 | S12: 0 | T12: 0 | U12: 0 | V12: 0 | W12: =S12+U12 -> 0 | X12: =T12+V12 -> 0 | AA12: =G12-J12-X12 -> 0 | AB12: =F12-I12-W12 -> 0
A13: 6 | B13: 성남시 | C13: 영 장 | D13: 수정구 신흥동 산38 | E13: 1972.11.3. | F13: 1 | G13: 394759.3 | I13: =K13+Q13 -> 1 | J13: =L13+R13 -> 394759.3 | K13: =M13+O13 -> 1 | L13: =N13+P13 -> 394759.3 | M13: 1 | N13: 394759.3 | O13: 0 | P13: 0 | Q13: 0 | R13: 0 | S13: 0 | T13: 0 | U13: 0 | V13: =G13-J13 -> 0 | W13: 0 | X13: =T13+V13 -> 0 | AA13: =G13-J13-X13 -> 0 | AB13: =F13-I13-W13 -> 0
A14: 7 | B14: 성남시 | C14: 황 송 | D14: 중원구 금광동 2449-1 | E14: 1972.11.3. | F14: 1 | G14: 403343.4 | I14: =K14+Q14 -> 1 | J14: =L14+R14 -> 403343.4 | K14: =M14+O14 -> 1 | L14: =N14+P14 -> 403343.4 | M14: 1 | N14: 403343.4 | O14: 0 | P14: 0 | Q14: 0 | R14: 0 | S14: 0 | T14: 0 | U14: 0 | V14: 0 | W14: =S14+U14 -> 0 | X14: =T14+V14 -> 0 | AA14: =G14-J14-X14 -> 0 | AB14: =F14-I14-W14 -> 0
A15: 8 | B15: 성남시 | C15: 희망대 | D15: 수정구 신흥 2동2345 | E15: 1972.11.3. | F15: 1 | G15: 162853.2 | I15: =K15+Q15 -> 1 | J15: =L15+R15 -> 162853.2 | K15: =M15+O15 -> 1 | L15: =N15+P15 -> 162853.2 | M15: 1 | N15: 162853.2 | O15: 0 | P15: 0 | Q15: 0 | R15: 0 | S15: 0 | T15: 0 | U15: 0 | V15: 0 | W15: =S15+U15 -> 0 | X15: =T15+V15 -> 0 | AA15: =G15-J15-X15 -> 0 | AB15: =F15-I15-W15 -> 0
B16: 성남시 | C16: 판교 | E16: 1972.11.3. | H16: 2019.9.9. | I16: =K16+Q16 -> 0 | J16: =L16+R16 -> 0 | K16: =M16+O16 -> 0 | L16: =N16+P16 -> 0 | M16: 0 | N16: 0 | O16: 0 | P16: 0 | Q16: 0 | R16: 0 | S16: 0 | T16: 0 | U16: 0 | W16: =S16+U16 -> 0 | X16: =T16+V16 -> 0 | AA16: =G16-J16-X16 -> 0 | AB16: =F16-I16-W16 -> 0
A17: 9 | B17: 성남시 | C17: 은 행 | D17: 중원구 은행동 200 | E17: 1972.11.3. | F17: 1 | G17: 200832.1 | I17: =K17+Q17 -> 1 | J17: =L17+R17 -> 200832.1 | K17: =M17+O17 -> 1 | L17: =N17+P17 -> 200832.1 | M17: 1 | N17: 200832.1 | O17: 0 | P17: 0 | Q17: 0 | R17: 0 | S17: 0 | T17: 0 | U17: 0 | V17: 0 | W17: =S17+U17 -> 0 | X17: =T17+V17 -> 0 | AA17: =G17-J17-X17 -> 0 | AB17: =F17-I17-W17 -> 0
A18: 10 | B18: 성남시 | C18: 자 혜 | D18: 중원구 금광동 2483 | E18: 1974.8.28. | F18: 1 | G18: 72501 | I18: =K18+Q18 -> 1 | J18: =L18+R18 -> 72501 | K18: =M18+O18 -> 1 | L18: =N18+P18 -> 72501 | M18: 1 | N18: 72501 | O18: 0 | P18: 0 | Q18: 0 | R18: 0 | S18: 0 | T18: 0 | U18: 0 | V18: 0 | W18: =S18+U18 -> 0 | X18: =T18+V18 -> 0 | AA18: =F18-I18-W18 -> 0 | AB18: =G18-J18-X18 -> 0 | AC18: =S18+U18-W18 -> 0 | AD18: =T18+V18-X18 -> 0 | AE18: =I18-K18-Q18 -> 0 | AF18: =J18-L18-R18 -> 0 | AH18: =K18-M18-O18 -> 0 | AI18: =L18-N18-P18 -> 0
A19: 11 | B19: 성남시 | C19: 탑골 | D19: 분당구 야탑동 195번지 | E19: 1990.6.22. | F19: 1 | G19: 358083.6 | I19: =K19+Q19 -> 1 | J19: =L19+R19 -> 358083.6 | K19: =M19+O19 -> 1 | L19: 358083.6 | M19: 1 | N19: 358083.6 | O19: 0 | P19: 0 | Q19: 0 | R19: 0 | S19: 0 | T19: 0 | U19: 0 | V19: 0 | W19: =S19+U19 -> 0 | X19: =T19+V19 -> 0 | AA19: =G19-J19-X19 -> 0 | AB19: =F19-I19-W19 -> 0
A20: 12 | B20: 성남시 | C20: 성지 | D20: 분당구 야탑동 195-1 | E20: 1990.6.22. | F20: 1 | G20: 94597.4 | I20: =K20+Q20 -> 1 | J20: =L20+R20 -> 94597.4 | K20: =M20+O20 -> 1 | L20: =N20+P20 -> 94597.4 | M20: 1 | N20: 94597.4 | O20: 0 | P20: 0 | Q20: 0 | R20: 0 | S20: 0 | T20: 0 | U20: 0 | V20: 0 | W20: =S20+U20 -> 0 | X20: =T20+V20 -> 0 | AA20: =G20-J20-X20 -> 0 | AB20: =F20-I20-W20 -> 0
A21: 13 | B21: 성남시 | C21: 상희 | D21: 분당구 야탑동 271 | E21: 1990.6.22. | F21: 1 | G21: 18143.7 | I21: =K21+Q21 -> 1 | J21: =L21+R21 -> 18143.7 | K21: =M21+O21 -> 1 | L21: =N21+P21 -> 18143.7 | M21: 1 | N21: 18143.7 | O21: 0 | P21: 0 | Q21: 0 | R21: 0 | S21: 0 | T21: 0 | U21: 0 | V21: 0 | W21: =S21+U21 -> 0 | X21: =T21+V21 -> 0 | AA21: =G21-J21-X21 -> 0 | AB21: =F21-I21-W21 -> 0
A22: 14 | B22: 성남시 | C22: 점골 | D22: 분당구 서현동 342번지 일대 | E22: 1990.6.22. | F22: 1 | G22: 270243.9 | I22: =K22+Q22 -> 1 | J22: =L22+R22 -> 270243.9 | K22: =M22+O22 -> 1 | L22: =N22+P22 -> 270243.9 | M22: 1 | N22: 270243.9 | O22: 0 | P22: 0 | Q22: 0 | R22: 0 | S22: 0 | T22: 0 | U22: 0 | V22: 0 | W22: =S22+U22 -> 0 | X22: =T22+V22 -> 0 | AA22: =G22-J22-X22 -> 0 | AB22: =F22-I22-W22 -> 0
A23: 15 | B23: 성남시 | C23: 태현 | D23: 분당구 분당동 88번지 | E23: 1990.6.22. | F23: 1 | G23: 16319.5 | I23: =K23+Q23 -> 1 | J23: =L23+R23 -> 16319.5 | K23: =M23+O23 -> 1 | L23: =N23+P23 -> 16319.5 | M23: 1 | N23: 16319.5 | O23: 0 | P23: 0 | Q23: 0 | R23: 0 | S23: 0 | T23: 0 | U23: 0 | V23: 0 | W23: =S23+U23 -> 0 | X23: =T23+V23 -> 0 | AA23: =G23-J23-X23 -> 0 | AB23: =F23-I23-W23 -> 0
A24: 16 | B24: 성남시 | C24: 맹산 | D24: 분당구 분당동 64-1 | E24: 1990.6.22. | F24: 1 | G24: 103828.1 | I24: =K24+Q24 -> 1 | J24: =L24+R24 -> 103828.1 | K24: =M24+O24 -> 1 | L24: =N24+P24 -> 103828.1 | M24: 1 | N24: 103828.1 | O24: 0 | P24: 0 | Q24: 0 | R24: 0 | S24: 0 | T24: 0 | U24: 0 | V24: 0 | W24: =S24+U24 -> 0 | X24: =T24+V24 -> 0 | AA24: =G24-J24-X24 -> 0 | AB24: =F24-I24-W24 -> 0
A25: 17 | B25: 성남시 | C25: 당골 | D25: 분당구 분당동 37 | E25: 1990.6.22. | F25: 1 | G25: 31128.8 | I25: =K25+Q25 -> 1 | J25: =L25+R25 -> 31128.8 | K25: =M25+O25 -> 1 | L25: =N25+P25 -> 31128.8 | M25: 1 | N25: 31128.8 | O25: 0 | P25: 0 | Q25: 0 | R25: 0 | S25: 0 | T25: 0 | U25: 0 | V25: 0 | W25: =S25+U25 -> 0 | X25: =T25+V25 -> 0 | AA25: =G25-J25-X25 -> 0 | AB25: =F25-I25-W25 -> 0
A26: 18 | B26: 성남시 | C26: 중앙 | D26: 분당구 수내동 65, 66 | E26: 1990.6.22. | F26: 1 | G26: 420982.1 | I26: =K26+Q26 -> 1 | J26: =L26+R26 -> 420982.1 | K26: =M26+O26 -> 1 | L26: =N26+P26 -> 420982.1 | M26: 1 | N26: 420982.1 | O26: 0 | P26: 0 | Q26: 0 | R26: 0 | S26: 0 | T26: 0 | U26: 0 | V26: 0 | W26: =S26+U26 -> 0 | X26: =T26+V26 -> 0 | AA26: =G26-J26-X26 -> 0 | AB26: =F26-I26-W26 -> 0
A27: 19 | B27: 성남시 | C27: 마루 | D27: 분당구 수내동 49-1 | E27: 1990.6.22. | F27: 1 | G27: 25493.9 | I27: =K27+Q27 -> 1 | J27: =L27+R27 -> 25493.9 | K27: =M27+O27 -> 1 | L27: =N27+P27 -> 25493.9 | M27: 1 | N27: 25493.9 | O27: 0 | P27: 0 | Q27: 0 | R27: 0 | S27: 0 | T27: 0 | U27: 0 | V27: 0 | W27: =S27+U27 -> 0 | X27: =T27+V27 -> 0 | AA27: =G27-J27-X27 -> 0 | AB27: =F27-I27-W27 -> 0
A28: 20 | B28: 성남시 | C28: 능골 | D28: 분당구 정자동 103 | E28: 1990.6.22. | F28: 1 | G28: 30590.2 | I28: =K28+Q28 -> 1 | J28: =L28+R28 -> 30590.2 | K28: =M28+O28 -> 1 | L28: =N28+P28 -> 30590.2 | M28: 1 | N28: 30590.2 | O28: 0 | P28: 0 | Q28: 0 | R28: 0 | S28: 0 | T28: 0 | U28: 0 | V28: 0 | W28: =S28+U28 -> 0 | X28: =T28+V28 -> 0 | AA28: =G28-J28-X28 -> 0 | AB28: =F28-I28-W28 -> 0
A29: 21 | B29: 성남시 | C29: 정자 | D29: 분당구 정자동 252 | E29: 1990.6.22. | F29: 1 | G29: 215106.7 | I29: =K29+Q29 -> 1 | J29: =L29+R29 -> 215106.7 | K29: =M29+O29 -> 1 | L29: =N29+P29 -> 215106.7 | M29: 1 | N29: 215106.7 | O29: 0 | P29: 0 | Q29: 0 | R29: 0 | S29: 0 | T29: 0 | U29: 0 | V29: 0 | W29: =S29+U29 -> 0 | X29: =T29+V29 -> 0 | AA29: =G29-J29-X29 -> 0 | AB29: =F29-I29-W29 -> 0
A30: 22 | B30: 성남시 | C30: 주택 | D30: 분당구 정자동 253 | E30: 1990.6.22. | F30: 1 | G30: 212563.3 | I30: =K30+Q30 -> 1 | J30: =L30+R30 -> 212563.3 | K30: =M30+O30 -> 1 | L30: =N30+P30 -> 212563.3 | M30: 1 | N30: 212563.3 | O30: 0 | P30: 0 | Q30: 0 | R30: 0 | S30: 0 | T30: 0 | U30: 0 | V30: 0 | W30: =S30+U30 -> 0 | X30: =T30+V30 -> 0 | AA30: =G30-J30-X30 -> 0 | AB30: =F30-I30-W30 -> 0
B31: 성남시 | C31: 금곡 | E31: 1990.6.22. | O31: 0 | P31: 0 | Q31: 0 | R31: 0 | S31: 0 | T31: 0 | U31: 0 | V31: 0 | W31: =S31+U31 -> 0 | X31: =T31+V31 -> 0 | AA31: =G31-J31-X31 -> 0 | AB31: =F31-I31-W31 -> 0
A32: 23 | B32: 성남시 | C32: 머내과학 | D32: 분당구 구미동 19 | E32: 1990.6.22. | F32: 1 | G32: 165712.5 | I32: =K32+Q32 -> 1 | J32: =L32+R32 -> 165712.5 | K32: =M32+O32 -> 1 | L32: =N32+P32 -> 165712.5 | M32: 1 | N32: 165712.5 | O32: 0 | P32: 0 | Q32: 0 | R32: 0 | S32: 0 | T32: 0 | U32: 0 | V32: 0 | W32: =S32+U32 -> 0 | X32: =T32+V32 -> 0 | AA32: =G32-J32-X32 -> 0 | AB32: =F32-I32-W32 -> 0
A33: 24 | B33: 성남시 | C33: 벌말 | D33: 분당구 구미동 67 | E33: 1990.6.22. | F33: 1 | G33: 12040.7 | I33: =K33+Q33 -> 1 | J33: =L33+R33 -> 12040.7 | K33: =M33+O33 -> 1 | L33: 12040.7 | M33: 1 | N33: 12040.7 | O33: 0 | P33: 0 | Q33: 0 | R33: 0 | S33: 0 | T33: 0 | U33: 0 | V33: 0 | W33: =S33+U33 -> 0 | X33: =T33+V33 -> 0 | AA33: =G33-J33-X33 -> 0 | AB33: =F33-I33-W33 -> 0
A34: 25 | B34: 성남시 | C34: 오리 | D34: 분당구 구미동 193-1, 2 | E34: 1990.6.22. | F34: 1 | G34: 20748 | I34: =K34+Q34 -> 1 | J34: =L34+R34 -> 20748 | K34: =M34+O34 -> 1 | L34: =N34+P34 -> 20748 | M34: 1 | N34: 20748 | Q34: 0 | R34: 0 | S34: 0 | T34: 0 | U34: 0 | V34: =G34-J34 -> 0 | W34: 0 | X34: =T34+V34 -> 0 | AA34: =G34-J34-X34 -> 0 | AB34: =F34-I34-W34 -> 0
A35: 26 | B35: 성남시 | C35: 진고개 | D35: 분당구 구미동 209 | E35: 1990.6.22. | F35: 1 | G35: 21059.1 | I35: =K35+Q35 -> 1 | J35: =L35+R35 -> 21059.1 | K35: =M35+O35 -> 1 | L35: =N35+P35 -> 21059.1 | M35: 1 | N35: 21059.1 | O35: 0 | P35: 0 | Q35: 0 | R35: 0 | S35: 0 | T35: 0 | U35: 0 | V35: =G35-J35 -> 0 | W35: =S35+U35 -> 0 | X35: =T35+V35 -> 0 | AA35: =G35-J35-X35 -> 0 | AB35: =F35-I35-W35 -> 0
A36: 27 | B36: 성남시 | C36: 석촌 | D36: 분당구 구미동 217 | E36: 1990.6.22. | F36: 1 | G36: 18863.7 | I36: =K36+Q36 -> 1 | J36: =L36+R36 -> 18863.7 | K36: =M36+O36 -> 1 | L36: =N36+P36 -> 18863.7 | M36: 1 | N36: 18863.7 | O36: 0 | P36: 0 | Q36: 0 | R36: 0 | S36: 0 | T36: 0 | U36: 0 | V36: =G36-J36 -> 0 | W36: =S36+U36 -> 0 | X36: =T36+V36 -> 0 | AA36: =G36-J36-X36 -> 0 | AB36: =F36-I36-W36 -> 0
A37: 28 | B37: 성남시 | C37: 구미 | D37: 분당구 구미동 299 | E37: 1990.6.22. | F37: 1 | G37: 226188.2 | I37: =K37+Q37 -> 1 | J37: =L37+R37 -> 226188.2 | K37: =M37+O37 -> 1 | L37: =N37+P37 -> 226188.2 | M37: 1 | N37: 226188.2 | O37: 0 | P37: 0 | Q37: 0 | R37: 0 | S37: 0 | T37: 0 | U37: 0 | V37: =G37-J37 -> 0 | W37: =S37+U37 -> 0 | X37: =T37+V37 -> 0 | AA37: =G37-J37-X37 -> 0 | AB37: =F37-I37-W37 -> 0
A38: 29 | B38: 성남시 | C38: 수 진 | D38: 수정구 수진2동 산41-3 | E38: 1999.7.6. | F38: 1 | G38: 51000 | I38: =K38+Q38 -> 1 | J38: =L38+R38 -> 51000 | K38: =M38+O38 -> 1 | L38: =N38+P38 -> 51000 | M38: 1 | N38: 51000 | O38: 0 | P38: 0 | Q38: 0 | R38: 0 | S38: 0 | T38: 0 | U38: 0 | V38: =G38-J38 -> 0 | W38: =S38+U38 -> 0 | X38: =T38+V38 -> 0 | AA38: =F38-I38-W38 -> 0 | AB38: =G38-J38-X38 -> 0 | AC38: =S38+U38-W38 -> 0 | AD38: =T38+V38-X38 -> 0 | AE38: =I38-K38-Q38 -> 0 | AF38: =J38-L38-R38 -> 0 | AH38: =K38-M38-O38 -> 0 | AI38: =L38-N38-P38 -> 0
A39: 30 | B39: 성남시 | C39: 사기막골 | D39: 중원구 상대원동 28 | E39: 2006.3.16. | F39: 1 | G39: 21620 | I39: =K39+Q39 -> 1 | J39: =L39+R39 -> 21620 | K39: =M39+O39 -> 1 | L39: =N39+P39 -> 21620 | M39: 1 | N39: 21620 | O39: 0 | P39: 0 | Q39: 0 | R39: 0 | S39: 0 | T39: 0 | U39: 0 | V39: =G39-J39 -> 0 | W39: =S39+U39 -> 0 | X39: =T39+V39 -> 0 | AA39: =G39-J39-X39 -> 0 | AB39: =F39-I39-W39 -> 0
A40: 31 | B40: 성남시 | C40: 도촌제1호(섬말) | D40: 중원구 도촌동 654 | E40: 2003.6.20. | F40: 1 | G40: 62458.1 | I40: =K40+Q40 -> 1 | J40: =L40+R40 -> 62458.1 | K40: =M40+O40 -> 1 | L40: =N40+P40 -> 62458.1 | M40: 1 | N40: 62458.1 | O40: 0 | P40: 0 | Q40: 0 | R40: 0 | S40: 0 | T40: 0 | U40: 0 | V40: =G40-J40 -> 0 | W40: =S40+U40 -> 0 | X40: =T40+V40 -> 0 | AA40: =G40-J40-X40 -> 0 | AB40: =F40-I40-W40 -> 0
A41: 32 | B41: 성남시 | C41: 판교제1호(청계) | D41: 분당구 운중동 872 | E41: 2004.12.30. | F41: 1 | G41: 87207 | I41: =K41+Q41 -> 1 | J41: =L41+R41 -> 87207 | K41: =M41+O41 -> 1 | L41: =N41+P41 -> 87207 | M41: 1 | N41: 87207 | O41: 0 | P41: 0 | Q41: 0 | R41: 0 | S41: 0 | T41: 0 | U41: 0 | V41: =G41-J41 -> 0 | W41: =S41+U41 -> 0 | X41: =T41+V41 -> 0 | AA41: =G41-J41-X41 -> 0 | AB41: =F41-I41-W41 -> 0
A42: 33 | B42: 성남시 | C42: 판교제2호(운중) | D42: 분당구 운중동 953 | E42: 2004.12.30. | F42: 1 | G42: 28137.7 | I42: =K42+Q42 -> 1 | J42: =L42+R42 -> 28137.7 | K42: =M42+O42 -> 1 | L42: =N42+P42 -> 28137.7 | M42: 1 | N42: 28137.7 | O42: 0 | P42: 0 | Q42: 0 | R42: 0 | S42: 0 | T42: 0 | U42: 0 | V42: =G42-J42 -> 0 | W42: =S42+U42 -> 0 | X42: =T42+V42 -> 0 | AA42: =G42-J42-X42 -> 0 | AB42: =F42-I42-W42 -> 0
A43: 34 | B43: 성남시 | C43: 판교제3호(두밀) | D43: 분당구 운중동 915 | E43: 2004.12.30. | F43: 1 | G43: 66929.3 | I43: =K43+Q43 -> 1 | J43: =L43+R43 -> 66929.3 | K43: =M43+O43 -> 1 | L43: =N43+P43 -> 66929.3 | M43: 1 | N43: 66929.3 | O43: 0 | P43: 0 | Q43: 0 | R43: 0 | S43: 0 | T43: 0 | U43: 0 | V43: =G43-J43 -> 0 | W43: =S43+U43 -> 0 | X43: =T43+V43 -> 0 | AA43: =G43-J43-X43 -> 0 | AB43: =F43-I43-W43 -> 0
A44: 35 | B44: 성남시 | C44: 판교제4호(판교) | D44: 분당구 운중동 990 , 판교동 553 일원 | E44: 2004.12.30. | F44: 1 | G44: 1204532.2 | I44: =K44+Q44 -> 1 | J44: =L44+R44 -> 1204532.2 | K44: =M44+O44 -> 1 | L44: =N44+P44 -> 1204532.2 | M44: 1 | N44: 1204532.2 | O44: 0 | P44: 0 | Q44: 0 | R44: 0 | S44: 0 | T44: 0 | U44: 0 | V44: =G44-J44 -> 0 | W44: =S44+U44 -> 0 | X44: =T44+V44 -> 0 | AA44: =G44-J44-X44 -> 0 | AB44: =F44-I44-W44 -> 0
A45: 36 | B45: 성남시 | C45: 판교제6호(봇들) | D45: 분당구 삼평동 697 | E45: 2004.12.30. | F45: 1 | G45: 154424 | I45: =K45+Q45 -> 1 | J45: =L45+R45 -> 154424 | K45: =M45+O45 -> 1 | L45: =N45+P45 -> 154424 | M45: 1 | N45: 154424 | O45: 0 | P45: 0 | Q45: 0 | R45: 0 | S45: 0 | T45: 0 | U45: 0 | V45: =G45-J45 -> 0 | W45: =S45+U45 -> 0 | X45: =T45+V45 -> 0 | AA45: =G45-J45-X45 -> 0 | AB45: =F45-I45-W45 -> 0
A46: 37 | B46: 성남시 | C46: 판교제7호(송현) | D46: 분당구 삼평동 717-2 | E46: 2004.12.30. | F46: 1 | G46: 39233.5 | I46: =K46+Q46 -> 1 | J46: =L46+R46 -> 39233.5 | K46: =M46+O46 -> 1 | L46: =N46+P46 -> 39233.5 | M46: 1 | N46: 39233.5 | O46: 0 | P46: 0 | Q46: 0 | R46: 0 | S46: 0 | T46: 0 | U46: 0 | V46: =G46-J46 -> 0 | W46: =S46+U46 -> 0 | X46: =T46+V46 -> 0 | AA46: =G46-J46-X46 -> 0 | AB46: =F46-I46-W46 -> 0
A47: 38 | B47: 성남시 | C47: 판교제8호(화랑) | D47: 분당구 삼평동 637 | E47: 2004.12.30. | F47: 1 | G47: 118923.6 | I47: =K47+Q47 -> 1 | J47: =L47+R47 -> 118923.6 | K47: =M47+O47 -> 1 | L47: =N47+P47 -> 118923.6 | M47: 1 | N47: 118923.6 | O47: 0 | P47: 0 | Q47: 0 | R47: 0 | S47: 0 | T47: 0 | U47: 0 | V47: =G47-J47 -> 0 | W47: 0 | X47: =T47+V47 -> 0 | AA47: =G47-J47-X47 -> 0 | AB47: =F47-I47-W47 -> 0
A48: 39 | B48: 성남시 | C48: 판교제9호(나들이) | D48: 분당구 백현동 542-1 | E48: 2004.12.30. | F48: 1 | G48: 28992.4 | I48: =K48+Q48 -> 1 | J48: =L48+R48 -> 28992.4 | K48: =M48+O48 -> 1 | L48: 28992.4 | M48: 1 | N48: 28992.4 | O48: 0 | P48: 0 | Q48: 0 | R48: 0 | S48: 0 | T48: 0 | U48: 0 | V48: =G48-J48 -> 0 | W48: =S48+U48 -> 0 | X48: =T48+V48 -> 0 | AA48: =G48-J48-X48 -> 0 | AB48: =F48-I48-W48 -> 0
A49: 40 | B49: 성남시 | C49: 판교제10호(낙생대) | D49: 분당구 백현동 523, 521-5 | E49: 2004.12.30. | F49: 1 | G49: 428697.6 | I49: =K49+Q49 -> 1 | J49: =L49+R49 -> 428697.6 | K49: =M49+O49 -> 1 | L49: =N49+P49 -> 428697.6 | M49: 1 | N49: 428697.6 | O49: 0 | P49: 0 | Q49: 0 | R49: 0 | S49: 0 | T49: 0 | V49: =G49-J49 -> 0 | W49: =S49+U49 -> 0 | X49: =T49+V49 -> 0 | AA49: =G49-J49-X49 -> 0 | AB49: =F49-I49-W49 -> 0
A50: 41 | B50: 성남시 | C50: 판교제11호(판교테크노파크) | D50: 분당구 삼평동 669 | E50: 2004.12.30. | F50: 1 | G50: 15437.3 | I50: =K50+Q50 -> 1 | J50: =L50+R50 -> 15437.3 | K50: =M50+O50 -> 1 | L50: =N50+P50 -> 15437.3 | M50: 1 | N50: 15437.3 | O50: 0 | P50: 0 | Q50: 0 | R50: 0 | S50: 0 | T50: 0 | U50: 0 | V50: =G50-J50 -> 0 | W50: =S50+U50 -> 0 | X50: =T50+V50 -> 0 | AA50: =G50-J50-X50 -> 0 | AB50: =F50-I50-W50 -> 0
A51: 42 | B51: 성남시 | C51: 여수지구 제1호(모란) | D51: 중원구 성남동 4861 | E51: 2007.1.4. | F51: 1 | G51: 23702.1 | I51: =K51 -> 1 | J51: =L51 -> 23702.1 | K51: =M51+O51 -> 1 | L51: =N51+P51 -> 23702.1 | M51: 1 | N51: 23702.1 | O51: 0 | P51: 0 | Q51: 0 | R51: 0 | S51: 0 | T51: 0 | U51: 0 | V51: =G51-J51 -> 0 | W51: =S51+U51 -> 0 | X51: =T51+V51 -> 0 | AA51: =G51-J51-X51 -> 0 | AB51: =F51-I51-W51 -> 0
A52: 43 | B52: 성남시 | C52: 여수지구 제2호(모란생태) | D52: 중원구 성남동 4872 | E52: 2007.1.4. | F52: 1 | G52: 11819.1 | I52: =K52 -> 1 | J52: =L52 -> 11819.1 | K52: =M52+O52 -> 1 | L52: =N52+P52 -> 11819.1 | M52: 1 | N52: 11819.1 | O52: 0 | P52: 0 | Q52: 0 | R52: 0 | S52: 0 | T52: 0 | U52: 0 | V52: =G52-J52 -> 0 | W52: =S52+U52 -> 0 | X52: =T52+V52 -> 0 | AA52: =G52-J52-X52 -> 0 | AB52: =F52-I52-W52 -> 0
A53: 44 | B53: 성남시 | C53: 여수지구 제3호(시청) | D53: 중원구 여수동 372 | E53: 2007.1.4. | F53: 1 | G53: 50933.7 | I53: =K53+Q53 -> 1 | J53: =L53+R53 -> 50933.7 | K53: =M53+O53 -> 1 | L53: =N53+P53 -> 50933.7 | M53: 1 | N53: 50933.7 | O53: 0 | P53: 0 | Q53: 0 | R53: 0 | S53: 0 | T53: 0 | U53: 0 | V53: =G53-J53 -> 0 | W53: =S53+U53 -> 0 | X53: =T53+V53 -> 0 | AA53: =G53-J53-X53 -> 0 | AB53: =F53-I53-W53 -> 0
A54: 45 | B54: 성남시 | C54: 여수지구 제4호(여수울) | D54: 중원구 여수동 603 | E54: 2007.1.4. | F54: 1 | G54: 82540.9 | I54: =K54+Q54 -> 1 | J54: =L54+R54 -> 82540.9 | K54: =M54+O54 -> 1 | L54: =N54+P54 -> 82540.9 | M54: 1 | N54: 82540.9 | O54: 0 | P54: 0 | Q54: 0 | R54: 0 | S54: 0 | T54: 0 | U54: 0 | V54: =G54-J54 -> 0 | W54: =S54+U54 -> 0 | X54: =T54+V54 -> 0 | AA54: =G54-J54-X54 -> 0 | AB54: =F54-I54-W54 -> 0
A55: 46 | B55: 성남시 | C55: 맹산 2 | D55: 분당구 야탑동 422-3 | F55: 1 | G55: 549878.6 | I55: =K55+Q55 -> 1 | J55: =L55+R55 -> 22426 | K55: =M55+O55 -> 1 | L55: =N55+P55 -> 22426 | M55: 0 | N55: 0 | O55: 1 | P55: 22426 | Q55: 0 | R55: 0 | S55: 0 | T55: 0 | U55: 0 | V55: =G55-J55 -> 527452.6 | W55: 0 | X55: =T55+V55 -> 527452.6 | AA55: =G55-J55-X55 -> 0 | AB55: =F55-I55-W55 -> 0
A56: 47 | B56: 성남시 | C56: 수내 | D56: 분당구 수내동 155-4 | E56: 2007.6.18 | F56: 1 | G56: 53935.3 | I56: =K56+Q56 -> 1 | J56: =L56+R56 -> 37364.3 | K56: =M56+O56 -> 1 | L56: =N56+P56 -> 37364.3 | M56: 0 | N56: 0 | O56: 1 | P56: 37364.3 | Q56: 0 | R56: 0 | S56: 0 | T56: 0 | U56: 0 | V56: 16571 | W56: 0 | X56: =T56+V56 -> 16571 | AA56: =G56-J56-X56 -> 0 | AB56: =F56-I56-W56 -> 0
A57: 48 | B57: 성남시 | C57: 태평 | D57: 수정구 태평동 7277 | E57: 2009.4.27. | F57: 1 | G57: 37281 | I57: =K57+Q57 -> 1 | J57: =L57+R57 -> 37281 | K57: =M57+O57 -> 1 | L57: =N57+P57 -> 37281 | M57: 1 | N57: 37281 | O57: 0 | P57: 0 | S57: 0 | T57: 0 | U57: 0 | V57: 0 | W57: =S57+U57 -> 0 | X57: =T57+V57 -> 0 | AA57: =G57-J57-X57 -> 0 | AB57: =F57-I57-W57 -> 0
A58: 49 | B58: 성남시 | C58: 도촌제2호(독고개) | D58: 중원구 도촌동 659 | E58: 2009.6.30. | F58: 1 | G58: 24806.9 | I58: =K58+Q58 -> 1 | J58: =L58+R58 -> 24806.9 | K58: =M58+O58 -> 1 | L58: =N58+P58 -> 24806.9 | M58: 1 | N58: 24806.9 | O58: 0 | P58: 0 | Q58: 0 | R58: 0 | S58: 0 | T58: 0 | U58: 0 | V58: 0 | W58: =S58+U58 -> 0 | X58: =T58+V58 -> 0 | AA58: =G58-J58-X58 -> 0 | AB58: =F58-I58-W58 -> 0
A59: 50 | B59: 성남시 | C59: 도촌제3호(이왕이) | D59: 중원구 도촌동 648 | E59: 2009.6.30. | F59: 1 | G59: 11386.5 | I59: =K59+Q59 -> 1 | J59: =L59+R59 -> 11386.5 | K59: =M59+O59 -> 1 | L59: =N59+P59 -> 11386.5 | M59: 1 | N59: 11386.5 | O59: 0 | P59: 0 | Q59: 0 | R59: 0 | S59: 0 | T59: 0 | U59: 0 | V59: 0 | W59: =S59+U59 -> 0 | X59: =T59+V59 -> 0 | AA59: =G59-J59-X59 -> 0 | AB59: =F59-I59-W59 -> 0
A60: 51 | B60: 성남시 | C60: 위례 제10호(위례) | D60: 수정구 창곡동 578 | E60: 2010.11.03. | F60: 1 | G60: 625700.4 | I60: =K60 -> 1 | J60: =L60+R60 -> 625700.4 | K60: =M60+O60 -> 1 | L60: =N60+P60 -> 625700.4 | M60: 1 | N60: =G60 -> 625700.4 | O60: 0 | P60: 0 | Q60: 0 | R60: 0 | S60: 0 | T60: 0 | U60: 0 | V60: 0 | W60: =S60+U60 -> 0 | X60: =T60+V60 -> 0 | AA60: =G60-J60-X60 -> 0 | AB60: =F60-I60-W60 -> 0
A61: 52 | B61: 성남시 | C61: 위례 제11호 | D61: 수정구 창곡동 499-158 일원 | E61: 2010.11.03. | F61: 1 | G61: 11468 | J61: =L61+R61 -> 0 | K61: =M61+O61 -> 0 | L61: =N61+P61 -> 0 | M61: 0 | N61: 0 | O61: 0 | P61: 0 | Q61: 0 | R61: 0 | S61: 1 | T61: 11468 | U61: 0 | V61: 0 | W61: 1 | X61: =T61+V61 -> 11468 | AA61: =G61-J61-X61 -> 0 | AB61: =F61-I61-W61 -> 0
A62: 53 | B62: 성남시 | C62: 고등 | D62: 수정구 고등동 588 일원 | E62: 2011.10.13. | F62: 1 | G62: 52464.2 | I62: =K62+Q62 -> 1 | J62: =L62+R62 -> 52464.2 | K62: =M62+O62 -> 1 | L62: =N62+P62 -> 52464.2 | M62: 1 | N62: 52464.2 | O62: 0 | P62: 0 | Q62: 0 | R62: 0 | S62: 0 | T62: 0 | U62: 0 | V62: 0 | W62: =S62+U62 -> 0 | X62: =T62+V62 -> 0 | AA62: =G62-J62-X62 -> 0 | AB62: =F62-I62-W62 -> 0
A63: 54 | B63: 성남시 | C63: 고산 | D63: 수정구 고등동 606 일원 | E63: 2011.10.13. | F63: 1 | G63: 43483.2 | I63: =K63+Q63 -> 1 | J63: =L63+R63 -> 43483.2 | K63: =M63+O63 -> 1 | L63: =N63+P63 -> 43483.2 | M63: 1 | N63: 43483.2 | O63: 0 | P63: 0 | Q63: 0 | R63: 0 | S63: 0 | T63: 0 | U63: 0 | V63: 0 | W63: =S63+U63 -> 0 | X63: =T63+V63 -> 0 | AA63: =G63-J63-X63 -> 0 | AB63: =F63-I63-W63 -> 0
A64: 55 | B64: 성남시 | C64: 제1공단 | E64: 2016.11.08. | H64: 2022.12.23. | Q64: 0 | AA64: =G64-J64-X64 -> 0 | AB64: =F64-I64-W64 -> 0
A65: 56 | B65: 성남시 | C65: 근린공원(미정) | D65: 중원구 상대원동 4130일원(상대원2구역 주택재개발정비사업) | E65: 2018.01.29. | F65: 1 | G65: 10002.1 | I65: =K65+Q65 -> 0 | J65: =L65+R65 -> 0 | K65: =M65+O65 -> 0 | L65: =N65+P65 -> 0 | M65: 0 | N65: 0 | O65: 0 | P65: 0 | Q65: 0 | R65: 0 | S65: 1 | T65: =G65 -> 10002.1 | U65: 0 | V65: 0 | W65: =S65+U65 -> 1 | X65: =T65+V65 -> 10002.1 | AA65: =G65-J65-X65 -> 0 | AB65: =F65-I65-W65 -> 0
A66: 57 | B66: 성남시 | C66: 율동 | D66: 분당구 율동 311 | E66: 1972.11.03. | F66: 1 | G66: 886405.2 | I66: =K66+Q66 -> 1 | J66: =L66+R66 -> 886405.2 | K66: =M66+O66 -> 1 | L66: =N66+P66 -> 886405.2 | M66: 1 | N66: 886405.2 | O66: 0 | P66: 0 | Q66: 0 | R66: 0 | S66: - | T66: 0 | U66: 0 | V66: =G66-J66 -> 0 | W66: - | X66: =T66+V66 -> 0
A67: 58 | B67: 성남시 | C67: 백현 | D67: 분당구 백현동 516-1 일원(식품연구원 지구) | E67: 2016.12.01. | F67: 1 | G67: 29859 | I67: =K67+Q67 -> 1 | J67: =L67+R67 -> 29859 | K67: =M67+O67 -> 1 | L67: =N67+P67 -> 29859 | M67: 1 | N67: 29859 | O67: 0 | P67: 0 | Q67: 0 | R67: 0 | S67: 0 | T67: 0 | W67: =S67+U67 -> 0 | X67: =T67+V67 -> 0 | AA67: =G67-J67-X67 -> 0 | AB67: =F67-I67-W67 -> 0
A68: 59 | B68: 성남시 | C68: 이매 | D68: 분당구 이매동 52-15 | E68: 1972.11.03. | F68: 1 | G68: 31021.4 | I68: =K68+Q68 -> 0 | J68: =L68+R68 -> 0 | K68: =M68+O68 -> 0 | L68: =N68+P68 -> 0 | O68: 0 | P68: 0 | Q68: 0 | R68: 0 | S68: 0 | T68: 0 | U68: 1 | V68: =G68-J68 -> 31021.4 | W68: =S68+U68 -> 1 | X68: =T68+V68 -> 31021.4
A69: 60 | B69: 성남시 | C69: 근린공원1(성남복정1 공공주택지구) | D69: 수정구 복정동 산15-3 일원 | E69: 2020.06.30. | F69: 1 | G69: 10562 | I69: =K69+Q69 -> 0 | J69: =L69+R69 -> 0 | K69: =M69+O69 -> 0 | L69: =N69+P69 -> 0 | M69: 0 | N69: 0 | O69: 0 | P69: 0 | Q69: 0 | R69: 0 | S69: 1 | T69: 10562 | U69: 0 | V69: 0 | W69: =S69+U69 -> 1 | X69: =T69+V69 -> 10562
A70: 61 | B70: 성남시 | C70: 근린공원2(성남복정1 공공주택지구) | D70: 수정구 복정동 757 일원 | E70: 2020.06.30. | F70: 1 | G70: 61539 | I70: =K70+Q70 -> 0 | J70: =L70+R70 -> 0 | K70: =M70+O70 -> 0 | L70: =N70+P70 -> 0 | M70: 0 | N70: 0 | O70: 0 | P70: 0 | Q70: 0 | R70: 0 | S70: 1 | T70: 61539 | U70: 0 | V70: 0 | W70: =S70+U70 -> 1 | X70: =T70+V70 -> 61539
A71: 62 | B71: 성남시 | C71: 근린공원3(성남복정1 공공주택지구) | D71: 수정구 복정동 769 일원 | E71: 2020.06.30. | F71: 1 | G71: 38224 | I71: =K71+Q71 -> 0 | J71: =L71+R71 -> 0 | K71: =M71+O71 -> 0 | L71: =N71+P71 -> 0 | M71: 0 | N71: 0 | O71: 0 | P71: 0 | Q71: 0 | R71: 0 | S71: 1 | T71: 38224 | U71: 0 | V71: 0 | W71: =S71+U71 -> 1 | X71: =T71+V71 -> 38224
A72: 63 | B72: 성남시 | C72: 근린공원(성남복정2 공공주택지구) | D72: 수정구 신흥동 14-2 일원 | E72: 2020.08.28. | F72: 1 | G72: 22353 | I72: =K72+Q72 -> 0 | J72: =L72+R72 -> 0 | K72: =M72+O72 -> 0 | L72: =N72+P72 -> 0 | M72: 0 | N72: 0 | O72: 0 | P72: 0 | Q72: 0 | R72: 0 | S72: 1 | T72: 22353 | U72: 0 | V72: 0 | W72: =S72+U72 -> 1 | X72: =T72+V72 -> 22353
A73: 64 | B73: 성남시 | C73: 근린공원(판교제2테크노밸리) | D73: 수정구 금토동 392 일원 | E73: 2020.09.04. | F73: 1 | G73: 11037.2 | I73: =K73+Q73 -> 1 | J73: =L73+R73 -> 11037.2 | K73: =M73+O73 -> 1 | L73: =N73+P73 -> 11037.2 | M73: 1 | N73: 11037.2 | O73: 0 | P73: 0 | Q73: 0 | R73: 0 | S73: 0 | T73: 0 | U73: 0 | V73: 0 | W73: =S73+U73 -> 0 | X73: =T73+V73 -> 0
A74: 65 | B74: 성남시 | C74: 근린공원(성남금토 공공주택지구) | D74: 수정구 금토동 440-1 일원 | E74: 2020.12.30. | F74: 1 | G74: 15795 | I74: =K74+Q74 -> 0 | J74: =L74+R74 -> 0 | K74: =M74+O74 -> 0 | L74: =N74+P74 -> 0 | M74: 0 | N74: 0 | O74: 0 | P74: 0 | Q74: 0 | R74: 0 | S74: 1 | T74: 15795 | U74: 0 | V74: 0 | W74: =S74+U74 -> 1 | X74: =T74+V74 -> 15795
A75: 66 | B75: 성남시 | C75: 근린공원(신흥1 재개발정비구역) | D75: 수정구 신흥동 5113 일원 | E75: 2020.12.31. | F75: 1 | G75: 12000 | I75: =K75+Q75 -> 0 | J75: =L75+R75 -> 0 | K75: =M75+O75 -> 0 | L75: =N75+P75 -> 0 | M75: 0 | N75: 0 | O75: 0 | P75: 0 | Q75: 0 | R75: 0 | S75: 1 | T75: 12000 | W75: =S75+U75 -> 1 | X75: =T75+V75 -> 12000
A76: 67 | B76: 성남시 | C76: 근린공원(수진1 재개발정비구역) | D76: 수정구 수진동 878 일원 | E76: 2020.12.31. | F76: 1 | G76: 15974 | I76: =K76+Q76 -> 0 | J76: =L76+R76 -> 0 | K76: =M76+O76 -> 0 | L76: =N76+P76 -> 0 | M76: 0 | N76: 0 | O76: 0 | P76: 0 | Q76: 0 | R76: 0 | S76: 1 | T76: 15974 | W76: =S76+U76 -> 1 | X76: =T76+V76 -> 15974
A77: 68 | B77: 성남시 | C77: 판교대장 | D77: 분당구 대장동 242-1 일원 | E77: 2016.11.08. | F77: 1 | G77: 106779.3 | I77: =K77+Q77 -> 1 | J77: =L77+R77 -> 106779.3 | K77: =M77+O77 -> 1 | L77: =N77+P77 -> 106779.3 | M77: 1 | N77: 106779.3 | O77: 0 | P77: 0 | Q77: 0 | R77: 0 | S77: 0 | T77: 0 | W77: =S77+U77 -> 0 | X77: =T77+V77 -> 0 | AA77: =G77-J77-X77 -> 0 | AB77: =F77-I77-W77 -> 0
A78: 69 | B78: 성남시 | C78: 근린공원(성남낙생 공공주택지구) | D78: 분당구 동원동 301 일원 | E78: 2021.09.29. | F78: 1 | G78: 26103 | I78: =K78+Q78 -> 0 | J78: =L78+R78 -> 0 | K78: =M78+O78 -> 0 | L78: =N78+P78 -> 0 | M78: 0 | N78: 0 | O78: 0 | P78: 0 | Q78: 0 | R78: 0 | S78: 1 | T78: 26103 | U78: 0 | V78: 0 | W78: =S78+U78 -> 1 | X78: =T78+V78 -> 26103
A79: 70 | B79: 성남시 | C79: 하이테크밸리 근린공원 | D79: 중원구 상대원 152-1 일원 | E79: 2024.07.29. | F79: 1 | G79: 76658 | I79: =K79+Q79 -> 1 | J79: =L79+R79 -> 76658 | K79: =M79+O79 -> 1 | L79: =N79+P79 -> 76658 | M79: 1 | N79: 76658 | O79: 0 | P79: 0 | Q79: 0 | R79: 0
D82: 24.4.30. 변경
D83: 굿모닝
D84: 수진1 | E84: 15960
D85: 판교제2 | E85: 11143
D88: 태평 반영
G260: 증)56381

Sheet 역사
A1: 4. 역사공원 조성현황 | X1: (면적:㎡)
A2: =총괄!A2 -> (기준 : 2026.01.)
A3: 번호 | B3: 시 · 군 | C3: 공원명 | D3: 위치 | E3: 도시계획시설결정 | I3: 조 성 | S3: 미 조 성 | Y3: 비고
E4: 공원 결정일자 | F4: 개소수 | G4: 면적 | H4: 시설결정 폐지일자 | I4: 계 | K4: 조 성 (운영중) | Q4: 조 성 중 | U4: 미 추 진 | W4: 계
K5: 계 | M5: 전체조성완료 | O5: 일부조성완료 | Q5: 시설공사중 | S5: 행정절차 이행중
I6: 개소수 | J6: 면적 | K6: 개소수 | L6: 면적 | M6: 개소수 | N6: 면적 | O6: 개소수 | P6: 면적 | Q6: 개소수 | R6: 면적 | S6: 개소수 | T6: 면적 | U6: 개소수 | V6: 면적 | W6: 개소수 | X6: 면적
B7: 성남시 | F7: =SUM(F8:F9) -> 2 | G7: =SUM(G8:G9) -> 64940.5 | I7: =SUM(I8:I9) -> 2 | J7: =SUM(J8:J9) -> 64940.5 | K7: =SUM(K8:K9) -> 2 | L7: =SUM(L8:L9) -> 64940.5 | M7: =SUM(M8:M9) -> 2 | N7: =SUM(N8:N9) -> 64940.5 | O7: =SUM(O8:O9) -> 0 | P7: =SUM(P8:P9) -> 0 | ... X7: =SUM(X8:X9) -> 0 | Z7: =G7-J7-X7 -> 0 | AA7: =F7-I7-W7 -> 0
A8: 1 | B8: 성남시 | C8: 판교 역사공원 | D8: 분당구 판교동 499 | E8: 2010.11.03. | F8: 1 | G8: 4891.2 | I8: =K8+Q8 -> 1 | J8: =L8+R8 -> 4891.2 | K8: =M8+O8 -> 1 | L8: =N8+P8 -> 4891.2 | M8: 1 | N8: 4891.2 | O8: 0 | P8: 0 | Q8: 0 | R8: 0 | S8: 0 | T8: 0 | U8: 0 | V8: 0 | W8: =S8+U8 -> 0 | X8: =T8+V8 -> 0 | Z8: =G8-J8-X8 -> 0 | AA8: =F8-I8-W8 -> 0
A9: 2 | B9: 성남시 | C9: 위례 역사공원(위례주제2) | D9: 수정구 창곡동 527 일원 | E9: 2010.01.06. | F9: 1 | G9: 60049.3 | I9: =K9 -> 1 | J9: =L9 -> 60049.3 | K9: =M9+O9 -> 1 | L9: =N9+P9 -> 60049.3 | M9: 1 | N9: =G9 -> 60049.3 | O9: 0 | P9: 0 | Q9: 0 | R9: 0 | S9: 0 | T9: 0 | U9: 0 | V9: 0 | W9: =S9+U9 -> 0 | X9: =T9+V9 -> 0 | Z9: =G9-J9-X9 -> 0 | AA9: =F9-I9-W9 -> 0

Sheet 문화
A1: 5. 문화공원 조성현황 | X1: (면적:㎡)
A2: =총괄!A2 -> (기준 : 2026.01.)
A3: 번호 | B3: 시 · 군 | C3: 공원명 | D3: 위치 | E3: 도시계획시설결정 | I3: 조 성 | S3: 미 조 성 | Y3: 비고
E4: 공원 결정일자 | F4: 개소수 | G4: 면적 | H4: 시설결정 폐지일자 | I4: 계 | K4: 조 성 (운영중) | Q4: 조 성 중 | U4: 미 추 진 | W4: 계
K5: 계 | M5: 전체조성완료 | O5: 일부조성완료 | Q5: 시설공사중 | S5: 행정절차 이행중
I6: 개소수 | J6: 면적 | K6: 개소수 | L6: 면적 | M6: 개소수 | N6: 면적 | O6: 개소수 | P6: 면적 | Q6: 개소수 | R6: 면적 | S6: 개소수 | T6: 면적 | U6: 개소수 | V6: 면적 | W6: 개소수 | X6: 면적
B7: 성남시 | F7: =SUM(F8:F66) -> 11 | G7: =SUM(G8:G85) -> 97569.7 | I7: =SUM(I8:I30) -> 1 | J7: =SUM(J8:J39) -> 58788 | K7: =SUM(K8:K37) -> 1 | L7: =SUM(L8:L52) -> 58788 | M7: =SUM(M8:M87) -> 1 | N7: =SUM(N8:N120) -> 58788 | O7: =SUM(O8:O11) -> 0 | P7: =SUM(P8:P11) -> 0 | Q7: =SUM(Q8:Q11) -> 0 | R7: =SUM(R8:R11) -> 0 | S7: =SUM(S8:S40) -> 3 | T7: =SUM(T8:T38) -> 16251.2 | U7: =SUM(U8:U29) -> 7 | V7: =SUM(V8:V38) -> 22530.5 | W7: =SUM(W8:W29) -> 10 | X7: =SUM(X8:X38) -> 38781.7 | Z7: =G7-J7-X7 -> 0 | AA7: =F7-I7-W7 -> 0
A8: 1 | B8: 성남시 | C8: 성호시장(가칭) | D8: 중원구 성남동 2045 일원 | E8: 2015.11.23. | F8: 1 | G8: 1549.2 | I8: =K8+Q8 -> 0 | J8: =L8+R8 -> 0 | K8: =M8+O8 -> 0 | L8: =N8+P8 -> 0 | S8: 1 | T8: 1549.2 | U8: 0 | V8: 0 | W8: =S8+U8 -> 1 | X8: =T8+V8 -> 1549.2 | Z8: =G8-J8-X8 -> 0 | AA8: =F8-I8-W8 -> 0
A9: 2 | B9: 성남시 | C9: 문화공원(성남금토 공공주택지구) | D9: 수정구 금토동 410-169 일원 | E9: 2020.12.30. | F9: 1 | G9: 5659 | I9: =K9+Q9 -> 0 | J9: =L9+R9 -> 0 | K9: =M9+O9 -> 0 | L9: =N9+P9 -> 0 | S9: 1 | T9: 5659 | U9: 0 | V9: 0 | W9: =S9+U9 -> 1 | X9: =T9+V9 -> 5659
A10: 3 | B10: 성남시 | C10: 문화공원(성남신촌 공공주택지구) | D10: 수정구 신촌동 178 일원 | E10: 2021.07.05. | F10: 1 | G10: 9043 | I10: =K10+Q10 -> 0 | J10: =L10+R10 -> 0 | K10: =M10+O10 -> 0 | L10: =N10+P10 -> 0 | S10: 1 | T10: 9043 | U10: 0 | V10: 0 | W10: =S10+U10 -> 1 | X10: =T10+V10 -> 9043
A11: 4 | B11: 성남시 | C11: 굿모닝 공원 | D11: 분당구 이매동 152-1 일원 | E11: 2023.12.18. | F11: 1 | G11: 58788 | I11: =K11+Q11 -> 1 | J11: =L11+R11 -> 58788 | K11: =M11+O11 -> 1 | L11: =N11+P11 -> 58788 | M11: 1 | N11: 58788 | U11: 0 | V11: 0 | W11: =S11+U11 -> 0 | X11: =T11+V11 -> 0
A12: 5 | B12: 성남시 | C12: 야탑1 | D12: 분당구 야탑동 364-2 | E12: 2025.01.06. | F12: 1 | G12: 2406 | I12: =K12+Q12 -> 0 | J12: =L12+R12 -> 0 | K12: =M12+O12 -> 0 | L12: =N12+P12 -> 0 | U12: 1 | V12: 2406 | W12: =S12+U12 -> 1 | X12: =T12+V12 -> 2406
A13: 6 | B13: 성남시 | C13: 야탑2 | D13: 분당구 야탑동 359-5 | E13: 2025.01.06. | F13: 1 | G13: 1805.1 | I13: =K13+Q13 -> 0 | J13: =L13+R13 -> 0 | K13: =M13+O13 -> 0 | L13: =N13+P13 -> 0 | U13: 1 | V13: 1805.1 | W13: =S13+U13 -> 1 | X13: =T13+V13 -> 1805.1
A14: 7 | B14: 성남시 | C14: 야탑3 | D14: 분당구 야탑동 359-5 | E14: 2025.01.06. | F14: 1 | G14: 2261.2 | I14: =K14+Q14 -> 0 | J14: =L14+R14 -> 0 | K14: =M14+O14 -> 0 | L14: =N14+P14 -> 0 | U14: 1 | V14: 2261.2 | W14: =S14+U14 -> 1 | X14: =T14+V14 -> 2261.2
A15: 8 | B15: 성남시 | C15: 정자1 | D15: 분당구 정자동 26 | E15: 2025.01.06. | F15: 1 | G15: 4702.8 | I15: =K15+Q15 -> 0 | J15: =L15+R15 -> 0 | K15: =M15+O15 -> 0 | L15: =N15+P15 -> 0 | U15: 1 | V15: 4702.8 | W15: =S15+U15 -> 1 | X15: =T15+V15 -> 4702.8
A16: 9 | B16: 성남시 | C16: 오리1 | D16: 분당구 구미동 196 | E16: 2025.01.06. | F16: 1 | G16: 2877.3 | I16: =K16+Q16 -> 0 | J16: =L16+R16 -> 0 | K16: =M16+O16 -> 0 | L16: =N16+P16 -> 0 | U16: 1 | V16: 2877.3 | W16: =S16+U16 -> 1 | X16: =T16+V16 -> 2877.3
A17: 10 | B17: 성남시 | C17: 판교1 | D17: 분당구 백현동 533 | E17: 2025.01.06. | F17: 1 | G17: 4718.8 | I17: =K17+Q17 -> 0 | J17: =L17+R17 -> 0 | K17: =M17+O17 -> 0 | L17: =N17+P17 -> 0 | U17: 1 | V17: 4718.8 | W17: =S17+U17 -> 1 | X17: =T17+V17 -> 4718.8
A18: 11 | B18: 성남시 | C18: 판교2 | D18: 분당구 백현동 536 | E18: 2025.01.06. | F18: 1 | G18: 3759.3 | I18: =K18+Q18 -> 0 | J18: =L18+R18 -> 0 | K18: =M18+O18 -> 0 | L18: =N18+P18 -> 0 | U18: 1 | V18: 3759.3 | W18: =S18+U18 -> 1 | X18: =T18+V18 -> 3759.3

Sheet 수변
A1: 6. 수변공원 조성현황 | X1: (면적:㎡)
A2: =총괄!A2 -> (기준 : 2026.01.)
A3: 번호 | B3: 시 · 군 | C3: 공원명 | D3: 위치 | E3: 도시계획시설결정 | I3: 조 성 | S3: 미 조 성 | Y3: 비고
E4: 공원 결정일자 | F4: 개소수 | G4: 면적 | H4: 시설결정 폐지일자 | I4: 계 | K4: 조 성 (운영중) | Q4: 조 성 중 | U4: 미 추 진 | W4: 계
K5: 계 | M5: 전체조성완료 | O5: 일부조성완료 | Q5: 시설공사중 | S5: 행정절차 이행중
I6: 개소수 | J6: 면적 | K6: 개소수 | L6: 면적 | M6: 개소수 | N6: 면적 | O6: 개소수 | P6: 면적 | Q6: 개소수 | R6: 면적 | S6: 개소수 | T6: 면적 | U6: 개소수 | V6: 면적 | W6: 개소수 | X6: 면적
B7: 성남시 | F7: =SUM(F8:F13) -> 6 | G7: =SUM(G8:G13) -> 360215 | I7: =SUM(I8:I12) -> 0 | J7: =SUM(J8:J12) -> 0 | K7: =SUM(K8:K12) -> 0 | L7: =SUM(L8:L12) -> 0 | M7: =SUM(M8:M12) -> 0 | N7: =SUM(N8:N12) -> 0 | O7: =SUM(O8:O12) -> 0 | P7: =SUM(P8:P12) -> 0 | ... R7: =SUM(R8:R12) -> 0 | S7: =SUM(S8:S13) -> 5 | T7: =SUM(T8:T13) -> 328338 | U7: =SUM(U8:U13) -> 1 | V7: =SUM(V8:V13) -> 31877 | W7: =SUM(W8:W13) -> 6 | X7: =SUM(X8:X13) -> 360215 | AA7: =G7-J7-X7 -> 0 | AB7: =F7-I7-W7 -> 0
A8: 1 | B8: 성남시 | C8: 대왕저수지 수변공원 | D8: 수정구 상적동 39 일원 | E8: 2009.10.22. | F8: 1 | G8: 224258 | I8: =K8+Q8 -> 0 | J8: =L8+R8 -> 0 | K8: =M8+O8 -> 0 | L8: =N8+P8 -> 0 | M8: 0 | N8: 0 | O8: 0 | P8: 0 | Q8: 0 | R8: 0 | S8: 1 | T8: 224258 | U8: 0 | V8: 0 | W8: =S8+U8 -> 1 | X8: =T8+V8 -> 224258 | AA8: =G8-J8-X8 -> 0 | AB8: =F8-I8-W8 -> 0
A9: 2 | B9: 성남시 | C9: 서현수변공원 | D9: 분당구 서현동 21-6일원 | E9: 2015.02.16. | F9: 1 | G9: 31877 | I9: =K9+Q9 -> 0 | J9: =L9+R9 -> 0 | K9: =M9+O9 -> 0 | L9: =N9+P9 -> 0 | M9: 0 | N9: 0 | O9: 0 | P9: 0 | Q9: 0 | R9: 0 | S9: 0 | T9: 0 | U9: 1 | V9: 31877 | W9: =S9+U9 -> 1 | X9: =T9+V9 -> 31877 | AA9: =G9-J9-X9 -> 0 | AB9: =F9-I9-W9 -> 0
A10: 3 | B10: 성남시 | C10: 수변공원1(성남금토 공공주택지구) | D10: 수정구 금토동 224-8 일원 | E10: 2020.12.30. | F10: 1 | G10: 18328 | I10: =K10+Q10 -> 0 | J10: =L10+R10 -> 0 | K10: =M10+O10 -> 0 | L10: =N10+P10 -> 0 | M10: 0 | N10: 0 | O10: 0 | P10: 0 | Q10: 0 | R10: 0 | S10: 1 | T10: 18328 | U10: 0 | V10: 0 | W10: =S10+U10 -> 1 | X10: =T10+V10 -> 18328
A11: 4 | B11: 성남시 | C11: 수변공원2(성남금토 공공주택지구) | D11: 수정구 금토동 440-1 일원 | E11: 2020.12.30. | F11: 1 | G11: 9872 | I11: =K11+Q11 -> 0 | J11: =L11+R11 -> 0 | K11: =M11+O11 -> 0 | L11: =N11+P11 -> 0 | M11: 0 | N11: 0 | O11: 0 | P11: 0 | Q11: 0 | R11: 0 | S11: 1 | T11: 9872 | U11: 0 | V11: 0 | W11: =S11+U11 -> 1 | X11: =T11+V11 -> 9872
A12: 5 | B12: 성남시 | C12: 수변공원(성남낙생 공공주택지구) | D12: 분당구 동원동 산67-3 일원 | E12: 2021.09.29. | F12: 1 | G12: 68730 | I12: =K12+Q12 -> 0 | J12: =L12+R12 -> 0 | K12: =M12+O12 -> 0 | L12: =N12+P12 -> 0 | M12: 0 | N12: 0 | O12: 0 | P12: 0 | Q12: 0 | R12: 0 | S12: 1 | T12: 68730 | U12: 0 | V12: 0 | W12: =S12+U12 -> 1 | X12: =T12+V12 -> 68730
A13: 6 | B13: 성남시 | C13: 수변공원(성남낙생 공공주택지구) | D13: 분당구 동원동 190-1 일원 | E13: 2023.12.29. | F13: 1 | G13: 7150 | I13: =K13+Q13 -> 0 | J13: =L13+R13 -> 0 | K13: =M13+O13 -> 0 | L13: =N13+P13 -> 0 | M13: 0 | N13: 0 | O13: 0 | P13: 0 | Q13: 0 | R13: 0 | S13: 1 | T13: 7150 | U13: 0 | V13: 0 | W13: =S13+U13 -> 1 | X13: =T13+V13 -> 7150

Sheet 묘지
A1: 7. 묘지공원 조성현황 | X1: (면적:㎡)
A2: =총괄!A2 -> (기준 : 2026.01.)
A3: 번호 | B3: 시 · 군 | C3: 공원명 | D3: 위치 | E3: 도시계획시설결정 | I3: 조 성 | S3: 미 조 성 | Y3: 비고
E4: 공원 결정일자 | F4: 개소수 | G4: 면적 | H4: 시설결정 폐지일자 | I4: 계 | K4: 조 성 (운영중) | Q4: 조 성 중 | U4: 미 추 진 | W4: 계
K5: 계 | M5: 전체조성완료 | O5: 일부조성완료 | Q5: 시설공사중 | S5: 행정절차 이행중
I6: 개소수 | J6: 면적 | K6: 개소수 | L6: 면적 | M6: 개소수 | N6: 면적 | O6: 개소수 | P6: 면적 | Q6: 개소수 | R6: 면적 | S6: 개소수 | T6: 면적 | U6: 개소수 | V6: 면적 | W6: 개소수 | X6: 면적
B7: 성남시 | F7: =SUM(F8:F8) -> 1 | G7: =SUM(G8:G8) -> 635928 | I7: =SUM(I8:I8) -> 1 | J7: =SUM(J8:J8) -> 630268 | K7: =SUM(K8:K8) -> 1 | L7: =SUM(L8:L8) -> 630268 | M7: =SUM(M8:M8) -> 0 | N7: =SUM(N8:N8) -> 0 | O7: =SUM(O8:O8) -> 1 | P7: =SUM(P8:P8) -> 630268 | ... X7: =SUM(X8:X8) -> 5660 | AA7: =G7-J7-X7 -> 0 | AB7: =F7-I7-W7 -> 0
A8: 1 | B8: 성남시 | C8: 남서울묘지공원 | D8: 분당구 야탑동 6 일원 | E8: 1974.8.24 | F8: 1 | G8: 635928 | I8: =K8+Q8 -> 1 | J8: =L8+R8 -> 630268 | K8: =M8+O8 -> 1 | L8: =N8+P8 -> 630268 | M8: 0 | N8: 0 | O8: 1 | P8: 630268 | V8: =G8-J8 -> 5660 | W8: =S8+U8 -> 0 | X8: =T8+V8 -> 5660 | AA8: =F8-I8-W8 -> 0 | AB8: =G8-J8-X8 -> 0 | AC8: =S8+U8-W8 -> 0 | AD8: =T8+V8-X8 -> 0 | AE8: =I8-K8-Q8 -> 0 | AF8: =J8-L8-R8 -> 0 | AG8: =I8-K8 -> 0

Sheet 체육
A1: 8. 체육공원 조성현황 | X1: (면적:㎡)
A2: =총괄!A2 -> (기준 : 2026.01.)
A3: 번호 | B3: 시 · 군 | C3: 공원명 | D3: 위치 | E3: 도시계획시설결정 | I3: 조 성 | S3: 미 조 성 | Y3: 비고
E4: 공원 결정일자 | F4: 개소수 | G4: 면적 | H4: 시설결정 폐지일자 | I4: 계 | K4: 조 성 (운영중) | Q4: 조 성 중 | U4: 미 추 진 | W4: 계
K5: 계 | M5: 전체조성완료 | O5: 일부조성완료 | Q5: 시설공사중 | S5: 행정절차 이행중
I6: 개소수 | J6: 면적 | K6: 개소수 | L6: 면적 | M6: 개소수 | N6: 면적 | O6: 개소수 | P6: 면적 | Q6: 개소수 | R6: 면적 | S6: 개소수 | T6: 면적 | U6: 개소수 | V6: 면적 | W6: 개소수 | X6: 면적
B7: 성남시 | F7: =SUM(F8:F15) -> 8 | G7: =SUM(G8:G15) -> 667427.2 | I7: =SUM(I8:I15) -> 6 | J7: =SUM(J8:J15) -> 440530.5 | K7: =SUM(K8:K15) -> 6 | L7: =SUM(L8:L15) -> 440530.5 | M7: =SUM(M8:M15) -> 6 | N7: =SUM(N8:N15) -> 440530.5 | O7: =SUM(O8:O15) -> 0 | P7: =SUM(P8:P15) -> 0 | ... X7: =SUM(X8:X15) -> 226896.7 | AA7: =G7-J7-X7 -> 0 | AB7: =F7-I7-W7 -> 0
A8: 1 | B8: 성남시 | C8: 판교체육1호 | D8: 분당구 운중동 956-1 일원 | E8: 2004.12.30 | F8: 1 | G8: 12002.5 | I8: =K8+Q8 -> 1 | J8: =L8+R8 -> 12002.5 | K8: =M8+O8 -> 1 | L8: =N8+P8 -> 12002.5 | M8: 1 | N8: 12002.5 | O8: 0 | P8: 0 | Q8: 0 | R8: 0 | S8: 0 | T8: 0 | U8: 0 | V8: 0 | W8: =S8+U8 -> 0 | X8: =T8+V8 -> 0 | AA8: =G8-J8-X8 -> 0 | AB8: =F8-I8-W8 -> 0
A9: 2 | B9: 성남시 | C9: 판교체육2호 | D9: 분당구 운중동 954 일원 | E9: 2004.12.30 | F9: 1 | G9: 10909.3 | I9: =K9+Q9 -> 1 | J9: =L9+R9 -> 10909.3 | K9: =M9+O9 -> 1 | L9: =N9+P9 -> 10909.3 | M9: 1 | N9: 10909.3 | O9: 0 | P9: 0 | Q9: 0 | R9: 0 | S9: 0 | T9: 0 | U9: 0 | V9: 0 | W9: =S9+U9 -> 0 | X9: =T9+V9 -> 0 | AA9: =G9-J9-X9 -> 0 | AB9: =F9-I9-W9 -> 0
A10: 3 | B10: 성남시 | C10: 판교체육3호 | D10: 분당구 운중동 921-3 일원 | E10: 2004.12.30 | F10: 1 | G10: 11651.6 | I10: =K10+Q10 -> 1 | J10: =L10+R10 -> 11651.6 | K10: =M10+O10 -> 1 | L10: =N10+P10 -> 11651.6 | M10: 1 | N10: 11651.6 | O10: 0 | P10: 0 | Q10: 0 | R10: 0 | S10: 0 | T10: 0 | U10: 0 | V10: 0 | W10: =S10+U10 -> 0 | X10: =T10+V10 -> 0 | AA10: =G10-J10-X10 -> 0 | AB10: =F10-I10-W10 -> 0
A11: 4 | B11: 성남시 | C11: 탄천변제1체육공원 | D11: 중원구 여수동 1 일원 | E11: 2011.03.24. | F11: 1 | G11: 161337.7 | I11: =K11+Q11 -> 0 | J11: =L11+R11 -> 0 | K11: =M11+O11 -> 0 | L11: =N11+P11 -> 0 | M11: 0 | N11: 0 | O11: 0 | P11: 0 | Q11: 0 | R11: 0 | S11: 0 | T11: 0 | U11: 1 | V11: 161337.7 | W11: =S11+U11 -> 1 | X11: =T11+V11 -> 161337.7 | AA11: =G11-J11-X11 -> 0 | AB11: =F11-I11-W11 -> 0
A12: 5 | B12: 성남시 | C12: 탄천변제2체육공원 | D12: 수정구 수진동 산35 일원 | E12: 2011.03.24. | F12: 1 | G12: 65559 | I12: =K12+Q12 -> 0 | J12: =L12+R12 -> 0 | K12: =M12+O12 -> 0 | L12: =N12+P12 -> 0 | M12: 0 | N12: 0 | O12: 0 | P12: 0 | Q12: 0 | R12: 0 | S12: 0 | T12: 0 | U12: 1 | V12: 65559 | W12: =S12+U12 -> 1 | X12: =T12+V12 -> 65559 | AA12: =G12-J12-X12 -> 0 | AB12: =F12-I12-W12 -> 0
A13: 6 | B13: 성남시 | C13: 양 지 | D13: 수정구 양지동 972 일원 | E13: 1972.11.3. | F13: 1 | G13: 349861.6 | I13: 1 | J13: =L13+R13 -> 349861.6 | K13: 1 | L13: =N13+P13 -> 349861.6 | M13: 1 | N13: 349861.6 | O13: 0 | P13: 0 | Q13: 0 | R13: 0 | S13: 0 | T13: 0 | U13: 0 | V13: =G13-J13 -> 0 | W13: 0 | X13: =T13+V13 -> 0 | AA13: =G13-J13-X13 -> 0 | AB13: =F13-I13-W13 -> 0
A14: 7 | B14: 성남시 | C14: 황새울 | D14: 분당구 수내동 42, 43 | E14: 1990.6.22. | F14: 1 | G14: 37957 | I14: =K14+Q14 -> 1 | J14: =L14+R14 -> 37957 | K14: =M14+O14 -> 1 | L14: =N14+P14 -> 37957 | M14: 1 | N14: 37957 | O14: 0 | P14: 0 | Q14: 0 | R14: 0 | S14: 0 | T14: 0 | U14: 0 | V14: 0 | W14: =S14+U14 -> 0 | X14: =T14+V14 -> 0 | AA14: =G14-J14-X14 -> 0 | AB14: =F14-I14-W14 -> 0
A15: 8 | B15: 성남시 | C15: 금곡 | D15: 분당구 정자동 183-1 | E15: 1990.6.22. | F15: 1 | G15: 18148.5 | I15: =K15+Q15 -> 1 | J15: =L15+R15 -> 18148.5 | K15: =M15+O15 -> 1 | L15: =N15+P15 -> 18148.5 | M15: 1 | N15: 18148.5 | Y15: 근린공원 → 체육공원

Sheet 도시자연
A1: 9. 도시자연공원 조성현황 | X1: (면적:㎡)
A2: =총괄!A2 -> (기준 : 2026.01.)
A3: 번호 | B3: 시 · 군 | C3: 공원명 | D3: 위치 | E3: 도시계획시설결정 | I3: 조 성 | S3: 미 조 성 | Y3: 비고
E4: 공원 결정일자 | F4: 개소수 | G4: 면적 | H4: 시설결정 폐지일자 | I4: 계 | K4: 조 성 (운영중) | Q4: 조 성 중 | U4: 미 추 진 | W4: 계
K5: 계 | M5: 전체조성완료 | O5: 일부조성완료 | Q5: 시설공사중 | S5: 행정절차 이행중
I6: 개소수 | J6: 면적 | K6: 개소수 | L6: 면적 | M6: 개소수 | N6: 면적 | O6: 개소수 | P6: 면적 | Q6: 개소수 | R6: 면적 | S6: 개소수 | T6: 면적 | U6: 개소수 | V6: 면적 | W6: 개소수 | X6: 면적
B7: 성남시 | F7: =SUM(F8:F11) -> 2 | G7: =SUM(G8:G11) -> 575848.8 | I7: =SUM(I8:I11) -> 0 | J7: =SUM(J8:J11) -> 0 | K7: =SUM(K8:K11) -> 0 | L7: =SUM(L8:L11) -> 0 | M7: =SUM(M8:M11) -> 0 | N7: =SUM(N8:N11) -> 0 | O7: =SUM(O8:O11) -> 0 | P7: =SUM(P8:P11) -> 0 | ... X7: =SUM(X8:X11) -> 575848.8 | Z7: =G7-J7-X7 -> 0 | AA7: =F7-I7-W7 -> 0
B8: 성남시 | C8: 태 평 | E8: 1972.11.03. | H8: 19.09.09. | Z8: =G8-J8-X8 -> 0 | AA8: =F8-I8-W8 -> 0
A9: 1 | B9: 성남시 | C9: 낙 생 | D9: 분당구 동원동 243-1 일원 | E9: 1985.12.04. | F9: 1 | G9: 129197.8 | I9: =K9+Q9 -> 0 | J9: =L9+R9 -> 0 | K9: =M9+O9 -> 0 | L9: =N9+P9 -> 0 | M9: 0 | N9: 0 | O9: 0 | P9: 0 | Q9: 0 | R9: 0 | S9: 0 | T9: 0 | U9: 1 | V9: =G9-J9 -> 129197.8 | W9: =S9+U9 -> 1 | X9: =T9+V9 -> 129197.8 | Z9: =G9-J9-X9 -> 0 | AA9: =F9-I9-W9 -> 0
B10: 성남시 | C10: 이 매 | D10: 건교 제469호 | E10: 1972.11.03. | Z10: =G10-J10-X10 -> 0 | AA10: =F10-I10-W10 -> 0
A11: 2 | B11: 성남시 | C11: 성 남 | D11: 분당구 운중동 459-7 일원 | E11: 1972.11.03. | F11: 1 | G11: 446651 | I11: =K11+Q11 -> 0 | J11: =L11+R11 -> 0 | K11: =M11+O11 -> 0 | L11: =N11+P11 -> 0 | M11: 0 | N11: 0 | O11: 0 | P11: 0 | Q11: 0 | R11: 0 | S11: 0 | T11: 0 | U11: 1 | V11: =G11-J11 -> 446651 | W11: =S11+U11 -> 1 | X11: =T11+V11 -> 446651 | Z11: =G11-J11-X11 -> 0 | AA11: =F11-I11-W11 -> 0

Sheet 공원구역
A1: 10. 도시자연공원구역 지정현황 | W1: (면적:㎡)
A3: 번호 | B3: 시 · 군 | C3: 공원명 | D3: 위치 | E3: 도시계획시설결정 | H3: 조 성 | R3: 미 조 성 | X3: 비고
E4: 공원 결정일자 | F4: 개소수 | G4: 면적 | H4: 계 | J4: 조 성 (운영중) | P4: 조 성 중 | T4: 미 추 진 | V4: 계
J5: 계 | L5: 전체조성완료 | N5: 일부조성완료 | P5: 시설공사중 | R5: 행정절차 이행중
H6: 개소수 | I6: 면적 | J6: 개소수 | K6: 면적 | L6: 개소수 | M6: 면적 | N6: 개소수 | O6: 면적 | P6: 개소수 | Q6: 면적 | R6: 개소수 | S6: 면적 | T6: 개소수 | U6: 면적 | V6: 개소수 | W6: 면적
B7: 성남시 | F7: =SUM(F8:F8) -> 0 | G7: =SUM(G8:G8) -> 0 | H7: =SUM(H8:H8) -> 0 | I7: =SUM(I8:I8) -> 0 | J7: =SUM(J8:J8) -> 0 | K7: =SUM(K8:K8) -> 0 | L7: =SUM(L8:L8) -> 0 | M7: =SUM(M8:M8) -> 0 | ... W7: =SUM(W8:W8) -> 0 | Z7: =G7-I7-W7 -> 0 | AA7: =F7-H7-V7 -> 0
D8: 해당없음 | H8: =J8+P8 -> 0 | I8: =K8+Q8 -> 0 | J8: =L8+N8 -> 0 | K8: =M8+O8 -> 0 | L8: 0 | M8: 0 | N8: 0 | O8: 0 | P8: 0 | Q8: 0 | R8: 0 | S8: 0 | T8: 0 | U8: 0 | V8: =R8+T8 -> 0 | W8: =S8+U8 -> 0 | Z8: =G8-I8-W8 -> 0 | AA8: =F8-H8-V8 -> 0

Sheet Sheet1
G7: 58788
G8: 2406
G9: 1805.1
G10: 2261.2
G11: 4702.8
G12: 2877.3
G13: 4718.8
G14: 3759.3
G15: 4891.2
G16: 31877
G17: 68730
G18: 7150
... G24: 18148.5
G26: =SUM(G7:G25) -> 920563.6
