Workbook

Sheet 가로수 현황
A1: 성남시 가로수 현황
AH3: 기준: 2026. 1. 1. (녹지과 729-4284)
A4: 구분 | B4: 연번 | D4: 노 선 명 | E4: 연장 | F4: 가로유형 | G4: 시점 | H4: 종점 | I4: 가로수 정비계획 | T4: 보도폭 | V4: 합계 | W4: 은행나무 | X4: 버즘나무 | Y4: 메타세콰이어 | Z4: 목백합 | AA4: 느티나무 | AB4: 왕벚나무 | AC4: 이팝나무 | AD4: 칠엽수 | AE4: 소나무 | AF4: 회화나무 | AG4: 중국단풍 | AH4: 상수리 나무 | AI4: 목련 | AJ4: 대왕참 나무 | AK4: 계수나무 | AL4: 배롱나무
I5: 테마전정 | J5: 테마전정 수형 | K5: 밀도조절 | L5: 밀도조절 대상 | M5: 밀도조절 연장 | N5: 하부정비 | O5: 바꿔심기 | P5: 메워심기 | Q5: 다층식재/띠녹지 | R5: 띠녹지 유형 | S5: 은행나무관리 | T5: 좌측 | U5: 우측 | AO5: 은행나무 | AP5: 버즘나무 | AQ5: 메타세콰이어 | AR5: 목백합 | AS5: 느티나무 | AT5: 왕벚나무 | AU5: 이팝나무 | AV5: 칠엽수 | AW5: 소나무 | AX5: 회화나무 | AY5: 중국단풍 | AZ5: 상수리 나무 | BA5: 목련 | BB5: 대왕참 나무 | BC5: 계수나무 | BD5: 배롱나무
A6: 성남시 | D6: 합 계 | E6: =E7+E58+E118 -> 331.58 | I6: =I7+I58+I118 -> 31 | K6: =K7+K58+K118 -> 5 | N6: =N7+N58+N118 -> 40 | O6: =O7+O58+O118 -> 4 | P6: =P7+P58+P118 -> 6 | Q6: =Q7+Q58+Q118 -> 22 | S6: =S7+S58+S118 -> 15 | V6: =V7+V58+V118 -> 48410 | W6: =W7+W58+W118 -> 11578 | X6: =X7+X58+X118 -> 5419 | Y6: =Y7+Y58+Y118 -> 3468 | Z6: =Z7+Z58+Z118 -> 427 | AA6: =AA7+AA58+AA118 -> 17130 | AB6: =AB7+AB58+AB118 -> 3713 | AC6: =AC7+AC58+AC118 -> 3631 | ... AJ6: =AJ7+AJ58+AJ118 -> 67 | AK6: =AK7+AK56+AK118 -> 317 | AL6: =AL7+AL56+AL118 -> 30 | AO6: =W6/$V6 -> 0.23916546 | AP6: =X6/$V6 -> 0.11193968 | AQ6: =Y6/$V6 -> 0.071638091 | AR6: =Z6/$V6 -> 0.0088204916 | AS6: =AA6/$V6 -> 0.35385251 | AT6: =AB6/$V6 -> 0.076699029 | AU6: =AC6/$V6 -> 0.075005164 | AV6: =AD6/$V6 -> 0.0064036356 | ... BA6: =AI6/$V6 -> 0.0013220409 | BB6: =AL6/$V6 -> 0.00061970667 | BC6: =AM6/$V6 -> 0 | BD6: =AN6/$V6 -> 0
A7: 수 정 구 | D7: 소 계 | E7: =SUM(E8:E57)+0.5 -> 74.76 | I7: =COUNTA(I8:I56) -> 16 | K7: =COUNTA(K8:K56) -> 0 | N7: =COUNTA(N8:N56) -> 8 | O7: =COUNTA(O8:O56) -> 0 | P7: =COUNTA(P8:P56) -> 2 | Q7: =COUNTA(Q8:Q56) -> 3 | S7: =COUNTA(S8:S56) -> 1 | V7: =SUM(V8:V57) -> 9996 | W7: =SUM(W8:W56) -> 1344 | X7: =SUM(X8:X56) -> 873 | Y7: =SUM(Y8:Y56) -> 428 | Z7: =SUM(Z8:Z56) -> 0 | AA7: =SUM(AA8:AA56) -> 5148 | AB7: =SUM(AB8:AB56) -> 618 | AC7: =SUM(AC8:AC57) -> 1279 | AD7: =SUM(AD8:AD56) -> 0 | AE7: =SUM(AE8:AE56) -> 42 | AF7: =SUM(AF8:AF56) -> 0 | AG7: =SUM(AG8:AG56) -> 264 | AH7: =SUM(AH8:AH56) -> 0 | AI7: =SUM(AI8:AI56) -> 0 | AJ7: =SUM(AJ8:AJ56) -> 0 | AK7: =SUM(AK8:AK56) -> 0 | AL7: =SUM(AL8:AL56) -> 0 | AO7: =W7/$V7 -> 0.13445378 | AP7: =X7/$V7 -> 0.087334934 | AQ7: =Y7/$V7 -> 0.042817127 | AR7: =Z7/$V7 -> 0 | AS7: =AA7/$V7 -> 0.515006 | AT7: =AB7/$V7 -> 0.06182473 | AU7: =AC7/$V7 -> 0.12795118 | AV7: =AD7/$V7 -> 0 | ... BA7: =AI7/$V7 -> 0 | BB7: =AL7/$V7 -> 0 | BC7: =AM7/$V7 -> 0 | BD7: =AN7/$V7 -> 0
B8: 수 | C8: 1 | D8: 수정로 | E8: 6.1 | G8: 삼정그린뷰아파트101동 | H8: 양지동 3(GS칼텍스) | I8: ㅇ | J8: 원뿔 | N8: ㅇ | T8: 1.5~5 | U8: 2.5~5 | V8: =SUM(W8:AL8) -> 884 | W8: 464 | Y8: 407 | AA8: 13
B9: 수 | C9: 2 | D9: 성남대로 | E9: 3.8 | F9: 자동차중심 | G9: 모란고가교 | H9: 복정교 | N9: ㅇ | Q9: ㅇ | R9: 관목군식형 | T9: 4~6 | U9: 4~7 | V9: =SUM(W9:AL9) -> 1084 | AA9: 1084
B10: 수 | C10: 3 | D10: 산성대로 | E10: 6.1 | F10: 상업 | G10: 산성육교 | H10: 수진동 4731 | I10: ㅇ | J10: 구형 | N10: ㅇ | Q10: ㅇ | R10: 지피형 | T10: 4 | U10: 4~6 | V10: =SUM(W10:AL10) -> 695 | Y10: 18 | AA10: 677
B11: 수 | C11: 4 | D11: 대왕판교로 | E11: 6 | G11: 삼평1교 | H11: 세곡3교(세곡동사거리) | T11: 2~3 | U11: 2~4 | V11: =SUM(W11:AL11) -> 1193 | AA11: 1193
B12: 수 | C12: 5 | D12: 공원로 | E12: 3.2 | G12: 우리은행 성남금융센터 | H12: 창곡교차로 | T12: 2~5.5 | U12: 2~5.5 | V12: =SUM(W12:AL12) -> 230 | W12: 20 | AC12: 168 | AE12: 42
B13: 수 | C13: 6 | D13: 탄리로 | E13: 1.5 | G13: 태평동 648 | H13: 수진역 사거리 | I13: ㅇ | J13: 사각 | N13: ㅇ | T13: 2~2.5 | U13: 2~2.5 | V13: =SUM(W13:AL13) -> 218 | W13: 165 | X13: 53
B14: 수 | C14: 7 | D14: 제일로 | E14: 1.5 | G14: 태평동 5104 | H14: 수진동 2679-20 | I14: ㅇ | J14: 사각 | N14: ㅇ | T14: 3~3.5 | U14: 2.5~3.5 | V14: =SUM(W14:AL14) -> 250 | W14: 2 | X14: 248
B15: 수 | C15: 8 | D15: 헌릉로 | E15: 2 | F15: 상업 | G15: 산성역사거리 | H15: 창곡동 499-320 | Q15: ㅇ | R15: 지피형 | T15: 5.5 | U15: 5.5 | V15: =SUM(W15:AL15) -> 387 | W15: 92 | AC15: 295
B16: 수 | C16: 9 | D16: 희망로 | E16: 1 | G16: 단대오거리역 6번출구 | H16: 신흥동 125(삼성빌딩) | I16: ㅇ | J16: 구형 | T16: 2~3 | U16: 2~3 | V16: =SUM(W16:AL16) -> 160 | X16: 158 | AA16: 2
B17: 수 | C17: 10 | D17: 여수대로 | E17: 1.3 | G17: 시흥사거리 | H17: 여수대교앞사거리 | T17: 2~2.5 | U17: 2 | V17: =SUM(W17:AL17) -> 225 | X17: 225
B18: 수 | C18: 11 | D18: 시민로 | E18: 1.3 | G18: 신흥사거리 | H18: 태평로116 | I18: ㅇ | J18: 구형 | N18: ㅇ | T18: 2 | U18: 3 | V18: =SUM(W18:AL18) -> 73 | W18: 73
B19: 수 | C19: 12 | D19: 남문로 | E19: 1.5 | G19: 아이리라어린이집 | H19: 신흥성당앞사거리 | I19: ㅇ | J19: 사각 | N19: ㅇ | T19: 1.5~2.5 | U19: 1.5~3 | V19: =SUM(W19:AL19) -> 171 | W19: 1 | X19: 170
B20: 수 | C20: 13 | D20: 태평로 | E20: 1.3 | G20: 성남병원앞 삼거리 | H20: 태평동 27 | I20: ㅇ | J20: 원뿔 | P20: ㅇ | T20: 2~3 | U20: 2.5~3 | V20: =SUM(W20:AL20) -> 133 | W20: 114 | X20: 19
B21: 수 | C21: 14 | D21: 논골로 | E21: 1 | G21: 단대동 6-3(풍산쉐르빌) | H21: 논골종로약국 | I21: ㅇ | J21: 구형 | T21: 2~3 | U21: 2~3 | V21: =SUM(W21:AL21) -> 137 | W21: 137
B22: 수 | C22: 15 | D22: 수정로171번길 | E22: 0.2 | G22: 하나은행(성남중앙지점) | H22: 태평동 3311(대광빌딩) | T22: 3.5~4.5 | U22: 3 | V22: =SUM(W22:AL22) -> 20 | W22: 17 | Y22: 3
B23: 수 | C23: 16 | D23: 공원로436번길 | E23: 0.2 | G23: 신흥동성당 | H23: 신흥동43(주차장) | I23: ㅇ | J23: 원뿔 | S23: ㅇ | T23: 2.3 | U23: 2.5 | V23: =SUM(W23:AL23) -> 45 | W23: 45
B24: 수 | C24: 17 | D24: 수정로466번길 | E24: 1.5 | G24: 단대동 6985-39 | H24: 양지동 985-3 | I24: ㅇ | J24: 반원 | T24: 2 | U24: 2.5 | V24: =SUM(W24:AL24) -> 105 | AB24: 105
B25: 수 | C25: 18 | D25: 탄천로 | E25: 5.6 | G25: 복정동 677-8 | H25: 야탑동 403 | I25: ㅇ | J25: 구형 | T25: 1.5~3 | U25: 1.5~3 | V25: =SUM(W25:AL25) -> 766 | AA25: 766
B26: 수 | C26: 19 | D26: 동판교로 | E26: 0.7 | G26: 숲풍지하차도 | H26: 수자원공사진입교차로 | N26: ㅇ | T26: 2.5~6 | U26: 3~6 | V26: =SUM(W26:AL26) -> 149 | AB26: 149
B27: 수 | C27: 20 | D27: 사송로 | E27: 1 | G27: 탄천로입구교차로 | H27: 사송동 515 | I27: ㅇ | J27: 반원 | T27: 2 | U27: 2.6 | V27: =SUM(W27:AL27) -> 31 | AB27: 31
B28: 수 | C28: 21 | D28: 심곡로 | E28: 0.8 | G28: 서울공항정문사거리 | H28: 심곡동 396-60 | I28: ㅇ | J28: 반원 | T28: 2~2.5 | U28: 2~2.5 | V28: =SUM(W28:AL28) -> 9 | AB28: 9
B29: 수 | C29: 22 | D29: 청계산로 | E29: 3.2 | G29: 타이어뱅크 서울공항점 | H29: 상적동 212-5 | V29: =SUM(W29:AL29) -> 153 | AB29: 153
B30: 수 | C30: 23 | D30: 복정로 | E30: 1.6 | G30: 복정동 715-6(수진어린이집) | H30: 복정동 639(한스 부동산) | T30: 2~3 | U30: 2~3 | V30: =SUM(W30:AL30) -> 298 | AA30: 298
B31: 수 | C31: 24 | D31: 성남대로1542번길 | E31: 0.5 | G31: 복정동 631-6(황토골 사철탕) | H31: 복정동 642(MEATBOX 복정점) | T31: 2.5 | U31: 2.5 | V31: =SUM(W31:AL31) -> 71 | AC31: 71
B32: 수 | C32: 25 | D32: 성남대로1518번길 | E32: 0.2 | G32: 복정동 646-6 | H32: 복정동 643-4(명일만두 복정점) | T32: 1.5~2.2 | U32: 1.5~2.5 | V32: =SUM(W32:AL32) -> 8 | AA32: =7+1 -> 8
B33: 수 | C33: 26 | D33: 성남대로1480번길 | E33: 0.4 | G33: 복정동 662-1(s-oil) | H33: 복정동 666(수정중앙노인종합복지관) | T33: 1.5~2.3 | U33: 1.8~2.5 | V33: =SUM(W33:AL33) -> 82 | AA33: 82
B34: 수 | C34: 27 | D34: 성남대로1416번길 | E34: 0.2 | G34: 복정동 692-8(복정하이빌) | H34: 복정동 693(SK에너지 셀프주유소) | T34: 3 | U34: 3 | V34: =SUM(W34:AL34) -> 36 | AA34: 36
B35: 수 | C35: 28 | D35: 성남대로1390번길 | E35: 0.6 | G35: 복정동 700-5 | H35: 복정동 711-4 | T35: 1.8 | U35: 3 | V35: =SUM(W35:AL35) -> 12 | AA35: 12
B36: 수 | C36: 29 | D36: 단대로5번길 | E36: 0.4 | G36: 단대동 99-2(성남단대푸르지오2단지아파트) | H36: 단대동 150(오케이 공탁대부) | T36: 2.9 | U36: 1.7 | V36: =SUM(W36:AL36) -> 10 | AA36: 10
B37: 수 | C37: 30 | D37: 단대로15번길 | E37: 0.1 | G37: 단대파출소 | H37: 단대동 82-7(gs25) | T37: 3 | U37: 3 | V37: =SUM(W37:AL37) -> 11 | AA37: 11
B38: 수 | C38: 31 | D38: 단대로23번길 | E38: 0.5 | G38: 단대동 행정복지센터 | H38: 단대초등학교 | T38: 2 | U38: 2.8 | V38: =SUM(W38:AL38) -> 37 | AA38: 37
B39: 수 | C39: 32 | D39: 산성대로405번길 | E39: 0.1 | G39: 단대동 165-3(굿모닝마트) | H39: 지브릭커피 | T39: 2.9 | U39: 2.4 | V39: =SUM(W39:AL39) -> 3 | AA39: 3
B40: 수 | C40: 33 | D40: 산성대로437번길 | E40: 0.3 | G40: 단대동 99-6(몽빼로과자점) | H40: 단대공원 | T40: 3 | U40: 2.3 | V40: =SUM(W40:AL40) -> 20 | AA40: 20
B41: 수 | C41: 34 | D41: 산성대로413,419,429번길 | E41: 0.2 | G41: 단대동 157-5 | H41: 단대동 98-1(점핑하이) | T41: 2.8 | U41: 1.7 | V41: =SUM(W41:AL41) -> 32 | AA41: 32
B42: 수 | C42: 35 | D42: 희망로482번길 ,희망로506번길 | E42: 0.2 0.3 | G42: 단대동 165-3(굿모닝마트) 단대동 187-3(낙원맨션) | H42: 분당세무서 단대동 190-8 | T42: 2.56 | U42: 1.2~3 | V42: =SUM(W42:AL42) -> 9 | AA42: 9
B43: 수 | C43: 36 | D43: 단대로16번길 | E43: 0.3 | G43: 염광교회 | H43: 단대동 71-8 | T43: 1.2~2 | U43: - | V43: =SUM(W43:AL43) -> 14 | W43: 14
B44: 수 | C44: 37 | D44: 달래내로 | E44: 4.2 | G44: 금토동삼거리 | H44: 상적동 212-6 | I44: ㅇ | J44: 원뿔 | T44: 1.5~2.3 | U44: 1.5~2.3 | V44: =SUM(W44:AL44) -> 365 | AB44: 101 | AG44: =260+3+1 -> 264
B45: 수 | C45: 38 | D45: 위례순환로 | E45: 2.2 | F45: 일반생활 | G45: 창곡동 46-14(위례31단지 3111동) | H45: 위례중앙로216 | I45: ㅇ | J45: 반원 | T45: 5.5 | U45: 5 | V45: =SUM(W45:AL45) -> 413 | AA45: 413
B46: 수 | C46: 39 | D46: 위례서로 | E46: 0.9 | F46: 일반생활 | G46: 위례서일로2(올스타마트) | H46: 창곡동 504 | T46: 4~5.7 | U46: 4~5 | V46: =SUM(W46:AL46) -> 158 | W46: 31 | AC46: 127
B47: 수 | C47: 40 | D47: 위례대로 | E47: 1.2 | G47: 창곡동 510 | H47: 창곡교차로 | P47: ㅇ | T47: 3.2~4.5 | U47: 3.2~6.5 | V47: =SUM(W47:AL47) -> 239 | W47: 58 | AA47: 181
B48: 수 | C48: 41 | D48: 위례동로 | E48: 1.1 | G48: 위례광장로153(에이플타워) | H48: 창곡동 572(힐스테이트 위례 5702) | T48: 3.5~5 | U48: 3.5~5 | V48: =SUM(W48:AL48) -> 261 | AA48: 261
B49: 수 | C49: 42 | D49: 위례광장로 | E49: 1.3 | F49: 일반생활 | G49: 기업은행 위례지점 | H49: 위례우남역아이파크오피스텔 | T49: 5 | U49: 5 | V49: =SUM(W49:AL49) -> 139 | AC49: 139
B50: 수 | C50: 43 | D50: 위례서일로 | E50: 0.4 | F50: 일반생활 | G50: 우리생협 위례본점 | H50: 창곡동 559-9 | T50: 5.5 | U50: 5.5 | V50: =SUM(W50:AL50) -> 50 | AC50: 50
B51: 수 | C51: 44 | D51: 고등로 | E51: 0.8 | G51: 고등동 581-3 | H51: 고등동 603 | T51: 4 | U51: 4 | V51: =SUM(W51:AL51) -> 139 | AC51: 139
B52: 수 | C52: 45 | D52: 고등공원로 | E52: 0.5 | G52: 고등동 590 | H52: 고등제일교회 | T52: 3.5~5 | U52: 1.2~3 | V52: =SUM(W52:AL52) -> 44 | W52: 44
B53: 수 | C53: 46 | D53: 공원로370번길 | E53: 0.3 | G53: 두산아파트앞삼거리 | H53: 경기도립성남도서관 | T53: 2.5 | U53: 2.8 | V53: =SUM(W53:AL53) -> 61 | W53: 61
B54: 수 | C54: 47 | D54: 수정남로 | E54: 3.3 | G54: 초원리치빌(산성동 51) | H54: 룩씨안경(태평역점) | T54: 2.3 | U54: - | V54: =SUM(W54:AL54) -> 6 | W54: 6
B55: 수 | C55: 48 | D55: 창업로 | E55: 0.5 | G55: LH기업성장센터( 시흥동 294-2) | H55: 시흥동 282-19 | T55: 2.8 | U55: 2.8 | V55: =SUM(W55:AL55) -> 149 | AB55: 70 | AC55: 79
B56: 수 | C56: 49 | D56: 창업로 57번길 | E56: 0.03 | G56: 시흥동 356 | H56: 시흥동 356 | T56: 2.8 | U56: 2.8 | V56: =SUM(W56:AL56) -> 9 | AC56: 9
B57: 수 | C57: 50 | D57: 금토로 | E57: 1.33 | G57: 금토동 331-10 | H57: 금토동 687 | V57: =SUM(W57:AL57) -> 202 | AC57: 202
A58: 중 원 구 | D58: 소 계 | E58: =SUM(E59:E117) -> 77.56 | I58: =COUNTA(I59:I111) -> 14 | K58: =COUNTA(K59:K111) -> 0 | N58: =COUNTA(N59:N111) -> 8 | O58: =COUNTA(O59:O111) -> 2 | P58: =COUNTA(P59:P111) -> 4 | Q58: =COUNTA(Q59:Q111) -> 1 | S58: =COUNTA(S59:S111) -> 1 | V58: =SUM(V59:V117) -> 5622 | W58: =SUM(W59:W111) -> 1316 | X58: =SUM(X59:X111) -> 541 | Y58: =SUM(Y59:Y111) -> 277 | Z58: =SUM(Z59:Z111) -> 0 | AA58: =SUM(AA59:AA117) -> 1508 | AB58: =SUM(AB59:AB111) -> 913 | AC58: =SUM(AC59:AC117) -> 1001 | AD58: =SUM(AD59:AD111) -> 66 | AE58: =SUM(AE59:AE111) -> 0 | AF58: =SUM(AF59:AF111) -> 0 | AG58: =SUM(AG59:AG111) -> 0 | AH58: =SUM(AH59:AH111) -> 0 | AI58: =SUM(AI59:AI111) -> 0 | AJ58: =SUM(AJ59:AJ111) -> 0 | AK58: =SUM(AK59:AK111) -> 0 | AL58: =SUM(AL59:AL111) -> 0 | AO58: =W58/$V58 -> 0.2340804 | AP58: =X58/$V58 -> 0.0962291 | AQ58: =Y58/$V58 -> 0.049270722 | AR58: =Z58/$V58 -> 0 | AS58: =AA58/$V58 -> 0.26823195 | AT58: =AB58/$V58 -> 0.16239772 | AU58: =AC58/$V58 -> 0.17805052 | AV58: =AD58/$V58 -> 0.011739594 | ... BA58: =AI58/$V58 -> 0 | BB58: =AL58/$V58 -> 0
B59: 중 | C59: 1 | D59: 갈마치로 | E59: 3.4 | G59: 성남중원경찰서어린이집 | H59: 갈마치교 | I59: ㅇ | J59: 구형 | N59: ㅇ | T59: 1.8 | U59: 1.4~3 | V59: =SUM(W59:AL59) -> 214 | W59: 115 | X59: 99
B60: 중 | C60: 2 | D60: 둔촌대로 | E60: 5.7 | G60: 성남동 1761 | H60: 상대원동 434-3 | N60: ㅇ | T60: 2.0~4.5 | U60: 1.6~4.5 | V60: =SUM(W60:AL60) -> 608 | AA60: 608
B61: 중 | C61: 3 | D61: 광명로 | E61: 4.5 | G61: 모란삼거리 | H61: 금광삼거리 | I61: ㅇ | J61: 구형 | N61: ㅇ | T61: 4 | U61: 4 | V61: =SUM(W61:AL61) -> 746 | W61: 682 | AC61: 64
B62: 중 | C62: 4 | D62: 금상로 | E62: 1.5 | G62: 상대원동 2999-27(롯데리아) | H62: 중원구 보건소 | I62: ㅇ | J62: 사각 | N62: ㅇ | T62: 3 | U62: 3 | V62: =SUM(W62:AL62) -> 210 | W62: 44 | X62: 110 | AB62: =56 -> 56
B63: 중 | C63: 5 | D63: 금빛로 | E63: 1.5 | G63: 중원경찰서앞교차로 | H63: 은행동 2352 | I63: ㅇ | J63: 사각 | T63: 3 | U63: 3 | V63: =SUM(W63:AL63) -> 85 | X63: 29 | AC63: 56
B64: 중 | C64: 6 | D64: 자혜로 | E64: 1.3 | G64: 금광동 4636(빈번원두가게) | H64: 은행동 1943-3 | T64: 3.9 | U64: 1.9 | V64: =SUM(W64:AL64) -> 16 | AB64: =16 -> 16
B65: 중 | C65: 7 | D65: 순환로 | E65: 5 | G65: 갈현고가교 | H65: 은행동590(오대오 바지락칼국수) | I65: ㅇ | J65: 반원 | N65: ㅇ | O65: ㅇ | T65: 1.6~2.5 | U65: 2~3 | V65: =SUM(W65:AL65) -> 103 | X65: 11 | AB65: =40+52 -> 92
B66: 중 | C66: 8 | D66: 순환로198번길 | E66: 0.3 | G66: 상대원동 67 | H66: 화인매카트로닉스 | I66: ㅇ | J66: 사각 | T66: 1.6 | U66: 1.7 | V66: =SUM(W66:AL66) -> 19 | X66: =10+9 -> 19
B67: 중 | C67: 9 | D67: 돌마로 | E67: 1.6 | G67: 중원교 | H67: 도촌사거리 | T67: 1.3 | U67: 1.3 | V67: =SUM(W67:AL67) -> 140 | W67: 140
B68: 중 | C68: 10 | D68: 마지로 | E68: 4.3 | G68: 성남시 장례식장 주차장 | H68: 하대원동 100-3 | I68: ㅇ | J68: 사각 | O68: ㅇ | T68: 3 | U68: 3 | V68: =SUM(W68:AL68) -> 202 | X68: =78+78 -> 156 | AB68: =46 -> 46
B69: 중 | C69: 11 | D69: 둔촌대로457번길 | E69: 0.6 | G69: 공단본부사거리 | H69: 상대원동 307-12 | I69: ㅇ | J69: 사각 | P69: ㅇ | T69: 2.5 | U69: 2.7 | V69: =SUM(W69:AL69) -> 0 | X69: 0
B70: 중 | C70: 12 | D70: 사기막골로 | E70: 2.2 | G70: 상대원동 517-13 | H70: 상대원동 39-27 | I70: ㅇ | J70: 반원 | T70: - | U70: 2.6 | V70: =SUM(W70:AL70) -> 115 | AB70: 115
B71: 중 | C71: 13 | D71: 성남대로 | E71: 1.9 | F71: 자동차중심 | G71: 야탑사거리 | H71: 모란고가교 | T71: 6 | U71: 6 | V71: =SUM(W71:AL71) -> 153 | W71: 12 | AA71: 141
B72: 중 | C72: 14 | D72: 시민로 | E72: 1.2 | F72: 일반생활 | G72: 하대원동 135-5(밧데리 할인마트) | H72: 신흥사거리 | I72: ㅇ | J72: 구형 | P72: ㅇ | Q72: ㅇ | R72: 지피형 | T72: 5.4 | U72: 5.4 | V72: =SUM(W72:AL72) -> 193 | W72: 147 | AC72: 46
B73: 중 | C73: 15 | D73: 여수대로 | E73: 1.1 | G73: 여수대교 | H73: 여수지하차도 | T73: 2 | U73: 2 | V73: =SUM(W73:AL73) -> 71 | AC73: =37+34 -> 71
B74: 중 | C74: 16 | D74: 희망로 | E74: 5.5 | G74: 도촌사거리 | H74: 단대오거리역 2번출구 | I74: ㅇ | J74: 사각 | N74: ㅇ | T74: - | U74: 1.8~2.6 | V74: =SUM(W74:AL74) -> 86 | X74: 86 | AC74: 0
B75: 중 | C75: 17 | D75: 둔촌대로497번길 | E75: 0.4 | G75: 상대원동500-5(동구전자) | H75: 선텍시티2 | N75: ㅇ | T75: 1.8 | U75: 1.8 | V75: =SUM(W75:AL75) -> 73 | AA75: =33+40 -> 73
B76: 중 | C76: 18 | D76: 제일로 | E76: 0.9 | G76: 호텔 313에비뉴 | H76: 중원교 | N76: ㅇ | T76: 3.2 | U76: 3.2 | V76: =SUM(W76:AL76) -> 93 | AA76: =37+22 -> 59 | AC76: 34
B77: 중 | C77: 19 | D77: 둔촌대로183번길 | E77: 0.2 | G77: 성남동 3122(GS25) | H77: 성남실내체육관 | I77: ㅇ | J77: 원뿔 | T77: 1.5 | U77: 1.5 | V77: =SUM(W77:AL77) -> 63 | W77: 63
B78: 중 | C78: 20 | D78: 금빛로2번길 | E78: 0.9 | G78: 성남중원경찰서어린이집 | H78: 금강하이테크밸리1차 | T78: 1.5~2 | U78: 1.5~2.2 | V78: =SUM(W78:AL78) -> 80 | W78: 80
B79: 중 | C79: 21 | D79: 은이로 | E79: 0.6 | G79: 은행동 1169-1(상우빌라) | H79: 은행동 984(태평양약국) | T79: 2.6 | U79: 3 | V79: =SUM(W79:AL79) -> 33 | AA79: =17+16 -> 33
B80: 중 | C80: 22 | D80: 경충대로 | E80: 9.6 | G80: 성남IC교 | H80: 갈마터널입구 | T80: - | U80: 1.5~2.0 | V80: =SUM(W80:AL80) -> 62 | AA80: 62
B81: 중 | C81: 23 | D81: 공원로 | E81: 3.8 | G81: 우리은행 사거리 | H81: 도촌동 413-2 | T81: 3 | U81: 3 | V81: =SUM(W81:AL81) -> 22 | W81: 14 | AA81: 8
B82: 중 | C82: 24 | D82: 여수울로 | E82: 1.2 | G82: 여수동 518-5 | H82: 여수센트럴타운 에코비어린이집 | T82: 3.4 | U82: 3 | V82: =SUM(W82:AL82) -> 240 | AA82: 240
B83: 중 | C83: 25 | D83: 여수울로15번길 | E83: 0.3 | G83: 지베 | H83: 센트럴치과의원 | T83: 2.4 | U83: 2.6 | V83: =SUM(W83:AL83) -> 32 | AC83: 32
B84: 중 | C84: 26 | D84: 여수울로29번길 | E84: 0.6 | G84: 웰팜코리아 | H84: GS25성남여수점 | T84: 2.6 | U84: 2.4 | V84: =SUM(W84:AL84) -> 59 | AC84: 59
B85: 중 | C85: 27 | D85: 도촌남로 | E85: 1.6 | G85: 여수천2교 | H85: 도촌동648(이왕이공원) | T85: 3 | U85: 3 | V85: =SUM(W85:AL85) -> 299 | Y85: 277 | AA85: =11+11 -> 22
B86: 중 | C86: 28 | D86: 도촌북로 | E86: 1.9 | G86: 여수촌1교 | H86: 모리아전원교회 | T86: 3.8 | U86: 3.7 | V86: =SUM(W86:AL86) -> 378 | AB86: =235+143 -> 378
B87: 중 | C87: 29 | D87: 도촌로 | E87: 0.2 | G87: 본죽 성남도촌점 | H87: 도촌동 614 | T87: 1.8 | U87: 3.2 | V87: =SUM(W87:AL87) -> 21 | AC87: 21
B88: 중 | C88: 30 | D88: 순암로 | E88: 1.4 | G88: 갈현동141 | H88: 갈마치터널 | T88: 2.5 | U88: - | V88: =SUM(W88:AL88) -> 61 | AB88: =58+3 -> 61
B89: 중 | C89: 31 | D89: 갈마치로203번길 | E89: 0.2 | G89: 대유위니아 | H89: 상대원동 500-5 | T89: - | U89: 2~5 | V89: =SUM(W89:AL89) -> 0 | X89: 0
B90: 중 | C90: 32 | D90: 원터로 | E90: 1.2 | G90: 수진역사거리(수진역할인마트) | H90: 하대원동 147-4(CU) | I90: ㅇ | J90: 구형 | S90: ㅇ | T90: 3.1 | U90: 2.7 | V90: =SUM(W90:AL90) -> 14 | W90: 14
B91: 중 | C91: 33 | D91: 광명로395번길 | E91: 0.3 | G91: 성남시다문화가족지원센터 | H91: 다솜마을아파트 | T91: 1.8~2.3 | U91: 1.6 | V91: =SUM(W91:AL91) -> 5 | W91: 5
B92: 중 | C92: 34 | D92: 도촌로8번길 | E92: 0.3 | G92: 좋은이웃요양병원(도촌동 576) | H92: 파리바게트 성남도촌점 | T92: 2.9 | U92: 2.7 | V92: =SUM(W92:AL92) -> 66 | AD92: =33+33 -> 66
B93: 중 | C93: 35 | D93: 둔촌대로63번길 | E93: 0.2 | G93: 성남동 4454(축산, 가축) | H93: 성남동 4423 | T93: 3 | U93: 3.1 | V93: =SUM(W93:AL93) -> 35 | AC93: =18+17 -> 35
B94: 중 | C94: 36 | D94: 둔촌대로64번길 | E94: 0.2 | G94: 성남동 4883(GS25) | H94: 성남동 4929(지평막걸리) | T94: 3.1 | U94: 3.1 | V94: =SUM(W94:AL94) -> 35 | AC94: =18+17 -> 35
B95: 중 | C95: 37 | D95: 둔촌대로80번길 | E95: 0.4 | G95: 성남동 4929(지평막걸리) | H95: 모란프라임타워 | T95: 3.5 | U95: 3.5 | V95: =SUM(W95:AL95) -> 90 | AC95: =62+28 -> 90
B96: 중 | C96: 38 | D96: 둔촌대로388번길 | E96: 0.4 | G96: 대원사거리 | H96: CJ씨푸드 | T96: - | U96: 3 | V96: =SUM(W96:AL96) -> 8 | AA96: 8
B97: 중 | C97: 39 | D97: 사기막골로62번길 | E97: 0.6 | G97: 생잎제약 | H97: OCI중앙연구소 | I97: ㅇ | J97: 구형 | P97: ㅇ | T97: 0.9~2.0 | U97: 1.5~2.5 | V97: =SUM(W97:AL97) -> 31 | X97: =31 -> 31
B98: 중 | C98: 40 | D98: 사기막골로122번길 | E98: 0.2 | G98: 기업은행365 성남테크노점 | H98: 다른퀵서비스 | P98: ㅇ | T98: 2.5~3.5 | U98: 2.3 | V98: =SUM(W98:AL98) -> 15 | AA98: 15
B99: 중 | C99: 41 | D99: 사기막골로150번길 | E99: 3 | G99: 비데이휘트니스 | H99: 성남시 장애인종합복지관 | T99: 1.8~2.0 | U99: 1.8~2.0 | V99: =SUM(W99:AL99) -> 36 | AB99: =18+18 -> 36
B100: 중 | C100: 42 | D100: 산성대로58번길 | E100: 0.1 | G100: 성남동 4506 | H100: 노루페인트 우명페인트(성남동 1638) | T100: 3~3.5 | U100: 3~3.5 | V100: =SUM(W100:AL100) -> 29 | AB100: =15+14 -> 29
B101: 중 | C101: 43 | D101: 산성대로476번길 | E101: 0.2 | G101: 뚜레쥬르 남한산성역점 | H101: 상원초등학교 | T101: 2.3~2.5 | U101: 1.9~2 | V101: =SUM(W101:AL101) -> 4 | AA101: 4
...
