Workbook

Sheet 가로수 현황
A1: 성남시 가로수 현황
AH3: 기준: 2026. 1. 1. (녹지과 729-4284)
A4: 구분 | B4: 연번 | D4: 노 선 명 | E4: 연장 | F4: 가로유형 | G4: 시점 | H4: 종점 | I4: 가로수 정비계획 | T4: 보도폭 | V4: 합계 | W4: 은행나무 | X4: 버즘나무 | Y4: 메타세콰이어 | Z4: 목백합 | AA4: 느티나무 | AB4: 왕벚나무 | AC4: 이팝나무 | AD4: 칠엽수 | AE4: 소나무 | AF4: 회화나무 | AG4: 중국단풍 | AH4: 상수리 나무 | AI4: 목련 | AJ4: 대왕참 나무 | AK4: 계수나무 | AL4: 배롱나무
I5: 테마전정 | J5: 테마전정 수형 | K5: 밀도조절 | L5: 밀도조절 대상 | M5: 밀도조절 연장 | N5: 하부정비 | O5: 바꿔심기 | P5: 메워심기 | Q5: 다층식재/띠녹지 | R5: 띠녹지 유형 | S5: 은행나무관리 | T5: 좌측 | U5: 우측 | AO5: 은행나무 | AP5: 버즘나무 | AQ5: 메타세콰이어 | AR5: 목백합 | AS5: 느티나무 | AT5: 왕벚나무 | AU5: 이팝나무 | AV5: 칠엽수 | AW5: 소나무 | AX5: 회화나무 | AY5: 중국단풍 | AZ5: 상수리 나무 | BA5: 목련 | BB5: 대왕참 나무 | BC5: 계수나무 | BD5: 배롱나무
A6: 성남시 | D6: 합 계 | E6: =E7+E58+E118 -> 331.58 | I6: =I7+I58+I118 -> 31 | K6: =K7+K58+K118 -> 5 | N6: =N7+N58+N118 -> 40 | O6: =O7+O58+O118 -> 4 | P6: =P7+P58+P118 -> 6 | Q6: =Q7+Q58+Q118 -> 22 | S6: =S7+S58+S118 -> 15 | V6: =V7+V58+V118 -> 48410 | W6: =W7+W58+W118 -> 11578 | X6: =X7+X58+X118 -> 5419 | Y6: =Y7+Y58+Y118 -> 3468 | Z6: =Z7+Z58+Z118 -> 427 | AA6: =AA7+AA58+AA118 -> 17130 | AB6: =AB7+AB58+AB118 -> 3713 | AC6: =AC7+AC58+AC118 -> 3631 | ... AJ6: =AJ7+AJ58+AJ118 -> 67 | AK6: =AK7+AK56+AK118 -> 317 | AL6: =AL7+AL56+AL118 -> 30 | AO6: =W6/$V6 -> 0.23916546 | AP6: =X6/$V6 -> 0.11193968 | AQ6: =Y6/$V6 -> 0.071638091 | AR6: =Z6/$V6 -> 0.0088204916 | AS6: =AA6/$V6 -> 0.35385251 | AT6: =AB6/$V6 -> 0.076699029 | AU6: =AC6/$V6 -> 0.075005164 | AV6: =AD6/$V6 -> 0.0064036356 | ... BA6: =AI6/$V6 -> 0.0013220409 | BB6: =AL6/$V6 -> 0.00061970667 | BC6: =AM6/$V6 -> 0 | BD6: =AN6/$V6 -> 0
A7: 수 정 구 | D7: 소 계 | E7: =SUM(E8:E57)+0.5 -> 74.76 | I7: =COUNTA(I8:I56) -> 16 | K7: =COUNTA(K8:K56) -> 0 | N7: =COUNTA(N8:N56) -> 8 | O7: =COUNTA(O8:O56) -> 0 | P7: =COUNTA(P8:P56) -> 2 | Q7: =COUNTA(Q8:Q56) -> 3 | S7: =COUNTA(S8:S56) -> 1 | V7: =SUM(V8:V57) -> 9996 | W7: =SUM(W8:W56) -> 1344 | X7: =SUM(X8:X56) -> 873 | Y7: =SUM(Y8:Y56) -> 428 | Z7: =SUM(Z8:Z56) -> 0 | AA7: =SUM(AA8:AA56) -> 5148 | AB7: =SUM(AB8:AB56) -> 618 | AC7: =SUM(AC8:AC57) -> 1279 | AD7: =SUM(AD8:AD56) -> 0 | AE7: =SUM(AE8:AE56) -> 42 | AF7: =SUM(AF8:AF56) -> 0 | AG7: =SUM(AG8:AG56) -> 264 | AH7: =SUM(AH8:AH56) -> 0 | AI7: =SUM(AI8:AI56) -> 0 | AJ7: =SUM(AJ8:AJ56) -> 0 | AK7: =SUM(AK8:AK56) -> 0 | AL7: =SUM(AL8:AL56) -> 0 | AO7: =W7/$V7 -> 0.13445378 | AP7: =X7/$V7 -> 0.087334934 | AQ7: =Y7/$V7 -> 0.042817127 | AR7: =Z7/$V7 -> 0 | AS7: =AA7/$V7 -> 0.515006 | AT7: =AB7/$V7 -> 0.06182473 | AU7: =AC7/$V7 -> 0.12795118 | AV7: =AD7/$V7 -> 0 | ... BA7: =AI7/$V7 -> 0 | BB7: =AL7/$V7 -> 0 | BC7: =AM7/$V7 -> 0 | BD7: =AN7/$V7 -> 0
B8: 수 | C8: 1 | D8: 수정로 | E8: 6.1 | G8: 삼정그린뷰아파트101동 | H8: 양지동 3(GS칼텍스) | I8: ㅇ | J8: 원뿔 | N8: ㅇ | T8: 1.5~5 | U8: 2.5~5 | V8: =SUM(W8:AL8) -> 884 | W8: 464 | Y8: 407 | AA8: 13
B9: 수 | C9: 2 | D9: 성남대로 | E9: 3.8 | F9: 자동차중심 | G9: 모란고가교 | H9: 복정교 | N9: ㅇ | Q9: ㅇ | R9: 관목군식형 | T9: 4~6 | U9: 4~7 | V9: =SUM(W9:AL9) -> 1084 | AA9: 1084
B10: 수 | C10: 3 | D10: 산성대로 | E10: 6.1 | F10: 상업 | G10: 산성육교 | H10: 수진동 4731 | I10: ㅇ | J10: 구형 | N10: ㅇ | Q10: ㅇ | R10: 지피형 | T10: 4 | U10: 4~6 | V10: =SUM(W10:AL10) -> 695 | Y10: 18 | AA10: 677
B11: 수 | C11: 4 | D11: 대왕판교로 | E11: 6 | G11: 삼평1교 | H11: 세곡3교(세곡동사거리) | T11: 2~3 | U11: 2~4 | V11: =SUM(W11:AL11) -> 1193 | AA11: 1193
B12: 수 | C12: 5 | D12: 공원로 | E12: 3.2 | G12: 우리은행 성남금융센터 | H12: 창곡교차로 | T12: 2~5.5 | U12: 2~5.5 | V12: =SUM(W12:AL12) -> 230 | W12: 20 | AC12: 168 | AE12: 42
B13: 수 | C13: 6 | D13: 탄리로 | E13: 1.5 | G13: 태평동 648 | H13: 수진역 사거리 | I13: ㅇ | J13: 사각 | N13: ㅇ | T13: 2~2.5 | U13: 2~2.5 | V13: =SUM(W13:AL13) -> 218 | W13: 165 | X13: 53
B14: 수 | C14: 7 | D14: 제일로 | E14: 1.5 | G14: 태평동 5104 | H14: 수진동 2679-20 | I14: ㅇ | J14: 사각 | N14: ㅇ | T14: 3~3.5 | U14: 2.5~3.5 | V14: =SUM(W14:AL14) -> 250 | W14: 2 | X14: 248
B15: 수 | C15: 8 | D15: 헌릉로 | E15: 2 | F15: 상업 | G15: 산성역사거리 | H15: 창곡동 499-320 | Q15: ㅇ | R15: 지피형 | T15: 5.5 | U15: 5.5 | V15: =SUM(W15:AL15) -> 387 | W15: 92 | AC15: 295
B16: 수 | C16: 9 | D16: 희망로 | E16: 1 | G16: 단대오거리역 6번출구 | H16: 신흥동 125(삼성빌딩) | I16: ㅇ | J16: 구형 | T16: 2~3 | U16: 2~3 | V16: =SUM(W16:AL16) -> 160 | X16: 158 | AA16: 2
B17: 수 | C17: 10 | D17: 여수대로 | E17: 1.3 | G17: 시흥사거리 | H17: 여수대교앞사거리 | T17: 2~2.5 | U17: 2 | V17: =SUM(W17:AL17) -> 225 | X17: 225
B18: 수 | C18: 11 | D18: 시민로 | E18: 1.3 | G18: 신흥사거리 | H18: 태평로116 | I18: ㅇ | J18: 구형 | N18: ㅇ | T18: 2 | U18: 3 | V18: =SUM(W18:AL18) -> 73 | W18: 73
B19: 수 | C19: 12 | D19: 남문로 | E19: 1.5 | G19: 아이리라어린이집 | H19: 신흥성당앞사거리 | I19: ㅇ | J19: 사각 | N19: ㅇ | T19: 1.5~2.5 | U19: 1.5~3 | V19: =SUM(W19:AL19) -> 171 | W19: 1 | X19: 170
B20: 수 | C20: 13 | D20: 태평로 | E20: 1.3 | G20: 성남병원앞 삼거리 | H20: 태평동 27 | I20: ㅇ | J20: 원뿔 | P20: ㅇ | T20: 2~3 | U20: 2.5~3 | V20: =SUM(W20:AL20) -> 133 | W20: 114 | X20: 19
B21: 수 | C21: 14 | D21: 논골로 | E21: 1 | G21: 단대동 6-3(풍산쉐르빌) | H21: 논골종로약국 | I21: ㅇ | J21: 구형 | T21: 2~3 | U21: 2~3 | V21: =SUM(W21:AL21) -> 137 | W21: 137
B22: 수 | C22: 15 | D22: 수정로171번길 | E22: 0.2 | G22: 하나은행(성남중앙지점) | H22: 태평동 3311(대광빌딩) | T22: 3.5~4.5 | U22: 3 | V22: =SUM(W22:AL22) -> 20 | W22: 17 | Y22: 3
B23: 수 | C23: 16 | D23: 공원로436번길 | E23: 0.2 | G23: 신흥동성당 | H23: 신흥동43(주차장) | I23: ㅇ | J23: 원뿔 | S23: ㅇ | T23: 2.3 | U23: 2.5 | V23: =SUM(W23:AL23) -> 45 | W23: 45
B24: 수 | C24: 17 | D24: 수정로466번길 | E24: 1.5 | G24: 단대동 6985-39 | H24: 양지동 985-3 | I24: ㅇ | J24: 반원 | T24: 2 | U24: 2.5 | V24: =SUM(W24:AL24) -> 105 | AB24: 105
B25: 수 | C25: 18 | D25: 탄천로 | E25: 5.6 | G25: 복정동 677-8 | H25: 야탑동 403 | I25: ㅇ | J25: 구형 | T25: 1.5~3 | U25: 1.5~3 | V25: =SUM(W25:AL25) -> 766 | AA25: 766
B26: 수 | C26: 19 | D26: 동판교로 | E26: 0.7 | G26: 숲풍지하차도 | H26: 수자원공사진입교차로 | N26: ㅇ | T26: 2.5~6 | U26: 3~6 | V26: =SUM(W26:AL26) -> 149 | AB26: 149
B27: 수 | C27: 20 | D27: 사송로 | E27: 1 | G27: 탄천로입구교차로 | H27: 사송동 515 | I27: ㅇ | J27: 반원 | T27: 2 | U27: 2.6 | V27: =SUM(W27:AL27) -> 31 | AB27: 31
B28: 수 | C28: 21 | D28: 심곡로 | E28: 0.8 | G28: 서울공항정문사거리 | H28: 심곡동 396-60 | I28: ㅇ | J28: 반원 | T28: 2~2.5 | U28: 2~2.5 | V28: =SUM(W28:AL28) -> 9 | AB28: 9
B29: 수 | C29: 22 | D29: 청계산로 | E29: 3.2 | G29: 타이어뱅크 서울공항점 | H29: 상적동 212-5 | V29: =SUM(W29:AL29) -> 153 | AB29: 153
B30: 수 | C30: 23 | D30: 복정로 | E30: 1.6 | G30: 복정동 715-6(수진어린이집) | H30: 복정동 639(한스 부동산) | T30: 2~3 | U30: 2~3 | V30: =SUM(W30:AL30) -> 298 | AA30: 298
B31: 수 | C31: 24 | D31: 성남대로1542번길 | E31: 0.5 | G31: 복정동 631-6(황토골 사철탕) | H31: 복정동 642(MEATBOX 복정점) | T31: 2.5 | U31: 2.5 | V31: =SUM(W31:AL31) -> 71 | AC31: 71
B32: 수 | C32: 25 | D32: 성남대로1518번길 | E32: 0.2 | G32: 복정동 646-6 | H32: 복정동 643-4(명일만두 복정점) | T32: 1.5~2.2 | U32: 1.5~2.5 | V32: =SUM(W32:AL32) -> 8 | AA32: =7+1 -> 8
B33: 수 | C33: 26 | D33: 성남대로1480번길 | E33: 0.4 | G33: 복정동 662-1(s-oil) | H33: 복정동 666(수정중앙노인종합복지관) | T33: 1.5~2.3 | U33: 1.8~2.5 | V33: =SUM(W33:AL33) -> 82 | AA33: 82
B34: 수 | C34: 27 | D34: 성남대로1416번길 | E34: 0.2 | G34: 복정동 692-8(복정하이빌) | H34: 복정동 693(SK에너지 셀프주유소) | T34: 3 | U34: 3 | V34: =SUM(W34:AL34) -> 36 | AA34: 36
B35: 수 | C35: 28 | D35: 성남대로1390번길 | E35: 0.6 | G35: 복정동 700-5 | H35: 복정동 711-4 | T35: 1.8 | U35: 3 | V35: =SUM(W35:AL35) -> 12 | AA35: 12
B36: 수 | C36: 29 | D36: 단대로5번길 | E36: 0.4 | G36: 단대동 99-2(성남단대푸르지오2단지아파트) | H36: 단대동 150(오케이 공탁대부) | T36: 2.9 | U36: 1.7 | V36: =SUM(W36:AL36) -> 10 | AA36: 10
B37: 수 | C37: 30 | D37: 단대로15번길 | E37: 0.1 | G37: 단대파출소 | H37: 단대동 82-7(gs25) | T37: 3 | U37: 3 | V37: =SUM(W37:AL37) -> 11 | AA37: 11
B38: 수 | C38: 31 | D38: 단대로23번길 | E38: 0.5 | G38: 단대동 행정복지센터 | H38: 단대초등학교 | T38: 2 | U38: 2.8 | V38: =SUM(W38:AL38) -> 37 | AA38: 37
B39: 수 | C39: 32 | D39: 산성대로405번길 | E39: 0.1 | G39: 단대동 165-3(굿모닝마트) | H39: 지브릭커피 | T39: 2.9 | U39: 2.4 | V39: =SUM(W39:AL39) -> 3 | AA39: 3
B40: 수 | C40: 33 | D40: 산성대로437번길 | E40: 0.3 | G40: 단대동 99-6(몽빼로과자점) | H40: 단대공원 | T40: 3 | U40: 2.3 | V40: =SUM(W40:AL40) -> 20 | AA40: 20
B41: 수 | C41: 34 | D41: 산성대로413,419,429번길 | E41: 0.2 | G41: 단대동 157-5 | H41: 단대동 98-1(점핑하이) | T41: 2.8 | U41: 1.7 | V41: =SUM(W41:AL41) -> 32 | AA41: 32
...
