Workbook

Sheet 성남시 차량 리스트
D1: <차종별> | L1: <등록년도별>
B2: 구 분 | D2: 합계 | E2: 승용차 | F2: 승합차 | G2: 화물차 | H2: 특수차 | J2: 구 분 | L2: 합계 | M2: 2010 이전 | N2: 2013 | O2: 2014 | P2: 2015 | Q2: 2016 | R2: 2017 | S2: 2018 | T2: 2019 | U2: 2020 | V2: 2021 | W2: 2022 | X2: 2023 | Y2: 2024 | Z2: 2025
B3: 성남시 총계 | D3: =SUM(E3:H3) -> 571 | E3: =E4+E11+E12+E22+E26 -> 317 | F3: =F4+F11+F12+F22+F26 -> 29 | G3: =G4+G11+G12+G22+G26 -> 175 | H3: =H4+H11+H12+H22+H26 -> 50 | J3: 성남시 총계 | L3: =SUM(M3:AA3) -> 557 | M3: =M4+M11+M12+M22+M26 -> 2 | N3: =N4+N11+N12+N22+N26 -> 7 | O3: =O4+O11+O12+O22+O26 -> 12 | P3: =P4+P11+P12+P22+P26 -> 18 | Q3: =Q4+Q11+Q12+Q22+Q26 -> 31 | R3: =R4+R11+R12+R22+R26 -> 69 | S3: =S4+S11+S12+S22+S26 -> 128 | T3: =T4+T11+T12+T22+T26 -> 76 | ... Z3: =Z4+Z11+Z12+Z22+Z26 -> 34
B4: 시청 | C4: 소계 | D4: =SUM(E4:H4) -> 149 | E4: =SUM(E5:E10) -> 102 | F4: =SUM(F5:F10) -> 23 | G4: =SUM(G5:G10) -> 12 | H4: =SUM(H5:H10) -> 12 | J4: 시청 | K4: 소계 | L4: =SUM(M4:AA4) -> 144 | M4: =SUM(M5:M10) -> 0 | N4: =SUM(N5:N10) -> 3 | O4: =SUM(O5:O10) -> 4 | P4: =SUM(P5:P10) -> 5 | Q4: =SUM(Q5:Q10) -> 14 | R4: =SUM(R5:R10) -> 18 | S4: =SUM(S5:S10) -> 30 | T4: =SUM(T5:T10) -> 21 | ... Z4: =SUM(Z5:Z10) -> 16
C5: 시청회계과 | D5: =SUM(E5:H5) -> 108 | E5: =COUNTIFS([1]DATA!$AA:$AA,[1]집계최종!$C5,[1]DATA!$AB:$AB,[1]집계최종!E$2) -> 92 | F5: =COUNTIFS([1]DATA!$AA:$AA,[1]집계최종!$C5,[1]DATA!$AB:$AB,[1]집계최종!F$2) -> 11 | G5: =COUNTIFS([1]DATA!$AA:$AA,[1]집계최종!$C5,[1]DATA!$AB:$AB,[1]집계최종!G$2) -> 5 | H5: =COUNTIFS([1]DATA!$AA:$AA,[1]집계최종!$C5,[1]DATA!$AB:$AB,[1]집계최종!H$2) -> 0 | K5: 시청회계과 | L5: =SUM(M5:AA5) -> 104 | M5: =COUNTIFS([1]DATA!$AA:$AA,[1]집계최종!$C5,[1]DATA!$AC:$AC,"2007")+COUNTIFS([1]DATA!$AA:$AA,[1]집계최종!$C5,[1]DATA!$AC:$AC,"2010") -> 0 | N5: =COUNTIFS([1]DATA!$AA:$AA,[1]집계최종!$C5,[1]DATA!$AC:$AC,[1]집계최종!N$2) -> 2 | O5: =COUNTIFS([1]DATA!$AA:$AA,[1]집계최종!$C5,[1]DATA!$AC:$AC,[1]집계최종!O$2) -> 2 | P5: =COUNTIFS([1]DATA!$AA:$AA,[1]집계최종!$C5,[1]DATA!$AC:$AC,[1]집계최종!P$2) -> 5 | Q5: =COUNTIFS([1]DATA!$AA:$AA,[1]집계최종!$C5,[1]DATA!$AC:$AC,[1]집계최종!Q$2) -> 11 | R5: =COUNTIFS([1]DATA!$AA:$AA,[1]집계최종!$C5,[1]DATA!$AC:$AC,[1]집계최종!R$2) -> 16 | S5: =COUNTIFS([1]DATA!$AA:$AA,[1]집계최종!$C5,[1]DATA!$AC:$AC,[1]집계최종!S$2) -> 25 | T5: =COUNTIFS([1]DATA!$AA:$AA,[1]집계최종!$C5,[1]DATA!$AC:$AC,[1]집계최종!T$2) -> 15 | U5: =COUNTIFS([1]DATA!$AA:$AA,[1]집계최종!$C5,[1]DATA!$AC:$AC,[1]집계최종!U$2) -> 8 | ... Z5: =COUNTIFS([1]DATA!$AA:$AA,[1]집계최종!$C5,[1]DATA!$AC:$AC,[1]집계최종!Z$2) -> 10
C6: 시청노인복지과 | D6: =SUM(E6:H6) -> 3 | E6: =COUNTIFS([1]DATA!$AA:$AA,[1]집계최종!$C6,[1]DATA!$AB:$AB,[1]집계최종!E$2) -> 1 | F6: =COUNTIFS([1]DATA!$AA:$AA,[1]집계최종!$C6,[1]DATA!$AB:$AB,[1]집계최종!F$2) -> 2 | G6: =COUNTIFS([1]DATA!$AA:$AA,[1]집계최종!$C6,[1]DATA!$AB:$AB,[1]집계최종!G$2) -> 0 | H6: =COUNTIFS([1]DATA!$AA:$AA,[1]집계최종!$C6,[1]DATA!$AB:$AB,[1]집계최종!H$2) -> 0 | K6: 시청노인복지과 | L6: =SUM(M6:AA6) -> 3 | M6: =COUNTIFS([1]DATA!$AA:$AA,[1]집계최종!$C6,[1]DATA!$AC:$AC,"2007")+COUNTIFS([1]DATA!$AA:$AA,[1]집계최종!$C6,[1]DATA!$AC:$AC,"2010") -> 0 | N6: =COUNTIFS([1]DATA!$AA:$AA,[1]집계최종!$C6,[1]DATA!$AC:$AC,[1]집계최종!N$2) -> 0 | O6: =COUNTIFS([1]DATA!$AA:$AA,[1]집계최종!$C6,[1]DATA!$AC:$AC,[1]집계최종!O$2) -> 0 | P6: =COUNTIFS([1]DATA!$AA:$AA,[1]집계최종!$C6,[1]DATA!$AC:$AC,[1]집계최종!P$2) -> 0 | Q6: =COUNTIFS([1]DATA!$AA:$AA,[1]집계최종!$C6,[1]DATA!$AC:$AC,[1]집계최종!Q$2) -> 0 | R6: =COUNTIFS([1]DATA!$AA:$AA,[1]집계최종!$C6,[1]DATA!$AC:$AC,[1]집계최종!R$2) -> 2 | S6: =COUNTIFS([1]DATA!$AA:$AA,[1]집계최종!$C6,[1]DATA!$AC:$AC,[1]집계최종!S$2) -> 0 | T6: =COUNTIFS([1]DATA!$AA:$AA,[1]집계최종!$C6,[1]DATA!$AC:$AC,[1]집계최종!T$2) -> 0 | U6: =COUNTIFS([1]DATA!$AA:$AA,[1]집계최종!$C6,[1]DATA!$AC:$AC,[1]집계최종!U$2) -> 1 | ... Z6: =COUNTIFS([1]DATA!$AA:$AA,[1]집계최종!$C6,[1]DATA!$AC:$AC,[1]집계최종!Z$2) -> 0
C7: 시청여성가족과 | D7: =SUM(E7:H7) -> 1 | E7: =COUNTIFS([1]DATA!$AA:$AA,[1]집계최종!$C7,[1]DATA!$AB:$AB,[1]집계최종!E$2) -> 0 | F7: =COUNTIFS([1]DATA!$AA:$AA,[1]집계최종!$C7,[1]DATA!$AB:$AB,[1]집계최종!F$2) -> 1 | G7: =COUNTIFS([1]DATA!$AA:$AA,[1]집계최종!$C7,[1]DATA!$AB:$AB,[1]집계최종!G$2) -> 0 | H7: =COUNTIFS([1]DATA!$AA:$AA,[1]집계최종!$C7,[1]DATA!$AB:$AB,[1]집계최종!H$2) -> 0 | K7: 시청여성가족과 | L7: =SUM(M7:AA7) -> 1 | M7: =COUNTIFS([1]DATA!$AA:$AA,[1]집계최종!$C7,[1]DATA!$AC:$AC,"2007")+COUNTIFS([1]DATA!$AA:$AA,[1]집계최종!$C7,[1]DATA!$AC:$AC,"2010") -> 0 | N7: =COUNTIFS([1]DATA!$AA:$AA,[1]집계최종!$C7,[1]DATA!$AC:$AC,[1]집계최종!N$2) -> 1 | O7: =COUNTIFS([1]DATA!$AA:$AA,[1]집계최종!$C7,[1]DATA!$AC:$AC,[1]집계최종!O$2) -> 0 | P7: =COUNTIFS([1]DATA!$AA:$AA,[1]집계최종!$C7,[1]DATA!$AC:$AC,[1]집계최종!P$2) -> 0 | Q7: =COUNTIFS([1]DATA!$AA:$AA,[1]집계최종!$C7,[1]DATA!$AC:$AC,[1]집계최종!Q$2) -> 0 | R7: =COUNTIFS([1]DATA!$AA:$AA,[1]집계최종!$C7,[1]DATA!$AC:$AC,[1]집계최종!R$2) -> 0 | S7: =COUNTIFS([1]DATA!$AA:$AA,[1]집계최종!$C7,[1]DATA!$AC:$AC,[1]집계최종!S$2) -> 0 | T7: =COUNTIFS([1]DATA!$AA:$AA,[1]집계최종!$C7,[1]DATA!$AC:$AC,[1]집계최종!T$2) -> 0 | U7: =COUNTIFS([1]DATA!$AA:$AA,[1]집계최종!$C7,[1]DATA!$AC:$AC,[1]집계최종!U$2) -> 0 | ... Z7: =COUNTIFS([1]DATA!$AA:$AA,[1]집계최종!$C7,[1]DATA!$AC:$AC,[1]집계최종!Z$2) -> 0
C8: 시청아동보육과 | D8: =SUM(E8:H8) -> 1 | E8: =COUNTIFS([1]DATA!$AA:$AA,[1]집계최종!$C8,[1]DATA!$AB:$AB,[1]집계최종!E$2) -> 1 | F8: =COUNTIFS([1]DATA!$AA:$AA,[1]집계최종!$C8,[1]DATA!$AB:$AB,[1]집계최종!F$2) -> 0 | G8: =COUNTIFS([1]DATA!$AA:$AA,[1]집계최종!$C8,[1]DATA!$AB:$AB,[1]집계최종!G$2) -> 0 | H8: =COUNTIFS([1]DATA!$AA:$AA,[1]집계최종!$C8,[1]DATA!$AB:$AB,[1]집계최종!H$2) -> 0 | K8: 시청아동보육과 | L8: =SUM(M8:AA8) -> 1 | M8: =COUNTIFS([1]DATA!$AA:$AA,[1]집계최종!$C8,[1]DATA!$AC:$AC,"2007")+COUNTIFS([1]DATA!$AA:$AA,[1]집계최종!$C8,[1]DATA!$AC:$AC,"2010") -> 0 | N8: =COUNTIFS([1]DATA!$AA:$AA,[1]집계최종!$C8,[1]DATA!$AC:$AC,[1]집계최종!N$2) -> 0 | O8: =COUNTIFS([1]DATA!$AA:$AA,[1]집계최종!$C8,[1]DATA!$AC:$AC,[1]집계최종!O$2) -> 0 | P8: =COUNTIFS([1]DATA!$AA:$AA,[1]집계최종!$C8,[1]DATA!$AC:$AC,[1]집계최종!P$2) -> 0 | Q8: =COUNTIFS([1]DATA!$AA:$AA,[1]집계최종!$C8,[1]DATA!$AC:$AC,[1]집계최종!Q$2) -> 0 | R8: =COUNTIFS([1]DATA!$AA:$AA,[1]집계최종!$C8,[1]DATA!$AC:$AC,[1]집계최종!R$2) -> 0 | S8: =COUNTIFS([1]DATA!$AA:$AA,[1]집계최종!$C8,[1]DATA!$AC:$AC,[1]집계최종!S$2) -> 0 | T8: =COUNTIFS([1]DATA!$AA:$AA,[1]집계최종!$C8,[1]DATA!$AC:$AC,[1]집계최종!T$2) -> 0 | U8: =COUNTIFS([1]DATA!$AA:$AA,[1]집계최종!$C8,[1]DATA!$AC:$AC,[1]집계최종!U$2) -> 1 | ... Z8: =COUNTIFS([1]DATA!$AA:$AA,[1]집계최종!$C8,[1]DATA!$AC:$AC,[1]집계최종!Z$2) -> 0
C9: 시청체육진흥과 | D9: =SUM(E9:H9) -> 14 | E9: =COUNTIFS([1]DATA!$AA:$AA,[1]집계최종!$C9,[1]DATA!$AB:$AB,[1]집계최종!E$2) -> 5 | F9: =COUNTIFS([1]DATA!$AA:$AA,[1]집계최종!$C9,[1]DATA!$AB:$AB,[1]집계최종!F$2) -> 9 | G9: =COUNTIFS([1]DATA!$AA:$AA,[1]집계최종!$C9,[1]DATA!$AB:$AB,[1]집계최종!G$2) -> 0 | H9: =COUNTIFS([1]DATA!$AA:$AA,[1]집계최종!$C9,[1]DATA!$AB:$AB,[1]집계최종!H$2) -> 0 | K9: 시청체육진흥과 | L9: =SUM(M9:AA9) -> 13 | M9: =COUNTIFS([1]DATA!$AA:$AA,[1]집계최종!$C9,[1]DATA!$AC:$AC,"2007")+COUNTIFS([1]DATA!$AA:$AA,[1]집계최종!$C9,[1]DATA!$AC:$AC,"2010") -> 0 | N9: =COUNTIFS([1]DATA!$AA:$AA,[1]집계최종!$C9,[1]DATA!$AC:$AC,[1]집계최종!N$2) -> 0 | O9: =COUNTIFS([1]DATA!$AA:$AA,[1]집계최종!$C9,[1]DATA!$AC:$AC,[1]집계최종!O$2) -> 1 | P9: =COUNTIFS([1]DATA!$AA:$AA,[1]집계최종!$C9,[1]DATA!$AC:$AC,[1]집계최종!P$2) -> 0 | Q9: =COUNTIFS([1]DATA!$AA:$AA,[1]집계최종!$C9,[1]DATA!$AC:$AC,[1]집계최종!Q$2) -> 1 | R9: =COUNTIFS([1]DATA!$AA:$AA,[1]집계최종!$C9,[1]DATA!$AC:$AC,[1]집계최종!R$2) -> 0 | S9: =COUNTIFS([1]DATA!$AA:$AA,[1]집계최종!$C9,[1]DATA!$AC:$AC,[1]집계최종!S$2) -> 1 | T9: =COUNTIFS([1]DATA!$AA:$AA,[1]집계최종!$C9,[1]DATA!$AC:$AC,[1]집계최종!T$2) -> 2 | U9: =COUNTIFS([1]DATA!$AA:$AA,[1]집계최종!$C9,[1]DATA!$AC:$AC,[1]집계최종!U$2) -> 0 | ... Z9: =COUNTIFS([1]DATA!$AA:$AA,[1]집계최종!$C9,[1]DATA!$AC:$AC,[1]집계최종!Z$2) -> 4
C10: 시청자원순환과 | D10: =SUM(E10:H10) -> 22 | E10: =COUNTIFS([1]DATA!$AA:$AA,[1]집계최종!$C10,[1]DATA!$AB:$AB,[1]집계최종!E$2) -> 3 | F10: =COUNTIFS([1]DATA!$AA:$AA,[1]집계최종!$C10,[1]DATA!$AB:$AB,[1]집계최종!F$2) -> 0 | G10: =COUNTIFS([1]DATA!$AA:$AA,[1]집계최종!$C10,[1]DATA!$AB:$AB,[1]집계최종!G$2) -> 7 | H10: =COUNTIFS([1]DATA!$AA:$AA,[1]집계최종!$C10,[1]DATA!$AB:$AB,[1]집계최종!H$2) -> 12 | K10: 시청자원순환과 | L10: =SUM(M10:AA10) -> 22 | M10: =COUNTIFS([1]DATA!$AA:$AA,[1]집계최종!$C10,[1]DATA!$AC:$AC,"2007")+COUNTIFS([1]DATA!$AA:$AA,[1]집계최종!$C10,[1]DATA!$AC:$AC,"2010") -> 0 | N10: =COUNTIFS([1]DATA!$AA:$AA,[1]집계최종!$C10,[1]DATA!$AC:$AC,[1]집계최종!N$2) -> 0 | O10: =COUNTIFS([1]DATA!$AA:$AA,[1]집계최종!$C10,[1]DATA!$AC:$AC,[1]집계최종!O$2) -> 1 | P10: =COUNTIFS([1]DATA!$AA:$AA,[1]집계최종!$C10,[1]DATA!$AC:$AC,[1]집계최종!P$2) -> 0 | Q10: =COUNTIFS([1]DATA!$AA:$AA,[1]집계최종!$C10,[1]DATA!$AC:$AC,[1]집계최종!Q$2) -> 2 | R10: =COUNTIFS([1]DATA!$AA:$AA,[1]집계최종!$C10,[1]DATA!$AC:$AC,[1]집계최종!R$2) -> 0 | S10: =COUNTIFS([1]DATA!$AA:$AA,[1]집계최종!$C10,[1]DATA!$AC:$AC,[1]집계최종!S$2) -> 4 | T10: =COUNTIFS([1]DATA!$AA:$AA,[1]집계최종!$C10,[1]DATA!$AC:$AC,[1]집계최종!T$2) -> 4 | U10: =COUNTIFS([1]DATA!$AA:$AA,[1]집계최종!$C10,[1]DATA!$AC:$AC,[1]집계최종!U$2) -> 4 | ... Z10: =COUNTIFS([1]DATA!$AA:$AA,[1]집계최종!$C10,[1]DATA!$AC:$AC,[1]집계최종!Z$2) -> 2
B11: 의회사무국 | C11: 의회사무국 | D11: =SUM(E11:H11) -> 6 | E11: =COUNTIFS([1]DATA!$AA:$AA,[1]집계최종!$C11,[1]DATA!$AB:$AB,[1]집계최종!E$2) -> 4 | F11: =COUNTIFS([1]DATA!$AA:$AA,[1]집계최종!$C11,[1]DATA!$AB:$AB,[1]집계최종!F$2) -> 2 | G11: =COUNTIFS([1]DATA!$AA:$AA,[1]집계최종!$C11,[1]DATA!$AB:$AB,[1]집계최종!G$2) -> 0 | H11: =COUNTIFS([1]DATA!$AA:$AA,[1]집계최종!$C11,[1]DATA!$AB:$AB,[1]집계최종!H$2) -> 0 | J11: 의회사무국 | K11: 의회사무국 | L11: =SUM(M11:AA11) -> 6 | M11: =COUNTIFS([1]DATA!$AA:$AA,[1]집계최종!$C11,[1]DATA!$AC:$AC,[1]집계최종!M$2) -> 0 | N11: =COUNTIFS([1]DATA!$AA:$AA,[1]집계최종!$C11,[1]DATA!$AC:$AC,[1]집계최종!N$2) -> 0 | O11: =COUNTIFS([1]DATA!$AA:$AA,[1]집계최종!$C11,[1]DATA!$AC:$AC,[1]집계최종!O$2) -> 0 | P11: =COUNTIFS([1]DATA!$AA:$AA,[1]집계최종!$C11,[1]DATA!$AC:$AC,[1]집계최종!P$2) -> 1 | Q11: =COUNTIFS([1]DATA!$AA:$AA,[1]집계최종!$C11,[1]DATA!$AC:$AC,[1]집계최종!Q$2) -> 0 | R11: =COUNTIFS([1]DATA!$AA:$AA,[1]집계최종!$C11,[1]DATA!$AC:$AC,[1]집계최종!R$2) -> 1 | S11: =COUNTIFS([1]DATA!$AA:$AA,[1]집계최종!$C11,[1]DATA!$AC:$AC,[1]집계최종!S$2) -> 1 | T11: =COUNTIFS([1]DATA!$AA:$AA,[1]집계최종!$C11,[1]DATA!$AC:$AC,[1]집계최종!T$2) -> 1 | ... Z11: =COUNTIFS([1]DATA!$AA:$AA,[1]집계최종!$C11,[1]DATA!$AC:$AC,[1]집계최종!Z$2) -> 0
B12: 사업소 | C12: 소계 | D12: =SUM(E12:H12) -> 119 | E12: =SUM(E13:E21) -> 69 | F12: =SUM(F13:F21) -> 0 | G12: =SUM(G13:G21) -> 42 | H12: =SUM(H13:H21) -> 8 | J12: 사업소 | K12: 소계 | L12: =SUM(M12:AA12) -> 119 | M12: =SUM(M13:M21) -> 1 | N12: =SUM(N13:N21) -> 4 | O12: =SUM(O13:O21) -> 5 | P12: =SUM(P13:P21) -> 5 | Q12: =SUM(Q13:Q21) -> 9 | R12: =SUM(R13:R21) -> 10 | S12: =SUM(S13:S21) -> 31 | T12: =SUM(T13:T21) -> 9 | ... Z12: =SUM(Z13:Z21) -> 8
C13: 수정구보건소 | D13: =SUM(E13:H13) -> 11 | E13: =COUNTIFS([1]DATA!$AA:$AA,[1]집계최종!$C13,[1]DATA!$AB:$AB,[1]집계최종!E$2) -> 8 | F13: =COUNTIFS([1]DATA!$AA:$AA,[1]집계최종!$C13,[1]DATA!$AB:$AB,[1]집계최종!F$2) -> 0 | G13: =COUNTIFS([1]DATA!$AA:$AA,[1]집계최종!$C13,[1]DATA!$AB:$AB,[1]집계최종!G$2) -> 1 | H13: =COUNTIFS([1]DATA!$AA:$AA,[1]집계최종!$C13,[1]DATA!$AB:$AB,[1]집계최종!H$2) -> 2 | K13: 수정구보건소 | L13: =SUM(M13:AA13) -> 11 | M13: =COUNTIFS([1]DATA!$AA:$AA,[1]집계최종!$C13,[1]DATA!$AC:$AC,"2007")+COUNTIFS([1]DATA!$AA:$AA,[1]집계최종!$C13,[1]DATA!$AC:$AC,"2010") -> 0 | N13: =COUNTIFS([1]DATA!$AA:$AA,[1]집계최종!$C13,[1]DATA!$AC:$AC,[1]집계최종!N$2) -> 0 | O13: =COUNTIFS([1]DATA!$AA:$AA,[1]집계최종!$C13,[1]DATA!$AC:$AC,[1]집계최종!O$2) -> 0 | P13: =COUNTIFS([1]DATA!$AA:$AA,[1]집계최종!$C13,[1]DATA!$AC:$AC,[1]집계최종!P$2) -> 1 | Q13: =COUNTIFS([1]DATA!$AA:$AA,[1]집계최종!$C13,[1]DATA!$AC:$AC,[1]집계최종!Q$2) -> 1 | R13: =COUNTIFS([1]DATA!$AA:$AA,[1]집계최종!$C13,[1]DATA!$AC:$AC,[1]집계최종!R$2) -> 1 | S13: =COUNTIFS([1]DATA!$AA:$AA,[1]집계최종!$C13,[1]DATA!$AC:$AC,[1]집계최종!S$2) -> 4 | T13: =COUNTIFS([1]DATA!$AA:$AA,[1]집계최종!$C13,[1]DATA!$AC:$AC,[1]집계최종!T$2) -> 0 | U13: =COUNTIFS([1]DATA!$AA:$AA,[1]집계최종!$C13,[1]DATA!$AC:$AC,[1]집계최종!U$2) -> 0 | ... Z13: =COUNTIFS([1]DATA!$AA:$AA,[1]집계최종!$C13,[1]DATA!$AC:$AC,[1]집계최종!Z$2) -> 1
C14: 중원구보건소 | D14: =SUM(E14:H14) -> 10 | E14: =COUNTIFS([1]DATA!$AA:$AA,[1]집계최종!$C14,[1]DATA!$AB:$AB,[1]집계최종!E$2) -> 7 | F14: =COUNTIFS([1]DATA!$AA:$AA,[1]집계최종!$C14,[1]DATA!$AB:$AB,[1]집계최종!F$2) -> 0 | G14: =COUNTIFS([1]DATA!$AA:$AA,[1]집계최종!$C14,[1]DATA!$AB:$AB,[1]집계최종!G$2) -> 1 | H14: =COUNTIFS([1]DATA!$AA:$AA,[1]집계최종!$C14,[1]DATA!$AB:$AB,[1]집계최종!H$2) -> 2 | K14: 중원구보건소 | L14: =SUM(M14:AA14) -> 10 | M14: =COUNTIFS([1]DATA!$AA:$AA,[1]집계최종!$C14,[1]DATA!$AC:$AC,"2007")+COUNTIFS([1]DATA!$AA:$AA,[1]집계최종!$C14,[1]DATA!$AC:$AC,"2010") -> 0 | N14: =COUNTIFS([1]DATA!$AA:$AA,[1]집계최종!$C14,[1]DATA!$AC:$AC,[1]집계최종!N$2) -> 0 | O14: =COUNTIFS([1]DATA!$AA:$AA,[1]집계최종!$C14,[1]DATA!$AC:$AC,[1]집계최종!O$2) -> 0 | P14: =COUNTIFS([1]DATA!$AA:$AA,[1]집계최종!$C14,[1]DATA!$AC:$AC,[1]집계최종!P$2) -> 0 | Q14: =COUNTIFS([1]DATA!$AA:$AA,[1]집계최종!$C14,[1]DATA!$AC:$AC,[1]집계최종!Q$2) -> 1 | R14: =COUNTIFS([1]DATA!$AA:$AA,[1]집계최종!$C14,[1]DATA!$AC:$AC,[1]집계최종!R$2) -> 0 | S14: =COUNTIFS([1]DATA!$AA:$AA,[1]집계최종!$C14,[1]DATA!$AC:$AC,[1]집계최종!S$2) -> 5 | T14: =COUNTIFS([1]DATA!$AA:$AA,[1]집계최종!$C14,[1]DATA!$AC:$AC,[1]집계최종!T$2) -> 0 | U14: =COUNTIFS([1]DATA!$AA:$AA,[1]집계최종!$C14,[1]DATA!$AC:$AC,[1]집계최종!U$2) -> 1 | ... Z14: =COUNTIFS([1]DATA!$AA:$AA,[1]집계최종!$C14,[1]DATA!$AC:$AC,[1]집계최종!Z$2) -> 1
C15: 분당구보건소 | D15: =SUM(E15:H15) -> 17 | E15: =COUNTIFS([1]DATA!$AA:$AA,[1]집계최종!$C15,[1]DATA!$AB:$AB,[1]집계최종!E$2) -> 12 | F15: =COUNTIFS([1]DATA!$AA:$AA,[1]집계최종!$C15,[1]DATA!$AB:$AB,[1]집계최종!F$2) -> 0 | G15: =COUNTIFS([1]DATA!$AA:$AA,[1]집계최종!$C15,[1]DATA!$AB:$AB,[1]집계최종!G$2) -> 2 | H15: =COUNTIFS([1]DATA!$AA:$AA,[1]집계최종!$C15,[1]DATA!$AB:$AB,[1]집계최종!H$2) -> 3 | K15: 분당구보건소 | L15: =SUM(M15:AA15) -> 17 | M15: =COUNTIFS([1]DATA!$AA:$AA,[1]집계최종!$C15,[1]DATA!$AC:$AC,"2007")+COUNTIFS([1]DATA!$AA:$AA,[1]집계최종!$C15,[1]DATA!$AC:$AC,"2010") -> 0 | N15: =COUNTIFS([1]DATA!$AA:$AA,[1]집계최종!$C15,[1]DATA!$AC:$AC,[1]집계최종!N$2) -> 3 | O15: =COUNTIFS([1]DATA!$AA:$AA,[1]집계최종!$C15,[1]DATA!$AC:$AC,[1]집계최종!O$2) -> 0 | P15: =COUNTIFS([1]DATA!$AA:$AA,[1]집계최종!$C15,[1]DATA!$AC:$AC,[1]집계최종!P$2) -> 2 | Q15: =COUNTIFS([1]DATA!$AA:$AA,[1]집계최종!$C15,[1]DATA!$AC:$AC,[1]집계최종!Q$2) -> 1 | R15: =COUNTIFS([1]DATA!$AA:$AA,[1]집계최종!$C15,[1]DATA!$AC:$AC,[1]집계최종!R$2) -> 0 | S15: =COUNTIFS([1]DATA!$AA:$AA,[1]집계최종!$C15,[1]DATA!$AC:$AC,[1]집계최종!S$2) -> 3 | T15: =COUNTIFS([1]DATA!$AA:$AA,[1]집계최종!$C15,[1]DATA!$AC:$AC,[1]집계최종!T$2) -> 2 | U15: =COUNTIFS([1]DATA!$AA:$AA,[1]집계최종!$C15,[1]DATA!$AC:$AC,[1]집계최종!U$2) -> 3 | ... Z15: =COUNTIFS([1]DATA!$AA:$AA,[1]집계최종!$C15,[1]DATA!$AC:$AC,[1]집계최종!Z$2) -> 0
C16: 농업기술센터 | D16: =SUM(E16:H16) -> 5 | E16: =COUNTIFS([1]DATA!$AA:$AA,[1]집계최종!$C16,[1]DATA!$AB:$AB,[1]집계최종!E$2) -> 3 | F16: =COUNTIFS([1]DATA!$AA:$AA,[1]집계최종!$C16,[1]DATA!$AB:$AB,[1]집계최종!F$2) -> 0 | G16: =COUNTIFS([1]DATA!$AA:$AA,[1]집계최종!$C16,[1]DATA!$AB:$AB,[1]집계최종!G$2) -> 2 | H16: =COUNTIFS([1]DATA!$AA:$AA,[1]집계최종!$C16,[1]DATA!$AB:$AB,[1]집계최종!H$2) -> 0 | K16: 농업기술센터 | L16: =SUM(M16:AA16) -> 5 | M16: =COUNTIFS([1]DATA!$AA:$AA,[1]집계최종!$C16,[1]DATA!$AC:$AC,"2007")+COUNTIFS([1]DATA!$AA:$AA,[1]집계최종!$C16,[1]DATA!$AC:$AC,"2010") -> 0 | N16: =COUNTIFS([1]DATA!$AA:$AA,[1]집계최종!$C16,[1]DATA!$AC:$AC,[1]집계최종!N$2) -> 0 | O16: =COUNTIFS([1]DATA!$AA:$AA,[1]집계최종!$C16,[1]DATA!$AC:$AC,[1]집계최종!O$2) -> 0 | P16: =COUNTIFS([1]DATA!$AA:$AA,[1]집계최종!$C16,[1]DATA!$AC:$AC,[1]집계최종!P$2) -> 0 | Q16: =COUNTIFS([1]DATA!$AA:$AA,[1]집계최종!$C16,[1]DATA!$AC:$AC,[1]집계최종!Q$2) -> 1 | R16: =COUNTIFS([1]DATA!$AA:$AA,[1]집계최종!$C16,[1]DATA!$AC:$AC,[1]집계최종!R$2) -> 1 | S16: =COUNTIFS([1]DATA!$AA:$AA,[1]집계최종!$C16,[1]DATA!$AC:$AC,[1]집계최종!S$2) -> 1 | T16: =COUNTIFS([1]DATA!$AA:$AA,[1]집계최종!$C16,[1]DATA!$AC:$AC,[1]집계최종!T$2) -> 0 | U16: =COUNTIFS([1]DATA!$AA:$AA,[1]집계최종!$C16,[1]DATA!$AC:$AC,[1]집계최종!U$2) -> 0 | ... Z16: =COUNTIFS([1]DATA!$AA:$AA,[1]집계최종!$C16,[1]DATA!$AC:$AC,[1]집계최종!Z$2) -> 0
C17: 맑은물관리사업소 | D17: =SUM(E17:H17) -> 27 | E17: =COUNTIFS([1]DATA!$AA:$AA,[1]집계최종!$C17,[1]DATA!$AB:$AB,[1]집계최종!E$2) -> 16 | F17: =COUNTIFS([1]DATA!$AA:$AA,[1]집계최종!$C17,[1]DATA!$AB:$AB,[1]집계최종!F$2) -> 0 | G17: =COUNTIFS([1]DATA!$AA:$AA,[1]집계최종!$C17,[1]DATA!$AB:$AB,[1]집계최종!G$2) -> 11 | H17: =COUNTIFS([1]DATA!$AA:$AA,[1]집계최종!$C17,[1]DATA!$AB:$AB,[1]집계최종!H$2) -> 0 | K17: 맑은물관리사업소 | L17: =SUM(M17:AA17) -> 27 | M17: =COUNTIFS([1]DATA!$AA:$AA,[1]집계최종!$C17,[1]DATA!$AC:$AC,"2007")+COUNTIFS([1]DATA!$AA:$AA,[1]집계최종!$C17,[1]DATA!$AC:$AC,"2010") -> 0 | N17: =COUNTIFS([1]DATA!$AA:$AA,[1]집계최종!$C17,[1]DATA!$AC:$AC,[1]집계최종!N$2) -> 1 | O17: =COUNTIFS([1]DATA!$AA:$AA,[1]집계최종!$C17,[1]DATA!$AC:$AC,[1]집계최종!O$2) -> 0 | P17: =COUNTIFS([1]DATA!$AA:$AA,[1]집계최종!$C17,[1]DATA!$AC:$AC,[1]집계최종!P$2) -> 0 | Q17: =COUNTIFS([1]DATA!$AA:$AA,[1]집계최종!$C17,[1]DATA!$AC:$AC,[1]집계최종!Q$2) -> 1 | R17: =COUNTIFS([1]DATA!$AA:$AA,[1]집계최종!$C17,[1]DATA!$AC:$AC,[1]집계최종!R$2) -> 6 | S17: =COUNTIFS([1]DATA!$AA:$AA,[1]집계최종!$C17,[1]DATA!$AC:$AC,[1]집계최종!S$2) -> 8 | T17: =COUNTIFS([1]DATA!$AA:$AA,[1]집계최종!$C17,[1]DATA!$AC:$AC,[1]집계최종!T$2) -> 3 | U17: =COUNTIFS([1]DATA!$AA:$AA,[1]집계최종!$C17,[1]DATA!$AC:$AC,[1]집계최종!U$2) -> 2 | ... Z17: =COUNTIFS([1]DATA!$AA:$AA,[1]집계최종!$C17,[1]DATA!$AC:$AC,[1]집계최종!Z$2) -> 5
C18: 푸른도시사업소 | D18: =SUM(E18:H18) -> 30 | E18: =COUNTIFS([1]DATA!$AA:$AA,[1]집계최종!$C18,[1]DATA!$AB:$AB,[1]집계최종!E$2) -> 7 | F18: =COUNTIFS([1]DATA!$AA:$AA,[1]집계최종!$C18,[1]DATA!$AB:$AB,[1]집계최종!F$2) -> 0 | G18: =COUNTIFS([1]DATA!$AA:$AA,[1]집계최종!$C18,[1]DATA!$AB:$AB,[1]집계최종!G$2) -> 22 | H18: =COUNTIFS([1]DATA!$AA:$AA,[1]집계최종!$C18,[1]DATA!$AB:$AB,[1]집계최종!H$2) -> 1 | K18: 푸른도시사업소 | L18: =SUM(M18:AA18) -> 30 | M18: =COUNTIFS([1]DATA!$AA:$AA,[1]집계최종!$C18,[1]DATA!$AC:$AC,"2007")+COUNTIFS([1]DATA!$AA:$AA,[1]집계최종!$C18,[1]DATA!$AC:$AC,"2010") -> 0 | N18: =COUNTIFS([1]DATA!$AA:$AA,[1]집계최종!$C18,[1]DATA!$AC:$AC,[1]집계최종!N$2) -> 0 | O18: =COUNTIFS([1]DATA!$AA:$AA,[1]집계최종!$C18,[1]DATA!$AC:$AC,[1]집계최종!O$2) -> 3 | P18: =COUNTIFS([1]DATA!$AA:$AA,[1]집계최종!$C18,[1]DATA!$AC:$AC,[1]집계최종!P$2) -> 1 | Q18: =COUNTIFS([1]DATA!$AA:$AA,[1]집계최종!$C18,[1]DATA!$AC:$AC,[1]집계최종!Q$2) -> 4 | R18: =COUNTIFS([1]DATA!$AA:$AA,[1]집계최종!$C18,[1]DATA!$AC:$AC,[1]집계최종!R$2) -> 1 | S18: =COUNTIFS([1]DATA!$AA:$AA,[1]집계최종!$C18,[1]DATA!$AC:$AC,[1]집계최종!S$2) -> 7 | T18: =COUNTIFS([1]DATA!$AA:$AA,[1]집계최종!$C18,[1]DATA!$AC:$AC,[1]집계최종!T$2) -> 2 | U18: =COUNTIFS([1]DATA!$AA:$AA,[1]집계최종!$C18,[1]DATA!$AC:$AC,[1]집계최종!U$2) -> 6 | ... Z18: =COUNTIFS([1]DATA!$AA:$AA,[1]집계최종!$C18,[1]DATA!$AC:$AC,[1]집계최종!Z$2) -> 1
C19: 도서관사업소 | D19: =SUM(E19:H19) -> 15 | E19: =COUNTIFS([1]DATA!$AA:$AA,[1]집계최종!$C19,[1]DATA!$AB:$AB,[1]집계최종!E$2) -> 13 | F19: =COUNTIFS([1]DATA!$AA:$AA,[1]집계최종!$C19,[1]DATA!$AB:$AB,[1]집계최종!F$2) -> 0 | G19: =COUNTIFS([1]DATA!$AA:$AA,[1]집계최종!$C19,[1]DATA!$AB:$AB,[1]집계최종!G$2) -> 2 | H19: =COUNTIFS([1]DATA!$AA:$AA,[1]집계최종!$C19,[1]DATA!$AB:$AB,[1]집계최종!H$2) -> 0 | K19: 도서관사업소 | L19: =SUM(M19:AA19) -> 15 | M19: =COUNTIFS([1]DATA!$AA:$AA,[1]집계최종!$C19,[1]DATA!$AC:$AC,"2007")+COUNTIFS([1]DATA!$AA:$AA,[1]집계최종!$C19,[1]DATA!$AC:$AC,"2010") -> 1 | N19: =COUNTIFS([1]DATA!$AA:$AA,[1]집계최종!$C19,[1]DATA!$AC:$AC,[1]집계최종!N$2) -> 0 | O19: =COUNTIFS([1]DATA!$AA:$AA,[1]집계최종!$C19,[1]DATA!$AC:$AC,[1]집계최종!O$2) -> 1 | P19: =COUNTIFS([1]DATA!$AA:$AA,[1]집계최종!$C19,[1]DATA!$AC:$AC,[1]집계최종!P$2) -> 0 | Q19: =COUNTIFS([1]DATA!$AA:$AA,[1]집계최종!$C19,[1]DATA!$AC:$AC,[1]집계최종!Q$2) -> 0 | R19: =COUNTIFS([1]DATA!$AA:$AA,[1]집계최종!$C19,[1]DATA!$AC:$AC,[1]집계최종!R$2) -> 0 | S19: =COUNTIFS([1]DATA!$AA:$AA,[1]집계최종!$C19,[1]DATA!$AC:$AC,[1]집계최종!S$2) -> 3 | T19: =COUNTIFS([1]DATA!$AA:$AA,[1]집계최종!$C19,[1]DATA!$AC:$AC,[1]집계최종!T$2) -> 2 | U19: =COUNTIFS([1]DATA!$AA:$AA,[1]집계최종!$C19,[1]DATA!$AC:$AC,[1]집계최종!U$2) -> 2 | ... Z19: =COUNTIFS([1]DATA!$AA:$AA,[1]집계최종!$C19,[1]DATA!$AC:$AC,[1]집계최종!Z$2) -> 0
C20: 차량등록사업소 | D20: =SUM(E20:H20) -> 2 | E20: =COUNTIFS([1]DATA!$AA:$AA,[1]집계최종!$C20,[1]DATA!$AB:$AB,[1]집계최종!E$2) -> 2 | F20: =COUNTIFS([1]DATA!$AA:$AA,[1]집계최종!$C20,[1]DATA!$AB:$AB,[1]집계최종!F$2) -> 0 | G20: =COUNTIFS([1]DATA!$AA:$AA,[1]집계최종!$C20,[1]DATA!$AB:$AB,[1]집계최종!G$2) -> 0 | H20: =COUNTIFS([1]DATA!$AA:$AA,[1]집계최종!$C20,[1]DATA!$AB:$AB,[1]집계최종!H$2) -> 0 | K20: 차량등록사업소 | L20: =SUM(M20:AA20) -> 2 | M20: =COUNTIFS([1]DATA!$AA:$AA,[1]집계최종!$C20,[1]DATA!$AC:$AC,"2007")+COUNTIFS([1]DATA!$AA:$AA,[1]집계최종!$C20,[1]DATA!$AC:$AC,"2010") -> 0 | N20: =COUNTIFS([1]DATA!$AA:$AA,[1]집계최종!$C20,[1]DATA!$AC:$AC,[1]집계최종!N$2) -> 0 | O20: =COUNTIFS([1]DATA!$AA:$AA,[1]집계최종!$C20,[1]DATA!$AC:$AC,[1]집계최종!O$2) -> 0 | P20: =COUNTIFS([1]DATA!$AA:$AA,[1]집계최종!$C20,[1]DATA!$AC:$AC,[1]집계최종!P$2) -> 1 | Q20: =COUNTIFS([1]DATA!$AA:$AA,[1]집계최종!$C20,[1]DATA!$AC:$AC,[1]집계최종!Q$2) -> 0 | R20: =COUNTIFS([1]DATA!$AA:$AA,[1]집계최종!$C20,[1]DATA!$AC:$AC,[1]집계최종!R$2) -> 1 | S20: =COUNTIFS([1]DATA!$AA:$AA,[1]집계최종!$C20,[1]DATA!$AC:$AC,[1]집계최종!S$2) -> 0 | T20: =COUNTIFS([1]DATA!$AA:$AA,[1]집계최종!$C20,[1]DATA!$AC:$AC,[1]집계최종!T$2) -> 0 | U20: =COUNTIFS([1]DATA!$AA:$AA,[1]집계최종!$C20,[1]DATA!$AC:$AC,[1]집계최종!U$2) -> 0 | ... Z20: =COUNTIFS([1]DATA!$AA:$AA,[1]집계최종!$C20,[1]DATA!$AC:$AC,[1]집계최종!Z$2) -> 0
C21: 장례문화사업소 | D21: =SUM(E21:H21) -> 2 | E21: =COUNTIFS([1]DATA!$AA:$AA,[1]집계최종!$C21,[1]DATA!$AB:$AB,[1]집계최종!E$2) -> 1 | F21: =COUNTIFS([1]DATA!$AA:$AA,[1]집계최종!$C21,[1]DATA!$AB:$AB,[1]집계최종!F$2) -> 0 | G21: =COUNTIFS([1]DATA!$AA:$AA,[1]집계최종!$C21,[1]DATA!$AB:$AB,[1]집계최종!G$2) -> 1 | H21: =COUNTIFS([1]DATA!$AA:$AA,[1]집계최종!$C21,[1]DATA!$AB:$AB,[1]집계최종!H$2) -> 0 | K21: 장례문화사업소 | L21: =SUM(M21:AA21) -> 2 | M21: =COUNTIFS([1]DATA!$AA:$AA,[1]집계최종!$C21,[1]DATA!$AC:$AC,"2007")+COUNTIFS([1]DATA!$AA:$AA,[1]집계최종!$C21,[1]DATA!$AC:$AC,"2010") -> 0 | N21: =COUNTIFS([1]DATA!$AA:$AA,[1]집계최종!$C21,[1]DATA!$AC:$AC,[1]집계최종!N$2) -> 0 | O21: =COUNTIFS([1]DATA!$AA:$AA,[1]집계최종!$C21,[1]DATA!$AC:$AC,[1]집계최종!O$2) -> 1 | P21: =COUNTIFS([1]DATA!$AA:$AA,[1]집계최종!$C21,[1]DATA!$AC:$AC,[1]집계최종!P$2) -> 0 | Q21: =COUNTIFS([1]DATA!$AA:$AA,[1]집계최종!$C21,[1]DATA!$AC:$AC,[1]집계최종!Q$2) -> 0 | R21: =COUNTIFS([1]DATA!$AA:$AA,[1]집계최종!$C21,[1]DATA!$AC:$AC,[1]집계최종!R$2) -> 0 | S21: =COUNTIFS([1]DATA!$AA:$AA,[1]집계최종!$C21,[1]DATA!$AC:$AC,[1]집계최종!S$2) -> 0 | T21: =COUNTIFS([1]DATA!$AA:$AA,[1]집계최종!$C21,[1]DATA!$AC:$AC,[1]집계최종!T$2) -> 0 | U21: =COUNTIFS([1]DATA!$AA:$AA,[1]집계최종!$C21,[1]DATA!$AC:$AC,[1]집계최종!U$2) -> 0 | ... Z21: =COUNTIFS([1]DATA!$AA:$AA,[1]집계최종!$C21,[1]DATA!$AC:$AC,[1]집계최종!Z$2) -> 0
B22: 구청 | C22: 소계 | D22: =SUM(E22:H22) -> 198 | E22: =SUM(E23:E25) -> 93 | F22: =SUM(F23:F25) -> 4 | G22: =SUM(G23:G25) -> 71 | H22: =SUM(H23:H25) -> 30 | J22: 구청 | K22: 소계 | L22: =SUM(M22:AA22) -> 192 | M22: =SUM(M23:M25) -> 1 | N22: =SUM(N23:N25) -> 0 | O22: =SUM(O23:O25) -> 3 | P22: =SUM(P23:P25) -> 7 | Q22: =SUM(Q23:Q25) -> 8 | R22: =SUM(R23:R25) -> 21 | S22: =SUM(S23:S25) -> 26 | T22: =SUM(T23:T25) -> 24 | ... Z22: =SUM(Z23:Z25) -> 9
C23: 수정구 | D23: =SUM(E23:H23) -> 61 | E23: =COUNTIFS([1]DATA!$AA:$AA,[1]집계최종!$C23,[1]DATA!$AB:$AB,[1]집계최종!E$2) -> 29 | F23: =COUNTIFS([1]DATA!$AA:$AA,[1]집계최종!$C23,[1]DATA!$AB:$AB,[1]집계최종!F$2) -> 1 | G23: =COUNTIFS([1]DATA!$AA:$AA,[1]집계최종!$C23,[1]DATA!$AB:$AB,[1]집계최종!G$2) -> 21 | H23: =COUNTIFS([1]DATA!$AA:$AA,[1]집계최종!$C23,[1]DATA!$AB:$AB,[1]집계최종!H$2) -> 10 | K23: 수정구 | L23: =SUM(M23:AA23) -> 59 | M23: =COUNTIFS([1]DATA!$AA:$AA,[1]집계최종!$C23,[1]DATA!$AC:$AC,"2007")+COUNTIFS([1]DATA!$AA:$AA,[1]집계최종!$C23,[1]DATA!$AC:$AC,"2010") -> 0 | N23: =COUNTIFS([1]DATA!$AA:$AA,[1]집계최종!$C23,[1]DATA!$AC:$AC,[1]집계최종!N$2) -> 0 | O23: =COUNTIFS([1]DATA!$AA:$AA,[1]집계최종!$C23,[1]DATA!$AC:$AC,[1]집계최종!O$2) -> 1 | P23: =COUNTIFS([1]DATA!$AA:$AA,[1]집계최종!$C23,[1]DATA!$AC:$AC,[1]집계최종!P$2) -> 2 | Q23: =COUNTIFS([1]DATA!$AA:$AA,[1]집계최종!$C23,[1]DATA!$AC:$AC,[1]집계최종!Q$2) -> 4 | R23: =COUNTIFS([1]DATA!$AA:$AA,[1]집계최종!$C23,[1]DATA!$AC:$AC,[1]집계최종!R$2) -> 6 | S23: =COUNTIFS([1]DATA!$AA:$AA,[1]집계최종!$C23,[1]DATA!$AC:$AC,[1]집계최종!S$2) -> 3 | T23: =COUNTIFS([1]DATA!$AA:$AA,[1]집계최종!$C23,[1]DATA!$AC:$AC,[1]집계최종!T$2) -> 7 | U23: =COUNTIFS([1]DATA!$AA:$AA,[1]집계최종!$C23,[1]DATA!$AC:$AC,[1]집계최종!U$2) -> 15 | ... Z23: =COUNTIFS([1]DATA!$AA:$AA,[1]집계최종!$C23,[1]DATA!$AC:$AC,[1]집계최종!Z$2) -> 3
C24: 중원구 | D24: =SUM(E24:H24) -> 57 | E24: =COUNTIFS([1]DATA!$AA:$AA,[1]집계최종!$C24,[1]DATA!$AB:$AB,[1]집계최종!E$2) -> 27 | F24: =COUNTIFS([1]DATA!$AA:$AA,[1]집계최종!$C24,[1]DATA!$AB:$AB,[1]집계최종!F$2) -> 1 | G24: =COUNTIFS([1]DATA!$AA:$AA,[1]집계최종!$C24,[1]DATA!$AB:$AB,[1]집계최종!G$2) -> 18 | H24: =COUNTIFS([1]DATA!$AA:$AA,[1]집계최종!$C24,[1]DATA!$AB:$AB,[1]집계최종!H$2) -> 11 | K24: 중원구 | L24: =SUM(M24:AA24) -> 54 | M24: =COUNTIFS([1]DATA!$AA:$AA,[1]집계최종!$C24,[1]DATA!$AC:$AC,"2007")+COUNTIFS([1]DATA!$AA:$AA,[1]집계최종!$C24,[1]DATA!$AC:$AC,"2010") -> 1 | N24: =COUNTIFS([1]DATA!$AA:$AA,[1]집계최종!$C24,[1]DATA!$AC:$AC,[1]집계최종!N$2) -> 0 | O24: =COUNTIFS([1]DATA!$AA:$AA,[1]집계최종!$C24,[1]DATA!$AC:$AC,[1]집계최종!O$2) -> 2 | P24: =COUNTIFS([1]DATA!$AA:$AA,[1]집계최종!$C24,[1]DATA!$AC:$AC,[1]집계최종!P$2) -> 0 | Q24: =COUNTIFS([1]DATA!$AA:$AA,[1]집계최종!$C24,[1]DATA!$AC:$AC,[1]집계최종!Q$2) -> 1 | R24: =COUNTIFS([1]DATA!$AA:$AA,[1]집계최종!$C24,[1]DATA!$AC:$AC,[1]집계최종!R$2) -> 7 | S24: =COUNTIFS([1]DATA!$AA:$AA,[1]집계최종!$C24,[1]DATA!$AC:$AC,[1]집계최종!S$2) -> 7 | T24: =COUNTIFS([1]DATA!$AA:$AA,[1]집계최종!$C24,[1]DATA!$AC:$AC,[1]집계최종!T$2) -> 5 | U24: =COUNTIFS([1]DATA!$AA:$AA,[1]집계최종!$C24,[1]DATA!$AC:$AC,[1]집계최종!U$2) -> 11 | ... Z24: =COUNTIFS([1]DATA!$AA:$AA,[1]집계최종!$C24,[1]DATA!$AC:$AC,[1]집계최종!Z$2) -> 3
C25: 분당구 | D25: =SUM(E25:H25) -> 80 | E25: =COUNTIFS([1]DATA!$AA:$AA,[1]집계최종!$C25,[1]DATA!$AB:$AB,[1]집계최종!E$2) -> 37 | F25: =COUNTIFS([1]DATA!$AA:$AA,[1]집계최종!$C25,[1]DATA!$AB:$AB,[1]집계최종!F$2) -> 2 | G25: =COUNTIFS([1]DATA!$AA:$AA,[1]집계최종!$C25,[1]DATA!$AB:$AB,[1]집계최종!G$2) -> 32 | H25: =COUNTIFS([1]DATA!$AA:$AA,[1]집계최종!$C25,[1]DATA!$AB:$AB,[1]집계최종!H$2) -> 9 | K25: 분당구 | L25: =SUM(M25:AA25) -> 79 | M25: =COUNTIFS([1]DATA!$AA:$AA,[1]집계최종!$C25,[1]DATA!$AC:$AC,"2007")+COUNTIFS([1]DATA!$AA:$AA,[1]집계최종!$C25,[1]DATA!$AC:$AC,"2010") -> 0 | N25: =COUNTIFS([1]DATA!$AA:$AA,[1]집계최종!$C25,[1]DATA!$AC:$AC,[1]집계최종!N$2) -> 0 | O25: =COUNTIFS([1]DATA!$AA:$AA,[1]집계최종!$C25,[1]DATA!$AC:$AC,[1]집계최종!O$2) -> 0 | P25: =COUNTIFS([1]DATA!$AA:$AA,[1]집계최종!$C25,[1]DATA!$AC:$AC,[1]집계최종!P$2) -> 5 | Q25: =COUNTIFS([1]DATA!$AA:$AA,[1]집계최종!$C25,[1]DATA!$AC:$AC,[1]집계최종!Q$2) -> 3 | R25: =COUNTIFS([1]DATA!$AA:$AA,[1]집계최종!$C25,[1]DATA!$AC:$AC,[1]집계최종!R$2) -> 8 | S25: =COUNTIFS([1]DATA!$AA:$AA,[1]집계최종!$C25,[1]DATA!$AC:$AC,[1]집계최종!S$2) -> 16 | T25: =COUNTIFS([1]DATA!$AA:$AA,[1]집계최종!$C25,[1]DATA!$AC:$AC,[1]집계최종!T$2) -> 12 | U25: =COUNTIFS([1]DATA!$AA:$AA,[1]집계최종!$C25,[1]DATA!$AC:$AC,[1]집계최종!U$2) -> 19 | ... Z25: =COUNTIFS([1]DATA!$AA:$AA,[1]집계최종!$C25,[1]DATA!$AC:$AC,[1]집계최종!Z$2) -> 3
B26: 동 | C26: 행정복지센터 | D26: =SUM(E26:H26) -> 99 | E26: =COUNTIFS([1]DATA!$AA:$AA,[1]집계최종!$C26,[1]DATA!$AB:$AB,[1]집계최종!E$2) -> 49 | F26: =COUNTIFS([1]DATA!$AA:$AA,[1]집계최종!$C26,[1]DATA!$AB:$AB,[1]집계최종!F$2) -> 0 | G26: =COUNTIFS([1]DATA!$AA:$AA,[1]집계최종!$C26,[1]DATA!$AB:$AB,[1]집계최종!G$2) -> 50 | H26: =COUNTIFS([1]DATA!$AA:$AA,[1]집계최종!$C26,[1]DATA!$AB:$AB,[1]집계최종!H$2) -> 0 | J26: 동 | K26: 행정복지센터 | L26: =SUM(M26:AA26) -> 96 | M26: =COUNTIFS([1]DATA!$AA:$AA,[1]집계최종!$C26,[1]DATA!$AC:$AC,"2007")+COUNTIFS([1]DATA!$AA:$AA,[1]집계최종!$C26,[1]DATA!$AC:$AC,"2010") -> 0 | N26: =COUNTIFS([1]DATA!$AA:$AA,[1]집계최종!$C26,[1]DATA!$AC:$AC,[1]집계최종!N$2) -> 0 | O26: =COUNTIFS([1]DATA!$AA:$AA,[1]집계최종!$C26,[1]DATA!$AC:$AC,[1]집계최종!O$2) -> 0 | P26: =COUNTIFS([1]DATA!$AA:$AA,[1]집계최종!$C26,[1]DATA!$AC:$AC,[1]집계최종!P$2) -> 0 | Q26: =COUNTIFS([1]DATA!$AA:$AA,[1]집계최종!$C26,[1]DATA!$AC:$AC,[1]집계최종!Q$2) -> 0 | R26: =COUNTIFS([1]DATA!$AA:$AA,[1]집계최종!$C26,[1]DATA!$AC:$AC,[1]집계최종!R$2) -> 19 | S26: =COUNTIFS([1]DATA!$AA:$AA,[1]집계최종!$C26,[1]DATA!$AC:$AC,[1]집계최종!S$2) -> 40 | T26: =COUNTIFS([1]DATA!$AA:$AA,[1]집계최종!$C26,[1]DATA!$AC:$AC,[1]집계최종!T$2) -> 21 | U26: =COUNTIFS([1]DATA!$AA:$AA,[1]집계최종!$C26,[1]DATA!$AC:$AC,[1]집계최종!U$2) -> 5 | ... Z26: =COUNTIFS([1]DATA!$AA:$AA,[1]집계최종!$C26,[1]DATA!$AC:$AC,[1]집계최종!Z$2) -> 1
D28: <연료별> | L28: <연료별-승용차> | N28: 승용차 | T28: <연료별-승합차> | V28: 승합차 | AB28: <연료별-화물차> | AD28: 화물차 | AJ28: <연료별-특수차> | AL28: 특수차
B29: 구 분 | D29: 합계 | E29: 경유 | F29: 휘발유 | G29: 전기 | H29: 하이브리드 | I29: 수소 | J29: CNG | K29: LPG | L29: 합계 | M29: 경유 | N29: 휘발유 | O29: 전기 | P29: 하이브리드 | Q29: 수소 | R29: CNG | S29: LPG | T29: 합계 | U29: 경유 | V29: 휘발유 | W29: 전기 | X29: 하이브리드 | Y29: 수소 | Z29: CNG | AA29: LPG | AB29: 합계 | AC29: 경유 | AD29: 휘발유 | AE29: 전기 | AF29: 하이브리드 | AG29: 수소 | AH29: CNG | AI29: LPG | AJ29: 합계 | AK29: 경유 | AL29: 휘발유 | AM29: 전기 | AN29: 하이브리드 | AO29: 수소 | AP29: CNG | AQ29: LPG
B30: 성남시 총계 | D30: =SUM(E30:K30) -> 571 | E30: =E31+E38+E39+E49+E53 -> 243 | F30: =F31+F38+F39+F49+F53 -> 39 | G30: =G31+G38+G39+G49+G53 -> 189 | H30: =H31+H38+H39+H49+H53 -> 54 | I30: =I31+I38+I39+I49+I53 -> 15 | J30: =J31+J38+J39+J49+J53 -> 12 | K30: =K31+K38+K39+K49+K53 -> 19 | L30: =SUM(M30:S30) -> 317 | M30: =M31+M38+M39+M49+M53 -> 27 | N30: =N31+N38+N39+N49+N53 -> 39 | O30: =O31+O38+O39+O49+O53 -> 186 | P30: =P31+P38+P39+P49+P53 -> 52 | Q30: =Q31+Q38+Q39+Q49+Q53 -> 13 | R30: =R31+R38+R39+R49+R53 -> 0 | S30: =S31+S38+S39+S49+S53 -> 0 | T30: =SUM(U30:AA30) -> 29 | U30: =U31+U38+U39+U49+U53 -> 26 | V30: =V31+V38+V39+V49+V53 -> 0 | W30: =W31+W38+W39+W49+W53 -> 0 | X30: =X31+X38+X39+X49+X53 -> 1 | Y30: =Y31+Y38+Y39+Y49+Y53 -> 2 | Z30: =Z31+Z38+Z39+Z49+Z53 -> 0 | AA30: =AA31+AA38+AA39+AA49+AA53 -> 0 | AB30: =SUM(AC30:AI30) -> 175 | AC30: =AC31+AC38+AC39+AC49+AC53 -> 153 | AD30: =AD31+AD38+AD39+AD49+AD53 -> 0 | AE30: =AE31+AE38+AE39+AE49+AE53 -> 3 | AF30: =AF31+AF38+AF39+AF49+AF53 -> 1 | AG30: =AG31+AG38+AG39+AG49+AG53 -> 0 | AH30: =AH31+AH38+AH39+AH49+AH53 -> 0 | AI30: =AI31+AI38+AI39+AI49+AI53 -> 18 | AJ30: =SUM(AK30:AQ30) -> 50 | AK30: =AK31+AK38+AK39+AK49+AK53 -> 37 | AL30: =AL31+AL38+AL39+AL49+AL53 -> 0 | AM30: =AM31+AM38+AM39+AM49+AM53 -> 0 | AN30: =AN31+AN38+AN39+AN49+AN53 -> 0 | AO30: =AO31+AO38+AO39+AO49+AO53 -> 0 | AP30: =AP31+AP38+AP39+AP49+AP53 -> 12 | AQ30: =AQ31+AQ38+AQ39+AQ49+AQ53 -> 1
B31: 시청 | C31: 소계 | D31: =SUM(E31:K31) -> 149 | E31: =SUM(E32:E37) -> 54 | F31: =SUM(F32:F37) -> 18 | G31: =SUM(G32:G37) -> 52 | H31: =SUM(H32:H37) -> 18 | I31: =SUM(I32:I37) -> 7 | J31: =SUM(J32:J37) -> 0 | K31: =SUM(K32:K37) -> 0 | L31: =SUM(M31:S31) -> 102 | M31: =SUM(M32:M37) -> 10 | N31: =SUM(N32:N37) -> 18 | O31: =SUM(O32:O37) -> 52 | P31: =SUM(P32:P37) -> 17 | Q31: =SUM(Q32:Q37) -> 5 | R31: =SUM(R32:R37) -> 0 | S31: =SUM(S32:S37) -> 0 | T31: =SUM(U31:AA31) -> 23 | U31: =SUM(U32:U37) -> 20 | V31: =SUM(V32:V37) -> 0 | W31: =SUM(W32:W37) -> 0 | X31: =SUM(X32:X37) -> 1 | Y31: =SUM(Y32:Y37) -> 2 | Z31: =SUM(Z32:Z37) -> 0 | AA31: =SUM(AA32:AA37) -> 0 | AB31: =SUM(AC31:AI31) -> 12 | AC31: =SUM(AC32:AC37) -> 12 | AD31: =SUM(AD32:AD37) -> 0 | AE31: =SUM(AE32:AE37) -> 0 | AF31: =SUM(AF32:AF37) -> 0 | AG31: =SUM(AG32:AG37) -> 0 | AH31: =SUM(AH32:AH37) -> 0 | AI31: =SUM(AI32:AI37) -> 0 | AJ31: =SUM(AK31:AQ31) -> 12 | AK31: =SUM(AK32:AK37) -> 12 | AL31: =SUM(AL32:AL37) -> 0 | AM31: =SUM(AM32:AM37) -> 0 | AN31: =SUM(AN32:AN37) -> 0 | AO31: =SUM(AO32:AO37) -> 0 | AP31: =SUM(AP32:AP37) -> 0 | AQ31: =SUM(AQ32:AQ37) -> 0
C32: 시청회계과 | D32: =SUM(E32:K32) -> 108 | E32: =COUNTIFS([1]DATA!$AA:$AA,[1]집계최종!$C5,[1]DATA!$E:$E,[1]집계최종!E$29) -> 20 | F32: =COUNTIFS([1]DATA!$AA:$AA,[1]집계최종!$C5,[1]DATA!$E:$E,[1]집계최종!F$29) -> 17 | G32: =COUNTIFS([1]DATA!$AA:$AA,[1]집계최종!$C5,[1]DATA!$E:$E,[1]집계최종!G$29) -> 50 | H32: =COUNTIFS([1]DATA!$AA:$AA,[1]집계최종!$C5,[1]DATA!$E:$E,[1]집계최종!H$29) -> 16 | I32: =COUNTIFS([1]DATA!$AA:$AA,[1]집계최종!$C5,[1]DATA!$E:$E,[1]집계최종!I$29) -> 5 | J32: =COUNTIFS([1]DATA!$AA:$AA,[1]집계최종!$C5,[1]DATA!$E:$E,[1]집계최종!J$29) -> 0 | K32: =COUNTIFS([1]DATA!$AA:$AA,[1]집계최종!$C5,[1]DATA!$E:$E,[1]집계최종!K$29) -> 0 | L32: =SUM(M32:S32) -> 92 | M32: =COUNTIFS([1]DATA!$AA:$AA,[1]집계최종!$C32,[1]DATA!$E:$E,[1]집계최종!E$29,[1]DATA!$AB:$AB,[1]집계최종!$N$28) -> 6 | N32: =COUNTIFS([1]DATA!$AA:$AA,[1]집계최종!$C32,[1]DATA!$E:$E,[1]집계최종!F$29,[1]DATA!$AB:$AB,[1]집계최종!$N$28) -> 17 | O32: =COUNTIFS([1]DATA!$AA:$AA,[1]집계최종!$C32,[1]DATA!$E:$E,[1]집계최종!G$29,[1]DATA!$AB:$AB,[1]집계최종!$N$28) -> 50 | P32: =COUNTIFS([1]DATA!$AA:$AA,[1]집계최종!$C32,[1]DATA!$E:$E,[1]집계최종!H$29,[1]DATA!$AB:$AB,[1]집계최종!$N$28) -> 16 | Q32: =COUNTIFS([1]DATA!$AA:$AA,[1]집계최종!$C32,[1]DATA!$E:$E,[1]집계최종!I$29,[1]DATA!$AB:$AB,[1]집계최종!$N$28) -> 3 | R32: =COUNTIFS([1]DATA!$AA:$AA,[1]집계최종!$C32,[1]DATA!$E:$E,[1]집계최종!J$29,[1]DATA!$AB:$AB,[1]집계최종!$N$28) -> 0 | S32: =COUNTIFS([1]DATA!$AA:$AA,[1]집계최종!$C32,[1]DATA!$E:$E,[1]집계최종!K$29,[1]DATA!$AB:$AB,[1]집계최종!$N$28) -> 0 | T32: =SUM(U32:AA32) -> 11 | U32: =COUNTIFS([1]DATA!$AA:$AA,[1]집계최종!$C32,[1]DATA!$E:$E,[1]집계최종!U$29,[1]DATA!$AB:$AB,[1]집계최종!$V$28) -> 9 | V32: =COUNTIFS([1]DATA!$AA:$AA,[1]집계최종!$C32,[1]DATA!$E:$E,[1]집계최종!V$29,[1]DATA!$AB:$AB,[1]집계최종!$V$28) -> 0 | W32: =COUNTIFS([1]DATA!$AA:$AA,[1]집계최종!$C32,[1]DATA!$E:$E,[1]집계최종!W$29,[1]DATA!$AB:$AB,[1]집계최종!$V$28) -> 0 | X32: =COUNTIFS([1]DATA!$AA:$AA,[1]집계최종!$C32,[1]DATA!$E:$E,[1]집계최종!X$29,[1]DATA!$AB:$AB,[1]집계최종!$V$28) -> 0 | Y32: =COUNTIFS([1]DATA!$AA:$AA,[1]집계최종!$C32,[1]DATA!$E:$E,[1]집계최종!Y$29,[1]DATA!$AB:$AB,[1]집계최종!$V$28) -> 2 | Z32: =COUNTIFS([1]DATA!$AA:$AA,[1]집계최종!$C32,[1]DATA!$E:$E,[1]집계최종!Z$29,[1]DATA!$AB:$AB,[1]집계최종!$V$28) -> 0 | AA32: =COUNTIFS([1]DATA!$AA:$AA,[1]집계최종!$C32,[1]DATA!$E:$E,[1]집계최종!AA$29,[1]DATA!$AB:$AB,[1]집계최종!$V$28) -> 0 | AB32: =SUM(AC32:AI32) -> 5 | AC32: =COUNTIFS([1]DATA!$AA:$AA,[1]집계최종!$C32,[1]DATA!$E:$E,[1]집계최종!AC$29,[1]DATA!$AB:$AB,[1]집계최종!$AD$28) -> 5 | AD32: =COUNTIFS([1]DATA!$AA:$AA,[1]집계최종!$C32,[1]DATA!$E:$E,[1]집계최종!AD$29,[1]DATA!$AB:$AB,[1]집계최종!$AD$28) -> 0 | AE32: =COUNTIFS([1]DATA!$AA:$AA,[1]집계최종!$C32,[1]DATA!$E:$E,[1]집계최종!AE$29,[1]DATA!$AB:$AB,[1]집계최종!$AD$28) -> 0 | AF32: =COUNTIFS([1]DATA!$AA:$AA,[1]집계최종!$C32,[1]DATA!$E:$E,[1]집계최종!AF$29,[1]DATA!$AB:$AB,[1]집계최종!$AD$28) -> 0 | AG32: =COUNTIFS([1]DATA!$AA:$AA,[1]집계최종!$C32,[1]DATA!$E:$E,[1]집계최종!AG$29,[1]DATA!$AB:$AB,[1]집계최종!$AD$28) -> 0 | AH32: =COUNTIFS([1]DATA!$AA:$AA,[1]집계최종!$C32,[1]DATA!$E:$E,[1]집계최종!AH$29,[1]DATA!$AB:$AB,[1]집계최종!$AD$28) -> 0 | AI32: =COUNTIFS([1]DATA!$AA:$AA,[1]집계최종!$C32,[1]DATA!$E:$E,[1]집계최종!AI$29,[1]DATA!$AB:$AB,[1]집계최종!$AD$28) -> 0 | AJ32: =SUM(AK32:AQ32) -> 0 | AK32: =COUNTIFS([1]DATA!$AA:$AA,[1]집계최종!$C32,[1]DATA!$E:$E,[1]집계최종!AK$29,[1]DATA!$AB:$AB,[1]집계최종!$AL$28) -> 0 | AL32: =COUNTIFS([1]DATA!$AA:$AA,[1]집계최종!$C32,[1]DATA!$E:$E,[1]집계최종!AL$29,[1]DATA!$AB:$AB,[1]집계최종!$AL$28) -> 0 | AM32: =COUNTIFS([1]DATA!$AA:$AA,[1]집계최종!$C32,[1]DATA!$E:$E,[1]집계최종!AM$29,[1]DATA!$AB:$AB,[1]집계최종!$AL$28) -> 0 | AN32: =COUNTIFS([1]DATA!$AA:$AA,[1]집계최종!$C32,[1]DATA!$E:$E,[1]집계최종!AN$29,[1]DATA!$AB:$AB,[1]집계최종!$AL$28) -> 0 | AO32: =COUNTIFS([1]DATA!$AA:$AA,[1]집계최종!$C32,[1]DATA!$E:$E,[1]집계최종!AO$29,[1]DATA!$AB:$AB,[1]집계최종!$AL$28) -> 0 | AP32: =COUNTIFS([1]DATA!$AA:$AA,[1]집계최종!$C32,[1]DATA!$E:$E,[1]집계최종!AP$29,[1]DATA!$AB:$AB,[1]집계최종!$AL$28) -> 0 | AQ32: =COUNTIFS([1]DATA!$AA:$AA,[1]집계최종!$C32,[1]DATA!$E:$E,[1]집계최종!AQ$29,[1]DATA!$AB:$AB,[1]집계최종!$AL$28) -> 0
C33: 시청노인복지과 | D33: =SUM(E33:K33) -> 3 | E33: =COUNTIFS([1]DATA!$AA:$AA,[1]집계최종!$C6,[1]DATA!$E:$E,[1]집계최종!E$29) -> 2 | F33: =COUNTIFS([1]DATA!$AA:$AA,[1]집계최종!$C6,[1]DATA!$E:$E,[1]집계최종!F$29) -> 1 | G33: =COUNTIFS([1]DATA!$AA:$AA,[1]집계최종!$C6,[1]DATA!$E:$E,[1]집계최종!G$29) -> 0 | H33: =COUNTIFS([1]DATA!$AA:$AA,[1]집계최종!$C6,[1]DATA!$E:$E,[1]집계최종!H$29) -> 0 | I33: =COUNTIFS([1]DATA!$AA:$AA,[1]집계최종!$C6,[1]DATA!$E:$E,[1]집계최종!I$29) -> 0 | J33: =COUNTIFS([1]DATA!$AA:$AA,[1]집계최종!$C6,[1]DATA!$E:$E,[1]집계최종!J$29) -> 0 | K33: =COUNTIFS([1]DATA!$AA:$AA,[1]집계최종!$C6,[1]DATA!$E:$E,[1]집계최종!K$29) -> 0 | L33: =SUM(M33:S33) -> 1 | M33: =COUNTIFS([1]DATA!$AA:$AA,[1]집계최종!$C33,[1]DATA!$E:$E,[1]집계최종!E$29,[1]DATA!$AB:$AB,[1]집계최종!$N$28) -> 0 | N33: =COUNTIFS([1]DATA!$AA:$AA,[1]집계최종!$C33,[1]DATA!$E:$E,[1]집계최종!F$29,[1]DATA!$AB:$AB,[1]집계최종!$N$28) -> 1 | O33: =COUNTIFS([1]DATA!$AA:$AA,[1]집계최종!$C33,[1]DATA!$E:$E,[1]집계최종!G$29,[1]DATA!$AB:$AB,[1]집계최종!$N$28) -> 0 | P33: =COUNTIFS([1]DATA!$AA:$AA,[1]집계최종!$C33,[1]DATA!$E:$E,[1]집계최종!H$29,[1]DATA!$AB:$AB,[1]집계최종!$N$28) -> 0 | Q33: =COUNTIFS([1]DATA!$AA:$AA,[1]집계최종!$C33,[1]DATA!$E:$E,[1]집계최종!I$29,[1]DATA!$AB:$AB,[1]집계최종!$N$28) -> 0 | R33: =COUNTIFS([1]DATA!$AA:$AA,[1]집계최종!$C33,[1]DATA!$E:$E,[1]집계최종!J$29,[1]DATA!$AB:$AB,[1]집계최종!$N$28) -> 0 | S33: =COUNTIFS([1]DATA!$AA:$AA,[1]집계최종!$C33,[1]DATA!$E:$E,[1]집계최종!K$29,[1]DATA!$AB:$AB,[1]집계최종!$N$28) -> 0 | T33: =SUM(U33:AA33) -> 2 | U33: =COUNTIFS([1]DATA!$AA:$AA,[1]집계최종!$C33,[1]DATA!$E:$E,[1]집계최종!U$29,[1]DATA!$AB:$AB,[1]집계최종!$V$28) -> 2 | V33: =COUNTIFS([1]DATA!$AA:$AA,[1]집계최종!$C33,[1]DATA!$E:$E,[1]집계최종!V$29,[1]DATA!$AB:$AB,[1]집계최종!$V$28) -> 0 | W33: =COUNTIFS([1]DATA!$AA:$AA,[1]집계최종!$C33,[1]DATA!$E:$E,[1]집계최종!W$29,[1]DATA!$AB:$AB,[1]집계최종!$V$28) -> 0 | X33: =COUNTIFS([1]DATA!$AA:$AA,[1]집계최종!$C33,[1]DATA!$E:$E,[1]집계최종!X$29,[1]DATA!$AB:$AB,[1]집계최종!$V$28) -> 0 | Y33: =COUNTIFS([1]DATA!$AA:$AA,[1]집계최종!$C33,[1]DATA!$E:$E,[1]집계최종!Y$29,[1]DATA!$AB:$AB,[1]집계최종!$V$28) -> 0 | Z33: =COUNTIFS([1]DATA!$AA:$AA,[1]집계최종!$C33,[1]DATA!$E:$E,[1]집계최종!Z$29,[1]DATA!$AB:$AB,[1]집계최종!$V$28) -> 0 | AA33: =COUNTIFS([1]DATA!$AA:$AA,[1]집계최종!$C33,[1]DATA!$E:$E,[1]집계최종!AA$29,[1]DATA!$AB:$AB,[1]집계최종!$V$28) -> 0 | AB33: =SUM(AC33:AI33) -> 0 | AC33: =COUNTIFS([1]DATA!$AA:$AA,[1]집계최종!$C33,[1]DATA!$E:$E,[1]집계최종!AC$29,[1]DATA!$AB:$AB,[1]집계최종!$AD$28) -> 0 | AD33: =COUNTIFS([1]DATA!$AA:$AA,[1]집계최종!$C33,[1]DATA!$E:$E,[1]집계최종!AD$29,[1]DATA!$AB:$AB,[1]집계최종!$AD$28) -> 0 | AE33: =COUNTIFS([1]DATA!$AA:$AA,[1]집계최종!$C33,[1]DATA!$E:$E,[1]집계최종!AE$29,[1]DATA!$AB:$AB,[1]집계최종!$AD$28) -> 0 | AF33: =COUNTIFS([1]DATA!$AA:$AA,[1]집계최종!$C33,[1]DATA!$E:$E,[1]집계최종!AF$29,[1]DATA!$AB:$AB,[1]집계최종!$AD$28) -> 0 | AG33: =COUNTIFS([1]DATA!$AA:$AA,[1]집계최종!$C33,[1]DATA!$E:$E,[1]집계최종!AG$29,[1]DATA!$AB:$AB,[1]집계최종!$AD$28) -> 0 | AH33: =COUNTIFS([1]DATA!$AA:$AA,[1]집계최종!$C33,[1]DATA!$E:$E,[1]집계최종!AH$29,[1]DATA!$AB:$AB,[1]집계최종!$AD$28) -> 0 | AI33: =COUNTIFS([1]DATA!$AA:$AA,[1]집계최종!$C33,[1]DATA!$E:$E,[1]집계최종!AI$29,[1]DATA!$AB:$AB,[1]집계최종!$AD$28) -> 0 | AJ33: =SUM(AK33:AQ33) -> 0 | AK33: =COUNTIFS([1]DATA!$AA:$AA,[1]집계최종!$C33,[1]DATA!$E:$E,[1]집계최종!AK$29,[1]DATA!$AB:$AB,[1]집계최종!$AL$28) -> 0 | AL33: =COUNTIFS([1]DATA!$AA:$AA,[1]집계최종!$C33,[1]DATA!$E:$E,[1]집계최종!AL$29,[1]DATA!$AB:$AB,[1]집계최종!$AL$28) -> 0 | AM33: =COUNTIFS([1]DATA!$AA:$AA,[1]집계최종!$C33,[1]DATA!$E:$E,[1]집계최종!AM$29,[1]DATA!$AB:$AB,[1]집계최종!$AL$28) -> 0 | AN33: =COUNTIFS([1]DATA!$AA:$AA,[1]집계최종!$C33,[1]DATA!$E:$E,[1]집계최종!AN$29,[1]DATA!$AB:$AB,[1]집계최종!$AL$28) -> 0 | AO33: =COUNTIFS([1]DATA!$AA:$AA,[1]집계최종!$C33,[1]DATA!$E:$E,[1]집계최종!AO$29,[1]DATA!$AB:$AB,[1]집계최종!$AL$28) -> 0 | AP33: =COUNTIFS([1]DATA!$AA:$AA,[1]집계최종!$C33,[1]DATA!$E:$E,[1]집계최종!AP$29,[1]DATA!$AB:$AB,[1]집계최종!$AL$28) -> 0 | AQ33: =COUNTIFS([1]DATA!$AA:$AA,[1]집계최종!$C33,[1]DATA!$E:$E,[1]집계최종!AQ$29,[1]DATA!$AB:$AB,[1]집계최종!$AL$28) -> 0
C34: 시청여성가족과 | D34: =SUM(E34:K34) -> 1 | E34: =COUNTIFS([1]DATA!$AA:$AA,[1]집계최종!$C7,[1]DATA!$E:$E,[1]집계최종!E$29) -> 1 | F34: =COUNTIFS([1]DATA!$AA:$AA,[1]집계최종!$C7,[1]DATA!$E:$E,[1]집계최종!F$29) -> 0 | G34: =COUNTIFS([1]DATA!$AA:$AA,[1]집계최종!$C7,[1]DATA!$E:$E,[1]집계최종!G$29) -> 0 | H34: =COUNTIFS([1]DATA!$AA:$AA,[1]집계최종!$C7,[1]DATA!$E:$E,[1]집계최종!H$29) -> 0 | I34: =COUNTIFS([1]DATA!$AA:$AA,[1]집계최종!$C7,[1]DATA!$E:$E,[1]집계최종!I$29) -> 0 | J34: =COUNTIFS([1]DATA!$AA:$AA,[1]집계최종!$C7,[1]DATA!$E:$E,[1]집계최종!J$29) -> 0 | K34: =COUNTIFS([1]DATA!$AA:$AA,[1]집계최종!$C7,[1]DATA!$E:$E,[1]집계최종!K$29) -> 0 | L34: =SUM(M34:S34) -> 0 | M34: =COUNTIFS([1]DATA!$AA:$AA,[1]집계최종!$C34,[1]DATA!$E:$E,[1]집계최종!E$29,[1]DATA!$AB:$AB,[1]집계최종!$N$28) -> 0 | N34: =COUNTIFS([1]DATA!$AA:$AA,[1]집계최종!$C34,[1]DATA!$E:$E,[1]집계최종!F$29,[1]DATA!$AB:$AB,[1]집계최종!$N$28) -> 0 | O34: =COUNTIFS([1]DATA!$AA:$AA,[1]집계최종!$C34,[1]DATA!$E:$E,[1]집계최종!G$29,[1]DATA!$AB:$AB,[1]집계최종!$N$28) -> 0 | P34: =COUNTIFS([1]DATA!$AA:$AA,[1]집계최종!$C34,[1]DATA!$E:$E,[1]집계최종!H$29,[1]DATA!$AB:$AB,[1]집계최종!$N$28) -> 0 | Q34: =COUNTIFS([1]DATA!$AA:$AA,[1]집계최종!$C34,[1]DATA!$E:$E,[1]집계최종!I$29,[1]DATA!$AB:$AB,[1]집계최종!$N$28) -> 0 | R34: =COUNTIFS([1]DATA!$AA:$AA,[1]집계최종!$C34,[1]DATA!$E:$E,[1]집계최종!J$29,[1]DATA!$AB:$AB,[1]집계최종!$N$28) -> 0 | S34: =COUNTIFS([1]DATA!$AA:$AA,[1]집계최종!$C34,[1]DATA!$E:$E,[1]집계최종!K$29,[1]DATA!$AB:$AB,[1]집계최종!$N$28) -> 0 | T34: =SUM(U34:AA34) -> 1 | U34: =COUNTIFS([1]DATA!$AA:$AA,[1]집계최종!$C34,[1]DATA!$E:$E,[1]집계최종!U$29,[1]DATA!$AB:$AB,[1]집계최종!$V$28) -> 1 | V34: =COUNTIFS([1]DATA!$AA:$AA,[1]집계최종!$C34,[1]DATA!$E:$E,[1]집계최종!V$29,[1]DATA!$AB:$AB,[1]집계최종!$V$28) -> 0 | W34: =COUNTIFS([1]DATA!$AA:$AA,[1]집계최종!$C34,[1]DATA!$E:$E,[1]집계최종!W$29,[1]DATA!$AB:$AB,[1]집계최종!$V$28) -> 0 | X34: =COUNTIFS([1]DATA!$AA:$AA,[1]집계최종!$C34,[1]DATA!$E:$E,[1]집계최종!X$29,[1]DATA!$AB:$AB,[1]집계최종!$V$28) -> 0 | Y34: =COUNTIFS([1]DATA!$AA:$AA,[1]집계최종!$C34,[1]DATA!$E:$E,[1]집계최종!Y$29,[1]DATA!$AB:$AB,[1]집계최종!$V$28) -> 0 | Z34: =COUNTIFS([1]DATA!$AA:$AA,[1]집계최종!$C34,[1]DATA!$E:$E,[1]집계최종!Z$29,[1]DATA!$AB:$AB,[1]집계최종!$V$28) -> 0 | AA34: =COUNTIFS([1]DATA!$AA:$AA,[1]집계최종!$C34,[1]DATA!$E:$E,[1]집계최종!AA$29,[1]DATA!$AB:$AB,[1]집계최종!$V$28) -> 0 | AB34: =SUM(AC34:AI34) -> 0 | AC34: =COUNTIFS([1]DATA!$AA:$AA,[1]집계최종!$C34,[1]DATA!$E:$E,[1]집계최종!AC$29,[1]DATA!$AB:$AB,[1]집계최종!$AD$28) -> 0 | AD34: =COUNTIFS([1]DATA!$AA:$AA,[1]집계최종!$C34,[1]DATA!$E:$E,[1]집계최종!AD$29,[1]DATA!$AB:$AB,[1]집계최종!$AD$28) -> 0 | AE34: =COUNTIFS([1]DATA!$AA:$AA,[1]집계최종!$C34,[1]DATA!$E:$E,[1]집계최종!AE$29,[1]DATA!$AB:$AB,[1]집계최종!$AD$28) -> 0 | AF34: =COUNTIFS([1]DATA!$AA:$AA,[1]집계최종!$C34,[1]DATA!$E:$E,[1]집계최종!AF$29,[1]DATA!$AB:$AB,[1]집계최종!$AD$28) -> 0 | AG34: =COUNTIFS([1]DATA!$AA:$AA,[1]집계최종!$C34,[1]DATA!$E:$E,[1]집계최종!AG$29,[1]DATA!$AB:$AB,[1]집계최종!$AD$28) -> 0 | AH34: =COUNTIFS([1]DATA!$AA:$AA,[1]집계최종!$C34,[1]DATA!$E:$E,[1]집계최종!AH$29,[1]DATA!$AB:$AB,[1]집계최종!$AD$28) -> 0 | AI34: =COUNTIFS([1]DATA!$AA:$AA,[1]집계최종!$C34,[1]DATA!$E:$E,[1]집계최종!AI$29,[1]DATA!$AB:$AB,[1]집계최종!$AD$28) -> 0 | AJ34: =SUM(AK34:AQ34) -> 0 | AK34: =COUNTIFS([1]DATA!$AA:$AA,[1]집계최종!$C34,[1]DATA!$E:$E,[1]집계최종!AK$29,[1]DATA!$AB:$AB,[1]집계최종!$AL$28) -> 0 | AL34: =COUNTIFS([1]DATA!$AA:$AA,[1]집계최종!$C34,[1]DATA!$E:$E,[1]집계최종!AL$29,[1]DATA!$AB:$AB,[1]집계최종!$AL$28) -> 0 | AM34: =COUNTIFS([1]DATA!$AA:$AA,[1]집계최종!$C34,[1]DATA!$E:$E,[1]집계최종!AM$29,[1]DATA!$AB:$AB,[1]집계최종!$AL$28) -> 0 | AN34: =COUNTIFS([1]DATA!$AA:$AA,[1]집계최종!$C34,[1]DATA!$E:$E,[1]집계최종!AN$29,[1]DATA!$AB:$AB,[1]집계최종!$AL$28) -> 0 | AO34: =COUNTIFS([1]DATA!$AA:$AA,[1]집계최종!$C34,[1]DATA!$E:$E,[1]집계최종!AO$29,[1]DATA!$AB:$AB,[1]집계최종!$AL$28) -> 0 | AP34: =COUNTIFS([1]DATA!$AA:$AA,[1]집계최종!$C34,[1]DATA!$E:$E,[1]집계최종!AP$29,[1]DATA!$AB:$AB,[1]집계최종!$AL$28) -> 0 | AQ34: =COUNTIFS([1]DATA!$AA:$AA,[1]집계최종!$C34,[1]DATA!$E:$E,[1]집계최종!AQ$29,[1]DATA!$AB:$AB,[1]집계최종!$AL$28) -> 0
C35: 시청아동보육과 | D35: =SUM(E35:K35) -> 1 | E35: =COUNTIFS([1]DATA!$AA:$AA,[1]집계최종!$C8,[1]DATA!$E:$E,[1]집계최종!E$29) -> 0 | F35: =COUNTIFS([1]DATA!$AA:$AA,[1]집계최종!$C8,[1]DATA!$E:$E,[1]집계최종!F$29) -> 0 | G35: =COUNTIFS([1]DATA!$AA:$AA,[1]집계최종!$C8,[1]DATA!$E:$E,[1]집계최종!G$29) -> 1 | H35: =COUNTIFS([1]DATA!$AA:$AA,[1]집계최종!$C8,[1]DATA!$E:$E,[1]집계최종!H$29) -> 0 | I35: =COUNTIFS([1]DATA!$AA:$AA,[1]집계최종!$C8,[1]DATA!$E:$E,[1]집계최종!I$29) -> 0 | J35: =COUNTIFS([1]DATA!$AA:$AA,[1]집계최종!$C8,[1]DATA!$E:$E,[1]집계최종!J$29) -> 0 | K35: =COUNTIFS([1]DATA!$AA:$AA,[1]집계최종!$C8,[1]DATA!$E:$E,[1]집계최종!K$29) -> 0 | L35: =SUM(M35:S35) -> 1 | M35: =COUNTIFS([1]DATA!$AA:$AA,[1]집계최종!$C35,[1]DATA!$E:$E,[1]집계최종!E$29,[1]DATA!$AB:$AB,[1]집계최종!$N$28) -> 0 | N35: =COUNTIFS([1]DATA!$AA:$AA,[1]집계최종!$C35,[1]DATA!$E:$E,[1]집계최종!F$29,[1]DATA!$AB:$AB,[1]집계최종!$N$28) -> 0 | O35: =COUNTIFS([1]DATA!$AA:$AA,[1]집계최종!$C35,[1]DATA!$E:$E,[1]집계최종!G$29,[1]DATA!$AB:$AB,[1]집계최종!$N$28) -> 1 | P35: =COUNTIFS([1]DATA!$AA:$AA,[1]집계최종!$C35,[1]DATA!$E:$E,[1]집계최종!H$29,[1]DATA!$AB:$AB,[1]집계최종!$N$28) -> 0 | Q35: =COUNTIFS([1]DATA!$AA:$AA,[1]집계최종!$C35,[1]DATA!$E:$E,[1]집계최종!I$29,[1]DATA!$AB:$AB,[1]집계최종!$N$28) -> 0 | R35: =COUNTIFS([1]DATA!$AA:$AA,[1]집계최종!$C35,[1]DATA!$E:$E,[1]집계최종!J$29,[1]DATA!$AB:$AB,[1]집계최종!$N$28) -> 0 | S35: =COUNTIFS([1]DATA!$AA:$AA,[1]집계최종!$C35,[1]DATA!$E:$E,[1]집계최종!K$29,[1]DATA!$AB:$AB,[1]집계최종!$N$28) -> 0 | T35: =SUM(U35:AA35) -> 0 | U35: =COUNTIFS([1]DATA!$AA:$AA,[1]집계최종!$C35,[1]DATA!$E:$E,[1]집계최종!U$29,[1]DATA!$AB:$AB,[1]집계최종!$V$28) -> 0 | V35: =COUNTIFS([1]DATA!$AA:$AA,[1]집계최종!$C35,[1]DATA!$E:$E,[1]집계최종!V$29,[1]DATA!$AB:$AB,[1]집계최종!$V$28) -> 0 | W35: =COUNTIFS([1]DATA!$AA:$AA,[1]집계최종!$C35,[1]DATA!$E:$E,[1]집계최종!W$29,[1]DATA!$AB:$AB,[1]집계최종!$V$28) -> 0 | X35: =COUNTIFS([1]DATA!$AA:$AA,[1]집계최종!$C35,[1]DATA!$E:$E,[1]집계최종!X$29,[1]DATA!$AB:$AB,[1]집계최종!$V$28) -> 0 | Y35: =COUNTIFS([1]DATA!$AA:$AA,[1]집계최종!$C35,[1]DATA!$E:$E,[1]집계최종!Y$29,[1]DATA!$AB:$AB,[1]집계최종!$V$28) -> 0 | Z35: =COUNTIFS([1]DATA!$AA:$AA,[1]집계최종!$C35,[1]DATA!$E:$E,[1]집계최종!Z$29,[1]DATA!$AB:$AB,[1]집계최종!$V$28) -> 0 | AA35: =COUNTIFS([1]DATA!$AA:$AA,[1]집계최종!$C35,[1]DATA!$E:$E,[1]집계최종!AA$29,[1]DATA!$AB:$AB,[1]집계최종!$V$28) -> 0 | AB35: =SUM(AC35:AI35) -> 0 | AC35: =COUNTIFS([1]DATA!$AA:$AA,[1]집계최종!$C35,[1]DATA!$E:$E,[1]집계최종!AC$29,[1]DATA!$AB:$AB,[1]집계최종!$AD$28) -> 0 | AD35: =COUNTIFS([1]DATA!$AA:$AA,[1]집계최종!$C35,[1]DATA!$E:$E,[1]집계최종!AD$29,[1]DATA!$AB:$AB,[1]집계최종!$AD$28) -> 0 | AE35: =COUNTIFS([1]DATA!$AA:$AA,[1]집계최종!$C35,[1]DATA!$E:$E,[1]집계최종!AE$29,[1]DATA!$AB:$AB,[1]집계최종!$AD$28) -> 0 | AF35: =COUNTIFS([1]DATA!$AA:$AA,[1]집계최종!$C35,[1]DATA!$E:$E,[1]집계최종!AF$29,[1]DATA!$AB:$AB,[1]집계최종!$AD$28) -> 0 | AG35: =COUNTIFS([1]DATA!$AA:$AA,[1]집계최종!$C35,[1]DATA!$E:$E,[1]집계최종!AG$29,[1]DATA!$AB:$AB,[1]집계최종!$AD$28) -> 0 | AH35: =COUNTIFS([1]DATA!$AA:$AA,[1]집계최종!$C35,[1]DATA!$E:$E,[1]집계최종!AH$29,[1]DATA!$AB:$AB,[1]집계최종!$AD$28) -> 0 | AI35: =COUNTIFS([1]DATA!$AA:$AA,[1]집계최종!$C35,[1]DATA!$E:$E,[1]집계최종!AI$29,[1]DATA!$AB:$AB,[1]집계최종!$AD$28) -> 0 | AJ35: =SUM(AK35:AQ35) -> 0 | AK35: =COUNTIFS([1]DATA!$AA:$AA,[1]집계최종!$C35,[1]DATA!$E:$E,[1]집계최종!AK$29,[1]DATA!$AB:$AB,[1]집계최종!$AL$28) -> 0 | AL35: =COUNTIFS([1]DATA!$AA:$AA,[1]집계최종!$C35,[1]DATA!$E:$E,[1]집계최종!AL$29,[1]DATA!$AB:$AB,[1]집계최종!$AL$28) -> 0 | AM35: =COUNTIFS([1]DATA!$AA:$AA,[1]집계최종!$C35,[1]DATA!$E:$E,[1]집계최종!AM$29,[1]DATA!$AB:$AB,[1]집계최종!$AL$28) -> 0 | AN35: =COUNTIFS([1]DATA!$AA:$AA,[1]집계최종!$C35,[1]DATA!$E:$E,[1]집계최종!AN$29,[1]DATA!$AB:$AB,[1]집계최종!$AL$28) -> 0 | AO35: =COUNTIFS([1]DATA!$AA:$AA,[1]집계최종!$C35,[1]DATA!$E:$E,[1]집계최종!AO$29,[1]DATA!$AB:$AB,[1]집계최종!$AL$28) -> 0 | AP35: =COUNTIFS([1]DATA!$AA:$AA,[1]집계최종!$C35,[1]DATA!$E:$E,[1]집계최종!AP$29,[1]DATA!$AB:$AB,[1]집계최종!$AL$28) -> 0 | AQ35: =COUNTIFS([1]DATA!$AA:$AA,[1]집계최종!$C35,[1]DATA!$E:$E,[1]집계최종!AQ$29,[1]DATA!$AB:$AB,[1]집계최종!$AL$28) -> 0
C36: 시청체육진흥과 | D36: =SUM(E36:K36) -> 14 | E36: =COUNTIFS([1]DATA!$AA:$AA,[1]집계최종!$C9,[1]DATA!$E:$E,[1]집계최종!E$29) -> 12 | F36: =COUNTIFS([1]DATA!$AA:$AA,[1]집계최종!$C9,[1]DATA!$E:$E,[1]집계최종!F$29) -> 0 | G36: =COUNTIFS([1]DATA!$AA:$AA,[1]집계최종!$C9,[1]DATA!$E:$E,[1]집계최종!G$29) -> 1 | H36: =COUNTIFS([1]DATA!$AA:$AA,[1]집계최종!$C9,[1]DATA!$E:$E,[1]집계최종!H$29) -> 1 | I36: =COUNTIFS([1]DATA!$AA:$AA,[1]집계최종!$C9,[1]DATA!$E:$E,[1]집계최종!I$29) -> 0 | J36: =COUNTIFS([1]DATA!$AA:$AA,[1]집계최종!$C9,[1]DATA!$E:$E,[1]집계최종!J$29) -> 0 | K36: =COUNTIFS([1]DATA!$AA:$AA,[1]집계최종!$C9,[1]DATA!$E:$E,[1]집계최종!K$29) -> 0 | L36: =SUM(M36:S36) -> 5 | M36: =COUNTIFS([1]DATA!$AA:$AA,[1]집계최종!$C36,[1]DATA!$E:$E,[1]집계최종!E$29,[1]DATA!$AB:$AB,[1]집계최종!$N$28) -> 4 | N36: =COUNTIFS([1]DATA!$AA:$AA,[1]집계최종!$C36,[1]DATA!$E:$E,[1]집계최종!F$29,[1]DATA!$AB:$AB,[1]집계최종!$N$28) -> 0 | O36: =COUNTIFS([1]DATA!$AA:$AA,[1]집계최종!$C36,[1]DATA!$E:$E,[1]집계최종!G$29,[1]DATA!$AB:$AB,[1]집계최종!$N$28) -> 1 | P36: =COUNTIFS([1]DATA!$AA:$AA,[1]집계최종!$C36,[1]DATA!$E:$E,[1]집계최종!H$29,[1]DATA!$AB:$AB,[1]집계최종!$N$28) -> 0 | Q36: =COUNTIFS([1]DATA!$AA:$AA,[1]집계최종!$C36,[1]DATA!$E:$E,[1]집계최종!I$29,[1]DATA!$AB:$AB,[1]집계최종!$N$28) -> 0 | R36: =COUNTIFS([1]DATA!$AA:$AA,[1]집계최종!$C36,[1]DATA!$E:$E,[1]집계최종!J$29,[1]DATA!$AB:$AB,[1]집계최종!$N$28) -> 0 | S36: =COUNTIFS([1]DATA!$AA:$AA,[1]집계최종!$C36,[1]DATA!$E:$E,[1]집계최종!K$29,[1]DATA!$AB:$AB,[1]집계최종!$N$28) -> 0 | T36: =SUM(U36:AA36) -> 9 | U36: =COUNTIFS([1]DATA!$AA:$AA,[1]집계최종!$C36,[1]DATA!$E:$E,[1]집계최종!U$29,[1]DATA!$AB:$AB,[1]집계최종!$V$28) -> 8 | V36: =COUNTIFS([1]DATA!$AA:$AA,[1]집계최종!$C36,[1]DATA!$E:$E,[1]집계최종!V$29,[1]DATA!$AB:$AB,[1]집계최종!$V$28) -> 0 | W36: =COUNTIFS([1]DATA!$AA:$AA,[1]집계최종!$C36,[1]DATA!$E:$E,[1]집계최종!W$29,[1]DATA!$AB:$AB,[1]집계최종!$V$28) -> 0 | X36: =COUNTIFS([1]DATA!$AA:$AA,[1]집계최종!$C36,[1]DATA!$E:$E,[1]집계최종!X$29,[1]DATA!$AB:$AB,[1]집계최종!$V$28) -> 1 | Y36: =COUNTIFS([1]DATA!$AA:$AA,[1]집계최종!$C36,[1]DATA!$E:$E,[1]집계최종!Y$29,[1]DATA!$AB:$AB,[1]집계최종!$V$28) -> 0 | Z36: =COUNTIFS([1]DATA!$AA:$AA,[1]집계최종!$C36,[1]DATA!$E:$E,[1]집계최종!Z$29,[1]DATA!$AB:$AB,[1]집계최종!$V$28) -> 0 | AA36: =COUNTIFS([1]DATA!$AA:$AA,[1]집계최종!$C36,[1]DATA!$E:$E,[1]집계최종!AA$29,[1]DATA!$AB:$AB,[1]집계최종!$V$28) -> 0 | AB36: =SUM(AC36:AI36) -> 0 | AC36: =COUNTIFS([1]DATA!$AA:$AA,[1]집계최종!$C36,[1]DATA!$E:$E,[1]집계최종!AC$29,[1]DATA!$AB:$AB,[1]집계최종!$AD$28) -> 0 | AD36: =COUNTIFS([1]DATA!$AA:$AA,[1]집계최종!$C36,[1]DATA!$E:$E,[1]집계최종!AD$29,[1]DATA!$AB:$AB,[1]집계최종!$AD$28) -> 0 | AE36: =COUNTIFS([1]DATA!$AA:$AA,[1]집계최종!$C36,[1]DATA!$E:$E,[1]집계최종!AE$29,[1]DATA!$AB:$AB,[1]집계최종!$AD$28) -> 0 | AF36: =COUNTIFS([1]DATA!$AA:$AA,[1]집계최종!$C36,[1]DATA!$E:$E,[1]집계최종!AF$29,[1]DATA!$AB:$AB,[1]집계최종!$AD$28) -> 0 | AG36: =COUNTIFS([1]DATA!$AA:$AA,[1]집계최종!$C36,[1]DATA!$E:$E,[1]집계최종!AG$29,[1]DATA!$AB:$AB,[1]집계최종!$AD$28) -> 0 | AH36: =COUNTIFS([1]DATA!$AA:$AA,[1]집계최종!$C36,[1]DATA!$E:$E,[1]집계최종!AH$29,[1]DATA!$AB:$AB,[1]집계최종!$AD$28) -> 0 | AI36: =COUNTIFS([1]DATA!$AA:$AA,[1]집계최종!$C36,[1]DATA!$E:$E,[1]집계최종!AI$29,[1]DATA!$AB:$AB,[1]집계최종!$AD$28) -> 0 | AJ36: =SUM(AK36:AQ36) -> 0 | AK36: =COUNTIFS([1]DATA!$AA:$AA,[1]집계최종!$C36,[1]DATA!$E:$E,[1]집계최종!AK$29,[1]DATA!$AB:$AB,[1]집계최종!$AL$28) -> 0 | AL36: =COUNTIFS([1]DATA!$AA:$AA,[1]집계최종!$C36,[1]DATA!$E:$E,[1]집계최종!AL$29,[1]DATA!$AB:$AB,[1]집계최종!$AL$28) -> 0 | AM36: =COUNTIFS([1]DATA!$AA:$AA,[1]집계최종!$C36,[1]DATA!$E:$E,[1]집계최종!AM$29,[1]DATA!$AB:$AB,[1]집계최종!$AL$28) -> 0 | AN36: =COUNTIFS([1]DATA!$AA:$AA,[1]집계최종!$C36,[1]DATA!$E:$E,[1]집계최종!AN$29,[1]DATA!$AB:$AB,[1]집계최종!$AL$28) -> 0 | AO36: =COUNTIFS([1]DATA!$AA:$AA,[1]집계최종!$C36,[1]DATA!$E:$E,[1]집계최종!AO$29,[1]DATA!$AB:$AB,[1]집계최종!$AL$28) -> 0 | AP36: =COUNTIFS([1]DATA!$AA:$AA,[1]집계최종!$C36,[1]DATA!$E:$E,[1]집계최종!AP$29,[1]DATA!$AB:$AB,[1]집계최종!$AL$28) -> 0 | AQ36: =COUNTIFS([1]DATA!$AA:$AA,[1]집계최종!$C36,[1]DATA!$E:$E,[1]집계최종!AQ$29,[1]DATA!$AB:$AB,[1]집계최종!$AL$28) -> 0
C37: 시청자원순환과 | D37: =SUM(E37:K37) -> 22 | E37: =COUNTIFS([1]DATA!$AA:$AA,[1]집계최종!$C10,[1]DATA!$E:$E,[1]집계최종!E$29) -> 19 | F37: =COUNTIFS([1]DATA!$AA:$AA,[1]집계최종!$C10,[1]DATA!$E:$E,[1]집계최종!F$29) -> 0 | G37: =COUNTIFS([1]DATA!$AA:$AA,[1]집계최종!$C10,[1]DATA!$E:$E,[1]집계최종!G$29) -> 0 | H37: =COUNTIFS([1]DATA!$AA:$AA,[1]집계최종!$C10,[1]DATA!$E:$E,[1]집계최종!H$29) -> 1 | I37: =COUNTIFS([1]DATA!$AA:$AA,[1]집계최종!$C10,[1]DATA!$E:$E,[1]집계최종!I$29) -> 2 | J37: =COUNTIFS([1]DATA!$AA:$AA,[1]집계최종!$C10,[1]DATA!$E:$E,[1]집계최종!J$29) -> 0 | K37: =COUNTIFS([1]DATA!$AA:$AA,[1]집계최종!$C10,[1]DATA!$E:$E,[1]집계최종!K$29) -> 0 | L37: =SUM(M37:S37) -> 3 | M37: =COUNTIFS([1]DATA!$AA:$AA,[1]집계최종!$C37,[1]DATA!$E:$E,[1]집계최종!E$29,[1]DATA!$AB:$AB,[1]집계최종!$N$28) -> 0 | N37: =COUNTIFS([1]DATA!$AA:$AA,[1]집계최종!$C37,[1]DATA!$E:$E,[1]집계최종!F$29,[1]DATA!$AB:$AB,[1]집계최종!$N$28) -> 0 | O37: =COUNTIFS([1]DATA!$AA:$AA,[1]집계최종!$C37,[1]DATA!$E:$E,[1]집계최종!G$29,[1]DATA!$AB:$AB,[1]집계최종!$N$28) -> 0 | P37: =COUNTIFS([1]DATA!$AA:$AA,[1]집계최종!$C37,[1]DATA!$E:$E,[1]집계최종!H$29,[1]DATA!$AB:$AB,[1]집계최종!$N$28) -> 1 | Q37: =COUNTIFS([1]DATA!$AA:$AA,[1]집계최종!$C37,[1]DATA!$E:$E,[1]집계최종!I$29,[1]DATA!$AB:$AB,[1]집계최종!$N$28) -> 2 | R37: =COUNTIFS([1]DATA!$AA:$AA,[1]집계최종!$C37,[1]DATA!$E:$E,[1]집계최종!J$29,[1]DATA!$AB:$AB,[1]집계최종!$N$28) -> 0 | S37: =COUNTIFS([1]DATA!$AA:$AA,[1]집계최종!$C37,[1]DATA!$E:$E,[1]집계최종!K$29,[1]DATA!$AB:$AB,[1]집계최종!$N$28) -> 0 | T37: =SUM(U37:AA37) -> 0 | U37: =COUNTIFS([1]DATA!$AA:$AA,[1]집계최종!$C37,[1]DATA!$E:$E,[1]집계최종!U$29,[1]DATA!$AB:$AB,[1]집계최종!$V$28) -> 0 | V37: =COUNTIFS([1]DATA!$AA:$AA,[1]집계최종!$C37,[1]DATA!$E:$E,[1]집계최종!V$29,[1]DATA!$AB:$AB,[1]집계최종!$V$28) -> 0 | W37: =COUNTIFS([1]DATA!$AA:$AA,[1]집계최종!$C37,[1]DATA!$E:$E,[1]집계최종!W$29,[1]DATA!$AB:$AB,[1]집계최종!$V$28) -> 0 | X37: =COUNTIFS([1]DATA!$AA:$AA,[1]집계최종!$C37,[1]DATA!$E:$E,[1]집계최종!X$29,[1]DATA!$AB:$AB,[1]집계최종!$V$28) -> 0 | Y37: =COUNTIFS([1]DATA!$AA:$AA,[1]집계최종!$C37,[1]DATA!$E:$E,[1]집계최종!Y$29,[1]DATA!$AB:$AB,[1]집계최종!$V$28) -> 0 | Z37: =COUNTIFS([1]DATA!$AA:$AA,[1]집계최종!$C37,[1]DATA!$E:$E,[1]집계최종!Z$29,[1]DATA!$AB:$AB,[1]집계최종!$V$28) -> 0 | AA37: =COUNTIFS([1]DATA!$AA:$AA,[1]집계최종!$C37,[1]DATA!$E:$E,[1]집계최종!AA$29,[1]DATA!$AB:$AB,[1]집계최종!$V$28) -> 0 | AB37: =SUM(AC37:AI37) -> 7 | AC37: =COUNTIFS([1]DATA!$AA:$AA,[1]집계최종!$C37,[1]DATA!$E:$E,[1]집계최종!AC$29,[1]DATA!$AB:$AB,[1]집계최종!$AD$28) -> 7 | AD37: =COUNTIFS([1]DATA!$AA:$AA,[1]집계최종!$C37,[1]DATA!$E:$E,[1]집계최종!AD$29,[1]DATA!$AB:$AB,[1]집계최종!$AD$28) -> 0 | AE37: =COUNTIFS([1]DATA!$AA:$AA,[1]집계최종!$C37,[1]DATA!$E:$E,[1]집계최종!AE$29,[1]DATA!$AB:$AB,[1]집계최종!$AD$28) -> 0 | AF37: =COUNTIFS([1]DATA!$AA:$AA,[1]집계최종!$C37,[1]DATA!$E:$E,[1]집계최종!AF$29,[1]DATA!$AB:$AB,[1]집계최종!$AD$28) -> 0 | AG37: =COUNTIFS([1]DATA!$AA:$AA,[1]집계최종!$C37,[1]DATA!$E:$E,[1]집계최종!AG$29,[1]DATA!$AB:$AB,[1]집계최종!$AD$28) -> 0 | AH37: =COUNTIFS([1]DATA!$AA:$AA,[1]집계최종!$C37,[1]DATA!$E:$E,[1]집계최종!AH$29,[1]DATA!$AB:$AB,[1]집계최종!$AD$28) -> 0 | AI37: =COUNTIFS([1]DATA!$AA:$AA,[1]집계최종!$C37,[1]DATA!$E:$E,[1]집계최종!AI$29,[1]DATA!$AB:$AB,[1]집계최종!$AD$28) -> 0 | AJ37: =SUM(AK37:AQ37) -> 12 | AK37: =COUNTIFS([1]DATA!$AA:$AA,[1]집계최종!$C37,[1]DATA!$E:$E,[1]집계최종!AK$29,[1]DATA!$AB:$AB,[1]집계최종!$AL$28) -> 12 | AL37: =COUNTIFS([1]DATA!$AA:$AA,[1]집계최종!$C37,[1]DATA!$E:$E,[1]집계최종!AL$29,[1]DATA!$AB:$AB,[1]집계최종!$AL$28) -> 0 | AM37: =COUNTIFS([1]DATA!$AA:$AA,[1]집계최종!$C37,[1]DATA!$E:$E,[1]집계최종!AM$29,[1]DATA!$AB:$AB,[1]집계최종!$AL$28) -> 0 | AN37: =COUNTIFS([1]DATA!$AA:$AA,[1]집계최종!$C37,[1]DATA!$E:$E,[1]집계최종!AN$29,[1]DATA!$AB:$AB,[1]집계최종!$AL$28) -> 0 | AO37: =COUNTIFS([1]DATA!$AA:$AA,[1]집계최종!$C37,[1]DATA!$E:$E,[1]집계최종!AO$29,[1]DATA!$AB:$AB,[1]집계최종!$AL$28) -> 0 | AP37: =COUNTIFS([1]DATA!$AA:$AA,[1]집계최종!$C37,[1]DATA!$E:$E,[1]집계최종!AP$29,[1]DATA!$AB:$AB,[1]집계최종!$AL$28) -> 0 | AQ37: =COUNTIFS([1]DATA!$AA:$AA,[1]집계최종!$C37,[1]DATA!$E:$E,[1]집계최종!AQ$29,[1]DATA!$AB:$AB,[1]집계최종!$AL$28) -> 0
B38: 의회사무국 | C38: 의회사무국 | D38: =SUM(E38:K38) -> 6 | E38: =COUNTIFS([1]DATA!$AA:$AA,[1]집계최종!$B11,[1]DATA!$E:$E,[1]집계최종!E$29) -> 3 | F38: =COUNTIFS([1]DATA!$AA:$AA,[1]집계최종!$B11,[1]DATA!$E:$E,[1]집계최종!F$29) -> 2 | G38: =COUNTIFS([1]DATA!$AA:$AA,[1]집계최종!$B11,[1]DATA!$E:$E,[1]집계최종!G$29) -> 1 | H38: =COUNTIFS([1]DATA!$AA:$AA,[1]집계최종!$B11,[1]DATA!$E:$E,[1]집계최종!H$29) -> 0 | I38: =COUNTIFS([1]DATA!$AA:$AA,[1]집계최종!$B11,[1]DATA!$E:$E,[1]집계최종!I$29) -> 0 | J38: =COUNTIFS([1]DATA!$AA:$AA,[1]집계최종!$B11,[1]DATA!$E:$E,[1]집계최종!J$29) -> 0 | K38: =COUNTIFS([1]DATA!$AA:$AA,[1]집계최종!$B11,[1]DATA!$E:$E,[1]집계최종!K$29) -> 0 | L38: =SUM(M38:S38) -> 4 | M38: =COUNTIFS([1]DATA!$AA:$AA,[1]집계최종!$B38,[1]DATA!$E:$E,[1]집계최종!E$29,[1]DATA!$AB:$AB,[1]집계최종!$N$28) -> 1 | N38: =COUNTIFS([1]DATA!$AA:$AA,[1]집계최종!$B38,[1]DATA!$E:$E,[1]집계최종!F$29,[1]DATA!$AB:$AB,[1]집계최종!$N$28) -> 2 | O38: =COUNTIFS([1]DATA!$AA:$AA,[1]집계최종!$B38,[1]DATA!$E:$E,[1]집계최종!G$29,[1]DATA!$AB:$AB,[1]집계최종!$N$28) -> 1 | P38: =COUNTIFS([1]DATA!$AA:$AA,[1]집계최종!$B38,[1]DATA!$E:$E,[1]집계최종!H$29,[1]DATA!$AB:$AB,[1]집계최종!$N$28) -> 0 | Q38: =COUNTIFS([1]DATA!$AA:$AA,[1]집계최종!$B38,[1]DATA!$E:$E,[1]집계최종!I$29,[1]DATA!$AB:$AB,[1]집계최종!$N$28) -> 0 | R38: =COUNTIFS([1]DATA!$AA:$AA,[1]집계최종!$B38,[1]DATA!$E:$E,[1]집계최종!J$29,[1]DATA!$AB:$AB,[1]집계최종!$N$28) -> 0 | S38: =COUNTIFS([1]DATA!$AA:$AA,[1]집계최종!$B38,[1]DATA!$E:$E,[1]집계최종!K$29,[1]DATA!$AB:$AB,[1]집계최종!$N$28) -> 0 | T38: =SUM(U38:AA38) -> 2 | U38: =COUNTIFS([1]DATA!$AA:$AA,[1]집계최종!$B38,[1]DATA!$E:$E,[1]집계최종!U$29,[1]DATA!$AB:$AB,[1]집계최종!$V$28) -> 2 | V38: =COUNTIFS([1]DATA!$AA:$AA,[1]집계최종!$B38,[1]DATA!$E:$E,[1]집계최종!V$29,[1]DATA!$AB:$AB,[1]집계최종!$V$28) -> 0 | W38: =COUNTIFS([1]DATA!$AA:$AA,[1]집계최종!$B38,[1]DATA!$E:$E,[1]집계최종!W$29,[1]DATA!$AB:$AB,[1]집계최종!$V$28) -> 0 | X38: =COUNTIFS([1]DATA!$AA:$AA,[1]집계최종!$B38,[1]DATA!$E:$E,[1]집계최종!X$29,[1]DATA!$AB:$AB,[1]집계최종!$V$28) -> 0 | Y38: =COUNTIFS([1]DATA!$AA:$AA,[1]집계최종!$B38,[1]DATA!$E:$E,[1]집계최종!Y$29,[1]DATA!$AB:$AB,[1]집계최종!$V$28) -> 0 | Z38: =COUNTIFS([1]DATA!$AA:$AA,[1]집계최종!$B38,[1]DATA!$E:$E,[1]집계최종!Z$29,[1]DATA!$AB:$AB,[1]집계최종!$V$28) -> 0 | AA38: =COUNTIFS([1]DATA!$AA:$AA,[1]집계최종!$B38,[1]DATA!$E:$E,[1]집계최종!AA$29,[1]DATA!$AB:$AB,[1]집계최종!$V$28) -> 0 | AB38: =SUM(AC38:AI38) -> 0 | AC38: =COUNTIFS([1]DATA!$AA:$AA,[1]집계최종!$B38,[1]DATA!$E:$E,[1]집계최종!AC$29,[1]DATA!$AB:$AB,[1]집계최종!$AD$28) -> 0 | AD38: =COUNTIFS([1]DATA!$AA:$AA,[1]집계최종!$B38,[1]DATA!$E:$E,[1]집계최종!AD$29,[1]DATA!$AB:$AB,[1]집계최종!$AD$28) -> 0 | AE38: =COUNTIFS([1]DATA!$AA:$AA,[1]집계최종!$B38,[1]DATA!$E:$E,[1]집계최종!AE$29,[1]DATA!$AB:$AB,[1]집계최종!$AD$28) -> 0 | AF38: =COUNTIFS([1]DATA!$AA:$AA,[1]집계최종!$B38,[1]DATA!$E:$E,[1]집계최종!AF$29,[1]DATA!$AB:$AB,[1]집계최종!$AD$28) -> 0 | AG38: =COUNTIFS([1]DATA!$AA:$AA,[1]집계최종!$B38,[1]DATA!$E:$E,[1]집계최종!AG$29,[1]DATA!$AB:$AB,[1]집계최종!$AD$28) -> 0 | AH38: =COUNTIFS([1]DATA!$AA:$AA,[1]집계최종!$B38,[1]DATA!$E:$E,[1]집계최종!AH$29,[1]DATA!$AB:$AB,[1]집계최종!$AD$28) -> 0 | AI38: =COUNTIFS([1]DATA!$AA:$AA,[1]집계최종!$B38,[1]DATA!$E:$E,[1]집계최종!AI$29,[1]DATA!$AB:$AB,[1]집계최종!$AD$28) -> 0 | AJ38: =SUM(AK38:AQ38) -> 0 | AK38: =COUNTIFS([1]DATA!$AA:$AA,[1]집계최종!$B38,[1]DATA!$E:$E,[1]집계최종!AK$29,[1]DATA!$AB:$AB,[1]집계최종!$AL$28) -> 0 | AL38: =COUNTIFS([1]DATA!$AA:$AA,[1]집계최종!$B38,[1]DATA!$E:$E,[1]집계최종!AL$29,[1]DATA!$AB:$AB,[1]집계최종!$AL$28) -> 0 | AM38: =COUNTIFS([1]DATA!$AA:$AA,[1]집계최종!$B38,[1]DATA!$E:$E,[1]집계최종!AM$29,[1]DATA!$AB:$AB,[1]집계최종!$AL$28) -> 0 | AN38: =COUNTIFS([1]DATA!$AA:$AA,[1]집계최종!$B38,[1]DATA!$E:$E,[1]집계최종!AN$29,[1]DATA!$AB:$AB,[1]집계최종!$AL$28) -> 0 | AO38: =COUNTIFS([1]DATA!$AA:$AA,[1]집계최종!$B38,[1]DATA!$E:$E,[1]집계최종!AO$29,[1]DATA!$AB:$AB,[1]집계최종!$AL$28) -> 0 | AP38: =COUNTIFS([1]DATA!$AA:$AA,[1]집계최종!$B38,[1]DATA!$E:$E,[1]집계최종!AP$29,[1]DATA!$AB:$AB,[1]집계최종!$AL$28) -> 0 | AQ38: =COUNTIFS([1]DATA!$AA:$AA,[1]집계최종!$B38,[1]DATA!$E:$E,[1]집계최종!AQ$29,[1]DATA!$AB:$AB,[1]집계최종!$AL$28) -> 0
B39: 사업소 | C39: 소계 | D39: =SUM(E39:K39) -> 119 | E39: =SUM(E40:E48) -> 58 | F39: =SUM(F40:F48) -> 13 | G39: =SUM(G40:G48) -> 29 | H39: =SUM(H40:H48) -> 14 | I39: =SUM(I40:I48) -> 2 | J39: =SUM(J40:J48) -> 0 | K39: =SUM(K40:K48) -> 3 | L39: =SUM(M39:S39) -> 69 | M39: =SUM(M40:M48) -> 14 | N39: =SUM(N40:N48) -> 13 | O39: =SUM(O40:O48) -> 26 | P39: =SUM(P40:P48) -> 14 | Q39: =SUM(Q40:Q48) -> 2 | R39: =SUM(R40:R48) -> 0 | S39: =SUM(S40:S48) -> 0 | T39: =SUM(U39:AA39) -> 0 | U39: =SUM(U40:U48) -> 0 | V39: =SUM(V40:V48) -> 0 | W39: =SUM(W40:W48) -> 0 | X39: =SUM(X40:X48) -> 0 | Y39: =SUM(Y40:Y48) -> 0 | Z39: =SUM(Z40:Z48) -> 0 | AA39: =SUM(AA40:AA48) -> 0 | AB39: =SUM(AC39:AI39) -> 42 | AC39: =SUM(AC40:AC48) -> 36 | AD39: =SUM(AD40:AD48) -> 0 | AE39: =SUM(AE40:AE48) -> 3 | AF39: =SUM(AF40:AF48) -> 0 | AG39: =SUM(AG40:AG48) -> 0 | AH39: =SUM(AH40:AH48) -> 0 | AI39: =SUM(AI40:AI48) -> 3 | AJ39: =SUM(AK39:AQ39) -> 8 | AK39: =SUM(AK40:AK48) -> 8 | AL39: =SUM(AL40:AL48) -> 0 | AM39: =SUM(AM40:AM48) -> 0 | AN39: =SUM(AN40:AN48) -> 0 | AO39: =SUM(AO40:AO48) -> 0 | AP39: =SUM(AP40:AP48) -> 0 | AQ39: =SUM(AQ40:AQ48) -> 0
C40: 수정구보건소 | D40: =SUM(E40:K40) -> 11 | E40: =COUNTIFS([1]DATA!$AA:$AA,[1]집계최종!$C13,[1]DATA!$E:$E,[1]집계최종!E$29) -> 3 | F40: =COUNTIFS([1]DATA!$AA:$AA,[1]집계최종!$C13,[1]DATA!$E:$E,[1]집계최종!F$29) -> 2 | G40: =COUNTIFS([1]DATA!$AA:$AA,[1]집계최종!$C13,[1]DATA!$E:$E,[1]집계최종!G$29) -> 4 | H40: =COUNTIFS([1]DATA!$AA:$AA,[1]집계최종!$C13,[1]DATA!$E:$E,[1]집계최종!H$29) -> 2 | I40: =COUNTIFS([1]DATA!$AA:$AA,[1]집계최종!$C13,[1]DATA!$E:$E,[1]집계최종!I$29) -> 0 | J40: =COUNTIFS([1]DATA!$AA:$AA,[1]집계최종!$C13,[1]DATA!$E:$E,[1]집계최종!J$29) -> 0 | K40: =COUNTIFS([1]DATA!$AA:$AA,[1]집계최종!$C13,[1]DATA!$E:$E,[1]집계최종!K$29) -> 0 | L40: =SUM(M40:S40) -> 8 | M40: =COUNTIFS([1]DATA!$AA:$AA,[1]집계최종!$C40,[1]DATA!$E:$E,[1]집계최종!E$29,[1]DATA!$AB:$AB,[1]집계최종!$N$28) -> 0 | N40: =COUNTIFS([1]DATA!$AA:$AA,[1]집계최종!$C40,[1]DATA!$E:$E,[1]집계최종!F$29,[1]DATA!$AB:$AB,[1]집계최종!$N$28) -> 2 | O40: =COUNTIFS([1]DATA!$AA:$AA,[1]집계최종!$C40,[1]DATA!$E:$E,[1]집계최종!G$29,[1]DATA!$AB:$AB,[1]집계최종!$N$28) -> 4 | P40: =COUNTIFS([1]DATA!$AA:$AA,[1]집계최종!$C40,[1]DATA!$E:$E,[1]집계최종!H$29,[1]DATA!$AB:$AB,[1]집계최종!$N$28) -> 2 | Q40: =COUNTIFS([1]DATA!$AA:$AA,[1]집계최종!$C40,[1]DATA!$E:$E,[1]집계최종!I$29,[1]DATA!$AB:$AB,[1]집계최종!$N$28) -> 0 | R40: =COUNTIFS([1]DATA!$AA:$AA,[1]집계최종!$C40,[1]DATA!$E:$E,[1]집계최종!J$29,[1]DATA!$AB:$AB,[1]집계최종!$N$28) -> 0 | S40: =COUNTIFS([1]DATA!$AA:$AA,[1]집계최종!$C40,[1]DATA!$E:$E,[1]집계최종!K$29,[1]DATA!$AB:$AB,[1]집계최종!$N$28) -> 0 | T40: =SUM(U40:AA40) -> 0 | U40: =COUNTIFS([1]DATA!$AA:$AA,[1]집계최종!$C40,[1]DATA!$E:$E,[1]집계최종!U$29,[1]DATA!$AB:$AB,[1]집계최종!$V$28) -> 0 | V40: =COUNTIFS([1]DATA!$AA:$AA,[1]집계최종!$C40,[1]DATA!$E:$E,[1]집계최종!V$29,[1]DATA!$AB:$AB,[1]집계최종!$V$28) -> 0 | W40: =COUNTIFS([1]DATA!$AA:$AA,[1]집계최종!$C40,[1]DATA!$E:$E,[1]집계최종!W$29,[1]DATA!$AB:$AB,[1]집계최종!$V$28) -> 0 | X40: =COUNTIFS([1]DATA!$AA:$AA,[1]집계최종!$C40,[1]DATA!$E:$E,[1]집계최종!X$29,[1]DATA!$AB:$AB,[1]집계최종!$V$28) -> 0 | Y40: =COUNTIFS([1]DATA!$AA:$AA,[1]집계최종!$C40,[1]DATA!$E:$E,[1]집계최종!Y$29,[1]DATA!$AB:$AB,[1]집계최종!$V$28) -> 0 | Z40: =COUNTIFS([1]DATA!$AA:$AA,[1]집계최종!$C40,[1]DATA!$E:$E,[1]집계최종!Z$29,[1]DATA!$AB:$AB,[1]집계최종!$V$28) -> 0 | AA40: =COUNTIFS([1]DATA!$AA:$AA,[1]집계최종!$C40,[1]DATA!$E:$E,[1]집계최종!AA$29,[1]DATA!$AB:$AB,[1]집계최종!$V$28) -> 0 | AB40: =SUM(AC40:AI40) -> 1 | AC40: =COUNTIFS([1]DATA!$AA:$AA,[1]집계최종!$C40,[1]DATA!$E:$E,[1]집계최종!AC$29,[1]DATA!$AB:$AB,[1]집계최종!$AD$28) -> 1 | AD40: =COUNTIFS([1]DATA!$AA:$AA,[1]집계최종!$C40,[1]DATA!$E:$E,[1]집계최종!AD$29,[1]DATA!$AB:$AB,[1]집계최종!$AD$28) -> 0 | AE40: =COUNTIFS([1]DATA!$AA:$AA,[1]집계최종!$C40,[1]DATA!$E:$E,[1]집계최종!AE$29,[1]DATA!$AB:$AB,[1]집계최종!$AD$28) -> 0 | AF40: =COUNTIFS([1]DATA!$AA:$AA,[1]집계최종!$C40,[1]DATA!$E:$E,[1]집계최종!AF$29,[1]DATA!$AB:$AB,[1]집계최종!$AD$28) -> 0 | AG40: =COUNTIFS([1]DATA!$AA:$AA,[1]집계최종!$C40,[1]DATA!$E:$E,[1]집계최종!AG$29,[1]DATA!$AB:$AB,[1]집계최종!$AD$28) -> 0 | AH40: =COUNTIFS([1]DATA!$AA:$AA,[1]집계최종!$C40,[1]DATA!$E:$E,[1]집계최종!AH$29,[1]DATA!$AB:$AB,[1]집계최종!$AD$28) -> 0 | AI40: =COUNTIFS([1]DATA!$AA:$AA,[1]집계최종!$C40,[1]DATA!$E:$E,[1]집계최종!AI$29,[1]DATA!$AB:$AB,[1]집계최종!$AD$28) -> 0 | AJ40: =SUM(AK40:AQ40) -> 2 | AK40: =COUNTIFS([1]DATA!$AA:$AA,[1]집계최종!$C40,[1]DATA!$E:$E,[1]집계최종!AK$29,[1]DATA!$AB:$AB,[1]집계최종!$AL$28) -> 2 | AL40: =COUNTIFS([1]DATA!$AA:$AA,[1]집계최종!$C40,[1]DATA!$E:$E,[1]집계최종!AL$29,[1]DATA!$AB:$AB,[1]집계최종!$AL$28) -> 0 | AM40: =COUNTIFS([1]DATA!$AA:$AA,[1]집계최종!$C40,[1]DATA!$E:$E,[1]집계최종!AM$29,[1]DATA!$AB:$AB,[1]집계최종!$AL$28) -> 0 | AN40: =COUNTIFS([1]DATA!$AA:$AA,[1]집계최종!$C40,[1]DATA!$E:$E,[1]집계최종!AN$29,[1]DATA!$AB:$AB,[1]집계최종!$AL$28) -> 0 | AO40: =COUNTIFS([1]DATA!$AA:$AA,[1]집계최종!$C40,[1]DATA!$E:$E,[1]집계최종!AO$29,[1]DATA!$AB:$AB,[1]집계최종!$AL$28) -> 0 | AP40: =COUNTIFS([1]DATA!$AA:$AA,[1]집계최종!$C40,[1]DATA!$E:$E,[1]집계최종!AP$29,[1]DATA!$AB:$AB,[1]집계최종!$AL$28) -> 0 | AQ40: =COUNTIFS([1]DATA!$AA:$AA,[1]집계최종!$C40,[1]DATA!$E:$E,[1]집계최종!AQ$29,[1]DATA!$AB:$AB,[1]집계최종!$AL$28) -> 0
C41: 중원구보건소 | D41: =SUM(E41:K41) -> 10 | E41: =COUNTIFS([1]DATA!$AA:$AA,[1]집계최종!$C14,[1]DATA!$E:$E,[1]집계최종!E$29) -> 4 | F41: =COUNTIFS([1]DATA!$AA:$AA,[1]집계최종!$C14,[1]DATA!$E:$E,[1]집계최종!F$29) -> 1 | G41: =COUNTIFS([1]DATA!$AA:$AA,[1]집계최종!$C14,[1]DATA!$E:$E,[1]집계최종!G$29) -> 2 | H41: =COUNTIFS([1]DATA!$AA:$AA,[1]집계최종!$C14,[1]DATA!$E:$E,[1]집계최종!H$29) -> 1 | I41: =COUNTIFS([1]DATA!$AA:$AA,[1]집계최종!$C14,[1]DATA!$E:$E,[1]집계최종!I$29) -> 2 | J41: =COUNTIFS([1]DATA!$AA:$AA,[1]집계최종!$C14,[1]DATA!$E:$E,[1]집계최종!J$29) -> 0 | K41: =COUNTIFS([1]DATA!$AA:$AA,[1]집계최종!$C14,[1]DATA!$E:$E,[1]집계최종!K$29) -> 0 | L41: =SUM(M41:S41) -> 7 | M41: =COUNTIFS([1]DATA!$AA:$AA,[1]집계최종!$C41,[1]DATA!$E:$E,[1]집계최종!E$29,[1]DATA!$AB:$AB,[1]집계최종!$N$28) -> 1 | N41: =COUNTIFS([1]DATA!$AA:$AA,[1]집계최종!$C41,[1]DATA!$E:$E,[1]집계최종!F$29,[1]DATA!$AB:$AB,[1]집계최종!$N$28) -> 1 | O41: =COUNTIFS([1]DATA!$AA:$AA,[1]집계최종!$C41,[1]DATA!$E:$E,[1]집계최종!G$29,[1]DATA!$AB:$AB,[1]집계최종!$N$28) -> 2 | P41: =COUNTIFS([1]DATA!$AA:$AA,[1]집계최종!$C41,[1]DATA!$E:$E,[1]집계최종!H$29,[1]DATA!$AB:$AB,[1]집계최종!$N$28) -> 1 | Q41: =COUNTIFS([1]DATA!$AA:$AA,[1]집계최종!$C41,[1]DATA!$E:$E,[1]집계최종!I$29,[1]DATA!$AB:$AB,[1]집계최종!$N$28) -> 2 | R41: =COUNTIFS([1]DATA!$AA:$AA,[1]집계최종!$C41,[1]DATA!$E:$E,[1]집계최종!J$29,[1]DATA!$AB:$AB,[1]집계최종!$N$28) -> 0 | S41: =COUNTIFS([1]DATA!$AA:$AA,[1]집계최종!$C41,[1]DATA!$E:$E,[1]집계최종!K$29,[1]DATA!$AB:$AB,[1]집계최종!$N$28) -> 0 | T41: =SUM(U41:AA41) -> 0 | U41: =COUNTIFS([1]DATA!$AA:$AA,[1]집계최종!$C41,[1]DATA!$E:$E,[1]집계최종!U$29,[1]DATA!$AB:$AB,[1]집계최종!$V$28) -> 0 | V41: =COUNTIFS([1]DATA!$AA:$AA,[1]집계최종!$C41,[1]DATA!$E:$E,[1]집계최종!V$29,[1]DATA!$AB:$AB,[1]집계최종!$V$28) -> 0 | W41: =COUNTIFS([1]DATA!$AA:$AA,[1]집계최종!$C41,[1]DATA!$E:$E,[1]집계최종!W$29,[1]DATA!$AB:$AB,[1]집계최종!$V$28) -> 0 | X41: =COUNTIFS([1]DATA!$AA:$AA,[1]집계최종!$C41,[1]DATA!$E:$E,[1]집계최종!X$29,[1]DATA!$AB:$AB,[1]집계최종!$V$28) -> 0 | Y41: =COUNTIFS([1]DATA!$AA:$AA,[1]집계최종!$C41,[1]DATA!$E:$E,[1]집계최종!Y$29,[1]DATA!$AB:$AB,[1]집계최종!$V$28) -> 0 | Z41: =COUNTIFS([1]DATA!$AA:$AA,[1]집계최종!$C41,[1]DATA!$E:$E,[1]집계최종!Z$29,[1]DATA!$AB:$AB,[1]집계최종!$V$28) -> 0 | AA41: =COUNTIFS([1]DATA!$AA:$AA,[1]집계최종!$C41,[1]DATA!$E:$E,[1]집계최종!AA$29,[1]DATA!$AB:$AB,[1]집계최종!$V$28) -> 0 | AB41: =SUM(AC41:AI41) -> 1 | AC41: =COUNTIFS([1]DATA!$AA:$AA,[1]집계최종!$C41,[1]DATA!$E:$E,[1]집계최종!AC$29,[1]DATA!$AB:$AB,[1]집계최종!$AD$28) -> 1 | AD41: =COUNTIFS([1]DATA!$AA:$AA,[1]집계최종!$C41,[1]DATA!$E:$E,[1]집계최종!AD$29,[1]DATA!$AB:$AB,[1]집계최종!$AD$28) -> 0 | AE41: =COUNTIFS([1]DATA!$AA:$AA,[1]집계최종!$C41,[1]DATA!$E:$E,[1]집계최종!AE$29,[1]DATA!$AB:$AB,[1]집계최종!$AD$28) -> 0 | AF41: =COUNTIFS([1]DATA!$AA:$AA,[1]집계최종!$C41,[1]DATA!$E:$E,[1]집계최종!AF$29,[1]DATA!$AB:$AB,[1]집계최종!$AD$28) -> 0 | AG41: =COUNTIFS([1]DATA!$AA:$AA,[1]집계최종!$C41,[1]DATA!$E:$E,[1]집계최종!AG$29,[1]DATA!$AB:$AB,[1]집계최종!$AD$28) -> 0 | AH41: =COUNTIFS([1]DATA!$AA:$AA,[1]집계최종!$C41,[1]DATA!$E:$E,[1]집계최종!AH$29,[1]DATA!$AB:$AB,[1]집계최종!$AD$28) -> 0 | AI41: =COUNTIFS([1]DATA!$AA:$AA,[1]집계최종!$C41,[1]DATA!$E:$E,[1]집계최종!AI$29,[1]DATA!$AB:$AB,[1]집계최종!$AD$28) -> 0 | AJ41: =SUM(AK41:AQ41) -> 2 | AK41: =COUNTIFS([1]DATA!$AA:$AA,[1]집계최종!$C41,[1]DATA!$E:$E,[1]집계최종!AK$29,[1]DATA!$AB:$AB,[1]집계최종!$AL$28) -> 2 | AL41: =COUNTIFS([1]DATA!$AA:$AA,[1]집계최종!$C41,[1]DATA!$E:$E,[1]집계최종!AL$29,[1]DATA!$AB:$AB,[1]집계최종!$AL$28) -> 0 | AM41: =COUNTIFS([1]DATA!$AA:$AA,[1]집계최종!$C41,[1]DATA!$E:$E,[1]집계최종!AM$29,[1]DATA!$AB:$AB,[1]집계최종!$AL$28) -> 0 | AN41: =COUNTIFS([1]DATA!$AA:$AA,[1]집계최종!$C41,[1]DATA!$E:$E,[1]집계최종!AN$29,[1]DATA!$AB:$AB,[1]집계최종!$AL$28) -> 0 | AO41: =COUNTIFS([1]DATA!$AA:$AA,[1]집계최종!$C41,[1]DATA!$E:$E,[1]집계최종!AO$29,[1]DATA!$AB:$AB,[1]집계최종!$AL$28) -> 0 | AP41: =COUNTIFS([1]DATA!$AA:$AA,[1]집계최종!$C41,[1]DATA!$E:$E,[1]집계최종!AP$29,[1]DATA!$AB:$AB,[1]집계최종!$AL$28) -> 0 | AQ41: =COUNTIFS([1]DATA!$AA:$AA,[1]집계최종!$C41,[1]DATA!$E:$E,[1]집계최종!AQ$29,[1]DATA!$AB:$AB,[1]집계최종!$AL$28) -> 0
C42: 분당구보건소 | D42: =SUM(E42:K42) -> 17 | E42: =COUNTIFS([1]DATA!$AA:$AA,[1]집계최종!$C15,[1]DATA!$E:$E,[1]집계최종!E$29) -> 9 | F42: =COUNTIFS([1]DATA!$AA:$AA,[1]집계최종!$C15,[1]DATA!$E:$E,[1]집계최종!F$29) -> 2 | G42: =COUNTIFS([1]DATA!$AA:$AA,[1]집계최종!$C15,[1]DATA!$E:$E,[1]집계최종!G$29) -> 1 | H42: =COUNTIFS([1]DATA!$AA:$AA,[1]집계최종!$C15,[1]DATA!$E:$E,[1]집계최종!H$29) -> 5 | I42: =COUNTIFS([1]DATA!$AA:$AA,[1]집계최종!$C15,[1]DATA!$E:$E,[1]집계최종!I$29) -> 0 | J42: =COUNTIFS([1]DATA!$AA:$AA,[1]집계최종!$C15,[1]DATA!$E:$E,[1]집계최종!J$29) -> 0 | K42: =COUNTIFS([1]DATA!$AA:$AA,[1]집계최종!$C15,[1]DATA!$E:$E,[1]집계최종!K$29) -> 0 | L42: =SUM(M42:S42) -> 12 | M42: =COUNTIFS([1]DATA!$AA:$AA,[1]집계최종!$C42,[1]DATA!$E:$E,[1]집계최종!E$29,[1]DATA!$AB:$AB,[1]집계최종!$N$28) -> 4 | N42: =COUNTIFS([1]DATA!$AA:$AA,[1]집계최종!$C42,[1]DATA!$E:$E,[1]집계최종!F$29,[1]DATA!$AB:$AB,[1]집계최종!$N$28) -> 2 | O42: =COUNTIFS([1]DATA!$AA:$AA,[1]집계최종!$C42,[1]DATA!$E:$E,[1]집계최종!G$29,[1]DATA!$AB:$AB,[1]집계최종!$N$28) -> 1 | P42: =COUNTIFS([1]DATA!$AA:$AA,[1]집계최종!$C42,[1]DATA!$E:$E,[1]집계최종!H$29,[1]DATA!$AB:$AB,[1]집계최종!$N$28) -> 5 | Q42: =COUNTIFS([1]DATA!$AA:$AA,[1]집계최종!$C42,[1]DATA!$E:$E,[1]집계최종!I$29,[1]DATA!$AB:$AB,[1]집계최종!$N$28) -> 0 | R42: =COUNTIFS([1]DATA!$AA:$AA,[1]집계최종!$C42,[1]DATA!$E:$E,[1]집계최종!J$29,[1]DATA!$AB:$AB,[1]집계최종!$N$28) -> 0 | S42: =COUNTIFS([1]DATA!$AA:$AA,[1]집계최종!$C42,[1]DATA!$E:$E,[1]집계최종!K$29,[1]DATA!$AB:$AB,[1]집계최종!$N$28) -> 0 | T42: =SUM(U42:AA42) -> 0 | U42: =COUNTIFS([1]DATA!$AA:$AA,[1]집계최종!$C42,[1]DATA!$E:$E,[1]집계최종!U$29,[1]DATA!$AB:$AB,[1]집계최종!$V$28) -> 0 | V42: =COUNTIFS([1]DATA!$AA:$AA,[1]집계최종!$C42,[1]DATA!$E:$E,[1]집계최종!V$29,[1]DATA!$AB:$AB,[1]집계최종!$V$28) -> 0 | W42: =COUNTIFS([1]DATA!$AA:$AA,[1]집계최종!$C42,[1]DATA!$E:$E,[1]집계최종!W$29,[1]DATA!$AB:$AB,[1]집계최종!$V$28) -> 0 | X42: =COUNTIFS([1]DATA!$AA:$AA,[1]집계최종!$C42,[1]DATA!$E:$E,[1]집계최종!X$29,[1]DATA!$AB:$AB,[1]집계최종!$V$28) -> 0 | Y42: =COUNTIFS([1]DATA!$AA:$AA,[1]집계최종!$C42,[1]DATA!$E:$E,[1]집계최종!Y$29,[1]DATA!$AB:$AB,[1]집계최종!$V$28) -> 0 | Z42: =COUNTIFS([1]DATA!$AA:$AA,[1]집계최종!$C42,[1]DATA!$E:$E,[1]집계최종!Z$29,[1]DATA!$AB:$AB,[1]집계최종!$V$28) -> 0 | AA42: =COUNTIFS([1]DATA!$AA:$AA,[1]집계최종!$C42,[1]DATA!$E:$E,[1]집계최종!AA$29,[1]DATA!$AB:$AB,[1]집계최종!$V$28) -> 0 | AB42: =SUM(AC42:AI42) -> 2 | AC42: =COUNTIFS([1]DATA!$AA:$AA,[1]집계최종!$C42,[1]DATA!$E:$E,[1]집계최종!AC$29,[1]DATA!$AB:$AB,[1]집계최종!$AD$28) -> 2 | AD42: =COUNTIFS([1]DATA!$AA:$AA,[1]집계최종!$C42,[1]DATA!$E:$E,[1]집계최종!AD$29,[1]DATA!$AB:$AB,[1]집계최종!$AD$28) -> 0 | AE42: =COUNTIFS([1]DATA!$AA:$AA,[1]집계최종!$C42,[1]DATA!$E:$E,[1]집계최종!AE$29,[1]DATA!$AB:$AB,[1]집계최종!$AD$28) -> 0 | AF42: =COUNTIFS([1]DATA!$AA:$AA,[1]집계최종!$C42,[1]DATA!$E:$E,[1]집계최종!AF$29,[1]DATA!$AB:$AB,[1]집계최종!$AD$28) -> 0 | AG42: =COUNTIFS([1]DATA!$AA:$AA,[1]집계최종!$C42,[1]DATA!$E:$E,[1]집계최종!AG$29,[1]DATA!$AB:$AB,[1]집계최종!$AD$28) -> 0 | AH42: =COUNTIFS([1]DATA!$AA:$AA,[1]집계최종!$C42,[1]DATA!$E:$E,[1]집계최종!AH$29,[1]DATA!$AB:$AB,[1]집계최종!$AD$28) -> 0 | AI42: =COUNTIFS([1]DATA!$AA:$AA,[1]집계최종!$C42,[1]DATA!$E:$E,[1]집계최종!AI$29,[1]DATA!$AB:$AB,[1]집계최종!$AD$28) -> 0 | AJ42: =SUM(AK42:AQ42) -> 3 | AK42: =COUNTIFS([1]DATA!$AA:$AA,[1]집계최종!$C42,[1]DATA!$E:$E,[1]집계최종!AK$29,[1]DATA!$AB:$AB,[1]집계최종!$AL$28) -> 3 | AL42: =COUNTIFS([1]DATA!$AA:$AA,[1]집계최종!$C42,[1]DATA!$E:$E,[1]집계최종!AL$29,[1]DATA!$AB:$AB,[1]집계최종!$AL$28) -> 0 | AM42: =COUNTIFS([1]DATA!$AA:$AA,[1]집계최종!$C42,[1]DATA!$E:$E,[1]집계최종!AM$29,[1]DATA!$AB:$AB,[1]집계최종!$AL$28) -> 0 | AN42: =COUNTIFS([1]DATA!$AA:$AA,[1]집계최종!$C42,[1]DATA!$E:$E,[1]집계최종!AN$29,[1]DATA!$AB:$AB,[1]집계최종!$AL$28) -> 0 | AO42: =COUNTIFS([1]DATA!$AA:$AA,[1]집계최종!$C42,[1]DATA!$E:$E,[1]집계최종!AO$29,[1]DATA!$AB:$AB,[1]집계최종!$AL$28) -> 0 | AP42: =COUNTIFS([1]DATA!$AA:$AA,[1]집계최종!$C42,[1]DATA!$E:$E,[1]집계최종!AP$29,[1]DATA!$AB:$AB,[1]집계최종!$AL$28) -> 0 | AQ42: =COUNTIFS([1]DATA!$AA:$AA,[1]집계최종!$C42,[1]DATA!$E:$E,[1]집계최종!AQ$29,[1]DATA!$AB:$AB,[1]집계최종!$AL$28) -> 0
C43: 농업기술센터 | D43: =SUM(E43:K43) -> 5 | E43: =COUNTIFS([1]DATA!$AA:$AA,[1]집계최종!$C16,[1]DATA!$E:$E,[1]집계최종!E$29) -> 3 | F43: =COUNTIFS([1]DATA!$AA:$AA,[1]집계최종!$C16,[1]DATA!$E:$E,[1]집계최종!F$29) -> 1 | G43: =COUNTIFS([1]DATA!$AA:$AA,[1]집계최종!$C16,[1]DATA!$E:$E,[1]집계최종!G$29) -> 1 | H43: =COUNTIFS([1]DATA!$AA:$AA,[1]집계최종!$C16,[1]DATA!$E:$E,[1]집계최종!H$29) -> 0 | I43: =COUNTIFS([1]DATA!$AA:$AA,[1]집계최종!$C16,[1]DATA!$E:$E,[1]집계최종!I$29) -> 0 | J43: =COUNTIFS([1]DATA!$AA:$AA,[1]집계최종!$C16,[1]DATA!$E:$E,[1]집계최종!J$29) -> 0 | K43: =COUNTIFS([1]DATA!$AA:$AA,[1]집계최종!$C16,[1]DATA!$E:$E,[1]집계최종!K$29) -> 0 | L43: =SUM(M43:S43) -> 3 | M43: =COUNTIFS([1]DATA!$AA:$AA,[1]집계최종!$C43,[1]DATA!$E:$E,[1]집계최종!E$29,[1]DATA!$AB:$AB,[1]집계최종!$N$28) -> 1 | N43: =COUNTIFS([1]DATA!$AA:$AA,[1]집계최종!$C43,[1]DATA!$E:$E,[1]집계최종!F$29,[1]DATA!$AB:$AB,[1]집계최종!$N$28) -> 1 | O43: =COUNTIFS([1]DATA!$AA:$AA,[1]집계최종!$C43,[1]DATA!$E:$E,[1]집계최종!G$29,[1]DATA!$AB:$AB,[1]집계최종!$N$28) -> 1 | P43: =COUNTIFS([1]DATA!$AA:$AA,[1]집계최종!$C43,[1]DATA!$E:$E,[1]집계최종!H$29,[1]DATA!$AB:$AB,[1]집계최종!$N$28) -> 0 | Q43: =COUNTIFS([1]DATA!$AA:$AA,[1]집계최종!$C43,[1]DATA!$E:$E,[1]집계최종!I$29,[1]DATA!$AB:$AB,[1]집계최종!$N$28) -> 0 | R43: =COUNTIFS([1]DATA!$AA:$AA,[1]집계최종!$C43,[1]DATA!$E:$E,[1]집계최종!J$29,[1]DATA!$AB:$AB,[1]집계최종!$N$28) -> 0 | S43: =COUNTIFS([1]DATA!$AA:$AA,[1]집계최종!$C43,[1]DATA!$E:$E,[1]집계최종!K$29,[1]DATA!$AB:$AB,[1]집계최종!$N$28) -> 0 | T43: =SUM(U43:AA43) -> 0 | U43: =COUNTIFS([1]DATA!$AA:$AA,[1]집계최종!$C43,[1]DATA!$E:$E,[1]집계최종!U$29,[1]DATA!$AB:$AB,[1]집계최종!$V$28) -> 0 | V43: =COUNTIFS([1]DATA!$AA:$AA,[1]집계최종!$C43,[1]DATA!$E:$E,[1]집계최종!V$29,[1]DATA!$AB:$AB,[1]집계최종!$V$28) -> 0 | W43: =COUNTIFS([1]DATA!$AA:$AA,[1]집계최종!$C43,[1]DATA!$E:$E,[1]집계최종!W$29,[1]DATA!$AB:$AB,[1]집계최종!$V$28) -> 0 | X43: =COUNTIFS([1]DATA!$AA:$AA,[1]집계최종!$C43,[1]DATA!$E:$E,[1]집계최종!X$29,[1]DATA!$AB:$AB,[1]집계최종!$V$28) -> 0 | Y43: =COUNTIFS([1]DATA!$AA:$AA,[1]집계최종!$C43,[1]DATA!$E:$E,[1]집계최종!Y$29,[1]DATA!$AB:$AB,[1]집계최종!$V$28) -> 0 | Z43: =COUNTIFS([1]DATA!$AA:$AA,[1]집계최종!$C43,[1]DATA!$E:$E,[1]집계최종!Z$29,[1]DATA!$AB:$AB,[1]집계최종!$V$28) -> 0 | AA43: =COUNTIFS([1]DATA!$AA:$AA,[1]집계최종!$C43,[1]DATA!$E:$E,[1]집계최종!AA$29,[1]DATA!$AB:$AB,[1]집계최종!$V$28) -> 0 | AB43: =SUM(AC43:AI43) -> 2 | AC43: =COUNTIFS([1]DATA!$AA:$AA,[1]집계최종!$C43,[1]DATA!$E:$E,[1]집계최종!AC$29,[1]DATA!$AB:$AB,[1]집계최종!$AD$28) -> 2 | AD43: =COUNTIFS([1]DATA!$AA:$AA,[1]집계최종!$C43,[1]DATA!$E:$E,[1]집계최종!AD$29,[1]DATA!$AB:$AB,[1]집계최종!$AD$28) -> 0 | AE43: =COUNTIFS([1]DATA!$AA:$AA,[1]집계최종!$C43,[1]DATA!$E:$E,[1]집계최종!AE$29,[1]DATA!$AB:$AB,[1]집계최종!$AD$28) -> 0 | AF43: =COUNTIFS([1]DATA!$AA:$AA,[1]집계최종!$C43,[1]DATA!$E:$E,[1]집계최종!AF$29,[1]DATA!$AB:$AB,[1]집계최종!$AD$28) -> 0 | AG43: =COUNTIFS([1]DATA!$AA:$AA,[1]집계최종!$C43,[1]DATA!$E:$E,[1]집계최종!AG$29,[1]DATA!$AB:$AB,[1]집계최종!$AD$28) -> 0 | AH43: =COUNTIFS([1]DATA!$AA:$AA,[1]집계최종!$C43,[1]DATA!$E:$E,[1]집계최종!AH$29,[1]DATA!$AB:$AB,[1]집계최종!$AD$28) -> 0 | AI43: =COUNTIFS([1]DATA!$AA:$AA,[1]집계최종!$C43,[1]DATA!$E:$E,[1]집계최종!AI$29,[1]DATA!$AB:$AB,[1]집계최종!$AD$28) -> 0 | AJ43: =SUM(AK43:AQ43) -> 0 | AK43: =COUNTIFS([1]DATA!$AA:$AA,[1]집계최종!$C43,[1]DATA!$E:$E,[1]집계최종!AK$29,[1]DATA!$AB:$AB,[1]집계최종!$AL$28) -> 0 | AL43: =COUNTIFS([1]DATA!$AA:$AA,[1]집계최종!$C43,[1]DATA!$E:$E,[1]집계최종!AL$29,[1]DATA!$AB:$AB,[1]집계최종!$AL$28) -> 0 | AM43: =COUNTIFS([1]DATA!$AA:$AA,[1]집계최종!$C43,[1]DATA!$E:$E,[1]집계최종!AM$29,[1]DATA!$AB:$AB,[1]집계최종!$AL$28) -> 0 | AN43: =COUNTIFS([1]DATA!$AA:$AA,[1]집계최종!$C43,[1]DATA!$E:$E,[1]집계최종!AN$29,[1]DATA!$AB:$AB,[1]집계최종!$AL$28) -> 0 | AO43: =COUNTIFS([1]DATA!$AA:$AA,[1]집계최종!$C43,[1]DATA!$E:$E,[1]집계최종!AO$29,[1]DATA!$AB:$AB,[1]집계최종!$AL$28) -> 0 | AP43: =COUNTIFS([1]DATA!$AA:$AA,[1]집계최종!$C43,[1]DATA!$E:$E,[1]집계최종!AP$29,[1]DATA!$AB:$AB,[1]집계최종!$AL$28) -> 0 | AQ43: =COUNTIFS([1]DATA!$AA:$AA,[1]집계최종!$C43,[1]DATA!$E:$E,[1]집계최종!AQ$29,[1]DATA!$AB:$AB,[1]집계최종!$AL$28) -> 0
C44: 맑은물관리사업소 | D44: =SUM(E44:K44) -> 27 | E44: =COUNTIFS([1]DATA!$AA:$AA,[1]집계최종!$C17,[1]DATA!$E:$E,[1]집계최종!E$29) -> 9 | F44: =COUNTIFS([1]DATA!$AA:$AA,[1]집계최종!$C17,[1]DATA!$E:$E,[1]집계최종!F$29) -> 6 | G44: =COUNTIFS([1]DATA!$AA:$AA,[1]집계최종!$C17,[1]DATA!$E:$E,[1]집계최종!G$29) -> 8 | H44: =COUNTIFS([1]DATA!$AA:$AA,[1]집계최종!$C17,[1]DATA!$E:$E,[1]집계최종!H$29) -> 3 | I44: =COUNTIFS([1]DATA!$AA:$AA,[1]집계최종!$C17,[1]DATA!$E:$E,[1]집계최종!I$29) -> 0 | J44: =COUNTIFS([1]DATA!$AA:$AA,[1]집계최종!$C17,[1]DATA!$E:$E,[1]집계최종!J$29) -> 0 | K44: =COUNTIFS([1]DATA!$AA:$AA,[1]집계최종!$C17,[1]DATA!$E:$E,[1]집계최종!K$29) -> 1 | L44: =SUM(M44:S44) -> 16 | M44: =COUNTIFS([1]DATA!$AA:$AA,[1]집계최종!$C44,[1]DATA!$E:$E,[1]집계최종!E$29,[1]DATA!$AB:$AB,[1]집계최종!$N$28) -> 0 | N44: =COUNTIFS([1]DATA!$AA:$AA,[1]집계최종!$C44,[1]DATA!$E:$E,[1]집계최종!F$29,[1]DATA!$AB:$AB,[1]집계최종!$N$28) -> 6 | O44: =COUNTIFS([1]DATA!$AA:$AA,[1]집계최종!$C44,[1]DATA!$E:$E,[1]집계최종!G$29,[1]DATA!$AB:$AB,[1]집계최종!$N$28) -> 7 | P44: =COUNTIFS([1]DATA!$AA:$AA,[1]집계최종!$C44,[1]DATA!$E:$E,[1]집계최종!H$29,[1]DATA!$AB:$AB,[1]집계최종!$N$28) -> 3 | Q44: =COUNTIFS([1]DATA!$AA:$AA,[1]집계최종!$C44,[1]DATA!$E:$E,[1]집계최종!I$29,[1]DATA!$AB:$AB,[1]집계최종!$N$28) -> 0 | R44: =COUNTIFS([1]DATA!$AA:$AA,[1]집계최종!$C44,[1]DATA!$E:$E,[1]집계최종!J$29,[1]DATA!$AB:$AB,[1]집계최종!$N$28) -> 0 | S44: =COUNTIFS([1]DATA!$AA:$AA,[1]집계최종!$C44,[1]DATA!$E:$E,[1]집계최종!K$29,[1]DATA!$AB:$AB,[1]집계최종!$N$28) -> 0 | T44: =SUM(U44:AA44) -> 0 | U44: =COUNTIFS([1]DATA!$AA:$AA,[1]집계최종!$C44,[1]DATA!$E:$E,[1]집계최종!U$29,[1]DATA!$AB:$AB,[1]집계최종!$V$28) -> 0 | V44: =COUNTIFS([1]DATA!$AA:$AA,[1]집계최종!$C44,[1]DATA!$E:$E,[1]집계최종!V$29,[1]DATA!$AB:$AB,[1]집계최종!$V$28) -> 0 | W44: =COUNTIFS([1]DATA!$AA:$AA,[1]집계최종!$C44,[1]DATA!$E:$E,[1]집계최종!W$29,[1]DATA!$AB:$AB,[1]집계최종!$V$28) -> 0 | X44: =COUNTIFS([1]DATA!$AA:$AA,[1]집계최종!$C44,[1]DATA!$E:$E,[1]집계최종!X$29,[1]DATA!$AB:$AB,[1]집계최종!$V$28) -> 0 | Y44: =COUNTIFS([1]DATA!$AA:$AA,[1]집계최종!$C44,[1]DATA!$E:$E,[1]집계최종!Y$29,[1]DATA!$AB:$AB,[1]집계최종!$V$28) -> 0 | Z44: =COUNTIFS([1]DATA!$AA:$AA,[1]집계최종!$C44,[1]DATA!$E:$E,[1]집계최종!Z$29,[1]DATA!$AB:$AB,[1]집계최종!$V$28) -> 0 | AA44: =COUNTIFS([1]DATA!$AA:$AA,[1]집계최종!$C44,[1]DATA!$E:$E,[1]집계최종!AA$29,[1]DATA!$AB:$AB,[1]집계최종!$V$28) -> 0 | AB44: =SUM(AC44:AI44) -> 11 | AC44: =COUNTIFS([1]DATA!$AA:$AA,[1]집계최종!$C44,[1]DATA!$E:$E,[1]집계최종!AC$29,[1]DATA!$AB:$AB,[1]집계최종!$AD$28) -> 9 | AD44: =COUNTIFS([1]DATA!$AA:$AA,[1]집계최종!$C44,[1]DATA!$E:$E,[1]집계최종!AD$29,[1]DATA!$AB:$AB,[1]집계최종!$AD$28) -> 0 | AE44: =COUNTIFS([1]DATA!$AA:$AA,[1]집계최종!$C44,[1]DATA!$E:$E,[1]집계최종!AE$29,[1]DATA!$AB:$AB,[1]집계최종!$AD$28) -> 1 | AF44: =COUNTIFS([1]DATA!$AA:$AA,[1]집계최종!$C44,[1]DATA!$E:$E,[1]집계최종!AF$29,[1]DATA!$AB:$AB,[1]집계최종!$AD$28) -> 0 | AG44: =COUNTIFS([1]DATA!$AA:$AA,[1]집계최종!$C44,[1]DATA!$E:$E,[1]집계최종!AG$29,[1]DATA!$AB:$AB,[1]집계최종!$AD$28) -> 0 | AH44: =COUNTIFS([1]DATA!$AA:$AA,[1]집계최종!$C44,[1]DATA!$E:$E,[1]집계최종!AH$29,[1]DATA!$AB:$AB,[1]집계최종!$AD$28) -> 0 | AI44: =COUNTIFS([1]DATA!$AA:$AA,[1]집계최종!$C44,[1]DATA!$E:$E,[1]집계최종!AI$29,[1]DATA!$AB:$AB,[1]집계최종!$AD$28) -> 1 | AJ44: =SUM(AK44:AQ44) -> 0 | AK44: =COUNTIFS([1]DATA!$AA:$AA,[1]집계최종!$C44,[1]DATA!$E:$E,[1]집계최종!AK$29,[1]DATA!$AB:$AB,[1]집계최종!$AL$28) -> 0 | AL44: =COUNTIFS([1]DATA!$AA:$AA,[1]집계최종!$C44,[1]DATA!$E:$E,[1]집계최종!AL$29,[1]DATA!$AB:$AB,[1]집계최종!$AL$28) -> 0 | AM44: =COUNTIFS([1]DATA!$AA:$AA,[1]집계최종!$C44,[1]DATA!$E:$E,[1]집계최종!AM$29,[1]DATA!$AB:$AB,[1]집계최종!$AL$28) -> 0 | AN44: =COUNTIFS([1]DATA!$AA:$AA,[1]집계최종!$C44,[1]DATA!$E:$E,[1]집계최종!AN$29,[1]DATA!$AB:$AB,[1]집계최종!$AL$28) -> 0 | AO44: =COUNTIFS([1]DATA!$AA:$AA,[1]집계최종!$C44,[1]DATA!$E:$E,[1]집계최종!AO$29,[1]DATA!$AB:$AB,[1]집계최종!$AL$28) -> 0 | AP44: =COUNTIFS([1]DATA!$AA:$AA,[1]집계최종!$C44,[1]DATA!$E:$E,[1]집계최종!AP$29,[1]DATA!$AB:$AB,[1]집계최종!$AL$28) -> 0 | AQ44: =COUNTIFS([1]DATA!$AA:$AA,[1]집계최종!$C44,[1]DATA!$E:$E,[1]집계최종!AQ$29,[1]DATA!$AB:$AB,[1]집계최종!$AL$28) -> 0
C45: 푸른도시사업소 | D45: =SUM(E45:K45) -> 30 | E45: =COUNTIFS([1]DATA!$AA:$AA,[1]집계최종!$C18,[1]DATA!$E:$E,[1]집계최종!E$29) -> 24 | F45: =COUNTIFS([1]DATA!$AA:$AA,[1]집계최종!$C18,[1]DATA!$E:$E,[1]집계최종!F$29) -> 0 | G45: =COUNTIFS([1]DATA!$AA:$AA,[1]집계최종!$C18,[1]DATA!$E:$E,[1]집계최종!G$29) -> 4 | H45: =COUNTIFS([1]DATA!$AA:$AA,[1]집계최종!$C18,[1]DATA!$E:$E,[1]집계최종!H$29) -> 0 | I45: =COUNTIFS([1]DATA!$AA:$AA,[1]집계최종!$C18,[1]DATA!$E:$E,[1]집계최종!I$29) -> 0 | J45: =COUNTIFS([1]DATA!$AA:$AA,[1]집계최종!$C18,[1]DATA!$E:$E,[1]집계최종!J$29) -> 0 | K45: =COUNTIFS([1]DATA!$AA:$AA,[1]집계최종!$C18,[1]DATA!$E:$E,[1]집계최종!K$29) -> 2 | L45: =SUM(M45:S45) -> 7 | M45: =COUNTIFS([1]DATA!$AA:$AA,[1]집계최종!$C45,[1]DATA!$E:$E,[1]집계최종!E$29,[1]DATA!$AB:$AB,[1]집계최종!$N$28) -> 5 | N45: =COUNTIFS([1]DATA!$AA:$AA,[1]집계최종!$C45,[1]DATA!$E:$E,[1]집계최종!F$29,[1]DATA!$AB:$AB,[1]집계최종!$N$28) -> 0 | O45: =COUNTIFS([1]DATA!$AA:$AA,[1]집계최종!$C45,[1]DATA!$E:$E,[1]집계최종!G$29,[1]DATA!$AB:$AB,[1]집계최종!$N$28) -> 2 | P45: =COUNTIFS([1]DATA!$AA:$AA,[1]집계최종!$C45,[1]DATA!$E:$E,[1]집계최종!H$29,[1]DATA!$AB:$AB,[1]집계최종!$N$28) -> 0 | Q45: =COUNTIFS([1]DATA!$AA:$AA,[1]집계최종!$C45,[1]DATA!$E:$E,[1]집계최종!I$29,[1]DATA!$AB:$AB,[1]집계최종!$N$28) -> 0 | R45: =COUNTIFS([1]DATA!$AA:$AA,[1]집계최종!$C45,[1]DATA!$E:$E,[1]집계최종!J$29,[1]DATA!$AB:$AB,[1]집계최종!$N$28) -> 0 | S45: =COUNTIFS([1]DATA!$AA:$AA,[1]집계최종!$C45,[1]DATA!$E:$E,[1]집계최종!K$29,[1]DATA!$AB:$AB,[1]집계최종!$N$28) -> 0 | T45: =SUM(U45:AA45) -> 0 | U45: =COUNTIFS([1]DATA!$AA:$AA,[1]집계최종!$C45,[1]DATA!$E:$E,[1]집계최종!U$29,[1]DATA!$AB:$AB,[1]집계최종!$V$28) -> 0 | V45: =COUNTIFS([1]DATA!$AA:$AA,[1]집계최종!$C45,[1]DATA!$E:$E,[1]집계최종!V$29,[1]DATA!$AB:$AB,[1]집계최종!$V$28) -> 0 | W45: =COUNTIFS([1]DATA!$AA:$AA,[1]집계최종!$C45,[1]DATA!$E:$E,[1]집계최종!W$29,[1]DATA!$AB:$AB,[1]집계최종!$V$28) -> 0 | X45: =COUNTIFS([1]DATA!$AA:$AA,[1]집계최종!$C45,[1]DATA!$E:$E,[1]집계최종!X$29,[1]DATA!$AB:$AB,[1]집계최종!$V$28) -> 0 | Y45: =COUNTIFS([1]DATA!$AA:$AA,[1]집계최종!$C45,[1]DATA!$E:$E,[1]집계최종!Y$29,[1]DATA!$AB:$AB,[1]집계최종!$V$28) -> 0 | Z45: =COUNTIFS([1]DATA!$AA:$AA,[1]집계최종!$C45,[1]DATA!$E:$E,[1]집계최종!Z$29,[1]DATA!$AB:$AB,[1]집계최종!$V$28) -> 0 | AA45: =COUNTIFS([1]DATA!$AA:$AA,[1]집계최종!$C45,[1]DATA!$E:$E,[1]집계최종!AA$29,[1]DATA!$AB:$AB,[1]집계최종!$V$28) -> 0 | AB45: =SUM(AC45:AI45) -> 22 | AC45: =COUNTIFS([1]DATA!$AA:$AA,[1]집계최종!$C45,[1]DATA!$E:$E,[1]집계최종!AC$29,[1]DATA!$AB:$AB,[1]집계최종!$AD$28) -> 18 | AD45: =COUNTIFS([1]DATA!$AA:$AA,[1]집계최종!$C45,[1]DATA!$E:$E,[1]집계최종!AD$29,[1]DATA!$AB:$AB,[1]집계최종!$AD$28) -> 0 | AE45: =COUNTIFS([1]DATA!$AA:$AA,[1]집계최종!$C45,[1]DATA!$E:$E,[1]집계최종!AE$29,[1]DATA!$AB:$AB,[1]집계최종!$AD$28) -> 2 | AF45: =COUNTIFS([1]DATA!$AA:$AA,[1]집계최종!$C45,[1]DATA!$E:$E,[1]집계최종!AF$29,[1]DATA!$AB:$AB,[1]집계최종!$AD$28) -> 0 | AG45: =COUNTIFS([1]DATA!$AA:$AA,[1]집계최종!$C45,[1]DATA!$E:$E,[1]집계최종!AG$29,[1]DATA!$AB:$AB,[1]집계최종!$AD$28) -> 0 | AH45: =COUNTIFS([1]DATA!$AA:$AA,[1]집계최종!$C45,[1]DATA!$E:$E,[1]집계최종!AH$29,[1]DATA!$AB:$AB,[1]집계최종!$AD$28) -> 0 | AI45: =COUNTIFS([1]DATA!$AA:$AA,[1]집계최종!$C45,[1]DATA!$E:$E,[1]집계최종!AI$29,[1]DATA!$AB:$AB,[1]집계최종!$AD$28) -> 2 | AJ45: =SUM(AK45:AQ45) -> 1 | AK45: =COUNTIFS([1]DATA!$AA:$AA,[1]집계최종!$C45,[1]DATA!$E:$E,[1]집계최종!AK$29,[1]DATA!$AB:$AB,[1]집계최종!$AL$28) -> 1 | AL45: =COUNTIFS([1]DATA!$AA:$AA,[1]집계최종!$C45,[1]DATA!$E:$E,[1]집계최종!AL$29,[1]DATA!$AB:$AB,[1]집계최종!$AL$28) -> 0 | AM45: =COUNTIFS([1]DATA!$AA:$AA,[1]집계최종!$C45,[1]DATA!$E:$E,[1]집계최종!AM$29,[1]DATA!$AB:$AB,[1]집계최종!$AL$28) -> 0 | AN45: =COUNTIFS([1]DATA!$AA:$AA,[1]집계최종!$C45,[1]DATA!$E:$E,[1]집계최종!AN$29,[1]DATA!$AB:$AB,[1]집계최종!$AL$28) -> 0 | AO45: =COUNTIFS([1]DATA!$AA:$AA,[1]집계최종!$C45,[1]DATA!$E:$E,[1]집계최종!AO$29,[1]DATA!$AB:$AB,[1]집계최종!$AL$28) -> 0 | AP45: =COUNTIFS([1]DATA!$AA:$AA,[1]집계최종!$C45,[1]DATA!$E:$E,[1]집계최종!AP$29,[1]DATA!$AB:$AB,[1]집계최종!$AL$28) -> 0 | AQ45: =COUNTIFS([1]DATA!$AA:$AA,[1]집계최종!$C45,[1]DATA!$E:$E,[1]집계최종!AQ$29,[1]DATA!$AB:$AB,[1]집계최종!$AL$28) -> 0
C46: 도서관사업소 | D46: =SUM(E46:K46) -> 15 | E46: =COUNTIFS([1]DATA!$AA:$AA,[1]집계최종!$C19,[1]DATA!$E:$E,[1]집계최종!E$29) -> 5 | F46: =COUNTIFS([1]DATA!$AA:$AA,[1]집계최종!$C19,[1]DATA!$E:$E,[1]집계최종!F$29) -> 0 | G46: =COUNTIFS([1]DATA!$AA:$AA,[1]집계최종!$C19,[1]DATA!$E:$E,[1]집계최종!G$29) -> 7 | H46: =COUNTIFS([1]DATA!$AA:$AA,[1]집계최종!$C19,[1]DATA!$E:$E,[1]집계최종!H$29) -> 3 | I46: =COUNTIFS([1]DATA!$AA:$AA,[1]집계최종!$C19,[1]DATA!$E:$E,[1]집계최종!I$29) -> 0 | J46: =COUNTIFS([1]DATA!$AA:$AA,[1]집계최종!$C19,[1]DATA!$E:$E,[1]집계최종!J$29) -> 0 | K46: =COUNTIFS([1]DATA!$AA:$AA,[1]집계최종!$C19,[1]DATA!$E:$E,[1]집계최종!K$29) -> 0 | L46: =SUM(M46:S46) -> 13 | M46: =COUNTIFS([1]DATA!$AA:$AA,[1]집계최종!$C46,[1]DATA!$E:$E,[1]집계최종!E$29,[1]DATA!$AB:$AB,[1]집계최종!$N$28) -> 3 | N46: =COUNTIFS([1]DATA!$AA:$AA,[1]집계최종!$C46,[1]DATA!$E:$E,[1]집계최종!F$29,[1]DATA!$AB:$AB,[1]집계최종!$N$28) -> 0 | O46: =COUNTIFS([1]DATA!$AA:$AA,[1]집계최종!$C46,[1]DATA!$E:$E,[1]집계최종!G$29,[1]DATA!$AB:$AB,[1]집계최종!$N$28) -> 7 | P46: =COUNTIFS([1]DATA!$AA:$AA,[1]집계최종!$C46,[1]DATA!$E:$E,[1]집계최종!H$29,[1]DATA!$AB:$AB,[1]집계최종!$N$28) -> 3 | Q46: =COUNTIFS([1]DATA!$AA:$AA,[1]집계최종!$C46,[1]DATA!$E:$E,[1]집계최종!I$29,[1]DATA!$AB:$AB,[1]집계최종!$N$28) -> 0 | R46: =COUNTIFS([1]DATA!$AA:$AA,[1]집계최종!$C46,[1]DATA!$E:$E,[1]집계최종!J$29,[1]DATA!$AB:$AB,[1]집계최종!$N$28) -> 0 | S46: =COUNTIFS([1]DATA!$AA:$AA,[1]집계최종!$C46,[1]DATA!$E:$E,[1]집계최종!K$29,[1]DATA!$AB:$AB,[1]집계최종!$N$28) -> 0 | T46: =SUM(U46:AA46) -> 0 | U46: =COUNTIFS([1]DATA!$AA:$AA,[1]집계최종!$C46,[1]DATA!$E:$E,[1]집계최종!U$29,[1]DATA!$AB:$AB,[1]집계최종!$V$28) -> 0 | V46: =COUNTIFS([1]DATA!$AA:$AA,[1]집계최종!$C46,[1]DATA!$E:$E,[1]집계최종!V$29,[1]DATA!$AB:$AB,[1]집계최종!$V$28) -> 0 | W46: =COUNTIFS([1]DATA!$AA:$AA,[1]집계최종!$C46,[1]DATA!$E:$E,[1]집계최종!W$29,[1]DATA!$AB:$AB,[1]집계최종!$V$28) -> 0 | X46: =COUNTIFS([1]DATA!$AA:$AA,[1]집계최종!$C46,[1]DATA!$E:$E,[1]집계최종!X$29,[1]DATA!$AB:$AB,[1]집계최종!$V$28) -> 0 | Y46: =COUNTIFS([1]DATA!$AA:$AA,[1]집계최종!$C46,[1]DATA!$E:$E,[1]집계최종!Y$29,[1]DATA!$AB:$AB,[1]집계최종!$V$28) -> 0 | Z46: =COUNTIFS([1]DATA!$AA:$AA,[1]집계최종!$C46,[1]DATA!$E:$E,[1]집계최종!Z$29,[1]DATA!$AB:$AB,[1]집계최종!$V$28) -> 0 | AA46: =COUNTIFS([1]DATA!$AA:$AA,[1]집계최종!$C46,[1]DATA!$E:$E,[1]집계최종!AA$29,[1]DATA!$AB:$AB,[1]집계최종!$V$28) -> 0 | AB46: =SUM(AC46:AI46) -> 2 | AC46: =COUNTIFS([1]DATA!$AA:$AA,[1]집계최종!$C46,[1]DATA!$E:$E,[1]집계최종!AC$29,[1]DATA!$AB:$AB,[1]집계최종!$AD$28) -> 2 | AD46: =COUNTIFS([1]DATA!$AA:$AA,[1]집계최종!$C46,[1]DATA!$E:$E,[1]집계최종!AD$29,[1]DATA!$AB:$AB,[1]집계최종!$AD$28) -> 0 | AE46: =COUNTIFS([1]DATA!$AA:$AA,[1]집계최종!$C46,[1]DATA!$E:$E,[1]집계최종!AE$29,[1]DATA!$AB:$AB,[1]집계최종!$AD$28) -> 0 | AF46: =COUNTIFS([1]DATA!$AA:$AA,[1]집계최종!$C46,[1]DATA!$E:$E,[1]집계최종!AF$29,[1]DATA!$AB:$AB,[1]집계최종!$AD$28) -> 0 | AG46: =COUNTIFS([1]DATA!$AA:$AA,[1]집계최종!$C46,[1]DATA!$E:$E,[1]집계최종!AG$29,[1]DATA!$AB:$AB,[1]집계최종!$AD$28) -> 0 | AH46: =COUNTIFS([1]DATA!$AA:$AA,[1]집계최종!$C46,[1]DATA!$E:$E,[1]집계최종!AH$29,[1]DATA!$AB:$AB,[1]집계최종!$AD$28) -> 0 | AI46: =COUNTIFS([1]DATA!$AA:$AA,[1]집계최종!$C46,[1]DATA!$E:$E,[1]집계최종!AI$29,[1]DATA!$AB:$AB,[1]집계최종!$AD$28) -> 0 | AJ46: =SUM(AK46:AQ46) -> 0 | AK46: =COUNTIFS([1]DATA!$AA:$AA,[1]집계최종!$C46,[1]DATA!$E:$E,[1]집계최종!AK$29,[1]DATA!$AB:$AB,[1]집계최종!$AL$28) -> 0 | AL46: =COUNTIFS([1]DATA!$AA:$AA,[1]집계최종!$C46,[1]DATA!$E:$E,[1]집계최종!AL$29,[1]DATA!$AB:$AB,[1]집계최종!$AL$28) -> 0 | AM46: =COUNTIFS([1]DATA!$AA:$AA,[1]집계최종!$C46,[1]DATA!$E:$E,[1]집계최종!AM$29,[1]DATA!$AB:$AB,[1]집계최종!$AL$28) -> 0 | AN46: =COUNTIFS([1]DATA!$AA:$AA,[1]집계최종!$C46,[1]DATA!$E:$E,[1]집계최종!AN$29,[1]DATA!$AB:$AB,[1]집계최종!$AL$28) -> 0 | AO46: =COUNTIFS([1]DATA!$AA:$AA,[1]집계최종!$C46,[1]DATA!$E:$E,[1]집계최종!AO$29,[1]DATA!$AB:$AB,[1]집계최종!$AL$28) -> 0 | AP46: =COUNTIFS([1]DATA!$AA:$AA,[1]집계최종!$C46,[1]DATA!$E:$E,[1]집계최종!AP$29,[1]DATA!$AB:$AB,[1]집계최종!$AL$28) -> 0 | AQ46: =COUNTIFS([1]DATA!$AA:$AA,[1]집계최종!$C46,[1]DATA!$E:$E,[1]집계최종!AQ$29,[1]DATA!$AB:$AB,[1]집계최종!$AL$28) -> 0
C47: 차량등록사업소 | D47: =SUM(E47:K47) -> 2 | E47: =COUNTIFS([1]DATA!$AA:$AA,[1]집계최종!$C20,[1]DATA!$E:$E,[1]집계최종!E$29) -> 0 | F47: =COUNTIFS([1]DATA!$AA:$AA,[1]집계최종!$C20,[1]DATA!$E:$E,[1]집계최종!F$29) -> 1 | G47: =COUNTIFS([1]DATA!$AA:$AA,[1]집계최종!$C20,[1]DATA!$E:$E,[1]집계최종!G$29) -> 1 | H47: =COUNTIFS([1]DATA!$AA:$AA,[1]집계최종!$C20,[1]DATA!$E:$E,[1]집계최종!H$29) -> 0 | I47: =COUNTIFS([1]DATA!$AA:$AA,[1]집계최종!$C20,[1]DATA!$E:$E,[1]집계최종!I$29) -> 0 | J47: =COUNTIFS([1]DATA!$AA:$AA,[1]집계최종!$C20,[1]DATA!$E:$E,[1]집계최종!J$29) -> 0 | K47: =COUNTIFS([1]DATA!$AA:$AA,[1]집계최종!$C20,[1]DATA!$E:$E,[1]집계최종!K$29) -> 0 | L47: =SUM(M47:S47) -> 2 | M47: =COUNTIFS([1]DATA!$AA:$AA,[1]집계최종!$C47,[1]DATA!$E:$E,[1]집계최종!E$29,[1]DATA!$AB:$AB,[1]집계최종!$N$28) -> 0 | N47: =COUNTIFS([1]DATA!$AA:$AA,[1]집계최종!$C47,[1]DATA!$E:$E,[1]집계최종!F$29,[1]DATA!$AB:$AB,[1]집계최종!$N$28) -> 1 | O47: =COUNTIFS([1]DATA!$AA:$AA,[1]집계최종!$C47,[1]DATA!$E:$E,[1]집계최종!G$29,[1]DATA!$AB:$AB,[1]집계최종!$N$28) -> 1 | P47: =COUNTIFS([1]DATA!$AA:$AA,[1]집계최종!$C47,[1]DATA!$E:$E,[1]집계최종!H$29,[1]DATA!$AB:$AB,[1]집계최종!$N$28) -> 0 | Q47: =COUNTIFS([1]DATA!$AA:$AA,[1]집계최종!$C47,[1]DATA!$E:$E,[1]집계최종!I$29,[1]DATA!$AB:$AB,[1]집계최종!$N$28) -> 0 | R47: =COUNTIFS([1]DATA!$AA:$AA,[1]집계최종!$C47,[1]DATA!$E:$E,[1]집계최종!J$29,[1]DATA!$AB:$AB,[1]집계최종!$N$28) -> 0 | S47: =COUNTIFS([1]DATA!$AA:$AA,[1]집계최종!$C47,[1]DATA!$E:$E,[1]집계최종!K$29,[1]DATA!$AB:$AB,[1]집계최종!$N$28) -> 0 | T47: =SUM(U47:AA47) -> 0 | U47: =COUNTIFS([1]DATA!$AA:$AA,[1]집계최종!$C47,[1]DATA!$E:$E,[1]집계최종!U$29,[1]DATA!$AB:$AB,[1]집계최종!$V$28) -> 0 | V47: =COUNTIFS([1]DATA!$AA:$AA,[1]집계최종!$C47,[1]DATA!$E:$E,[1]집계최종!V$29,[1]DATA!$AB:$AB,[1]집계최종!$V$28) -> 0 | W47: =COUNTIFS([1]DATA!$AA:$AA,[1]집계최종!$C47,[1]DATA!$E:$E,[1]집계최종!W$29,[1]DATA!$AB:$AB,[1]집계최종!$V$28) -> 0 | X47: =COUNTIFS([1]DATA!$AA:$AA,[1]집계최종!$C47,[1]DATA!$E:$E,[1]집계최종!X$29,[1]DATA!$AB:$AB,[1]집계최종!$V$28) -> 0 | Y47: =COUNTIFS([1]DATA!$AA:$AA,[1]집계최종!$C47,[1]DATA!$E:$E,[1]집계최종!Y$29,[1]DATA!$AB:$AB,[1]집계최종!$V$28) -> 0 | Z47: =COUNTIFS([1]DATA!$AA:$AA,[1]집계최종!$C47,[1]DATA!$E:$E,[1]집계최종!Z$29,[1]DATA!$AB:$AB,[1]집계최종!$V$28) -> 0 | AA47: =COUNTIFS([1]DATA!$AA:$AA,[1]집계최종!$C47,[1]DATA!$E:$E,[1]집계최종!AA$29,[1]DATA!$AB:$AB,[1]집계최종!$V$28) -> 0 | AB47: =SUM(AC47:AI47) -> 0 | AC47: =COUNTIFS([1]DATA!$AA:$AA,[1]집계최종!$C47,[1]DATA!$E:$E,[1]집계최종!AC$29,[1]DATA!$AB:$AB,[1]집계최종!$AD$28) -> 0 | AD47: =COUNTIFS([1]DATA!$AA:$AA,[1]집계최종!$C47,[1]DATA!$E:$E,[1]집계최종!AD$29,[1]DATA!$AB:$AB,[1]집계최종!$AD$28) -> 0 | AE47: =COUNTIFS([1]DATA!$AA:$AA,[1]집계최종!$C47,[1]DATA!$E:$E,[1]집계최종!AE$29,[1]DATA!$AB:$AB,[1]집계최종!$AD$28) -> 0 | AF47: =COUNTIFS([1]DATA!$AA:$AA,[1]집계최종!$C47,[1]DATA!$E:$E,[1]집계최종!AF$29,[1]DATA!$AB:$AB,[1]집계최종!$AD$28) -> 0 | AG47: =COUNTIFS([1]DATA!$AA:$AA,[1]집계최종!$C47,[1]DATA!$E:$E,[1]집계최종!AG$29,[1]DATA!$AB:$AB,[1]집계최종!$AD$28) -> 0 | AH47: =COUNTIFS([1]DATA!$AA:$AA,[1]집계최종!$C47,[1]DATA!$E:$E,[1]집계최종!AH$29,[1]DATA!$AB:$AB,[1]집계최종!$AD$28) -> 0 | AI47: =COUNTIFS([1]DATA!$AA:$AA,[1]집계최종!$C47,[1]DATA!$E:$E,[1]집계최종!AI$29,[1]DATA!$AB:$AB,[1]집계최종!$AD$28) -> 0 | AJ47: =SUM(AK47:AQ47) -> 0 | AK47: =COUNTIFS([1]DATA!$AA:$AA,[1]집계최종!$C47,[1]DATA!$E:$E,[1]집계최종!AK$29,[1]DATA!$AB:$AB,[1]집계최종!$AL$28) -> 0 | AL47: =COUNTIFS([1]DATA!$AA:$AA,[1]집계최종!$C47,[1]DATA!$E:$E,[1]집계최종!AL$29,[1]DATA!$AB:$AB,[1]집계최종!$AL$28) -> 0 | AM47: =COUNTIFS([1]DATA!$AA:$AA,[1]집계최종!$C47,[1]DATA!$E:$E,[1]집계최종!AM$29,[1]DATA!$AB:$AB,[1]집계최종!$AL$28) -> 0 | AN47: =COUNTIFS([1]DATA!$AA:$AA,[1]집계최종!$C47,[1]DATA!$E:$E,[1]집계최종!AN$29,[1]DATA!$AB:$AB,[1]집계최종!$AL$28) -> 0 | AO47: =COUNTIFS([1]DATA!$AA:$AA,[1]집계최종!$C47,[1]DATA!$E:$E,[1]집계최종!AO$29,[1]DATA!$AB:$AB,[1]집계최종!$AL$28) -> 0 | AP47: =COUNTIFS([1]DATA!$AA:$AA,[1]집계최종!$C47,[1]DATA!$E:$E,[1]집계최종!AP$29,[1]DATA!$AB:$AB,[1]집계최종!$AL$28) -> 0 | AQ47: =COUNTIFS([1]DATA!$AA:$AA,[1]집계최종!$C47,[1]DATA!$E:$E,[1]집계최종!AQ$29,[1]DATA!$AB:$AB,[1]집계최종!$AL$28) -> 0
C48: 장례문화사업소 | D48: =SUM(E48:K48) -> 2 | E48: =COUNTIFS([1]DATA!$AA:$AA,[1]집계최종!$C21,[1]DATA!$E:$E,[1]집계최종!E$29) -> 1 | F48: =COUNTIFS([1]DATA!$AA:$AA,[1]집계최종!$C21,[1]DATA!$E:$E,[1]집계최종!F$29) -> 0 | G48: =COUNTIFS([1]DATA!$AA:$AA,[1]집계최종!$C21,[1]DATA!$E:$E,[1]집계최종!G$29) -> 1 | H48: =COUNTIFS([1]DATA!$AA:$AA,[1]집계최종!$C21,[1]DATA!$E:$E,[1]집계최종!H$29) -> 0 | I48: =COUNTIFS([1]DATA!$AA:$AA,[1]집계최종!$C21,[1]DATA!$E:$E,[1]집계최종!I$29) -> 0 | J48: =COUNTIFS([1]DATA!$AA:$AA,[1]집계최종!$C21,[1]DATA!$E:$E,[1]집계최종!J$29) -> 0 | K48: =COUNTIFS([1]DATA!$AA:$AA,[1]집계최종!$C21,[1]DATA!$E:$E,[1]집계최종!K$29) -> 0 | L48: =SUM(M48:S48) -> 1 | M48: =COUNTIFS([1]DATA!$AA:$AA,[1]집계최종!$C48,[1]DATA!$E:$E,[1]집계최종!E$29,[1]DATA!$AB:$AB,[1]집계최종!$N$28) -> 0 | N48: =COUNTIFS([1]DATA!$AA:$AA,[1]집계최종!$C48,[1]DATA!$E:$E,[1]집계최종!F$29,[1]DATA!$AB:$AB,[1]집계최종!$N$28) -> 0 | O48: =COUNTIFS([1]DATA!$AA:$AA,[1]집계최종!$C48,[1]DATA!$E:$E,[1]집계최종!G$29,[1]DATA!$AB:$AB,[1]집계최종!$N$28) -> 1 | P48: =COUNTIFS([1]DATA!$AA:$AA,[1]집계최종!$C48,[1]DATA!$E:$E,[1]집계최종!H$29,[1]DATA!$AB:$AB,[1]집계최종!$N$28) -> 0 | Q48: =COUNTIFS([1]DATA!$AA:$AA,[1]집계최종!$C48,[1]DATA!$E:$E,[1]집계최종!I$29,[1]DATA!$AB:$AB,[1]집계최종!$N$28) -> 0 | R48: =COUNTIFS([1]DATA!$AA:$AA,[1]집계최종!$C48,[1]DATA!$E:$E,[1]집계최종!J$29,[1]DATA!$AB:$AB,[1]집계최종!$N$28) -> 0 | S48: =COUNTIFS([1]DATA!$AA:$AA,[1]집계최종!$C48,[1]DATA!$E:$E,[1]집계최종!K$29,[1]DATA!$AB:$AB,[1]집계최종!$N$28) -> 0 | T48: =SUM(U48:AA48) -> 0 | U48: =COUNTIFS([1]DATA!$AA:$AA,[1]집계최종!$C48,[1]DATA!$E:$E,[1]집계최종!U$29,[1]DATA!$AB:$AB,[1]집계최종!$V$28) -> 0 | V48: =COUNTIFS([1]DATA!$AA:$AA,[1]집계최종!$C48,[1]DATA!$E:$E,[1]집계최종!V$29,[1]DATA!$AB:$AB,[1]집계최종!$V$28) -> 0 | W48: =COUNTIFS([1]DATA!$AA:$AA,[1]집계최종!$C48,[1]DATA!$E:$E,[1]집계최종!W$29,[1]DATA!$AB:$AB,[1]집계최종!$V$28) -> 0 | X48: =COUNTIFS([1]DATA!$AA:$AA,[1]집계최종!$C48,[1]DATA!$E:$E,[1]집계최종!X$29,[1]DATA!$AB:$AB,[1]집계최종!$V$28) -> 0 | Y48: =COUNTIFS([1]DATA!$AA:$AA,[1]집계최종!$C48,[1]DATA!$E:$E,[1]집계최종!Y$29,[1]DATA!$AB:$AB,[1]집계최종!$V$28) -> 0 | Z48: =COUNTIFS([1]DATA!$AA:$AA,[1]집계최종!$C48,[1]DATA!$E:$E,[1]집계최종!Z$29,[1]DATA!$AB:$AB,[1]집계최종!$V$28) -> 0 | AA48: =COUNTIFS([1]DATA!$AA:$AA,[1]집계최종!$C48,[1]DATA!$E:$E,[1]집계최종!AA$29,[1]DATA!$AB:$AB,[1]집계최종!$V$28) -> 0 | AB48: =SUM(AC48:AI48) -> 1 | AC48: =COUNTIFS([1]DATA!$AA:$AA,[1]집계최종!$C48,[1]DATA!$E:$E,[1]집계최종!AC$29,[1]DATA!$AB:$AB,[1]집계최종!$AD$28) -> 1 | AD48: =COUNTIFS([1]DATA!$AA:$AA,[1]집계최종!$C48,[1]DATA!$E:$E,[1]집계최종!AD$29,[1]DATA!$AB:$AB,[1]집계최종!$AD$28) -> 0 | AE48: =COUNTIFS([1]DATA!$AA:$AA,[1]집계최종!$C48,[1]DATA!$E:$E,[1]집계최종!AE$29,[1]DATA!$AB:$AB,[1]집계최종!$AD$28) -> 0 | AF48: =COUNTIFS([1]DATA!$AA:$AA,[1]집계최종!$C48,[1]DATA!$E:$E,[1]집계최종!AF$29,[1]DATA!$AB:$AB,[1]집계최종!$AD$28) -> 0 | AG48: =COUNTIFS([1]DATA!$AA:$AA,[1]집계최종!$C48,[1]DATA!$E:$E,[1]집계최종!AG$29,[1]DATA!$AB:$AB,[1]집계최종!$AD$28) -> 0 | AH48: =COUNTIFS([1]DATA!$AA:$AA,[1]집계최종!$C48,[1]DATA!$E:$E,[1]집계최종!AH$29,[1]DATA!$AB:$AB,[1]집계최종!$AD$28) -> 0 | AI48: =COUNTIFS([1]DATA!$AA:$AA,[1]집계최종!$C48,[1]DATA!$E:$E,[1]집계최종!AI$29,[1]DATA!$AB:$AB,[1]집계최종!$AD$28) -> 0 | AJ48: =SUM(AK48:AQ48) -> 0 | AK48: =COUNTIFS([1]DATA!$AA:$AA,[1]집계최종!$C48,[1]DATA!$E:$E,[1]집계최종!AK$29,[1]DATA!$AB:$AB,[1]집계최종!$AL$28) -> 0 | AL48: =COUNTIFS([1]DATA!$AA:$AA,[1]집계최종!$C48,[1]DATA!$E:$E,[1]집계최종!AL$29,[1]DATA!$AB:$AB,[1]집계최종!$AL$28) -> 0 | AM48: =COUNTIFS([1]DATA!$AA:$AA,[1]집계최종!$C48,[1]DATA!$E:$E,[1]집계최종!AM$29,[1]DATA!$AB:$AB,[1]집계최종!$AL$28) -> 0 | AN48: =COUNTIFS([1]DATA!$AA:$AA,[1]집계최종!$C48,[1]DATA!$E:$E,[1]집계최종!AN$29,[1]DATA!$AB:$AB,[1]집계최종!$AL$28) -> 0 | AO48: =COUNTIFS([1]DATA!$AA:$AA,[1]집계최종!$C48,[1]DATA!$E:$E,[1]집계최종!AO$29,[1]DATA!$AB:$AB,[1]집계최종!$AL$28) -> 0 | AP48: =COUNTIFS([1]DATA!$AA:$AA,[1]집계최종!$C48,[1]DATA!$E:$E,[1]집계최종!AP$29,[1]DATA!$AB:$AB,[1]집계최종!$AL$28) -> 0 | AQ48: =COUNTIFS([1]DATA!$AA:$AA,[1]집계최종!$C48,[1]DATA!$E:$E,[1]집계최종!AQ$29,[1]DATA!$AB:$AB,[1]집계최종!$AL$28) -> 0
B49: 구청 | C49: 소계 | D49: =SUM(E49:K49) -> 198 | E49: =SUM(E50:E52) -> 82 | F49: =SUM(F50:F52) -> 6 | G49: =SUM(G50:G52) -> 58 | H49: =SUM(H50:H52) -> 22 | I49: =SUM(I50:I52) -> 6 | J49: =SUM(J50:J52) -> 12 | K49: =SUM(K50:K52) -> 12 | L49: =SUM(M49:S49) -> 93 | M49: =SUM(M50:M52) -> 2 | N49: =SUM(N50:N52) -> 6 | O49: =SUM(O50:O52) -> 58 | P49: =SUM(P50:P52) -> 21 | Q49: =SUM(Q50:Q52) -> 6 | R49: =SUM(R50:R52) -> 0 | S49: =SUM(S50:S52) -> 0 | T49: =SUM(U49:AA49) -> 4 | U49: =SUM(U50:U52) -> 4 | V49: =SUM(V50:V52) -> 0 | W49: =SUM(W50:W52) -> 0 | X49: =SUM(X50:X52) -> 0 | Y49: =SUM(Y50:Y52) -> 0 | Z49: =SUM(Z50:Z52) -> 0 | AA49: =SUM(AA50:AA52) -> 0 | AB49: =SUM(AC49:AI49) -> 71 | AC49: =SUM(AC50:AC52) -> 59 | AD49: =SUM(AD50:AD52) -> 0 | AE49: =SUM(AE50:AE52) -> 0 | AF49: =SUM(AF50:AF52) -> 1 | AG49: =SUM(AG50:AG52) -> 0 | AH49: =SUM(AH50:AH52) -> 0 | AI49: =SUM(AI50:AI52) -> 11 | AJ49: =SUM(AK49:AQ49) -> 30 | AK49: =SUM(AK50:AK52) -> 17 | AL49: =SUM(AL50:AL52) -> 0 | AM49: =SUM(AM50:AM52) -> 0 | AN49: =SUM(AN50:AN52) -> 0 | AO49: =SUM(AO50:AO52) -> 0 | AP49: =SUM(AP50:AP52) -> 12 | AQ49: =SUM(AQ50:AQ52) -> 1
C50: 수정구 | D50: =SUM(E50:K50) -> 61 | E50: =COUNTIFS([1]DATA!$AA:$AA,[1]집계최종!$C23,[1]DATA!$E:$E,[1]집계최종!E$29) -> 23 | F50: =COUNTIFS([1]DATA!$AA:$AA,[1]집계최종!$C23,[1]DATA!$E:$E,[1]집계최종!F$29) -> 1 | G50: =COUNTIFS([1]DATA!$AA:$AA,[1]집계최종!$C23,[1]DATA!$E:$E,[1]집계최종!G$29) -> 20 | H50: =COUNTIFS([1]DATA!$AA:$AA,[1]집계최종!$C23,[1]DATA!$E:$E,[1]집계최종!H$29) -> 7 | I50: =COUNTIFS([1]DATA!$AA:$AA,[1]집계최종!$C23,[1]DATA!$E:$E,[1]집계최종!I$29) -> 1 | J50: =COUNTIFS([1]DATA!$AA:$AA,[1]집계최종!$C23,[1]DATA!$E:$E,[1]집계최종!J$29) -> 5 | K50: =COUNTIFS([1]DATA!$AA:$AA,[1]집계최종!$C23,[1]DATA!$E:$E,[1]집계최종!K$29) -> 4 | L50: =SUM(M50:S50) -> 29 | M50: =COUNTIFS([1]DATA!$AA:$AA,[1]집계최종!$C50,[1]DATA!$E:$E,[1]집계최종!E$29,[1]DATA!$AB:$AB,[1]집계최종!$N$28) -> 1 | N50: =COUNTIFS([1]DATA!$AA:$AA,[1]집계최종!$C50,[1]DATA!$E:$E,[1]집계최종!F$29,[1]DATA!$AB:$AB,[1]집계최종!$N$28) -> 1 | O50: =COUNTIFS([1]DATA!$AA:$AA,[1]집계최종!$C50,[1]DATA!$E:$E,[1]집계최종!G$29,[1]DATA!$AB:$AB,[1]집계최종!$N$28) -> 20 | P50: =COUNTIFS([1]DATA!$AA:$AA,[1]집계최종!$C50,[1]DATA!$E:$E,[1]집계최종!H$29,[1]DATA!$AB:$AB,[1]집계최종!$N$28) -> 6 | Q50: =COUNTIFS([1]DATA!$AA:$AA,[1]집계최종!$C50,[1]DATA!$E:$E,[1]집계최종!I$29,[1]DATA!$AB:$AB,[1]집계최종!$N$28) -> 1 | R50: =COUNTIFS([1]DATA!$AA:$AA,[1]집계최종!$C50,[1]DATA!$E:$E,[1]집계최종!J$29,[1]DATA!$AB:$AB,[1]집계최종!$N$28) -> 0 | S50: =COUNTIFS([1]DATA!$AA:$AA,[1]집계최종!$C50,[1]DATA!$E:$E,[1]집계최종!K$29,[1]DATA!$AB:$AB,[1]집계최종!$N$28) -> 0 | T50: =SUM(U50:AA50) -> 1 | U50: =COUNTIFS([1]DATA!$AA:$AA,[1]집계최종!$C50,[1]DATA!$E:$E,[1]집계최종!U$29,[1]DATA!$AB:$AB,[1]집계최종!$V$28) -> 1 | V50: =COUNTIFS([1]DATA!$AA:$AA,[1]집계최종!$C50,[1]DATA!$E:$E,[1]집계최종!V$29,[1]DATA!$AB:$AB,[1]집계최종!$V$28) -> 0 | W50: =COUNTIFS([1]DATA!$AA:$AA,[1]집계최종!$C50,[1]DATA!$E:$E,[1]집계최종!W$29,[1]DATA!$AB:$AB,[1]집계최종!$V$28) -> 0 | X50: =COUNTIFS([1]DATA!$AA:$AA,[1]집계최종!$C50,[1]DATA!$E:$E,[1]집계최종!X$29,[1]DATA!$AB:$AB,[1]집계최종!$V$28) -> 0 | Y50: =COUNTIFS([1]DATA!$AA:$AA,[1]집계최종!$C50,[1]DATA!$E:$E,[1]집계최종!Y$29,[1]DATA!$AB:$AB,[1]집계최종!$V$28) -> 0 | Z50: =COUNTIFS([1]DATA!$AA:$AA,[1]집계최종!$C50,[1]DATA!$E:$E,[1]집계최종!Z$29,[1]DATA!$AB:$AB,[1]집계최종!$V$28) -> 0 | AA50: =COUNTIFS([1]DATA!$AA:$AA,[1]집계최종!$C50,[1]DATA!$E:$E,[1]집계최종!AA$29,[1]DATA!$AB:$AB,[1]집계최종!$V$28) -> 0 | AB50: =SUM(AC50:AI50) -> 21 | AC50: =COUNTIFS([1]DATA!$AA:$AA,[1]집계최종!$C50,[1]DATA!$E:$E,[1]집계최종!AC$29,[1]DATA!$AB:$AB,[1]집계최종!$AD$28) -> 16 | AD50: =COUNTIFS([1]DATA!$AA:$AA,[1]집계최종!$C50,[1]DATA!$E:$E,[1]집계최종!AD$29,[1]DATA!$AB:$AB,[1]집계최종!$AD$28) -> 0 | AE50: =COUNTIFS([1]DATA!$AA:$AA,[1]집계최종!$C50,[1]DATA!$E:$E,[1]집계최종!AE$29,[1]DATA!$AB:$AB,[1]집계최종!$AD$28) -> 0 | AF50: =COUNTIFS([1]DATA!$AA:$AA,[1]집계최종!$C50,[1]DATA!$E:$E,[1]집계최종!AF$29,[1]DATA!$AB:$AB,[1]집계최종!$AD$28) -> 1 | AG50: =COUNTIFS([1]DATA!$AA:$AA,[1]집계최종!$C50,[1]DATA!$E:$E,[1]집계최종!AG$29,[1]DATA!$AB:$AB,[1]집계최종!$AD$28) -> 0 | AH50: =COUNTIFS([1]DATA!$AA:$AA,[1]집계최종!$C50,[1]DATA!$E:$E,[1]집계최종!AH$29,[1]DATA!$AB:$AB,[1]집계최종!$AD$28) -> 0 | AI50: =COUNTIFS([1]DATA!$AA:$AA,[1]집계최종!$C50,[1]DATA!$E:$E,[1]집계최종!AI$29,[1]DATA!$AB:$AB,[1]집계최종!$AD$28) -> 4 | AJ50: =SUM(AK50:AQ50) -> 10 | AK50: =COUNTIFS([1]DATA!$AA:$AA,[1]집계최종!$C50,[1]DATA!$E:$E,[1]집계최종!AK$29,[1]DATA!$AB:$AB,[1]집계최종!$AL$28) -> 5 | AL50: =COUNTIFS([1]DATA!$AA:$AA,[1]집계최종!$C50,[1]DATA!$E:$E,[1]집계최종!AL$29,[1]DATA!$AB:$AB,[1]집계최종!$AL$28) -> 0 | AM50: =COUNTIFS([1]DATA!$AA:$AA,[1]집계최종!$C50,[1]DATA!$E:$E,[1]집계최종!AM$29,[1]DATA!$AB:$AB,[1]집계최종!$AL$28) -> 0 | AN50: =COUNTIFS([1]DATA!$AA:$AA,[1]집계최종!$C50,[1]DATA!$E:$E,[1]집계최종!AN$29,[1]DATA!$AB:$AB,[1]집계최종!$AL$28) -> 0 | AO50: =COUNTIFS([1]DATA!$AA:$AA,[1]집계최종!$C50,[1]DATA!$E:$E,[1]집계최종!AO$29,[1]DATA!$AB:$AB,[1]집계최종!$AL$28) -> 0 | AP50: =COUNTIFS([1]DATA!$AA:$AA,[1]집계최종!$C50,[1]DATA!$E:$E,[1]집계최종!AP$29,[1]DATA!$AB:$AB,[1]집계최종!$AL$28) -> 5 | AQ50: =COUNTIFS([1]DATA!$AA:$AA,[1]집계최종!$C50,[1]DATA!$E:$E,[1]집계최종!AQ$29,[1]DATA!$AB:$AB,[1]집계최종!$AL$28) -> 0
C51: 중원구 | D51: =SUM(E51:K51) -> 57 | E51: =COUNTIFS([1]DATA!$AA:$AA,[1]집계최종!$C24,[1]DATA!$E:$E,[1]집계최종!E$29) -> 23 | F51: =COUNTIFS([1]DATA!$AA:$AA,[1]집계최종!$C24,[1]DATA!$E:$E,[1]집계최종!F$29) -> 1 | G51: =COUNTIFS([1]DATA!$AA:$AA,[1]집계최종!$C24,[1]DATA!$E:$E,[1]집계최종!G$29) -> 16 | H51: =COUNTIFS([1]DATA!$AA:$AA,[1]집계최종!$C24,[1]DATA!$E:$E,[1]집계최종!H$29) -> 5 | I51: =COUNTIFS([1]DATA!$AA:$AA,[1]집계최종!$C24,[1]DATA!$E:$E,[1]집계최종!I$29) -> 4 | J51: =COUNTIFS([1]DATA!$AA:$AA,[1]집계최종!$C24,[1]DATA!$E:$E,[1]집계최종!J$29) -> 3 | K51: =COUNTIFS([1]DATA!$AA:$AA,[1]집계최종!$C24,[1]DATA!$E:$E,[1]집계최종!K$29) -> 5 | L51: =SUM(M51:S51) -> 27 | M51: =COUNTIFS([1]DATA!$AA:$AA,[1]집계최종!$C51,[1]DATA!$E:$E,[1]집계최종!E$29,[1]DATA!$AB:$AB,[1]집계최종!$N$28) -> 1 | N51: =COUNTIFS([1]DATA!$AA:$AA,[1]집계최종!$C51,[1]DATA!$E:$E,[1]집계최종!F$29,[1]DATA!$AB:$AB,[1]집계최종!$N$28) -> 1 | O51: =COUNTIFS([1]DATA!$AA:$AA,[1]집계최종!$C51,[1]DATA!$E:$E,[1]집계최종!G$29,[1]DATA!$AB:$AB,[1]집계최종!$N$28) -> 16 | P51: =COUNTIFS([1]DATA!$AA:$AA,[1]집계최종!$C51,[1]DATA!$E:$E,[1]집계최종!H$29,[1]DATA!$AB:$AB,[1]집계최종!$N$28) -> 5 | Q51: =COUNTIFS([1]DATA!$AA:$AA,[1]집계최종!$C51,[1]DATA!$E:$E,[1]집계최종!I$29,[1]DATA!$AB:$AB,[1]집계최종!$N$28) -> 4 | R51: =COUNTIFS([1]DATA!$AA:$AA,[1]집계최종!$C51,[1]DATA!$E:$E,[1]집계최종!J$29,[1]DATA!$AB:$AB,[1]집계최종!$N$28) -> 0 | S51: =COUNTIFS([1]DATA!$AA:$AA,[1]집계최종!$C51,[1]DATA!$E:$E,[1]집계최종!K$29,[1]DATA!$AB:$AB,[1]집계최종!$N$28) -> 0 | T51: =SUM(U51:AA51) -> 1 | U51: =COUNTIFS([1]DATA!$AA:$AA,[1]집계최종!$C51,[1]DATA!$E:$E,[1]집계최종!U$29,[1]DATA!$AB:$AB,[1]집계최종!$V$28) -> 1 | V51: =COUNTIFS([1]DATA!$AA:$AA,[1]집계최종!$C51,[1]DATA!$E:$E,[1]집계최종!V$29,[1]DATA!$AB:$AB,[1]집계최종!$V$28) -> 0 | W51: =COUNTIFS([1]DATA!$AA:$AA,[1]집계최종!$C51,[1]DATA!$E:$E,[1]집계최종!W$29,[1]DATA!$AB:$AB,[1]집계최종!$V$28) -> 0 | X51: =COUNTIFS([1]DATA!$AA:$AA,[1]집계최종!$C51,[1]DATA!$E:$E,[1]집계최종!X$29,[1]DATA!$AB:$AB,[1]집계최종!$V$28) -> 0 | Y51: =COUNTIFS([1]DATA!$AA:$AA,[1]집계최종!$C51,[1]DATA!$E:$E,[1]집계최종!Y$29,[1]DATA!$AB:$AB,[1]집계최종!$V$28) -> 0 | Z51: =COUNTIFS([1]DATA!$AA:$AA,[1]집계최종!$C51,[1]DATA!$E:$E,[1]집계최종!Z$29,[1]DATA!$AB:$AB,[1]집계최종!$V$28) -> 0 | AA51: =COUNTIFS([1]DATA!$AA:$AA,[1]집계최종!$C51,[1]DATA!$E:$E,[1]집계최종!AA$29,[1]DATA!$AB:$AB,[1]집계최종!$V$28) -> 0 | AB51: =SUM(AC51:AI51) -> 18 | AC51: =COUNTIFS([1]DATA!$AA:$AA,[1]집계최종!$C51,[1]DATA!$E:$E,[1]집계최종!AC$29,[1]DATA!$AB:$AB,[1]집계최종!$AD$28) -> 13 | AD51: =COUNTIFS([1]DATA!$AA:$AA,[1]집계최종!$C51,[1]DATA!$E:$E,[1]집계최종!AD$29,[1]DATA!$AB:$AB,[1]집계최종!$AD$28) -> 0 | AE51: =COUNTIFS([1]DATA!$AA:$AA,[1]집계최종!$C51,[1]DATA!$E:$E,[1]집계최종!AE$29,[1]DATA!$AB:$AB,[1]집계최종!$AD$28) -> 0 | AF51: =COUNTIFS([1]DATA!$AA:$AA,[1]집계최종!$C51,[1]DATA!$E:$E,[1]집계최종!AF$29,[1]DATA!$AB:$AB,[1]집계최종!$AD$28) -> 0 | AG51: =COUNTIFS([1]DATA!$AA:$AA,[1]집계최종!$C51,[1]DATA!$E:$E,[1]집계최종!AG$29,[1]DATA!$AB:$AB,[1]집계최종!$AD$28) -> 0 | AH51: =COUNTIFS([1]DATA!$AA:$AA,[1]집계최종!$C51,[1]DATA!$E:$E,[1]집계최종!AH$29,[1]DATA!$AB:$AB,[1]집계최종!$AD$28) -> 0 | AI51: =COUNTIFS([1]DATA!$AA:$AA,[1]집계최종!$C51,[1]DATA!$E:$E,[1]집계최종!AI$29,[1]DATA!$AB:$AB,[1]집계최종!$AD$28) -> 5 | AJ51: =SUM(AK51:AQ51) -> 11 | AK51: =COUNTIFS([1]DATA!$AA:$AA,[1]집계최종!$C51,[1]DATA!$E:$E,[1]집계최종!AK$29,[1]DATA!$AB:$AB,[1]집계최종!$AL$28) -> 8 | AL51: =COUNTIFS([1]DATA!$AA:$AA,[1]집계최종!$C51,[1]DATA!$E:$E,[1]집계최종!AL$29,[1]DATA!$AB:$AB,[1]집계최종!$AL$28) -> 0 | AM51: =COUNTIFS([1]DATA!$AA:$AA,[1]집계최종!$C51,[1]DATA!$E:$E,[1]집계최종!AM$29,[1]DATA!$AB:$AB,[1]집계최종!$AL$28) -> 0 | AN51: =COUNTIFS([1]DATA!$AA:$AA,[1]집계최종!$C51,[1]DATA!$E:$E,[1]집계최종!AN$29,[1]DATA!$AB:$AB,[1]집계최종!$AL$28) -> 0 | AO51: =COUNTIFS([1]DATA!$AA:$AA,[1]집계최종!$C51,[1]DATA!$E:$E,[1]집계최종!AO$29,[1]DATA!$AB:$AB,[1]집계최종!$AL$28) -> 0 | AP51: =COUNTIFS([1]DATA!$AA:$AA,[1]집계최종!$C51,[1]DATA!$E:$E,[1]집계최종!AP$29,[1]DATA!$AB:$AB,[1]집계최종!$AL$28) -> 3 | AQ51: =COUNTIFS([1]DATA!$AA:$AA,[1]집계최종!$C51,[1]DATA!$E:$E,[1]집계최종!AQ$29,[1]DATA!$AB:$AB,[1]집계최종!$AL$28) -> 0
C52: 분당구 | D52: =SUM(E52:K52) -> 80 | E52: =COUNTIFS([1]DATA!$AA:$AA,[1]집계최종!$C25,[1]DATA!$E:$E,[1]집계최종!E$29) -> 36 | F52: =COUNTIFS([1]DATA!$AA:$AA,[1]집계최종!$C25,[1]DATA!$E:$E,[1]집계최종!F$29) -> 4 | G52: =COUNTIFS([1]DATA!$AA:$AA,[1]집계최종!$C25,[1]DATA!$E:$E,[1]집계최종!G$29) -> 22 | H52: =COUNTIFS([1]DATA!$AA:$AA,[1]집계최종!$C25,[1]DATA!$E:$E,[1]집계최종!H$29) -> 10 | I52: =COUNTIFS([1]DATA!$AA:$AA,[1]집계최종!$C25,[1]DATA!$E:$E,[1]집계최종!I$29) -> 1 | J52: =COUNTIFS([1]DATA!$AA:$AA,[1]집계최종!$C25,[1]DATA!$E:$E,[1]집계최종!J$29) -> 4 | K52: =COUNTIFS([1]DATA!$AA:$AA,[1]집계최종!$C25,[1]DATA!$E:$E,[1]집계최종!K$29) -> 3 | L52: =SUM(M52:S52) -> 37 | M52: =COUNTIFS([1]DATA!$AA:$AA,[1]집계최종!$C52,[1]DATA!$E:$E,[1]집계최종!E$29,[1]DATA!$AB:$AB,[1]집계최종!$N$28) -> 0 | N52: =COUNTIFS([1]DATA!$AA:$AA,[1]집계최종!$C52,[1]DATA!$E:$E,[1]집계최종!F$29,[1]DATA!$AB:$AB,[1]집계최종!$N$28) -> 4 | O52: =COUNTIFS([1]DATA!$AA:$AA,[1]집계최종!$C52,[1]DATA!$E:$E,[1]집계최종!G$29,[1]DATA!$AB:$AB,[1]집계최종!$N$28) -> 22 | P52: =COUNTIFS([1]DATA!$AA:$AA,[1]집계최종!$C52,[1]DATA!$E:$E,[1]집계최종!H$29,[1]DATA!$AB:$AB,[1]집계최종!$N$28) -> 10 | Q52: =COUNTIFS([1]DATA!$AA:$AA,[1]집계최종!$C52,[1]DATA!$E:$E,[1]집계최종!I$29,[1]DATA!$AB:$AB,[1]집계최종!$N$28) -> 1 | R52: =COUNTIFS([1]DATA!$AA:$AA,[1]집계최종!$C52,[1]DATA!$E:$E,[1]집계최종!J$29,[1]DATA!$AB:$AB,[1]집계최종!$N$28) -> 0 | S52: =COUNTIFS([1]DATA!$AA:$AA,[1]집계최종!$C52,[1]DATA!$E:$E,[1]집계최종!K$29,[1]DATA!$AB:$AB,[1]집계최종!$N$28) -> 0 | T52: =SUM(U52:AA52) -> 2 | U52: =COUNTIFS([1]DATA!$AA:$AA,[1]집계최종!$C52,[1]DATA!$E:$E,[1]집계최종!U$29,[1]DATA!$AB:$AB,[1]집계최종!$V$28) -> 2 | V52: =COUNTIFS([1]DATA!$AA:$AA,[1]집계최종!$C52,[1]DATA!$E:$E,[1]집계최종!V$29,[1]DATA!$AB:$AB,[1]집계최종!$V$28) -> 0 | W52: =COUNTIFS([1]DATA!$AA:$AA,[1]집계최종!$C52,[1]DATA!$E:$E,[1]집계최종!W$29,[1]DATA!$AB:$AB,[1]집계최종!$V$28) -> 0 | X52: =COUNTIFS([1]DATA!$AA:$AA,[1]집계최종!$C52,[1]DATA!$E:$E,[1]집계최종!X$29,[1]DATA!$AB:$AB,[1]집계최종!$V$28) -> 0 | Y52: =COUNTIFS([1]DATA!$AA:$AA,[1]집계최종!$C52,[1]DATA!$E:$E,[1]집계최종!Y$29,[1]DATA!$AB:$AB,[1]집계최종!$V$28) -> 0 | Z52: =COUNTIFS([1]DATA!$AA:$AA,[1]집계최종!$C52,[1]DATA!$E:$E,[1]집계최종!Z$29,[1]DATA!$AB:$AB,[1]집계최종!$V$28) -> 0 | AA52: =COUNTIFS([1]DATA!$AA:$AA,[1]집계최종!$C52,[1]DATA!$E:$E,[1]집계최종!AA$29,[1]DATA!$AB:$AB,[1]집계최종!$V$28) -> 0 | AB52: =SUM(AC52:AI52) -> 32 | AC52: =COUNTIFS([1]DATA!$AA:$AA,[1]집계최종!$C52,[1]DATA!$E:$E,[1]집계최종!AC$29,[1]DATA!$AB:$AB,[1]집계최종!$AD$28) -> 30 | AD52: =COUNTIFS([1]DATA!$AA:$AA,[1]집계최종!$C52,[1]DATA!$E:$E,[1]집계최종!AD$29,[1]DATA!$AB:$AB,[1]집계최종!$AD$28) -> 0 | AE52: =COUNTIFS([1]DATA!$AA:$AA,[1]집계최종!$C52,[1]DATA!$E:$E,[1]집계최종!AE$29,[1]DATA!$AB:$AB,[1]집계최종!$AD$28) -> 0 | AF52: =COUNTIFS([1]DATA!$AA:$AA,[1]집계최종!$C52,[1]DATA!$E:$E,[1]집계최종!AF$29,[1]DATA!$AB:$AB,[1]집계최종!$AD$28) -> 0 | AG52: =COUNTIFS([1]DATA!$AA:$AA,[1]집계최종!$C52,[1]DATA!$E:$E,[1]집계최종!AG$29,[1]DATA!$AB:$AB,[1]집계최종!$AD$28) -> 0 | AH52: =COUNTIFS([1]DATA!$AA:$AA,[1]집계최종!$C52,[1]DATA!$E:$E,[1]집계최종!AH$29,[1]DATA!$AB:$AB,[1]집계최종!$AD$28) -> 0 | AI52: =COUNTIFS([1]DATA!$AA:$AA,[1]집계최종!$C52,[1]DATA!$E:$E,[1]집계최종!AI$29,[1]DATA!$AB:$AB,[1]집계최종!$AD$28) -> 2 | AJ52: =SUM(AK52:AQ52) -> 9 | AK52: =COUNTIFS([1]DATA!$AA:$AA,[1]집계최종!$C52,[1]DATA!$E:$E,[1]집계최종!AK$29,[1]DATA!$AB:$AB,[1]집계최종!$AL$28) -> 4 | AL52: =COUNTIFS([1]DATA!$AA:$AA,[1]집계최종!$C52,[1]DATA!$E:$E,[1]집계최종!AL$29,[1]DATA!$AB:$AB,[1]집계최종!$AL$28) -> 0 | AM52: =COUNTIFS([1]DATA!$AA:$AA,[1]집계최종!$C52,[1]DATA!$E:$E,[1]집계최종!AM$29,[1]DATA!$AB:$AB,[1]집계최종!$AL$28) -> 0 | AN52: =COUNTIFS([1]DATA!$AA:$AA,[1]집계최종!$C52,[1]DATA!$E:$E,[1]집계최종!AN$29,[1]DATA!$AB:$AB,[1]집계최종!$AL$28) -> 0 | AO52: =COUNTIFS([1]DATA!$AA:$AA,[1]집계최종!$C52,[1]DATA!$E:$E,[1]집계최종!AO$29,[1]DATA!$AB:$AB,[1]집계최종!$AL$28) -> 0 | AP52: =COUNTIFS([1]DATA!$AA:$AA,[1]집계최종!$C52,[1]DATA!$E:$E,[1]집계최종!AP$29,[1]DATA!$AB:$AB,[1]집계최종!$AL$28) -> 4 | AQ52: =COUNTIFS([1]DATA!$AA:$AA,[1]집계최종!$C52,[1]DATA!$E:$E,[1]집계최종!AQ$29,[1]DATA!$AB:$AB,[1]집계최종!$AL$28) -> 1
B53: 동 | C53: 행정복지센터 | D53: =SUM(E53:K53) -> 99 | E53: =COUNTIFS([1]DATA!$AA:$AA,[1]집계최종!$C26,[1]DATA!$E:$E,[1]집계최종!E$29) -> 46 | F53: =COUNTIFS([1]DATA!$AA:$AA,[1]집계최종!$C26,[1]DATA!$E:$E,[1]집계최종!F$29) -> 0 | G53: =COUNTIFS([1]DATA!$AA:$AA,[1]집계최종!$C26,[1]DATA!$E:$E,[1]집계최종!G$29) -> 49 | H53: =COUNTIFS([1]DATA!$AA:$AA,[1]집계최종!$C26,[1]DATA!$E:$E,[1]집계최종!H$29) -> 0 | I53: =COUNTIFS([1]DATA!$AA:$AA,[1]집계최종!$C26,[1]DATA!$E:$E,[1]집계최종!I$29) -> 0 | J53: =COUNTIFS([1]DATA!$AA:$AA,[1]집계최종!$C26,[1]DATA!$E:$E,[1]집계최종!J$29) -> 0 | K53: =COUNTIFS([1]DATA!$AA:$AA,[1]집계최종!$C26,[1]DATA!$E:$E,[1]집계최종!K$29) -> 4 | L53: =SUM(M53:S53) -> 49 | M53: =COUNTIFS([1]DATA!$AA:$AA,[1]집계최종!$C53,[1]DATA!$E:$E,[1]집계최종!E$29,[1]DATA!$AB:$AB,[1]집계최종!$N$28) -> 0 | N53: =COUNTIFS([1]DATA!$AA:$AA,[1]집계최종!$C53,[1]DATA!$E:$E,[1]집계최종!F$29,[1]DATA!$AB:$AB,[1]집계최종!$N$28) -> 0 | O53: =COUNTIFS([1]DATA!$AA:$AA,[1]집계최종!$C53,[1]DATA!$E:$E,[1]집계최종!G$29,[1]DATA!$AB:$AB,[1]집계최종!$N$28) -> 49 | P53: =COUNTIFS([1]DATA!$AA:$AA,[1]집계최종!$C53,[1]DATA!$E:$E,[1]집계최종!H$29,[1]DATA!$AB:$AB,[1]집계최종!$N$28) -> 0 | Q53: =COUNTIFS([1]DATA!$AA:$AA,[1]집계최종!$C53,[1]DATA!$E:$E,[1]집계최종!I$29,[1]DATA!$AB:$AB,[1]집계최종!$N$28) -> 0 | R53: =COUNTIFS([1]DATA!$AA:$AA,[1]집계최종!$C53,[1]DATA!$E:$E,[1]집계최종!J$29,[1]DATA!$AB:$AB,[1]집계최종!$N$28) -> 0 | S53: =COUNTIFS([1]DATA!$AA:$AA,[1]집계최종!$C53,[1]DATA!$E:$E,[1]집계최종!K$29,[1]DATA!$AB:$AB,[1]집계최종!$N$28) -> 0 | T53: =SUM(U53:AA53) -> 0 | U53: =COUNTIFS([1]DATA!$AA:$AA,[1]집계최종!$C53,[1]DATA!$E:$E,[1]집계최종!U$29,[1]DATA!$AB:$AB,[1]집계최종!$V$28) -> 0 | V53: =COUNTIFS([1]DATA!$AA:$AA,[1]집계최종!$C53,[1]DATA!$E:$E,[1]집계최종!V$29,[1]DATA!$AB:$AB,[1]집계최종!$V$28) -> 0 | W53: =COUNTIFS([1]DATA!$AA:$AA,[1]집계최종!$C53,[1]DATA!$E:$E,[1]집계최종!W$29,[1]DATA!$AB:$AB,[1]집계최종!$V$28) -> 0 | X53: =COUNTIFS([1]DATA!$AA:$AA,[1]집계최종!$C53,[1]DATA!$E:$E,[1]집계최종!X$29,[1]DATA!$AB:$AB,[1]집계최종!$V$28) -> 0 | Y53: =COUNTIFS([1]DATA!$AA:$AA,[1]집계최종!$C53,[1]DATA!$E:$E,[1]집계최종!Y$29,[1]DATA!$AB:$AB,[1]집계최종!$V$28) -> 0 | Z53: =COUNTIFS([1]DATA!$AA:$AA,[1]집계최종!$C53,[1]DATA!$E:$E,[1]집계최종!Z$29,[1]DATA!$AB:$AB,[1]집계최종!$V$28) -> 0 | AA53: =COUNTIFS([1]DATA!$AA:$AA,[1]집계최종!$C53,[1]DATA!$E:$E,[1]집계최종!AA$29,[1]DATA!$AB:$AB,[1]집계최종!$V$28) -> 0 | AB53: =SUM(AC53:AI53) -> 50 | AC53: =COUNTIFS([1]DATA!$AA:$AA,[1]집계최종!$C53,[1]DATA!$E:$E,[1]집계최종!AC$29,[1]DATA!$AB:$AB,[1]집계최종!$AD$28) -> 46 | AD53: =COUNTIFS([1]DATA!$AA:$AA,[1]집계최종!$C53,[1]DATA!$E:$E,[1]집계최종!AD$29,[1]DATA!$AB:$AB,[1]집계최종!$AD$28) -> 0 | AE53: =COUNTIFS([1]DATA!$AA:$AA,[1]집계최종!$C53,[1]DATA!$E:$E,[1]집계최종!AE$29,[1]DATA!$AB:$AB,[1]집계최종!$AD$28) -> 0 | AF53: =COUNTIFS([1]DATA!$AA:$AA,[1]집계최종!$C53,[1]DATA!$E:$E,[1]집계최종!AF$29,[1]DATA!$AB:$AB,[1]집계최종!$AD$28) -> 0 | AG53: =COUNTIFS([1]DATA!$AA:$AA,[1]집계최종!$C53,[1]DATA!$E:$E,[1]집계최종!AG$29,[1]DATA!$AB:$AB,[1]집계최종!$AD$28) -> 0 | AH53: =COUNTIFS([1]DATA!$AA:$AA,[1]집계최종!$C53,[1]DATA!$E:$E,[1]집계최종!AH$29,[1]DATA!$AB:$AB,[1]집계최종!$AD$28) -> 0 | AI53: =COUNTIFS([1]DATA!$AA:$AA,[1]집계최종!$C53,[1]DATA!$E:$E,[1]집계최종!AI$29,[1]DATA!$AB:$AB,[1]집계최종!$AD$28) -> 4 | AJ53: =SUM(AK53:AQ53) -> 0 | AK53: =COUNTIFS([1]DATA!$AA:$AA,[1]집계최종!$C53,[1]DATA!$E:$E,[1]집계최종!AK$29,[1]DATA!$AB:$AB,[1]집계최종!$AL$28) -> 0 | AL53: =COUNTIFS([1]DATA!$AA:$AA,[1]집계최종!$C53,[1]DATA!$E:$E,[1]집계최종!AL$29,[1]DATA!$AB:$AB,[1]집계최종!$AL$28) -> 0 | AM53: =COUNTIFS([1]DATA!$AA:$AA,[1]집계최종!$C53,[1]DATA!$E:$E,[1]집계최종!AM$29,[1]DATA!$AB:$AB,[1]집계최종!$AL$28) -> 0 | AN53: =COUNTIFS([1]DATA!$AA:$AA,[1]집계최종!$C53,[1]DATA!$E:$E,[1]집계최종!AN$29,[1]DATA!$AB:$AB,[1]집계최종!$AL$28) -> 0 | AO53: =COUNTIFS([1]DATA!$AA:$AA,[1]집계최종!$C53,[1]DATA!$E:$E,[1]집계최종!AO$29,[1]DATA!$AB:$AB,[1]집계최종!$AL$28) -> 0 | AP53: =COUNTIFS([1]DATA!$AA:$AA,[1]집계최종!$C53,[1]DATA!$E:$E,[1]집계최종!AP$29,[1]DATA!$AB:$AB,[1]집계최종!$AL$28) -> 0 | AQ53: =COUNTIFS([1]DATA!$AA:$AA,[1]집계최종!$C53,[1]DATA!$E:$E,[1]집계최종!AQ$29,[1]DATA!$AB:$AB,[1]집계최종!$AL$28) -> 0

Sheet 공용차량 주유현황
A1: 2025년도 공용차량 주유현황 (108대)
A2: 담당부서 : 회계과, 전화번호 : 729-1767, (2025.01.01.~2025.12.31.)
A3: 월 | B3: 종류 | C3: 사용량(ℓ) | D3: 금액(원) | E3: 비 고
A4: 1월 | B4: 휘발유 | C4: 1119 | D4: 1882660
B5: 경 유 | C5: 1268 | D5: 1922960
B6: 수 소 | D6: 30490
A7: 2월 | B7: 휘발유 | C7: 1754.87 | D7: 2969280
B8: 경 유 | C8: 1668 | D8: 2575970
B9: 수 소 | D9: 113870
A10: 3월 | B10: 휘발유 | C10: 1526.86 | D10: 2479040
B11: 경 유 | C11: 2276.59 | D11: 3380280
B12: 수 소 | D12: 72972
A13: 4월 | B13: 휘발유 | C13: 1848.86 | D13: 2899340
B14: 경 유 | C14: 2788.88 | D14: 3965330
B15: 수 소 | D15: 112450
A16: 5월 | B16: 휘발유 | C16: 1760.92 | D16: 2767690
B17: 경 유 | C17: 1861 | D17: 2685000
B18: 수 소 | D18: 86680
A19: 6월 | B19: 휘발유 | C19: 1843.6 | D19: 2948230
B20: 경 유 | C20: 1952 | D20: 2883230
B21: 수 소 | D21: 105270
A22: 7월 | B22: 휘발유 | C22: 1796.24 | D22: 2967410
B23: 경 유 | C23: 2444.83 | D23: 3750610
B24: 수 소 | D24: 62150
A25: 8월 | B25: 휘발유 | C25: 1495 | D25: 2451940
B26: 경 유 | C26: 1889.79 | D26: 2884110
B27: 수 소 | D27: 38940
A28: 9월 | B28: 휘발유 | C28: 2442.11 | D28: 3951760
B29: 경 유 | C29: 5140.49 | D29: 7730850
B30: 수 소 | D30: 116710
A31: 10월 | B31: 휘발유 | C31: 1767.69 | D31: 2898500
B32: 경 유 | C32: 3282.38 | D32: 4974660
B33: 수 소 | D33: 243470
A34: 11월 | B34: 휘발유 | C34: 1509.23 | D34: 2572400
B35: 경 유 | C35: 2598.9 | D35: 4103570
B36: 수 소 | D36: 102740
A37: 12월 | B37: 휘발유 | C37: 1804.71 | D37: 3072600
B38: 경 유 | C38: 2256.08 | D38: 3671270
B39: 수 소 | D39: 429660
A40: 계 | B40: 휘발유 | C40: =C4+C7+C10+C13+C16+C19+C22+C25+C28+C31+C34+C37 -> 20669.09 | D40: =D4+D7+D10+D13+D16+D19+D22+D25+D28+D31+D34+D37 -> 33860850
B41: 경 유 | C41: =C5+C8+C11+C14+C17+C20+C23+C26+C29+C32+C35+C38 -> 29426.94 | D41: =D5+D8+D11+D14+D17+D20+D23+D26+D29+D32+D35+D38 -> 44527840
B42: 수 소 | C42: =C6+C9+C12+C15+C18+C21 -> 0 | D42: =D6+D9+D12+D15+D18+D21+D24+D27+D30+D33+D36+D39 -> 1515402
