Workbook

Sheet 성남시 차량 리스트
D1: <차종별> | L1: <등록년도별>
B2: 구 분 | D2: 합계 | E2: 승용차 | F2: 승합차 | G2: 화물차 | H2: 특수차 | J2: 구 분 | L2: 합계 | M2: 2010 이전 | N2: 2013 | O2: 2014 | P2: 2015 | Q2: 2016 | R2: 2017 | S2: 2018 | T2: 2019 | U2: 2020 | V2: 2021 | W2: 2022 | X2: 2023 | Y2: 2024 | Z2: 2025
B3: 성남시 총계 | D3: =SUM(E3:H3) -> 571 | E3: =E4+E11+E12+E22+E26 -> 317 | F3: =F4+F11+F12+F22+F26 -> 29 | G3: =G4+G11+G12+G22+G26 -> 175 | H3: =H4+H11+H12+H22+H26 -> 50 | J3: 성남시 총계 | L3: =SUM(M3:AA3) -> 557 | M3: =M4+M11+M12+M22+M26 -> 2 | N3: =N4+N11+N12+N22+N26 -> 7 | O3: =O4+O11+O12+O22+O26 -> 12 | P3: =P4+P11+P12+P22+P26 -> 18 | Q3: =Q4+Q11+Q12+Q22+Q26 -> 31 | R3: =R4+R11+R12+R22+R26 -> 69 | S3: =S4+S11+S12+S22+S26 -> 128 | T3: =T4+T11+T12+T22+T26 -> 76 | ... Z3: =Z4+Z11+Z12+Z22+Z26 -> 34
B4: 시청 | C4: 소계 | D4: =SUM(E4:H4) -> 149 | E4: =SUM(E5:E10) -> 102 | F4: =SUM(F5:F10) -> 23 | G4: =SUM(G5:G10) -> 12 | H4: =SUM(H5:H10) -> 12 | J4: 시청 | K4: 소계 | L4: =SUM(M4:AA4) -> 144 | M4: =SUM(M5:M10) -> 0 | N4: =SUM(N5:N10) -> 3 | O4: =SUM(O5:O10) -> 4 | P4: =SUM(P5:P10) -> 5 | Q4: =SUM(Q5:Q10) -> 14 | R4: =SUM(R5:R10) -> 18 | S4: =SUM(S5:S10) -> 30 | T4: =SUM(T5:T10) -> 21 | ... Z4: =SUM(Z5:Z10) -> 16
C5: 시청회계과 | D5: =SUM(E5:H5) -> 108 | E5: =COUNTIFS([1]DATA!$AA:$AA,[1]집계최종!$C5,[1]DATA!$AB:$AB,[1]집계최종!E$2) -> 92 | F5: =COUNTIFS([1]DATA!$AA:$AA,[1]집계최종!$C5,[1]DATA!$AB:$AB,[1]집계최종!F$2) -> 11 | G5: =COUNTIFS([1]DATA!$AA:$AA,[1]집계최종!$C5,[1]DATA!$AB:$AB,[1]집계최종!G$2) -> 5 | H5: =COUNTIFS([1]DATA!$AA:$AA,[1]집계최종!$C5,[1]DATA!$AB:$AB,[1]집계최종!H$2) -> 0 | K5: 시청회계과 | L5: =SUM(M5:AA5) -> 104 | M5: =COUNTIFS([1]DATA!$AA:$AA,[1]집계최종!$C5,[1]DATA!$AC:$AC,"2007")+COUNTIFS([1]DATA!$AA:$AA,[1]집계최종!$C5,[1]DATA!$AC:$AC,"2010") -> 0 | N5: =COUNTIFS([1]DATA!$AA:$AA,[1]집계최종!$C5,[1]DATA!$AC:$AC,[1]집계최종!N$2) -> 2 | O5: =COUNTIFS([1]DATA!$AA:$AA,[1]집계최종!$C5,[1]DATA!$AC:$AC,[1]집계최종!O$2) -> 2 | P5: =COUNTIFS([1]DATA!$AA:$AA,[1]집계최종!$C5,[1]DATA!$AC:$AC,[1]집계최종!P$2) -> 5 | Q5: =COUNTIFS([1]DATA!$AA:$AA,[1]집계최종!$C5,[1]DATA!$AC:$AC,[1]집계최종!Q$2) -> 11 | R5: =COUNTIFS([1]DATA!$AA:$AA,[1]집계최종!$C5,[1]DATA!$AC:$AC,[1]집계최종!R$2) -> 16 | S5: =COUNTIFS([1]DATA!$AA:$AA,[1]집계최종!$C5,[1]DATA!$AC:$AC,[1]집계최종!S$2) -> 25 | T5: =COUNTIFS([1]DATA!$AA:$AA,[1]집계최종!$C5,[1]DATA!$AC:$AC,[1]집계최종!T$2) -> 15 | U5: =COUNTIFS([1]DATA!$AA:$AA,[1]집계최종!$C5,[1]DATA!$AC:$AC,[1]집계최종!U$2) -> 8 | ... Z5: =COUNTIFS([1]DATA!$AA:$AA,[1]집계최종!$C5,[1]DATA!$AC:$AC,[1]집계최종!Z$2) -> 10
C6: 시청노인복지과 | D6: =SUM(E6:H6) -> 3 | E6: =COUNTIFS([1]DATA!$AA:$AA,[1]집계최종!$C6,[1]DATA!$AB:$AB,[1]집계최종!E$2) -> 1 | F6: =COUNTIFS([1]DATA!$AA:$AA,[1]집계최종!$C6,[1]DATA!$AB:$AB,[1]집계최종!F$2) -> 2 | G6: =COUNTIFS([1]DATA!$AA:$AA,[1]집계최종!$C6,[1]DATA!$AB:$AB,[1]집계최종!G$2) -> 0 | H6: =COUNTIFS([1]DATA!$AA:$AA,[1]집계최종!$C6,[1]DATA!$AB:$AB,[1]집계최종!H$2) -> 0 | K6: 시청노인복지과 | L6: =SUM(M6:AA6) -> 3 | M6: =COUNTIFS([1]DATA!$AA:$AA,[1]집계최종!$C6,[1]DATA!$AC:$AC,"2007")+COUNTIFS([1]DATA!$AA:$AA,[1]집계최종!$C6,[1]DATA!$AC:$AC,"2010") -> 0 | N6: =COUNTIFS([1]DATA!$AA:$AA,[1]집계최종!$C6,[1]DATA!$AC:$AC,[1]집계최종!N$2) -> 0 | O6: =COUNTIFS([1]DATA!$AA:$AA,[1]집계최종!$C6,[1]DATA!$AC:$AC,[1]집계최종!O$2) -> 0 | P6: =COUNTIFS([1]DATA!$AA:$AA,[1]집계최종!$C6,[1]DATA!$AC:$AC,[1]집계최종!P$2) -> 0 | Q6: =COUNTIFS([1]DATA!$AA:$AA,[1]집계최종!$C6,[1]DATA!$AC:$AC,[1]집계최종!Q$2) -> 0 | R6: =COUNTIFS([1]DATA!$AA:$AA,[1]집계최종!$C6,[1]DATA!$AC:$AC,[1]집계최종!R$2) -> 2 | S6: =COUNTIFS([1]DATA!$AA:$AA,[1]집계최종!$C6,[1]DATA!$AC:$AC,[1]집계최종!S$2) -> 0 | T6: =COUNTIFS([1]DATA!$AA:$AA,[1]집계최종!$C6,[1]DATA!$AC:$AC,[1]집계최종!T$2) -> 0 | U6: =COUNTIFS([1]DATA!$AA:$AA,[1]집계최종!$C6,[1]DATA!$AC:$AC,[1]집계최종!U$2) -> 1 | ... Z6: =COUNTIFS([1]DATA!$AA:$AA,[1]집계최종!$C6,[1]DATA!$AC:$AC,[1]집계최종!Z$2) -> 0
C7: 시청여성가족과 | D7: =SUM(E7:H7) -> 1 | E7: =COUNTIFS([1]DATA!$AA:$AA,[1]집계최종!$C7,[1]DATA!$AB:$AB,[1]집계최종!E$2) -> 0 | F7: =COUNTIFS([1]DATA!$AA:$AA,[1]집계최종!$C7,[1]DATA!$AB:$AB,[1]집계최종!F$2) -> 1 | G7: =COUNTIFS([1]DATA!$AA:$AA,[1]집계최종!$C7,[1]DATA!$AB:$AB,[1]집계최종!G$2) -> 0 | H7: =COUNTIFS([1]DATA!$AA:$AA,[1]집계최종!$C7,[1]DATA!$AB:$AB,[1]집계최종!H$2) -> 0 | K7: 시청여성가족과 | L7: =SUM(M7:AA7) -> 1 | M7: =COUNTIFS([1]DATA!$AA:$AA,[1]집계최종!$C7,[1]DATA!$AC:$AC,"2007")+COUNTIFS([1]DATA!$AA:$AA,[1]집계최종!$C7,[1]DATA!$AC:$AC,"2010") -> 0 | N7: =COUNTIFS([1]DATA!$AA:$AA,[1]집계최종!$C7,[1]DATA!$AC:$AC,[1]집계최종!N$2) -> 1 | O7: =COUNTIFS([1]DATA!$AA:$AA,[1]집계최종!$C7,[1]DATA!$AC:$AC,[1]집계최종!O$2) -> 0 | P7: =COUNTIFS([1]DATA!$AA:$AA,[1]집계최종!$C7,[1]DATA!$AC:$AC,[1]집계최종!P$2) -> 0 | Q7: =COUNTIFS([1]DATA!$AA:$AA,[1]집계최종!$C7,[1]DATA!$AC:$AC,[1]집계최종!Q$2) -> 0 | R7: =COUNTIFS([1]DATA!$AA:$AA,[1]집계최종!$C7,[1]DATA!$AC:$AC,[1]집계최종!R$2) -> 0 | S7: =COUNTIFS([1]DATA!$AA:$AA,[1]집계최종!$C7,[1]DATA!$AC:$AC,[1]집계최종!S$2) -> 0 | T7: =COUNTIFS([1]DATA!$AA:$AA,[1]집계최종!$C7,[1]DATA!$AC:$AC,[1]집계최종!T$2) -> 0 | U7: =COUNTIFS([1]DATA!$AA:$AA,[1]집계최종!$C7,[1]DATA!$AC:$AC,[1]집계최종!U$2) -> 0 | ... Z7: =COUNTIFS([1]DATA!$AA:$AA,[1]집계최종!$C7,[1]DATA!$AC:$AC,[1]집계최종!Z$2) -> 0
C8: 시청아동보육과 | D8: =SUM(E8:H8) -> 1 | E8: =COUNTIFS([1]DATA!$AA:$AA,[1]집계최종!$C8,[1]DATA!$AB:$AB,[1]집계최종!E$2) -> 1 | F8: =COUNTIFS([1]DATA!$AA:$AA,[1]집계최종!$C8,[1]DATA!$AB:$AB,[1]집계최종!F$2) -> 0 | G8: =COUNTIFS([1]DATA!$AA:$AA,[1]집계최종!$C8,[1]DATA!$AB:$AB,[1]집계최종!G$2) -> 0 | H8: =COUNTIFS([1]DATA!$AA:$AA,[1]집계최종!$C8,[1]DATA!$AB:$AB,[1]집계최종!H$2) -> 0 | K8: 시청아동보육과 | L8: =SUM(M8:AA8) -> 1 | M8: =COUNTIFS([1]DATA!$AA:$AA,[1]집계최종!$C8,[1]DATA!$AC:$AC,"2007")+COUNTIFS([1]DATA!$AA:$AA,[1]집계최종!$C8,[1]DATA!$AC:$AC,"2010") -> 0 | N8: =COUNTIFS([1]DATA!$AA:$AA,[1]집계최종!$C8,[1]DATA!$AC:$AC,[1]집계최종!N$2) -> 0 | O8: =COUNTIFS([1]DATA!$AA:$AA,[1]집계최종!$C8,[1]DATA!$AC:$AC,[1]집계최종!O$2) -> 0 | P8: =COUNTIFS([1]DATA!$AA:$AA,[1]집계최종!$C8,[1]DATA!$AC:$AC,[1]집계최종!P$2) -> 0 | Q8: =COUNTIFS([1]DATA!$AA:$AA,[1]집계최종!$C8,[1]DATA!$AC:$AC,[1]집계최종!Q$2) -> 0 | R8: =COUNTIFS([1]DATA!$AA:$AA,[1]집계최종!$C8,[1]DATA!$AC:$AC,[1]집계최종!R$2) -> 0 | S8: =COUNTIFS([1]DATA!$AA:$AA,[1]집계최종!$C8,[1]DATA!$AC:$AC,[1]집계최종!S$2) -> 0 | T8: =COUNTIFS([1]DATA!$AA:$AA,[1]집계최종!$C8,[1]DATA!$AC:$AC,[1]집계최종!T$2) -> 0 | U8: =COUNTIFS([1]DATA!$AA:$AA,[1]집계최종!$C8,[1]DATA!$AC:$AC,[1]집계최종!U$2) -> 1 | ... Z8: =COUNTIFS([1]DATA!$AA:$AA,[1]집계최종!$C8,[1]DATA!$AC:$AC,[1]집계최종!Z$2) -> 0
C9: 시청체육진흥과 | D9: =SUM(E9:H9) -> 14 | E9: =COUNTIFS([1]DATA!$AA:$AA,[1]집계최종!$C9,[1]DATA!$AB:$AB,[1]집계최종!E$2) -> 5 | F9: =COUNTIFS([1]DATA!$AA:$AA,[1]집계최종!$C9,[1]DATA!$AB:$AB,[1]집계최종!F$2) -> 9 | G9: =COUNTIFS([1]DATA!$AA:$AA,[1]집계최종!$C9,[1]DATA!$AB:$AB,[1]집계최종!G$2) -> 0 | H9: =COUNTIFS([1]DATA!$AA:$AA,[1]집계최종!$C9,[1]DATA!$AB:$AB,[1]집계최종!H$2) -> 0 | K9: 시청체육진흥과 | L9: =SUM(M9:AA9) -> 13 | M9: =COUNTIFS([1]DATA!$AA:$AA,[1]집계최종!$C9,[1]DATA!$AC:$AC,"2007")+COUNTIFS([1]DATA!$AA:$AA,[1]집계최종!$C9,[1]DATA!$AC:$AC,"2010") -> 0 | N9: =COUNTIFS([1]DATA!$AA:$AA,[1]집계최종!$C9,[1]DATA!$AC:$AC,[1]집계최종!N$2) -> 0 | O9: =COUNTIFS([1]DATA!$AA:$AA,[1]집계최종!$C9,[1]DATA!$AC:$AC,[1]집계최종!O$2) -> 1 | P9: =COUNTIFS([1]DATA!$AA:$AA,[1]집계최종!$C9,[1]DATA!$AC:$AC,[1]집계최종!P$2) -> 0 | Q9: =COUNTIFS([1]DATA!$AA:$AA,[1]집계최종!$C9,[1]DATA!$AC:$AC,[1]집계최종!Q$2) -> 1 | R9: =COUNTIFS([1]DATA!$AA:$AA,[1]집계최종!$C9,[1]DATA!$AC:$AC,[1]집계최종!R$2) -> 0 | S9: =COUNTIFS([1]DATA!$AA:$AA,[1]집계최종!$C9,[1]DATA!$AC:$AC,[1]집계최종!S$2) -> 1 | T9: =COUNTIFS([1]DATA!$AA:$AA,[1]집계최종!$C9,[1]DATA!$AC:$AC,[1]집계최종!T$2) -> 2 | U9: =COUNTIFS([1]DATA!$AA:$AA,[1]집계최종!$C9,[1]DATA!$AC:$AC,[1]집계최종!U$2) -> 0 | ... Z9: =COUNTIFS([1]DATA!$AA:$AA,[1]집계최종!$C9,[1]DATA!$AC:$AC,[1]집계최종!Z$2) -> 4
C10: 시청자원순환과 | D10: =SUM(E10:H10) -> 22 | E10: =COUNTIFS([1]DATA!$AA:$AA,[1]집계최종!$C10,[1]DATA!$AB:$AB,[1]집계최종!E$2) -> 3 | F10: =COUNTIFS([1]DATA!$AA:$AA,[1]집계최종!$C10,[1]DATA!$AB:$AB,[1]집계최종!F$2) -> 0 | G10: =COUNTIFS([1]DATA!$AA:$AA,[1]집계최종!$C10,[1]DATA!$AB:$AB,[1]집계최종!G$2) -> 7 | H10: =COUNTIFS([1]DATA!$AA:$AA,[1]집계최종!$C10,[1]DATA!$AB:$AB,[1]집계최종!H$2) -> 12 | K10: 시청자원순환과 | L10: =SUM(M10:AA10) -> 22 | M10: =COUNTIFS([1]DATA!$AA:$AA,[1]집계최종!$C10,[1]DATA!$AC:$AC,"2007")+COUNTIFS([1]DATA!$AA:$AA,[1]집계최종!$C10,[1]DATA!$AC:$AC,"2010") -> 0 | N10: =COUNTIFS([1]DATA!$AA:$AA,[1]집계최종!$C10,[1]DATA!$AC:$AC,[1]집계최종!N$2) -> 0 | O10: =COUNTIFS([1]DATA!$AA:$AA,[1]집계최종!$C10,[1]DATA!$AC:$AC,[1]집계최종!O$2) -> 1 | P10: =COUNTIFS([1]DATA!$AA:$AA,[1]집계최종!$C10,[1]DATA!$AC:$AC,[1]집계최종!P$2) -> 0 | Q10: =COUNTIFS([1]DATA!$AA:$AA,[1]집계최종!$C10,[1]DATA!$AC:$AC,[1]집계최종!Q$2) -> 2 | R10: =COUNTIFS([1]DATA!$AA:$AA,[1]집계최종!$C10,[1]DATA!$AC:$AC,[1]집계최종!R$2) -> 0 | S10: =COUNTIFS([1]DATA!$AA:$AA,[1]집계최종!$C10,[1]DATA!$AC:$AC,[1]집계최종!S$2) -> 4 | T10: =COUNTIFS([1]DATA!$AA:$AA,[1]집계최종!$C10,[1]DATA!$AC:$AC,[1]집계최종!T$2) -> 4 | U10: =COUNTIFS([1]DATA!$AA:$AA,[1]집계최종!$C10,[1]DATA!$AC:$AC,[1]집계최종!U$2) -> 4 | ... Z10: =COUNTIFS([1]DATA!$AA:$AA,[1]집계최종!$C10,[1]DATA!$AC:$AC,[1]집계최종!Z$2) -> 2
B11: 의회사무국 | C11: 의회사무국 | D11: =SUM(E11:H11) -> 6 | E11: =COUNTIFS([1]DATA!$AA:$AA,[1]집계최종!$C11,[1]DATA!$AB:$AB,[1]집계최종!E$2) -> 4 | F11: =COUNTIFS([1]DATA!$AA:$AA,[1]집계최종!$C11,[1]DATA!$AB:$AB,[1]집계최종!F$2) -> 2 | G11: =COUNTIFS([1]DATA!$AA:$AA,[1]집계최종!$C11,[1]DATA!$AB:$AB,[1]집계최종!G$2) -> 0 | H11: =COUNTIFS([1]DATA!$AA:$AA,[1]집계최종!$C11,[1]DATA!$AB:$AB,[1]집계최종!H$2) -> 0 | J11: 의회사무국 | K11: 의회사무국 | L11: =SUM(M11:AA11) -> 6 | M11: =COUNTIFS([1]DATA!$AA:$AA,[1]집계최종!$C11,[1]DATA!$AC:$AC,[1]집계최종!M$2) -> 0 | N11: =COUNTIFS([1]DATA!$AA:$AA,[1]집계최종!$C11,[1]DATA!$AC:$AC,[1]집계최종!N$2) -> 0 | O11: =COUNTIFS([1]DATA!$AA:$AA,[1]집계최종!$C11,[1]DATA!$AC:$AC,[1]집계최종!O$2) -> 0 | P11: =COUNTIFS([1]DATA!$AA:$AA,[1]집계최종!$C11,[1]DATA!$AC:$AC,[1]집계최종!P$2) -> 1 | Q11: =COUNTIFS([1]DATA!$AA:$AA,[1]집계최종!$C11,[1]DATA!$AC:$AC,[1]집계최종!Q$2) -> 0 | R11: =COUNTIFS([1]DATA!$AA:$AA,[1]집계최종!$C11,[1]DATA!$AC:$AC,[1]집계최종!R$2) -> 1 | S11: =COUNTIFS([1]DATA!$AA:$AA,[1]집계최종!$C11,[1]DATA!$AC:$AC,[1]집계최종!S$2) -> 1 | T11: =COUNTIFS([1]DATA!$AA:$AA,[1]집계최종!$C11,[1]DATA!$AC:$AC,[1]집계최종!T$2) -> 1 | ... Z11: =COUNTIFS([1]DATA!$AA:$AA,[1]집계최종!$C11,[1]DATA!$AC:$AC,[1]집계최종!Z$2) -> 0
B12: 사업소 | C12: 소계 | D12: =SUM(E12:H12) -> 119 | E12: =SUM(E13:E21) -> 69 | F12: =SUM(F13:F21) -> 0 | G12: =SUM(G13:G21) -> 42 | H12: =SUM(H13:H21) -> 8 | J12: 사업소 | K12: 소계 | L12: =SUM(M12:AA12) -> 119 | M12: =SUM(M13:M21) -> 1 | N12: =SUM(N13:N21) -> 4 | O12: =SUM(O13:O21) -> 5 | P12: =SUM(P13:P21) -> 5 | Q12: =SUM(Q13:Q21) -> 9 | R12: =SUM(R13:R21) -> 10 | S12: =SUM(S13:S21) -> 31 | T12: =SUM(T13:T21) -> 9 | ... Z12: =SUM(Z13:Z21) -> 8
C13: 수정구보건소 | D13: =SUM(E13:H13) -> 11 | E13: =COUNTIFS([1]DATA!$AA:$AA,[1]집계최종!$C13,[1]DATA!$AB:$AB,[1]집계최종!E$2) -> 8 | F13: =COUNTIFS([1]DATA!$AA:$AA,[1]집계최종!$C13,[1]DATA!$AB:$AB,[1]집계최종!F$2) -> 0 | G13: =COUNTIFS([1]DATA!$AA:$AA,[1]집계최종!$C13,[1]DATA!$AB:$AB,[1]집계최종!G$2) -> 1 | H13: =COUNTIFS([1]DATA!$AA:$AA,[1]집계최종!$C13,[1]DATA!$AB:$AB,[1]집계최종!H$2) -> 2 | K13: 수정구보건소 | L13: =SUM(M13:AA13) -> 11 | M13: =COUNTIFS([1]DATA!$AA:$AA,[1]집계최종!$C13,[1]DATA!$AC:$AC,"2007")+COUNTIFS([1]DATA!$AA:$AA,[1]집계최종!$C13,[1]DATA!$AC:$AC,"2010") -> 0 | N13: =COUNTIFS([1]DATA!$AA:$AA,[1]집계최종!$C13,[1]DATA!$AC:$AC,[1]집계최종!N$2) -> 0 | O13: =COUNTIFS([1]DATA!$AA:$AA,[1]집계최종!$C13,[1]DATA!$AC:$AC,[1]집계최종!O$2) -> 0 | P13: =COUNTIFS([1]DATA!$AA:$AA,[1]집계최종!$C13,[1]DATA!$AC:$AC,[1]집계최종!P$2) -> 1 | Q13: =COUNTIFS([1]DATA!$AA:$AA,[1]집계최종!$C13,[1]DATA!$AC:$AC,[1]집계최종!Q$2) -> 1 | R13: =COUNTIFS([1]DATA!$AA:$AA,[1]집계최종!$C13,[1]DATA!$AC:$AC,[1]집계최종!R$2) -> 1 | S13: =COUNTIFS([1]DATA!$AA:$AA,[1]집계최종!$C13,[1]DATA!$AC:$AC,[1]집계최종!S$2) -> 4 | T13: =COUNTIFS([1]DATA!$AA:$AA,[1]집계최종!$C13,[1]DATA!$AC:$AC,[1]집계최종!T$2) -> 0 | U13: =COUNTIFS([1]DATA!$AA:$AA,[1]집계최종!$C13,[1]DATA!$AC:$AC,[1]집계최종!U$2) -> 0 | ... Z13: =COUNTIFS([1]DATA!$AA:$AA,[1]집계최종!$C13,[1]DATA!$AC:$AC,[1]집계최종!Z$2) -> 1
C14: 중원구보건소 | D14: =SUM(E14:H14) -> 10 | E14: =COUNTIFS([1]DATA!$AA:$AA,[1]집계최종!$C14,[1]DATA!$AB:$AB,[1]집계최종!E$2) -> 7 | F14: =COUNTIFS([1]DATA!$AA:$AA,[1]집계최종!$C14,[1]DATA!$AB:$AB,[1]집계최종!F$2) -> 0 | G14: =COUNTIFS([1]DATA!$AA:$AA,[1]집계최종!$C14,[1]DATA!$AB:$AB,[1]집계최종!G$2) -> 1 | H14: =COUNTIFS([1]DATA!$AA:$AA,[1]집계최종!$C14,[1]DATA!$AB:$AB,[1]집계최종!H$2) -> 2 | K14: 중원구보건소 | L14: =SUM(M14:AA14) -> 10 | M14: =COUNTIFS([1]DATA!$AA:$AA,[1]집계최종!$C14,[1]DATA!$AC:$AC,"2007")+COUNTIFS([1]DATA!$AA:$AA,[1]집계최종!$C14,[1]DATA!$AC:$AC,"2010") -> 0 | N14: =COUNTIFS([1]DATA!$AA:$AA,[1]집계최종!$C14,[1]DATA!$AC:$AC,[1]집계최종!N$2) -> 0 | O14: =COUNTIFS([1]DATA!$AA:$AA,[1]집계최종!$C14,[1]DATA!$AC:$AC,[1]집계최종!O$2) -> 0 | P14: =COUNTIFS([1]DATA!$AA:$AA,[1]집계최종!$C14,[1]DATA!$AC:$AC,[1]집계최종!P$2) -> 0 | Q14: =COUNTIFS([1]DATA!$AA:$AA,[1]집계최종!$C14,[1]DATA!$AC:$AC,[1]집계최종!Q$2) -> 1 | R14: =COUNTIFS([1]DATA!$AA:$AA,[1]집계최종!$C14,[1]DATA!$AC:$AC,[1]집계최종!R$2) -> 0 | S14: =COUNTIFS([1]DATA!$AA:$AA,[1]집계최종!$C14,[1]DATA!$AC:$AC,[1]집계최종!S$2) -> 5 | T14: =COUNTIFS([1]DATA!$AA:$AA,[1]집계최종!$C14,[1]DATA!$AC:$AC,[1]집계최종!T$2) -> 0 | U14: =COUNTIFS([1]DATA!$AA:$AA,[1]집계최종!$C14,[1]DATA!$AC:$AC,[1]집계최종!U$2) -> 1 | ... Z14: =COUNTIFS([1]DATA!$AA:$AA,[1]집계최종!$C14,[1]DATA!$AC:$AC,[1]집계최종!Z$2) -> 1
C15: 분당구보건소 | D15: =SUM(E15:H15) -> 17 | E15: =COUNTIFS([1]DATA!$AA:$AA,[1]집계최종!$C15,[1]DATA!$AB:$AB,[1]집계최종!E$2) -> 12 | F15: =COUNTIFS([1]DATA!$AA:$AA,[1]집계최종!$C15,[1]DATA!$AB:$AB,[1]집계최종!F$2) -> 0 | G15: =COUNTIFS([1]DATA!$AA:$AA,[1]집계최종!$C15,[1]DATA!$AB:$AB,[1]집계최종!G$2) -> 2 | H15: =COUNTIFS([1]DATA!$AA:$AA,[1]집계최종!$C15,[1]DATA!$AB:$AB,[1]집계최종!H$2) -> 3 | K15: 분당구보건소 | L15: =SUM(M15:AA15) -> 17 | M15: =COUNTIFS([1]DATA!$AA:$AA,[1]집계최종!$C15,[1]DATA!$AC:$AC,"2007")+COUNTIFS([1]DATA!$AA:$AA,[1]집계최종!$C15,[1]DATA!$AC:$AC,"2010") -> 0 | N15: =COUNTIFS([1]DATA!$AA:$AA,[1]집계최종!$C15,[1]DATA!$AC:$AC,[1]집계최종!N$2) -> 3 | O15: =COUNTIFS([1]DATA!$AA:$AA,[1]집계최종!$C15,[1]DATA!$AC:$AC,[1]집계최종!O$2) -> 0 | P15: =COUNTIFS([1]DATA!$AA:$AA,[1]집계최종!$C15,[1]DATA!$AC:$AC,[1]집계최종!P$2) -> 2 | Q15: =COUNTIFS([1]DATA!$AA:$AA,[1]집계최종!$C15,[1]DATA!$AC:$AC,[1]집계최종!Q$2) -> 1 | R15: =COUNTIFS([1]DATA!$AA:$AA,[1]집계최종!$C15,[1]DATA!$AC:$AC,[1]집계최종!R$2) -> 0 | S15: =COUNTIFS([1]DATA!$AA:$AA,[1]집계최종!$C15,[1]DATA!$AC:$AC,[1]집계최종!S$2) -> 3 | T15: =COUNTIFS([1]DATA!$AA:$AA,[1]집계최종!$C15,[1]DATA!$AC:$AC,[1]집계최종!T$2) -> 2 | U15: =COUNTIFS([1]DATA!$AA:$AA,[1]집계최종!$C15,[1]DATA!$AC:$AC,[1]집계최종!U$2) -> 3 | ... Z15: =COUNTIFS([1]DATA!$AA:$AA,[1]집계최종!$C15,[1]DATA!$AC:$AC,[1]집계최종!Z$2) -> 0
C16: 농업기술센터 | D16: =SUM(E16:H16) -> 5 | E16: =COUNTIFS([1]DATA!$AA:$AA,[1]집계최종!$C16,[1]DATA!$AB:$AB,[1]집계최종!E$2) -> 3 | F16: =COUNTIFS([1]DATA!$AA:$AA,[1]집계최종!$C16,[1]DATA!$AB:$AB,[1]집계최종!F$2) -> 0 | G16: =COUNTIFS([1]DATA!$AA:$AA,[1]집계최종!$C16,[1]DATA!$AB:$AB,[1]집계최종!G$2) -> 2 | H16: =COUNTIFS([1]DATA!$AA:$AA,[1]집계최종!$C16,[1]DATA!$AB:$AB,[1]집계최종!H$2) -> 0 | K16: 농업기술센터 | L16: =SUM(M16:AA16) -> 5 | M16: =COUNTIFS([1]DATA!$AA:$AA,[1]집계최종!$C16,[1]DATA!$AC:$AC,"2007")+COUNTIFS([1]DATA!$AA:$AA,[1]집계최종!$C16,[1]DATA!$AC:$AC,"2010") -> 0 | N16: =COUNTIFS([1]DATA!$AA:$AA,[1]집계최종!$C16,[1]DATA!$AC:$AC,[1]집계최종!N$2) -> 0 | O16: =COUNTIFS([1]DATA!$AA:$AA,[1]집계최종!$C16,[1]DATA!$AC:$AC,[1]집계최종!O$2) -> 0 | P16: =COUNTIFS([1]DATA!$AA:$AA,[1]집계최종!$C16,[1]DATA!$AC:$AC,[1]집계최종!P$2) -> 0 | Q16: =COUNTIFS([1]DATA!$AA:$AA,[1]집계최종!$C16,[1]DATA!$AC:$AC,[1]집계최종!Q$2) -> 1 | R16: =COUNTIFS([1]DATA!$AA:$AA,[1]집계최종!$C16,[1]DATA!$AC:$AC,[1]집계최종!R$2) -> 1 | S16: =COUNTIFS([1]DATA!$AA:$AA,[1]집계최종!$C16,[1]DATA!$AC:$AC,[1]집계최종!S$2) -> 1 | T16: =COUNTIFS([1]DATA!$AA:$AA,[1]집계최종!$C16,[1]DATA!$AC:$AC,[1]집계최종!T$2) -> 0 | U16: =COUNTIFS([1]DATA!$AA:$AA,[1]집계최종!$C16,[1]DATA!$AC:$AC,[1]집계최종!U$2) -> 0 | ... Z16: =COUNTIFS([1]DATA!$AA:$AA,[1]집계최종!$C16,[1]DATA!$AC:$AC,[1]집계최종!Z$2) -> 0
C17: 맑은물관리사업소 | D17: =SUM(E17:H17) -> 27 | E17: =COUNTIFS([1]DATA!$AA:$AA,[1]집계최종!$C17,[1]DATA!$AB:$AB,[1]집계최종!E$2) -> 16 | F17: =COUNTIFS([1]DATA!$AA:$AA,[1]집계최종!$C17,[1]DATA!$AB:$AB,[1]집계최종!F$2) -> 0 | G17: =COUNTIFS([1]DATA!$AA:$AA,[1]집계최종!$C17,[1]DATA!$AB:$AB,[1]집계최종!G$2) -> 11 | H17: =COUNTIFS([1]DATA!$AA:$AA,[1]집계최종!$C17,[1]DATA!$AB:$AB,[1]집계최종!H$2) -> 0 | K17: 맑은물관리사업소 | L17: =SUM(M17:AA17) -> 27 | M17: =COUNTIFS([1]DATA!$AA:$AA,[1]집계최종!$C17,[1]DATA!$AC:$AC,"2007")+COUNTIFS([1]DATA!$AA:$AA,[1]집계최종!$C17,[1]DATA!$AC:$AC,"2010") -> 0 | N17: =COUNTIFS([1]DATA!$AA:$AA,[1]집계최종!$C17,[1]DATA!$AC:$AC,[1]집계최종!N$2) -> 1 | O17: =COUNTIFS([1]DATA!$AA:$AA,[1]집계최종!$C17,[1]DATA!$AC:$AC,[1]집계최종!O$2) -> 0 | P17: =COUNTIFS([1]DATA!$AA:$AA,[1]집계최종!$C17,[1]DATA!$AC:$AC,[1]집계최종!P$2) -> 0 | Q17: =COUNTIFS([1]DATA!$AA:$AA,[1]집계최종!$C17,[1]DATA!$AC:$AC,[1]집계최종!Q$2) -> 1 | R17: =COUNTIFS([1]DATA!$AA:$AA,[1]집계최종!$C17,[1]DATA!$AC:$AC,[1]집계최종!R$2) -> 6 | S17: =COUNTIFS([1]DATA!$AA:$AA,[1]집계최종!$C17,[1]DATA!$AC:$AC,[1]집계최종!S$2) -> 8 | T17: =COUNTIFS([1]DATA!$AA:$AA,[1]집계최종!$C17,[1]DATA!$AC:$AC,[1]집계최종!T$2) -> 3 | U17: =COUNTIFS([1]DATA!$AA:$AA,[1]집계최종!$C17,[1]DATA!$AC:$AC,[1]집계최종!U$2) -> 2 | ... Z17: =COUNTIFS([1]DATA!$AA:$AA,[1]집계최종!$C17,[1]DATA!$AC:$AC,[1]집계최종!Z$2) -> 5
C18: 푸른도시사업소 | D18: =SUM(E18:H18) -> 30 | E18: =COUNTIFS([1]DATA!$AA:$AA,[1]집계최종!$C18,[1]DATA!$AB:$AB,[1]집계최종!E$2) -> 7 | F18: =COUNTIFS([1]DATA!$AA:$AA,[1]집계최종!$C18,[1]DATA!$AB:$AB,[1]집계최종!F$2) -> 0 | G18: =COUNTIFS([1]DATA!$AA:$AA,[1]집계최종!$C18,[1]DATA!$AB:$AB,[1]집계최종!G$2) -> 22 | H18: =COUNTIFS([1]DATA!$AA:$AA,[1]집계최종!$C18,[1]DATA!$AB:$AB,[1]집계최종!H$2) -> 1 | K18: 푸른도시사업소 | L18: =SUM(M18:AA18) -> 30 | M18: =COUNTIFS([1]DATA!$AA:$AA,[1]집계최종!$C18,[1]DATA!$AC:$AC,"2007")+COUNTIFS([1]DATA!$AA:$AA,[1]집계최종!$C18,[1]DATA!$AC:$AC,"2010") -> 0 | N18: =COUNTIFS([1]DATA!$AA:$AA,[1]집계최종!$C18,[1]DATA!$AC:$AC,[1]집계최종!N$2) -> 0 | O18: =COUNTIFS([1]DATA!$AA:$AA,[1]집계최종!$C18,[1]DATA!$AC:$AC,[1]집계최종!O$2) -> 3 | P18: =COUNTIFS([1]DATA!$AA:$AA,[1]집계최종!$C18,[1]DATA!$AC:$AC,[1]집계최종!P$2) -> 1 | Q18: =COUNTIFS([1]DATA!$AA:$AA,[1]집계최종!$C18,[1]DATA!$AC:$AC,[1]집계최종!Q$2) -> 4 | R18: =COUNTIFS([1]DATA!$AA:$AA,[1]집계최종!$C18,[1]DATA!$AC:$AC,[1]집계최종!R$2) -> 1 | S18: =COUNTIFS([1]DATA!$AA:$AA,[1]집계최종!$C18,[1]DATA!$AC:$AC,[1]집계최종!S$2) -> 7 | T18: =COUNTIFS([1]DATA!$AA:$AA,[1]집계최종!$C18,[1]DATA!$AC:$AC,[1]집계최종!T$2) -> 2 | U18: =COUNTIFS([1]DATA!$AA:$AA,[1]집계최종!$C18,[1]DATA!$AC:$AC,[1]집계최종!U$2) -> 6 | ... Z18: =COUNTIFS([1]DATA!$AA:$AA,[1]집계최종!$C18,[1]DATA!$AC:$AC,[1]집계최종!Z$2) -> 1
C19: 도서관사업소 | D19: =SUM(E19:H19) -> 15 | E19: =COUNTIFS([1]DATA!$AA:$AA,[1]집계최종!$C19,[1]DATA!$AB:$AB,[1]집계최종!E$2) -> 13 | F19: =COUNTIFS([1]DATA!$AA:$AA,[1]집계최종!$C19,[1]DATA!$AB:$AB,[1]집계최종!F$2) -> 0 | G19: =COUNTIFS([1]DATA!$AA:$AA,[1]집계최종!$C19,[1]DATA!$AB:$AB,[1]집계최종!G$2) -> 2 | H19: =COUNTIFS([1]DATA!$AA:$AA,[1]집계최종!$C19,[1]DATA!$AB:$AB,[1]집계최종!H$2) -> 0 | K19: 도서관사업소 | L19: =SUM(M19:AA19) -> 15 | M19: =COUNTIFS([1]DATA!$AA:$AA,[1]집계최종!$C19,[1]DATA!$AC:$AC,"2007")+COUNTIFS([1]DATA!$AA:$AA,[1]집계최종!$C19,[1]DATA!$AC:$AC,"2010") -> 1 | N19: =COUNTIFS([1]DATA!$AA:$AA,[1]집계최종!$C19,[1]DATA!$AC:$AC,[1]집계최종!N$2) -> 0 | O19: =COUNTIFS([1]DATA!$AA:$AA,[1]집계최종!$C19,[1]DATA!$AC:$AC,[1]집계최종!O$2) -> 1 | P19: =COUNTIFS([1]DATA!$AA:$AA,[1]집계최종!$C19,[1]DATA!$AC:$AC,[1]집계최종!P$2) -> 0 | Q19: =COUNTIFS([1]DATA!$AA:$AA,[1]집계최종!$C19,[1]DATA!$AC:$AC,[1]집계최종!Q$2) -> 0 | R19: =COUNTIFS([1]DATA!$AA:$AA,[1]집계최종!$C19,[1]DATA!$AC:$AC,[1]집계최종!R$2) -> 0 | S19: =COUNTIFS([1]DATA!$AA:$AA,[1]집계최종!$C19,[1]DATA!$AC:$AC,[1]집계최종!S$2) -> 3 | T19: =COUNTIFS([1]DATA!$AA:$AA,[1]집계최종!$C19,[1]DATA!$AC:$AC,[1]집계최종!T$2) -> 2 | U19: =COUNTIFS([1]DATA!$AA:$AA,[1]집계최종!$C19,[1]DATA!$AC:$AC,[1]집계최종!U$2) -> 2 | ... Z19: =COUNTIFS([1]DATA!$AA:$AA,[1]집계최종!$C19,[1]DATA!$AC:$AC,[1]집계최종!Z$2) -> 0
C20: 차량등록사업소 | D20: =SUM(E20:H20) -> 2 | E20: =COUNTIFS([1]DATA!$AA:$AA,[1]집계최종!$C20,[1]DATA!$AB:$AB,[1]집계최종!E$2) -> 2 | F20: =COUNTIFS([1]DATA!$AA:$AA,[1]집계최종!$C20,[1]DATA!$AB:$AB,[1]집계최종!F$2) -> 0 | G20: =COUNTIFS([1]DATA!$AA:$AA,[1]집계최종!$C20,[1]DATA!$AB:$AB,[1]집계최종!G$2) -> 0 | H20: =COUNTIFS([1]DATA!$AA:$AA,[1]집계최종!$C20,[1]DATA!$AB:$AB,[1]집계최종!H$2) -> 0 | K20: 차량등록사업소 | L20: =SUM(M20:AA20) -> 2 | M20: =COUNTIFS([1]DATA!$AA:$AA,[1]집계최종!$C20,[1]DATA!$AC:$AC,"2007")+COUNTIFS([1]DATA!$AA:$AA,[1]집계최종!$C20,[1]DATA!$AC:$AC,"2010") -> 0 | N20: =COUNTIFS([1]DATA!$AA:$AA,[1]집계최종!$C20,[1]DATA!$AC:$AC,[1]집계최종!N$2) -> 0 | O20: =COUNTIFS([1]DATA!$AA:$AA,[1]집계최종!$C20,[1]DATA!$AC:$AC,[1]집계최종!O$2) -> 0 | P20: =COUNTIFS([1]DATA!$AA:$AA,[1]집계최종!$C20,[1]DATA!$AC:$AC,[1]집계최종!P$2) -> 1 | Q20: =COUNTIFS([1]DATA!$AA:$AA,[1]집계최종!$C20,[1]DATA!$AC:$AC,[1]집계최종!Q$2) -> 0 | R20: =COUNTIFS([1]DATA!$AA:$AA,[1]집계최종!$C20,[1]DATA!$AC:$AC,[1]집계최종!R$2) -> 1 | S20: =COUNTIFS([1]DATA!$AA:$AA,[1]집계최종!$C20,[1]DATA!$AC:$AC,[1]집계최종!S$2) -> 0 | T20: =COUNTIFS([1]DATA!$AA:$AA,[1]집계최종!$C20,[1]DATA!$AC:$AC,[1]집계최종!T$2) -> 0 | U20: =COUNTIFS([1]DATA!$AA:$AA,[1]집계최종!$C20,[1]DATA!$AC:$AC,[1]집계최종!U$2) -> 0 | ... Z20: =COUNTIFS([1]DATA!$AA:$AA,[1]집계최종!$C20,[1]DATA!$AC:$AC,[1]집계최종!Z$2) -> 0
C21: 장례문화사업소 | D21: =SUM(E21:H21) -> 2 | E21: =COUNTIFS([1]DATA!$AA:$AA,[1]집계최종!$C21,[1]DATA!$AB:$AB,[1]집계최종!E$2) -> 1 | F21: =COUNTIFS([1]DATA!$AA:$AA,[1]집계최종!$C21,[1]DATA!$AB:$AB,[1]집계최종!F$2) -> 0 | G21: =COUNTIFS([1]DATA!$AA:$AA,[1]집계최종!$C21,[1]DATA!$AB:$AB,[1]집계최종!G$2) -> 1 | H21: =COUNTIFS([1]DATA!$AA:$AA,[1]집계최종!$C21,[1]DATA!$AB:$AB,[1]집계최종!H$2) -> 0 | K21: 장례문화사업소 | L21: =SUM(M21:AA21) -> 2 | M21: =COUNTIFS([1]DATA!$AA:$AA,[1]집계최종!$C21,[1]DATA!$AC:$AC,"2007")+COUNTIFS([1]DATA!$AA:$AA,[1]집계최종!$C21,[1]DATA!$AC:$AC,"2010") -> 0 | N21: =COUNTIFS([1]DATA!$AA:$AA,[1]집계최종!$C21,[1]DATA!$AC:$AC,[1]집계최종!N$2) -> 0 | O21: =COUNTIFS([1]DATA!$AA:$AA,[1]집계최종!$C21,[1]DATA!$AC:$AC,[1]집계최종!O$2) -> 1 | P21: =COUNTIFS([1]DATA!$AA:$AA,[1]집계최종!$C21,[1]DATA!$AC:$AC,[1]집계최종!P$2) -> 0 | Q21: =COUNTIFS([1]DATA!$AA:$AA,[1]집계최종!$C21,[1]DATA!$AC:$AC,[1]집계최종!Q$2) -> 0 | R21: =COUNTIFS([1]DATA!$AA:$AA,[1]집계최종!$C21,[1]DATA!$AC:$AC,[1]집계최종!R$2) -> 0 | S21: =COUNTIFS([1]DATA!$AA:$AA,[1]집계최종!$C21,[1]DATA!$AC:$AC,[1]집계최종!S$2) -> 0 | T21: =COUNTIFS([1]DATA!$AA:$AA,[1]집계최종!$C21,[1]DATA!$AC:$AC,[1]집계최종!T$2) -> 0 | U21: =COUNTIFS([1]DATA!$AA:$AA,[1]집계최종!$C21,[1]DATA!$AC:$AC,[1]집계최종!U$2) -> 0 | ... Z21: =COUNTIFS([1]DATA!$AA:$AA,[1]집계최종!$C21,[1]DATA!$AC:$AC,[1]집계최종!Z$2) -> 0
B22: 구청 | C22: 소계 | D22: =SUM(E22:H22) -> 198 | E22: =SUM(E23:E25) -> 93 | F22: =SUM(F23:F25) -> 4 | G22: =SUM(G23:G25) -> 71 | H22: =SUM(H23:H25) -> 30 | J22: 구청 | K22: 소계 | L22: =SUM(M22:AA22) -> 192 | M22: =SUM(M23:M25) -> 1 | N22: =SUM(N23:N25) -> 0 | O22: =SUM(O23:O25) -> 3 | P22: =SUM(P23:P25) -> 7 | Q22: =SUM(Q23:Q25) -> 8 | R22: =SUM(R23:R25) -> 21 | S22: =SUM(S23:S25) -> 26 | T22: =SUM(T23:T25) -> 24 | ... Z22: =SUM(Z23:Z25) -> 9
C23: 수정구 | D23: =SUM(E23:H23) -> 61 | E23: =COUNTIFS([1]DATA!$AA:$AA,[1]집계최종!$C23,[1]DATA!$AB:$AB,[1]집계최종!E$2) -> 29 | F23: =COUNTIFS([1]DATA!$AA:$AA,[1]집계최종!$C23,[1]DATA!$AB:$AB,[1]집계최종!F$2) -> 1 | G23: =COUNTIFS([1]DATA!$AA:$AA,[1]집계최종!$C23,[1]DATA!$AB:$AB,[1]집계최종!G$2) -> 21 | H23: =COUNTIFS([1]DATA!$AA:$AA,[1]집계최종!$C23,[1]DATA!$AB:$AB,[1]집계최종!H$2) -> 10 | K23: 수정구 | L23: =SUM(M23:AA23) -> 59 | M23: =COUNTIFS([1]DATA!$AA:$AA,[1]집계최종!$C23,[1]DATA!$AC:$AC,"2007")+COUNTIFS([1]DATA!$AA:$AA,[1]집계최종!$C23,[1]DATA!$AC:$AC,"2010") -> 0 | N23: =COUNTIFS([1]DATA!$AA:$AA,[1]집계최종!$C23,[1]DATA!$AC:$AC,[1]집계최종!N$2) -> 0 | O23: =COUNTIFS([1]DATA!$AA:$AA,[1]집계최종!$C23,[1]DATA!$AC:$AC,[1]집계최종!O$2) -> 1 | P23: =COUNTIFS([1]DATA!$AA:$AA,[1]집계최종!$C23,[1]DATA!$AC:$AC,[1]집계최종!P$2) -> 2 | Q23: =COUNTIFS([1]DATA!$AA:$AA,[1]집계최종!$C23,[1]DATA!$AC:$AC,[1]집계최종!Q$2) -> 4 | R23: =COUNTIFS([1]DATA!$AA:$AA,[1]집계최종!$C23,[1]DATA!$AC:$AC,[1]집계최종!R$2) -> 6 | S23: =COUNTIFS([1]DATA!$AA:$AA,[1]집계최종!$C23,[1]DATA!$AC:$AC,[1]집계최종!S$2) -> 3 | T23: =COUNTIFS([1]DATA!$AA:$AA,[1]집계최종!$C23,[1]DATA!$AC:$AC,[1]집계최종!T$2) -> 7 | U23: =COUNTIFS([1]DATA!$AA:$AA,[1]집계최종!$C23,[1]DATA!$AC:$AC,[1]집계최종!U$2) -> 15 | ... Z23: =COUNTIFS([1]DATA!$AA:$AA,[1]집계최종!$C23,[1]DATA!$AC:$AC,[1]집계최종!Z$2) -> 3
C24: 중원구 | D24: =SUM(E24:H24) -> 57 | E24: =COUNTIFS([1]DATA!$AA:$AA,[1]집계최종!$C24,[1]DATA!$AB:$AB,[1]집계최종!E$2) -> 27 | F24: =COUNTIFS([1]DATA!$AA:$AA,[1]집계최종!$C24,[1]DATA!$AB:$AB,[1]집계최종!F$2) -> 1 | G24: =COUNTIFS([1]DATA!$AA:$AA,[1]집계최종!$C24,[1]DATA!$AB:$AB,[1]집계최종!G$2) -> 18 | H24: =COUNTIFS([1]DATA!$AA:$AA,[1]집계최종!$C24,[1]DATA!$AB:$AB,[1]집계최종!H$2) -> 11 | K24: 중원구 | L24: =SUM(M24:AA24) -> 54 | M24: =COUNTIFS([1]DATA!$AA:$AA,[1]집계최종!$C24,[1]DATA!$AC:$AC,"2007")+COUNTIFS([1]DATA!$AA:$AA,[1]집계최종!$C24,[1]DATA!$AC:$AC,"2010") -> 1 | N24: =COUNTIFS([1]DATA!$AA:$AA,[1]집계최종!$C24,[1]DATA!$AC:$AC,[1]집계최종!N$2) -> 0 | O24: =COUNTIFS([1]DATA!$AA:$AA,[1]집계최종!$C24,[1]DATA!$AC:$AC,[1]집계최종!O$2) -> 2 | P24: =COUNTIFS([1]DATA!$AA:$AA,[1]집계최종!$C24,[1]DATA!$AC:$AC,[1]집계최종!P$2) -> 0 | Q24: =COUNTIFS([1]DATA!$AA:$AA,[1]집계최종!$C24,[1]DATA!$AC:$AC,[1]집계최종!Q$2) -> 1 | R24: =COUNTIFS([1]DATA!$AA:$AA,[1]집계최종!$C24,[1]DATA!$AC:$AC,[1]집계최종!R$2) -> 7 | S24: =COUNTIFS([1]DATA!$AA:$AA,[1]집계최종!$C24,[1]DATA!$AC:$AC,[1]집계최종!S$2) -> 7 | T24: =COUNTIFS([1]DATA!$AA:$AA,[1]집계최종!$C24,[1]DATA!$AC:$AC,[1]집계최종!T$2) -> 5 | U24: =COUNTIFS([1]DATA!$AA:$AA,[1]집계최종!$C24,[1]DATA!$AC:$AC,[1]집계최종!U$2) -> 11 | ... Z24: =COUNTIFS([1]DATA!$AA:$AA,[1]집계최종!$C24,[1]DATA!$AC:$AC,[1]집계최종!Z$2) -> 3
C25: 분당구 | D25: =SUM(E25:H25) -> 80 | E25: =COUNTIFS([1]DATA!$AA:$AA,[1]집계최종!$C25,[1]DATA!$AB:$AB,[1]집계최종!E$2) -> 37 | F25: =COUNTIFS([1]DATA!$AA:$AA,[1]집계최종!$C25,[1]DATA!$AB:$AB,[1]집계최종!F$2) -> 2 | G25: =COUNTIFS([1]DATA!$AA:$AA,[1]집계최종!$C25,[1]DATA!$AB:$AB,[1]집계최종!G$2) -> 32 | H25: =COUNTIFS([1]DATA!$AA:$AA,[1]집계최종!$C25,[1]DATA!$AB:$AB,[1]집계최종!H$2) -> 9 | K25: 분당구 | L25: =SUM(M25:AA25) -> 79 | M25: =COUNTIFS([1]DATA!$AA:$AA,[1]집계최종!$C25,[1]DATA!$AC:$AC,"2007")+COUNTIFS([1]DATA!$AA:$AA,[1]집계최종!$C25,[1]DATA!$AC:$AC,"2010") -> 0 | N25: =COUNTIFS([1]DATA!$AA:$AA,[1]집계최종!$C25,[1]DATA!$AC:$AC,[1]집계최종!N$2) -> 0 | O25: =COUNTIFS([1]DATA!$AA:$AA,[1]집계최종!$C25,[1]DATA!$AC:$AC,[1]집계최종!O$2) -> 0 | P25: =COUNTIFS([1]DATA!$AA:$AA,[1]집계최종!$C25,[1]DATA!$AC:$AC,[1]집계최종!P$2) -> 5 | Q25: =COUNTIFS([1]DATA!$AA:$AA,[1]집계최종!$C25,[1]DATA!$AC:$AC,[1]집계최종!Q$2) -> 3 | R25: =COUNTIFS([1]DATA!$AA:$AA,[1]집계최종!$C25,[1]DATA!$AC:$AC,[1]집계최종!R$2) -> 8 | S25: =COUNTIFS([1]DATA!$AA:$AA,[1]집계최종!$C25,[1]DATA!$AC:$AC,[1]집계최종!S$2) -> 16 | T25: =COUNTIFS([1]DATA!$AA:$AA,[1]집계최종!$C25,[1]DATA!$AC:$AC,[1]집계최종!T$2) -> 12 | U25: =COUNTIFS([1]DATA!$AA:$AA,[1]집계최종!$C25,[1]DATA!$AC:$AC,[1]집계최종!U$2) -> 19 | ... Z25: =COUNTIFS([1]DATA!$AA:$AA,[1]집계최종!$C25,[1]DATA!$AC:$AC,[1]집계최종!Z$2) -> 3
B26: 동 | C26: 행정복지센터 | D26: =SUM(E26:H26) -> 99 | E26: =COUNTIFS([1]DATA!$AA:$AA,[1]집계최종!$C26,[1]DATA!$AB:$AB,[1]집계최종!E$2) -> 49 | F26: =COUNTIFS([1]DATA!$AA:$AA,[1]집계최종!$C26,[1]DATA!$AB:$AB,[1]집계최종!F$2) -> 0 | G26: =COUNTIFS([1]DATA!$AA:$AA,[1]집계최종!$C26,[1]DATA!$AB:$AB,[1]집계최종!G$2) -> 50 | H26: =COUNTIFS([1]DATA!$AA:$AA,[1]집계최종!$C26,[1]DATA!$AB:$AB,[1]집계최종!H$2) -> 0 | J26: 동 | K26: 행정복지센터 | L26: =SUM(M26:AA26) -> 96 | M26: =COUNTIFS([1]DATA!$AA:$AA,[1]집계최종!$C26,[1]DATA!$AC:$AC,"2007")+COUNTIFS([1]DATA!$AA:$AA,[1]집계최종!$C26,[1]DATA!$AC:$AC,"2010") -> 0 | N26: =COUNTIFS([1]DATA!$AA:$AA,[1]집계최종!$C26,[1]DATA!$AC:$AC,[1]집계최종!N$2) -> 0 | O26: =COUNTIFS([1]DATA!$AA:$AA,[1]집계최종!$C26,[1]DATA!$AC:$AC,[1]집계최종!O$2) -> 0 | P26: =COUNTIFS([1]DATA!$AA:$AA,[1]집계최종!$C26,[1]DATA!$AC:$AC,[1]집계최종!P$2) -> 0 | Q26: =COUNTIFS([1]DATA!$AA:$AA,[1]집계최종!$C26,[1]DATA!$AC:$AC,[1]집계최종!Q$2) -> 0 | R26: =COUNTIFS([1]DATA!$AA:$AA,[1]집계최종!$C26,[1]DATA!$AC:$AC,[1]집계최종!R$2) -> 19 | S26: =COUNTIFS([1]DATA!$AA:$AA,[1]집계최종!$C26,[1]DATA!$AC:$AC,[1]집계최종!S$2) -> 40 | T26: =COUNTIFS([1]DATA!$AA:$AA,[1]집계최종!$C26,[1]DATA!$AC:$AC,[1]집계최종!T$2) -> 21 | U26: =COUNTIFS([1]DATA!$AA:$AA,[1]집계최종!$C26,[1]DATA!$AC:$AC,[1]집계최종!U$2) -> 5 | ... Z26: =COUNTIFS([1]DATA!$AA:$AA,[1]집계최종!$C26,[1]DATA!$AC:$AC,[1]집계최종!Z$2) -> 1
D28: <연료별> | L28: <연료별-승용차> | N28: 승용차 | T28: <연료별-승합차> | V28: 승합차 | AB28: <연료별-화물차> | AD28: 화물차 | AJ28: <연료별-특수차> | AL28: 특수차
B29: 구 분 | D29: 합계 | E29: 경유 | F29: 휘발유 | G29: 전기 | H29: 하이브리드 | I29: 수소 | J29: CNG | K29: LPG | L29: 합계 | M29: 경유 | N29: 휘발유 | O29: 전기 | P29: 하이브리드 | Q29: 수소 | R29: CNG | S29: LPG | T29: 합계 | U29: 경유 | V29: 휘발유 | W29: 전기 | X29: 하이브리드 | Y29: 수소 | Z29: CNG | AA29: LPG | AB29: 합계 | AC29: 경유 | AD29: 휘발유 | AE29: 전기 | AF29: 하이브리드 | AG29: 수소 | AH29: CNG | AI29: LPG | AJ29: 합계 | AK29: 경유 | AL29: 휘발유 | AM29: 전기 | AN29: 하이브리드 | AO29: 수소 | AP29: CNG | AQ29: LPG
B30: 성남시 총계 | D30: =SUM(E30:K30) -> 571 | E30: =E31+E38+E39+E49+E53 -> 243 | F30: =F31+F38+F39+F49+F53 -> 39 | G30: =G31+G38+G39+G49+G53 -> 189 | H30: =H31+H38+H39+H49+H53 -> 54 | I30: =I31+I38+I39+I49+I53 -> 15 | J30: =J31+J38+J39+J49+J53 -> 12 | K30: =K31+K38+K39+K49+K53 -> 19 | L30: =SUM(M30:S30) -> 317 | M30: =M31+M38+M39+M49+M53 -> 27 | N30: =N31+N38+N39+N49+N53 -> 39 | O30: =O31+O38+O39+O49+O53 -> 186 | P30: =P31+P38+P39+P49+P53 -> 52 | Q30: =Q31+Q38+Q39+Q49+Q53 -> 13 | R30: =R31+R38+R39+R49+R53 -> 0 | S30: =S31+S38+S39+S49+S53 -> 0 | T30: =SUM(U30:AA30) -> 29 | U30: =U31+U38+U39+U49+U53 -> 26 | V30: =V31+V38+V39+V49+V53 -> 0 | W30: =W31+W38+W39+W49+W53 -> 0 | X30: =X31+X38+X39+X49+X53 -> 1 | Y30: =Y31+Y38+Y39+Y49+Y53 -> 2 | Z30: =Z31+Z38+Z39+Z49+Z53 -> 0 | AA30: =AA31+AA38+AA39+AA49+AA53 -> 0 | AB30: =SUM(AC30:AI30) -> 175 | AC30: =AC31+AC38+AC39+AC49+AC53 -> 153 | AD30: =AD31+AD38+AD39+AD49+AD53 -> 0 | AE30: =AE31+AE38+AE39+AE49+AE53 -> 3 | AF30: =AF31+AF38+AF39+AF49+AF53 -> 1 | AG30: =AG31+AG38+AG39+AG49+AG53 -> 0 | AH30: =AH31+AH38+AH39+AH49+AH53 -> 0 | AI30: =AI31+AI38+AI39+AI49+AI53 -> 18 | AJ30: =SUM(AK30:AQ30) -> 50 | AK30: =AK31+AK38+AK39+AK49+AK53 -> 37 | AL30: =AL31+AL38+AL39+AL49+AL53 -> 0 | AM30: =AM31+AM38+AM39+AM49+AM53 -> 0 | AN30: =AN31+AN38+AN39+AN49+AN53 -> 0 | AO30: =AO31+AO38+AO39+AO49+AO53 -> 0 | AP30: =AP31+AP38+AP39+AP49+AP53 -> 12 | AQ30: =AQ31+AQ38+AQ39+AQ49+AQ53 -> 1
B31: 시청 | C31: 소계 | D31: =SUM(E31:K31) -> 149 | E31: =SUM(E32:E37) -> 54 | F31: =SUM(F32:F37) -> 18 | G31: =SUM(G32:G37) -> 52 | H31: =SUM(H32:H37) -> 18 | I31: =SUM(I32:I37) -> 7 | J31: =SUM(J32:J37) -> 0 | K31: =SUM(K32:K37) -> 0 | L31: =SUM(M31:S31) -> 102 | M31: =SUM(M32:M37) -> 10 | N31: =SUM(N32:N37) -> 18 | O31: =SUM(O32:O37) -> 52 | P31: =SUM(P32:P37) -> 17 | Q31: =SUM(Q32:Q37) -> 5 | R31: =SUM(R32:R37) -> 0 | S31: =SUM(S32:S37) -> 0 | T31: =SUM(U31:AA31) -> 23 | U31: =SUM(U32:U37) -> 20 | V31: =SUM(V32:V37) -> 0 | W31: =SUM(W32:W37) -> 0 | X31: =SUM(X32:X37) -> 1 | Y31: =SUM(Y32:Y37) -> 2 | Z31: =SUM(Z32:Z37) -> 0 | AA31: =SUM(AA32:AA37) -> 0 | AB31: =SUM(AC31:AI31) -> 12 | AC31: =SUM(AC32:AC37) -> 12 | AD31: =SUM(AD32:AD37) -> 0 | AE31: =SUM(AE32:AE37) -> 0 | AF31: =SUM(AF32:AF37) -> 0 | AG31: =SUM(AG32:AG37) -> 0 | AH31: =SUM(AH32:AH37) -> 0 | AI31: =SUM(AI32:AI37) -> 0 | AJ31: =SUM(AK31:AQ31) -> 12 | AK31: =SUM(AK32:AK37) -> 12 | AL31: =SUM(AL32:AL37) -> 0 | AM31: =SUM(AM32:AM37) -> 0 | AN31: =SUM(AN32:AN37) -> 0 | AO31: =SUM(AO32:AO37) -> 0 | AP31: =SUM(AP32:AP37) -> 0 | AQ31: =SUM(AQ32:AQ37) -> 0
C32: 시청회계과 | D32: =SUM(E32:K32) -> 108 | E32: =COUNTIFS([1]DATA!$AA:$AA,[1]집계최종!$C5,[1]DATA!$E:$E,[1]집계최종!E$29) -> 20 | F32: =COUNTIFS([1]DATA!$AA:$AA,[1]집계최종!$C5,[1]DATA!$E:$E,[1]집계최종!F$29) -> 17 | G32: =COUNTIFS([1]DATA!$AA:$AA,[1]집계최종!$C5,[1]DATA!$E:$E,[1]집계최종!G$29) -> 50 | H32: =COUNTIFS([1]DATA!$AA:$AA,[1]집계최종!$C5,[1]DATA!$E:$E,[1]집계최종!H$29) -> 16 | I32: =COUNTIFS([1]DATA!$AA:$AA,[1]집계최종!$C5,[1]DATA!$E:$E,[1]집계최종!I$29) -> 5 | J32: =COUNTIFS([1]DATA!$AA:$AA,[1]집계최종!$C5,[1]DATA!$E:$E,[1]집계최종!J$29) -> 0 | K32: =COUNTIFS([1]DATA!$AA:$AA,[1]집계최종!$C5,[1]DATA!$E:$E,[1]집계최종!K$29) -> 0 | L32: =SUM(M32:S32) -> 92 | M32: =COUNTIFS([1]DATA!$AA:$AA,[1]집계최종!$C32,[1]DATA!$E:$E,[1]집계최종!E$29,[1]DATA!$AB:$AB,[1]집계최종!$N$28) -> 6 | N32: =COUNTIFS([1]DATA!$AA:$AA,[1]집계최종!$C32,[1]DATA!$E:$E,[1]집계최종!F$29,[1]DATA!$AB:$AB,[1]집계최종!$N$28) -> 17 | O32: =COUNTIFS([1]DATA!$AA:$AA,[1]집계최종!$C32,[1]DATA!$E:$E,[1]집계최종!G$29,[1]DATA!$AB:$AB,[1]집계최종!$N$28) -> 50 | P32: =COUNTIFS([1]DATA!$AA:$AA,[1]집계최종!$C32,[1]DATA!$E:$E,[1]집계최종!H$29,[1]DATA!$AB:$AB,[1]집계최종!$N$28) -> 16 | Q32: =COUNTIFS([1]DATA!$AA:$AA,[1]집계최종!$C32,[1]DATA!$E:$E,[1]집계최종!I$29,[1]DATA!$AB:$AB,[1]집계최종!$N$28) -> 3 | R32: =COUNTIFS([1]DATA!$AA:$AA,[1]집계최종!$C32,[1]DATA!$E:$E,[1]집계최종!J$29,[1]DATA!$AB:$AB,[1]집계최종!$N$28) -> 0 | S32: =COUNTIFS([1]DATA!$AA:$AA,[1]집계최종!$C32,[1]DATA!$E:$E,[1]집계최종!K$29,[1]DATA!$AB:$AB,[1]집계최종!$N$28) -> 0 | T32: =SUM(U32:AA32) -> 11 | U32: =COUNTIFS([1]DATA!$AA:$AA,[1]집계최종!$C32,[1]DATA!$E:$E,[1]집계최종!U$29,[1]DATA!$AB:$AB,[1]집계최종!$V$28) -> 9 | V32: =COUNTIFS([1]DATA!$AA:$AA,[1]집계최종!$C32,[1]DATA!$E:$E,[1]집계최종!V$29,[1]DATA!$AB:$AB,[1]집계최종!$V$28) -> 0 | W32: =COUNTIFS([1]DATA!$AA:$AA,[1]집계최종!$C32,[1]DATA!$E:$E,[1]집계최종!W$29,[1]DATA!$AB:$AB,[1]집계최종!$V$28) -> 0 | X32: =COUNTIFS([1]DATA!$AA:$AA,[1]집계최종!$C32,[1]DATA!$E:$E,[1]집계최종!X$29,[1]DATA!$AB:$AB,[1]집계최종!$V$28) -> 0 | Y32: =COUNTIFS([1]DATA!$AA:$AA,[1]집계최종!$C32,[1]DATA!$E:$E,[1]집계최종!Y$29,[1]DATA!$AB:$AB,[1]집계최종!$V$28) -> 2 | Z32: =COUNTIFS([1]DATA!$AA:$AA,[1]집계최종!$C32,[1]DATA!$E:$E,[1]집계최종!Z$29,[1]DATA!$AB:$AB,[1]집계최종!$V$28) -> 0 | AA32: =COUNTIFS([1]DATA!$AA:$AA,[1]집계최종!$C32,[1]DATA!$E:$E,[1]집계최종!AA$29,[1]DATA!$AB:$AB,[1]집계최종!$V$28) -> 0 | AB32: =SUM(AC32:AI32) -> 5 | AC32: =COUNTIFS([1]DATA!$AA:$AA,[1]집계최종!$C32,[1]DATA!$E:$E,[1]집계최종!AC$29,[1]DATA!$AB:$AB,[1]집계최종!$AD$28) -> 5 | AD32: =COUNTIFS([1]DATA!$AA:$AA,[1]집계최종!$C32,[1]DATA!$E:$E,[1]집계최종!AD$29,[1]DATA!$AB:$AB,[1]집계최종!$AD$28) -> 0 | AE32: =COUNTIFS([1]DATA!$AA:$AA,[1]집계최종!$C32,[1]DATA!$E:$E,[1]집계최종!AE$29,[1]DATA!$AB:$AB,[1]집계최종!$AD$28) -> 0 | AF32: =COUNTIFS([1]DATA!$AA:$AA,[1]집계최종!$C32,[1]DATA!$E:$E,[1]집계최종!AF$29,[1]DATA!$AB:$AB,[1]집계최종!$AD$28) -> 0 | AG32: =COUNTIFS([1]DATA!$AA:$AA,[1]집계최종!$C32,[1]DATA!$E:$E,[1]집계최종!AG$29,[1]DATA!$AB:$AB,[1]집계최종!$AD$28) -> 0 | AH32: =COUNTIFS([1]DATA!$AA:$AA,[1]집계최종!$C32,[1]DATA!$E:$E,[1]집계최종!AH$29,[1]DATA!$AB:$AB,[1]집계최종!$AD$28) -> 0 | AI32: =COUNTIFS([1]DATA!$AA:$AA,[1]집계최종!$C32,[1]DATA!$E:$E,[1]집계최종!AI$29,[1]DATA!$AB:$AB,[1]집계최종!$AD$28) -> 0 | AJ32: =SUM(AK32:AQ32) -> 0 | AK32: =COUNTIFS([1]DATA!$AA:$AA,[1]집계최종!$C32,[1]DATA!$E:$E,[1]집계최종!AK$29,[1]DATA!$AB:$AB,[1]집계최종!$AL$28) -> 0 | AL32: =COUNTIFS([1]DATA!$AA:$AA,[1]집계최종!$C32,[1]DATA!$E:$E,[1]집계최종!AL$29,[1]DATA!$AB:$AB,[1]집계최종!$AL$28) -> 0 | AM32: =COUNTIFS([1]DATA!$AA:$AA,[1]집계최종!$C32,[1]DATA!$E:$E,[1]집계최종!AM$29,[1]DATA!$AB:$AB,[1]집계최종!$AL$28) -> 0 | AN32: =COUNTIFS([1]DATA!$AA:$AA,[1]집계최종!$C32,[1]DATA!$E:$E,[1]집계최종!AN$29,[1]DATA!$AB:$AB,[1]집계최종!$AL$28) -> 0 | AO32: =COUNTIFS([1]DATA!$AA:$AA,[1]집계최종!$C32,[1]DATA!$E:$E,[1]집계최종!AO$29,[1]DATA!$AB:$AB,[1]집계최종!$AL$28) -> 0 | AP32: =COUNTIFS([1]DATA!$AA:$AA,[1]집계최종!$C32,[1]DATA!$E:$E,[1]집계최종!AP$29,[1]DATA!$AB:$AB,[1]집계최종!$AL$28) -> 0 | AQ32: =COUNTIFS([1]DATA!$AA:$AA,[1]집계최종!$C32,[1]DATA!$E:$E,[1]집계최종!AQ$29,[1]DATA!$AB:$AB,[1]집계최종!$AL$28) -> 0
C33: 시청노인복지과 | D33: =SUM(E33:K33) -> 3 | E33: =COUNTIFS([1]DATA!$AA:$AA,[1]집계최종!$C6,[1]DATA!$E:$E,[1]집계최종!E$29) -> 2 | F33: =COUNTIFS([1]DATA!$AA:$AA,[1]집계최종!$C6,[1]DATA!$E:$E,[1]집계최종!F$29) -> 1 | G33: =COUNTIFS([1]DATA!$AA:$AA,[1]집계최종!$C6,[1]DATA!$E:$E,[1]집계최종!G$29) -> 0 | H33: =COUNTIFS([1]DATA!$AA:$AA,[1]집계최종!$C6,[1]DATA!$E:$E,[1]집계최종!H$29) -> 0 | I33: =COUNTIFS([1]DATA!$AA:$AA,[1]집계최종!$C6,[1]DATA!$E:$E,[1]집계최종!I$29) -> 0 | J33: =COUNTIFS([1]DATA!$AA:$AA,[1]집계최종!$C6,[1]DATA!$E:$E,[1]집계최종!J$29) -> 0 | K33: =COUNTIFS([1]DATA!$AA:$AA,[1]집계최종!$C6,[1]DATA!$E:$E,[1]집계최종!K$29) -> 0 | L33: =SUM(M33:S33) -> 1 | M33: =COUNTIFS([1]DATA!$AA:$AA,[1]집계최종!$C33,[1]DATA!$E:$E,[1]집계최종!E$29,[1]DATA!$AB:$AB,[1]집계최종!$N$28) -> 0 | N33: =COUNTIFS([1]DATA!$AA:$AA,[1]집계최종!$C33,[1]DATA!$E:$E,[1]집계최종!F$29,[1]DATA!$AB:$AB,[1]집계최종!$N$28) -> 1 | O33: =COUNTIFS([1]DATA!$AA:$AA,[1]집계최종!$C33,[1]DATA!$E:$E,[1]집계최종!G$29,[1]DATA!$AB:$AB,[1]집계최종!$N$28) -> 0 | P33: =COUNTIFS([1]DATA!$AA:$AA,[1]집계최종!$C33,[1]DATA!$E:$E,[1]집계최종!H$29,[1]DATA!$AB:$AB,[1]집계최종!$N$28) -> 0 | Q33: =COUNTIFS([1]DATA!$AA:$AA,[1]집계최종!$C33,[1]DATA!$E:$E,[1]집계최종!I$29,[1]DATA!$AB:$AB,[1]집계최종!$N$28) -> 0 | R33: =COUNTIFS([1]DATA!$AA:$AA,[1]집계최종!$C33,[1]DATA!$E:$E,[1]집계최종!J$29,[1]DATA!$AB:$AB,[1]집계최종!$N$28) -> 0 | S33: =COUNTIFS([1]DATA!$AA:$AA,[1]집계최종!$C33,[1]DATA!$E:$E,[1]집계최종!K$29,[1]DATA!$AB:$AB,[1]집계최종!$N$28) -> 0 | T33: =SUM(U33:AA33) -> 2 | U33: =COUNTIFS([1]DATA!$AA:$AA,[1]집계최종!$C33,[1]DATA!$E:$E,[1]집계최종!U$29,[1]DATA!$AB:$AB,[1]집계최종!$V$28) -> 2 | V33: =COUNTIFS([1]DATA!$AA:$AA,[1]집계최종!$C33,[1]DATA!$E:$E,[1]집계최종!V$29,[1]DATA!$AB:$AB,[1]집계최종!$V$28) -> 0 | W33: =COUNTIFS([1]DATA!$AA:$AA,[1]집계최종!$C33,[1]DATA!$E:$E,[1]집계최종!W$29,[1]DATA!$AB:$AB,[1]집계최종!$V$28) -> 0 | X33: =COUNTIFS([1]DATA!$AA:$AA,[1]집계최종!$C33,[1]DATA!$E:$E,[1]집계최종!X$29,[1]DATA!$AB:$AB,[1]집계최종!$V$28) -> 0 | Y33: =COUNTIFS([1]DATA!$AA:$AA,[1]집계최종!$C33,[1]DATA!$E:$E,[1]집계최종!Y$29,[1]DATA!$AB:$AB,[1]집계최종!$V$28) -> 0 | Z33: =COUNTIFS([1]DATA!$AA:$AA,[1]집계최종!$C33,[1]DATA!$E:$E,[1]집계최종!Z$29,[1]DATA!$AB:$AB,[1]집계최종!$V$28) -> 0 | AA33: =COUNTIFS([1]DATA!$AA:$AA,[1]집계최종!$C33,[1]DATA!$E:$E,[1]집계최종!AA$29,[1]DATA!$AB:$AB,[1]집계최종!$V$28) -> 0 | AB33: =SUM(AC33:AI33) -> 0 | AC33: =COUNTIFS([1]DATA!$AA:$AA,[1]집계최종!$C33,[1]DATA!$E:$E,[1]집계최종!AC$29,[1]DATA!$AB:$AB,[1]집계최종!$AD$28) -> 0 | AD33: =COUNTIFS([1]DATA!$AA:$AA,[1]집계최종!$C33,[1]DATA!$E:$E,[1]집계최종!AD$29,[1]DATA!$AB:$AB,[1]집계최종!$AD$28) -> 0 | AE33: =COUNTIFS([1]DATA!$AA:$AA,[1]집계최종!$C33,[1]DATA!$E:$E,[1]집계최종!AE$29,[1]DATA!$AB:$AB,[1]집계최종!$AD$28) -> 0 | AF33: =COUNTIFS([1]DATA!$AA:$AA,[1]집계최종!$C33,[1]DATA!$E:$E,[1]집계최종!AF$29,[1]DATA!$AB:$AB,[1]집계최종!$AD$28) -> 0 | AG33: =COUNTIFS([1]DATA!$AA:$AA,[1]집계최종!$C33,[1]DATA!$E:$E,[1]집계최종!AG$29,[1]DATA!$AB:$AB,[1]집계최종!$AD$28) -> 0 | AH33: =COUNTIFS([1]DATA!$AA:$AA,[1]집계최종!$C33,[1]DATA!$E:$E,[1]집계최종!AH$29,[1]DATA!$AB:$AB,[1]집계최종!$AD$28) -> 0 | AI33: =COUNTIFS([1]DATA!$AA:$AA,[1]집계최종!$C33,[1]DATA!$E:$E,[1]집계최종!AI$29,[1]DATA!$AB:$AB,[1]집계최종!$AD$28) -> 0 | AJ33: =SUM(AK33:AQ33) -> 0 | AK33: =COUNTIFS([1]DATA!$AA:$AA,[1]집계최종!$C33,[1]DATA!$E:$E,[1]집계최종!AK$29,[1]DATA!$AB:$AB,[1]집계최종!$AL$28) -> 0 | AL33: =COUNTIFS([1]DATA!$AA:$AA,[1]집계최종!$C33,[1]DATA!$E:$E,[1]집계최종!AL$29,[1]DATA!$AB:$AB,[1]집계최종!$AL$28) -> 0 | AM33: =COUNTIFS([1]DATA!$AA:$AA,[1]집계최종!$C33,[1]DATA!$E:$E,[1]집계최종!AM$29,[1]DATA!$AB:$AB,[1]집계최종!$AL$28) -> 0 | AN33: =COUNTIFS([1]DATA!$AA:$AA,[1]집계최종!$C33,[1]DATA!$E:$E,[1]집계최종!AN$29,[1]DATA!$AB:$AB,[1]집계최종!$AL$28) -> 0 | AO33: =COUNTIFS([1]DATA!$AA:$AA,[1]집계최종!$C33,[1]DATA!$E:$E,[1]집계최종!AO$29,[1]DATA!$AB:$AB,[1]집계최종!$AL$28) -> 0 | AP33: =COUNTIFS([1]DATA!$AA:$AA,[1]집계최종!$C33,[1]DATA!$E:$E,[1]집계최종!AP$29,[1]DATA!$AB:$AB,[1]집계최종!$AL$28) -> 0 | AQ33: =COUNTIFS([1]DATA!$AA:$AA,[1]집계최종!$C33,[1]DATA!$E:$E,[1]집계최종!AQ$29,[1]DATA!$AB:$AB,[1]집계최종!$AL$28) -> 0
C34: 시청여성가족과 | D34: =SUM(E34:K34) -> 1 | E34: =COUNTIFS([1]DATA!$AA:$AA,[1]집계최종!$C7,[1]DATA!$E:$E,[1]집계최종!E$29) -> 1 | F34: =COUNTIFS([1]DATA!$AA:$AA,[1]집계최종!$C7,[1]DATA!$E:$E,[1]집계최종!F$29) -> 0 | G34: =COUNTIFS([1]DATA!$AA:$AA,[1]집계최종!$C7,[1]DATA!$E:$E,[1]집계최종!G$29) -> 0 | H34: =COUNTIFS([1]DATA!$AA:$AA,[1]집계최종!$C7,[1]DATA!$E:$E,[1]집계최종!H$29) -> 0 | I34: =COUNTIFS([1]DATA!$AA:$AA,[1]집계최종!$C7,[1]DATA!$E:$E,[1]집계최종!I$29) -> 0 | J34: =COUNTIFS([1]DATA!$AA:$AA,[1]집계최종!$C7,[1]DATA!$E:$E,[1]집계최종!J$29) -> 0 | K34: =COUNTIFS([1]DATA!$AA:$AA,[1]집계최종!$C7,[1]DATA!$E:$E,[1]집계최종!K$29) -> 0 | L34: =SUM(M34:S34) -> 0 | M34: =COUNTIFS([1]DATA!$AA:$AA,[1]집계최종!$C34,[1]DATA!$E:$E,[1]집계최종!E$29,[1]DATA!$AB:$AB,[1]집계최종!$N$28) -> 0 | N34: =COUNTIFS([1]DATA!$AA:$AA,[1]집계최종!$C34,[1]DATA!$E:$E,[1]집계최종!F$29,[1]DATA!$AB:$AB,[1]집계최종!$N$28) -> 0 | O34: =COUNTIFS([1]DATA!$AA:$AA,[1]집계최종!$C34,[1]DATA!$E:$E,[1]집계최종!G$29,[1]DATA!$AB:$AB,[1]집계최종!$N$28) -> 0 | P34: =COUNTIFS([1]DATA!$AA:$AA,[1]집계최종!$C34,[1]DATA!$E:$E,[1]집계최종!H$29,[1]DATA!$AB:$AB,[1]집계최종!$N$28) -> 0 | Q34: =COUNTIFS([1]DATA!$AA:$AA,[1]집계최종!$C34,[1]DATA!$E:$E,[1]집계최종!I$29,[1]DATA!$AB:$AB,[1]집계최종!$N$28) -> 0 | R34: =COUNTIFS([1]DATA!$AA:$AA,[1]집계최종!$C34,[1]DATA!$E:$E,[1]집계최종!J$29,[1]DATA!$AB:$AB,[1]집계최종!$N$28) -> 0 | S34: =COUNTIFS([1]DATA!$AA:$AA,[1]집계최종!$C34,[1]DATA!$E:$E,[1]집계최종!K$29,[1]DATA!$AB:$AB,[1]집계최종!$N$28) -> 0 | T34: =SUM(U34:AA34) -> 1 | U34: =COUNTIFS([1]DATA!$AA:$AA,[1]집계최종!$C34,[1]DATA!$E:$E,[1]집계최종!U$29,[1]DATA!$AB:$AB,[1]집계최종!$V$28) -> 1 | V34: =COUNTIFS([1]DATA!$AA:$AA,[1]집계최종!$C34,[1]DATA!$E:$E,[1]집계최종!V$29,[1]DATA!$AB:$AB,[1]집계최종!$V$28) -> 0 | W34: =COUNTIFS([1]DATA!$AA:$AA,[1]집계최종!$C34,[1]DATA!$E:$E,[1]집계최종!W$29,[1]DATA!$AB:$AB,[1]집계최종!$V$28) -> 0 | X34: =COUNTIFS([1]DATA!$AA:$AA,[1]집계최종!$C34,[1]DATA!$E:$E,[1]집계최종!X$29,[1]DATA!$AB:$AB,[1]집계최종!$V$28) -> 0 | Y34: =COUNTIFS([1]DATA!$AA:$AA,[1]집계최종!$C34,[1]DATA!$E:$E,[1]집계최종!Y$29,[1]DATA!$AB:$AB,[1]집계최종!$V$28) -> 0 | Z34: =COUNTIFS([1]DATA!$AA:$AA,[1]집계최종!$C34,[1]DATA!$E:$E,[1]집계최종!Z$29,[1]DATA!$AB:$AB,[1]집계최종!$V$28) -> 0 | AA34: =COUNTIFS([1]DATA!$AA:$AA,[1]집계최종!$C34,[1]DATA!$E:$E,[1]집계최종!AA$29,[1]DATA!$AB:$AB,[1]집계최종!$V$28) -> 0 | AB34: =SUM(AC34:AI34) -> 0 | AC34: =COUNTIFS([1]DATA!$AA:$AA,[1]집계최종!$C34,[1]DATA!$E:$E,[1]집계최종!AC$29,[1]DATA!$AB:$AB,[1]집계최종!$AD$28) -> 0 | AD34: =COUNTIFS([1]DATA!$AA:$AA,[1]집계최종!$C34,[1]DATA!$E:$E,[1]집계최종!AD$29,[1]DATA!$AB:$AB,[1]집계최종!$AD$28) -> 0 | AE34: =COUNTIFS([1]DATA!$AA:$AA,[1]집계최종!$C34,[1]DATA!$E:$E,[1]집계최종!AE$29,[1]DATA!$AB:$AB,[1]집계최종!$AD$28) -> 0 | AF34: =COUNTIFS([1]DATA!$AA:$AA,[1]집계최종!$C34,[1]DATA!$E:$E,[1]집계최종!AF$29,[1]DATA!$AB:$AB,[1]집계최종!$AD$28) -> 0 | AG34: =COUNTIFS([1]DATA!$AA:$AA,[1]집계최종!$C34,[1]DATA!$E:$E,[1]집계최종!AG$29,[1]DATA!$AB:$AB,[1]집계최종!$AD$28) -> 0 | AH34: =COUNTIFS([1]DATA!$AA:$AA,[1]집계최종!$C34,[1]DATA!$E:$E,[1]집계최종!AH$29,[1]DATA!$AB:$AB,[1]집계최종!$AD$28) -> 0 | AI34: =COUNTIFS([1]DATA!$AA:$AA,[1]집계최종!$C34,[1]DATA!$E:$E,[1]집계최종!AI$29,[1]DATA!$AB:$AB,[1]집계최종!$AD$28) -> 0 | AJ34: =SUM(AK34:AQ34) -> 0 | AK34: =COUNTIFS([1]DATA!$AA:$AA,[1]집계최종!$C34,[1]DATA!$E:$E,[1]집계최종!AK$29,[1]DATA!$AB:$AB,[1]집계최종!$AL$28) -> 0 | AL34: =COUNTIFS([1]DATA!$AA:$AA,[1]집계최종!$C34,[1]DATA!$E:$E,[1]집계최종!AL$29,[1]DATA!$AB:$AB,[1]집계최종!$AL$28) -> 0 | AM34: =COUNTIFS([1]DATA!$AA:$AA,[1]집계최종!$C34,[1]DATA!$E:$E,[1]집계최종!AM$29,[1]DATA!$AB:$AB,[1]집계최종!$AL$28) -> 0 | AN34: =COUNTIFS([1]DATA!$AA:$AA,[1]집계최종!$C34,[1]DATA!$E:$E,[1]집계최종!AN$29,[1]DATA!$AB:$AB,[1]집계최종!$AL$28) -> 0 | AO34: =COUNTIFS([1]DATA!$AA:$AA,[1]집계최종!$C34,[1]DATA!$E:$E,[1]집계최종!AO$29,[1]DATA!$AB:$AB,[1]집계최종!$AL$28) -> 0 | AP34: =COUNTIFS([1]DATA!$AA:$AA,[1]집계최종!$C34,[1]DATA!$E:$E,[1]집계최종!AP$29,[1]DATA!$AB:$AB,[1]집계최종!$AL$28) -> 0 | AQ34: =COUNTIFS([1]DATA!$AA:$AA,[1]집계최종!$C34,[1]DATA!$E:$E,[1]집계최종!AQ$29,[1]DATA!$AB:$AB,[1]집계최종!$AL$28) -> 0
C35: 시청아동보육과 | D35: =SUM(E35:K35) -> 1 | E35: =COUNTIFS([1]DATA!$AA:$AA,[1]집계최종!$C8,[1]DATA!$E:$E,[1]집계최종!E$29) -> 0 | F35: =COUNTIFS([1]DATA!$AA:$AA,[1]집계최종!$C8,[1]DATA!$E:$E,[1]집계최종!F$29) -> 0 | G35: =COUNTIFS([1]DATA!$AA:$AA,[1]집계최종!$C8,[1]DATA!$E:$E,[1]집계최종!G$29) -> 1 | H35: =COUNTIFS([1]DATA!$AA:$AA,[1]집계최종!$C8,[1]DATA!$E:$E,[1]집계최종!H$29) -> 0 | I35: =COUNTIFS([1]DATA!$AA:$AA,[1]집계최종!$C8,[1]DATA!$E:$E,[1]집계최종!I$29) -> 0 | J35: =COUNTIFS([1]DATA!$AA:$AA,[1]집계최종!$C8,[1]DATA!$E:$E,[1]집계최종!J$29) -> 0 | K35: =COUNTIFS([1]DATA!$AA:$AA,[1]집계최종!$C8,[1]DATA!$E:$E,[1]집계최종!K$29) -> 0 | L35: =SUM(M35:S35) -> 1 | M35: =COUNTIFS([1]DATA!$AA:$AA,[1]집계최종!$C35,[1]DATA!$E:$E,[1]집계최종!E$29,[1]DATA!$AB:$AB,[1]집계최종!$N$28) -> 0 | N35: =COUNTIFS([1]DATA!$AA:$AA,[1]집계최종!$C35,[1]DATA!$E:$E,[1]집계최종!F$29,[1]DATA!$AB:$AB,[1]집계최종!$N$28) -> 0 | O35: =COUNTIFS([1]DATA!$AA:$AA,[1]집계최종!$C35,[1]DATA!$E:$E,[1]집계최종!G$29,[1]DATA!$AB:$AB,[1]집계최종!$N$28) -> 1 | P35: =COUNTIFS([1]DATA!$AA:$AA,[1]집계최종!$C35,[1]DATA!$E:$E,[1]집계최종!H$29,[1]DATA!$AB:$AB,[1]집계최종!$N$28) -> 0 | Q35: =COUNTIFS([1]DATA!$AA:$AA,[1]집계최종!$C35,[1]DATA!$E:$E,[1]집계최종!I$29,[1]DATA!$AB:$AB,[1]집계최종!$N$28) -> 0 | R35: =COUNTIFS([1]DATA!$AA:$AA,[1]집계최종!$C35,[1]DATA!$E:$E,[1]집계최종!J$29,[1]DATA!$AB:$AB,[1]집계최종!$N$28) -> 0 | S35: =COUNTIFS([1]DATA!$AA:$AA,[1]집계최종!$C35,[1]DATA!$E:$E,[1]집계최종!K$29,[1]DATA!$AB:$AB,[1]집계최종!$N$28) -> 0 | T35: =SUM(U35:AA35) -> 0 | U35: =COUNTIFS([1]DATA!$AA:$AA,[1]집계최종!$C35,[1]DATA!$E:$E,[1]집계최종!U$29,[1]DATA!$AB:$AB,[1]집계최종!$V$28) -> 0 | V35: =COUNTIFS([1]DATA!$AA:$AA,[1]집계최종!$C35,[1]DATA!$E:$E,[1]집계최종!V$29,[1]DATA!$AB:$AB,[1]집계최종!$V$28) -> 0 | W35: =COUNTIFS([1]DATA!$AA:$AA,[1]집계최종!$C35,[1]DATA!$E:$E,[1]집계최종!W$29,[1]DATA!$AB:$AB,[1]집계최종!$V$28) -> 0 | X35: =COUNTIFS([1]DATA!$AA:$AA,[1]집계최종!$C35,[1]DATA!$E:$E,[1]집계최종!X$29,[1]DATA!$AB:$AB,[1]집계최종!$V$28) -> 0 | Y35: =COUNTIFS([1]DATA!$AA:$AA,[1]집계최종!$C35,[1]DATA!$E:$E,[1]집계최종!Y$29,[1]DATA!$AB:$AB,[1]집계최종!$V$28) -> 0 | Z35: =COUNTIFS([1]DATA!$AA:$AA,[1]집계최종!$C35,[1]DATA!$E:$E,[1]집계최종!Z$29,[1]DATA!$AB:$AB,[1]집계최종!$V$28) -> 0 | AA35: =COUNTIFS([1]DATA!$AA:$AA,[1]집계최종!$C35,[1]DATA!$E:$E,[1]집계최종!AA$29,[1]DATA!$AB:$AB,[1]집계최종!$V$28) -> 0 | AB35: =SUM(AC35:AI35) -> 0 | AC35: =COUNTIFS([1]DATA!$AA:$AA,[1]집계최종!$C35,[1]DATA!$E:$E,[1]집계최종!AC$29,[1]DATA!$AB:$AB,[1]집계최종!$AD$28) -> 0 | AD35: =COUNTIFS([1]DATA!$AA:$AA,[1]집계최종!$C35,[1]DATA!$E:$E,[1]집계최종!AD$29,[1]DATA!$AB:$AB,[1]집계최종!$AD$28) -> 0 | AE35: =COUNTIFS([1]DATA!$AA:$AA,[1]집계최종!$C35,[1]DATA!$E:$E,[1]집계최종!AE$29,[1]DATA!$AB:$AB,[1]집계최종!$AD$28) -> 0 | AF35: =COUNTIFS([1]DATA!$AA:$AA,[1]집계최종!$C35,[1]DATA!$E:$E,[1]집계최종!AF$29,[1]DATA!$AB:$AB,[1]집계최종!$AD$28) -> 0 | AG35: =COUNTIFS([1]DATA!$AA:$AA,[1]집계최종!$C35,[1]DATA!$E:$E,[1]집계최종!AG$29,[1]DATA!$AB:$AB,[1]집계최종!$AD$28) -> 0 | AH35: =COUNTIFS([1]DATA!$AA:$AA,[1]집계최종!$C35,[1]DATA!$E:$E,[1]집계최종!AH$29,[1]DATA!$AB:$AB,[1]집계최종!$AD$28) -> 0 | AI35: =COUNTIFS([1]DATA!$AA:$AA,[1]집계최종!$C35,[1]DATA!$E:$E,[1]집계최종!AI$29,[1]DATA!$AB:$AB,[1]집계최종!$AD$28) -> 0 | AJ35: =SUM(AK35:AQ35) -> 0 | AK35: =COUNTIFS([1]DATA!$AA:$AA,[1]집계최종!$C35,[1]DATA!$E:$E,[1]집계최종!AK$29,[1]DATA!$AB:$AB,[1]집계최종!$AL$28) -> 0 | AL35: =COUNTIFS([1]DATA!$AA:$AA,[1]집계최종!$C35,[1]DATA!$E:$E,[1]집계최종!AL$29,[1]DATA!$AB:$AB,[1]집계최종!$AL$28) -> 0 | AM35: =COUNTIFS([1]DATA!$AA:$AA,[1]집계최종!$C35,[1]DATA!$E:$E,[1]집계최종!AM$29,[1]DATA!$AB:$AB,[1]집계최종!$AL$28) -> 0 | AN35: =COUNTIFS([1]DATA!$AA:$AA,[1]집계최종!$C35,[1]DATA!$E:$E,[1]집계최종!AN$29,[1]DATA!$AB:$AB,[1]집계최종!$AL$28) -> 0 | AO35: =COUNTIFS([1]DATA!$AA:$AA,[1]집계최종!$C35,[1]DATA!$E:$E,[1]집계최종!AO$29,[1]DATA!$AB:$AB,[1]집계최종!$AL$28) -> 0 | AP35: =COUNTIFS([1]DATA!$AA:$AA,[1]집계최종!$C35,[1]DATA!$E:$E,[1]집계최종!AP$29,[1]DATA!$AB:$AB,[1]집계최종!$AL$28) -> 0 | AQ35: =COUNTIFS([1]DATA!$AA:$AA,[1]집계최종!$C35,[1]DATA!$E:$E,[1]집계최종!AQ$29,[1]DATA!$AB:$AB,[1]집계최종!$AL$28) -> 0
C36: 시청체육진흥과 | D36: =SUM(E36:K36) -> 14 | E36: =COUNTIFS([1]DATA!$AA:$AA,[1]집계최종!$C9,[1]DATA!$E:$E,[1]집계최종!E$29) -> 12 | F36: =COUNTIFS([1]DATA!$AA:$AA,[1]집계최종!$C9,[1]DATA!$E:$E,[1]집계최종!F$29) -> 0 | G36: =COUNTIFS([1]DATA!$AA:$AA,[1]집계최종!$C9,[1]DATA!$E:$E,[1]집계최종!G$29) -> 1 | H36: =COUNTIFS([1]DATA!$AA:$AA,[1]집계최종!$C9,[1]DATA!$E:$E,[1]집계최종!H$29) -> 1 | I36: =COUNTIFS([1]DATA!$AA:$AA,[1]집계최종!$C9,[1]DATA!$E:$E,[1]집계최종!I$29) -> 0 | J36: =COUNTIFS([1]DATA!$AA:$AA,[1]집계최종!$C9,[1]DATA!$E:$E,[1]집계최종!J$29) -> 0 | K36: =COUNTIFS([1]DATA!$AA:$AA,[1]집계최종!$C9,[1]DATA!$E:$E,[1]집계최종!K$29) -> 0 | L36: =SUM(M36:S36) -> 5 | M36: =COUNTIFS([1]DATA!$AA:$AA,[1]집계최종!$C36,[1]DATA!$E:$E,[1]집계최종!E$29,[1]DATA!$AB:$AB,[1]집계최종!$N$28) -> 4 | N36: =COUNTIFS([1]DATA!$AA:$AA,[1]집계최종!$C36,[1]DATA!$E:$E,[1]집계최종!F$29,[1]DATA!$AB:$AB,[1]집계최종!$N$28) -> 0 | O36: =COUNTIFS([1]DATA!$AA:$AA,[1]집계최종!$C36,[1]DATA!$E:$E,[1]집계최종!G$29,[1]DATA!$AB:$AB,[1]집계최종!$N$28) -> 1 | P36: =COUNTIFS([1]DATA!$AA:$AA,[1]집계최종!$C36,[1]DATA!$E:$E,[1]집계최종!H$29,[1]DATA!$AB:$AB,[1]집계최종!$N$28) -> 0 | Q36: =COUNTIFS([1]DATA!$AA:$AA,[1]집계최종!$C36,[1]DATA!$E:$E,[1]집계최종!I$29,[1]DATA!$AB:$AB,[1]집계최종!$N$28) -> 0 | R36: =COUNTIFS([1]DATA!$AA:$AA,[1]집계최종!$C36,[1]DATA!$E:$E,[1]집계최종!J$29,[1]DATA!$AB:$AB,[1]집계최종!$N$28) -> 0 | S36: =COUNTIFS([1]DATA!$AA:$AA,[1]집계최종!$C36,[1]DATA!$E:$E,[1]집계최종!K$29,[1]DATA!$AB:$AB,[1]집계최종!$N$28) -> 0 | T36: =SUM(U36:AA36) -> 9 | U36: =COUNTIFS([1]DATA!$AA:$AA,[1]집계최종!$C36,[1]DATA!$E:$E,[1]집계최종!U$29,[1]DATA!$AB:$AB,[1]집계최종!$V$28) -> 8 | V36: =COUNTIFS([1]DATA!$AA:$AA,[1]집계최종!$C36,[1]DATA!$E:$E,[1]집계최종!V$29,[1]DATA!$AB:$AB,[1]집계최종!$V$28) -> 0 | W36: =COUNTIFS([1]DATA!$AA:$AA,[1]집계최종!$C36,[1]DATA!$E:$E,[1]집계최종!W$29,[1]DATA!$AB:$AB,[1]집계최종!$V$28) -> 0 | X36: =COUNTIFS([1]DATA!$AA:$AA,[1]집계최종!$C36,[1]DATA!$E:$E,[1]집계최종!X$29,[1]DATA!$AB:$AB,[1]집계최종!$V$28) -> 1 | Y36: =COUNTIFS([1]DATA!$AA:$AA,[1]집계최종!$C36,[1]DATA!$E:$E,[1]집계최종!Y$29,[1]DATA!$AB:$AB,[1]집계최종!$V$28) -> 0 | Z36: =COUNTIFS([1]DATA!$AA:$AA,[1]집계최종!$C36,[1]DATA!$E:$E,[1]집계최종!Z$29,[1]DATA!$AB:$AB,[1]집계최종!$V$28) -> 0 | AA36: =COUNTIFS([1]DATA!$AA:$AA,[1]집계최종!$C36,[1]DATA!$E:$E,[1]집계최종!AA$29,[1]DATA!$AB:$AB,[1]집계최종!$V$28) -> 0 | AB36: =SUM(AC36:AI36) -> 0 | AC36: =COUNTIFS([1]DATA!$AA:$AA,[1]집계최종!$C36,[1]DATA!$E:$E,[1]집계최종!AC$29,[1]DATA!$AB:$AB,[1]집계최종!$AD$28) -> 0 | AD36: =COUNTIFS([1]DATA!$AA:$AA,[1]집계최종!$C36,[1]DATA!$E:$E,[1]집계최종!AD$29,[1]DATA!$AB:$AB,[1]집계최종!$AD$28) -> 0 | AE36: =COUNTIFS([1]DATA!$AA:$AA,[1]집계최종!$C36,[1]DATA!$E:$E,[1]집계최종!AE$29,[1]DATA!$AB:$AB,[1]집계최종!$AD$28) -> 0 | AF36: =COUNTIFS([1]DATA!$AA:$AA,[1]집계최종!$C36,[1]DATA!$E:$E,[1]집계최종!AF$29,[1]DATA!$AB:$AB,[1]집계최종!$AD$28) -> 0 | AG36: =COUNTIFS([1]DATA!$AA:$AA,[1]집계최종!$C36,[1]DATA!$E:$E,[1]집계최종!AG$29,[1]DATA!$AB:$AB,[1]집계최종!$AD$28) -> 0 | AH36: =COUNTIFS([1]DATA!$AA:$AA,[1]집계최종!$C36,[1]DATA!$E:$E,[1]집계최종!AH$29,[1]DATA!$AB:$AB,[1]집계최종!$AD$28) -> 0 | AI36: =COUNTIFS([1]DATA!$AA:$AA,[1]집계최종!$C36,[1]DATA!$E:$E,[1]집계최종!AI$29,[1]DATA!$AB:$AB,[1]집계최종!$AD$28) -> 0 | AJ36: =SUM(AK36:AQ36) -> 0 | AK36: =COUNTIFS([1]DATA!$AA:$AA,[1]집계최종!$C36,[1]DATA!$E:$E,[1]집계최종!AK$29,[1]DATA!$AB:$AB,[1]집계최종!$AL$28) -> 0 | AL36: =COUNTIFS([1]DATA!$AA:$AA,[1]집계최종!$C36,[1]DATA!$E:$E,[1]집계최종!AL$29,[1]DATA!$AB:$AB,[1]집계최종!$AL$28) -> 0 | AM36: =COUNTIFS([1]DATA!$AA:$AA,[1]집계최종!$C36,[1]DATA!$E:$E,[1]집계최종!AM$29,[1]DATA!$AB:$AB,[1]집계최종!$AL$28) -> 0 | AN36: =COUNTIFS([1]DATA!$AA:$AA,[1]집계최종!$C36,[1]DATA!$E:$E,[1]집계최종!AN$29,[1]DATA!$AB:$AB,[1]집계최종!$AL$28) -> 0 | AO36: =COUNTIFS([1]DATA!$AA:$AA,[1]집계최종!$C36,[1]DATA!$E:$E,[1]집계최종!AO$29,[1]DATA!$AB:$AB,[1]집계최종!$AL$28) -> 0 | AP36: =COUNTIFS([1]DATA!$AA:$AA,[1]집계최종!$C36,[1]DATA!$E:$E,[1]집계최종!AP$29,[1]DATA!$AB:$AB,[1]집계최종!$AL$28) -> 0 | AQ36: =COUNTIFS([1]DATA!$AA:$AA,[1]집계최종!$C36,[1]DATA!$E:$E,[1]집계최종!AQ$29,[1]DATA!$AB:$AB,[1]집계최종!$AL$28) -> 0
C37: 시청자원순환과 | D37: =SUM(E37:K37) -> 22 | E37: =COUNTIFS([1]DATA!$AA:$AA,[1]집계최종!$C10,[1]DATA!$E:$E,[1]집계최종!E$29) -> 19 | F37: =COUNTIFS([1]DATA!$AA:$AA,[1]집계최종!$C10,[1]DATA!$E:$E,[1]집계최종!F$29) -> 0 | G37: =COUNTIFS([1]DATA!$AA:$AA,[1]집계최종!$C10,[1]DATA!$E:$E,[1]집계최종!G$29) -> 0 | H37: =COUNTIFS([1]DATA!$AA:$AA,[1]집계최종!$C10,[1]DATA!$E:$E,[1]집계최종!H$29) -> 1 | I37: =COUNTIFS([1]DATA!$AA:$AA,[1]집계최종!$C10,[1]DATA!$E:$E,[1]집계최종!I$29) -> 2 | J37: =COUNTIFS([1]DATA!$AA:$AA,[1]집계최종!$C10,[1]DATA!$E:$E,[1]집계최종!J$29) -> 0 | K37: =COUNTIFS([1]DATA!$AA:$AA,[1]집계최종!$C10,[1]DATA!$E:$E,[1]집계최종!K$29) -> 0 | L37: =SUM(M37:S37) -> 3 | M37: =COUNTIFS([1]DATA!$AA:$AA,[1]집계최종!$C37,[1]DATA!$E:$E,[1]집계최종!E$29,[1]DATA!$AB:$AB,[1]집계최종!$N$28) -> 0 | N37: =COUNTIFS([1]DATA!$AA:$AA,[1]집계최종!$C37,[1]DATA!$E:$E,[1]집계최종!F$29,[1]DATA!$AB:$AB,[1]집계최종!$N$28) -> 0 | O37: =COUNTIFS([1]DATA!$AA:$AA,[1]집계최종!$C37,[1]DATA!$E:$E,[1]집계최종!G$29,[1]DATA!$AB:$AB,[1]집계최종!$N$28) -> 0 | P37: =COUNTIFS([1]DATA!$AA:$AA,[1]집계최종!$C37,[1]DATA!$E:$E,[1]집계최종!H$29,[1]DATA!$AB:$AB,[1]집계최종!$N$28) -> 1 | Q37: =COUNTIFS([1]DATA!$AA:$AA,[1]집계최종!$C37,[1]DATA!$E:$E,[1]집계최종!I$29,[1]DATA!$AB:$AB,[1]집계최종!$N$28) -> 2 | R37: =COUNTIFS([1]DATA!$AA:$AA,[1]집계최종!$C37,[1]DATA!$E:$E,[1]집계최종!J$29,[1]DATA!$AB:$AB,[1]집계최종!$N$28) -> 0 | S37: =COUNTIFS([1]DATA!$AA:$AA,[1]집계최종!$C37,[1]DATA!$E:$E,[1]집계최종!K$29,[1]DATA!$AB:$AB,[1]집계최종!$N$28) -> 0 | T37: =SUM(U37:AA37) -> 0 | U37: =COUNTIFS([1]DATA!$AA:$AA,[1]집계최종!$C37,[1]DATA!$E:$E,[1]집계최종!U$29,[1]DATA!$AB:$AB,[1]집계최종!$V$28) -> 0 | V37: =COUNTIFS([1]DATA!$AA:$AA,[1]집계최종!$C37,[1]DATA!$E:$E,[1]집계최종!V$29,[1]DATA!$AB:$AB,[1]집계최종!$V$28) -> 0 | W37: =COUNTIFS([1]DATA!$AA:$AA,[1]집계최종!$C37,[1]DATA!$E:$E,[1]집계최종!W$29,[1]DATA!$AB:$AB,[1]집계최종!$V$28) -> 0 | X37: =COUNTIFS([1]DATA!$AA:$AA,[1]집계최종!$C37,[1]DATA!$E:$E,[1]집계최종!X$29,[1]DATA!$AB:$AB,[1]집계최종!$V$28) -> 0 | Y37: =COUNTIFS([1]DATA!$AA:$AA,[1]집계최종!$C37,[1]DATA!$E:$E,[1]집계최종!Y$29,[1]DATA!$AB:$AB,[1]집계최종!$V$28) -> 0 | Z37: =COUNTIFS([1]DATA!$AA:$AA,[1]집계최종!$C37,[1]DATA!$E:$E,[1]집계최종!Z$29,[1]DATA!$AB:$AB,[1]집계최종!$V$28) -> 0 | AA37: =COUNTIFS([1]DATA!$AA:$AA,[1]집계최종!$C37,[1]DATA!$E:$E,[1]집계최종!AA$29,[1]DATA!$AB:$AB,[1]집계최종!$V$28) -> 0 | AB37: =SUM(AC37:AI37) -> 7 | AC37: =COUNTIFS([1]DATA!$AA:$AA,[1]집계최종!$C37,[1]DATA!$E:$E,[1]집계최종!AC$29,[1]DATA!$AB:$AB,[1]집계최종!$AD$28) -> 7 | AD37: =COUNTIFS([1]DATA!$AA:$AA,[1]집계최종!$C37,[1]DATA!$E:$E,[1]집계최종!AD$29,[1]DATA!$AB:$AB,[1]집계최종!$AD$28) -> 0 | AE37: =COUNTIFS([1]DATA!$AA:$AA,[1]집계최종!$C37,[1]DATA!$E:$E,[1]집계최종!AE$29,[1]DATA!$AB:$AB,[1]집계최종!$AD$28) -> 0 | AF37: =COUNTIFS([1]DATA!$AA:$AA,[1]집계최종!$C37,[1]DATA!$E:$E,[1]집계최종!AF$29,[1]DATA!$AB:$AB,[1]집계최종!$AD$28) -> 0 | AG37: =COUNTIFS([1]DATA!$AA:$AA,[1]집계최종!$C37,[1]DATA!$E:$E,[1]집계최종!AG$29,[1]DATA!$AB:$AB,[1]집계최종!$AD$28) -> 0 | AH37: =COUNTIFS([1]DATA!$AA:$AA,[1]집계최종!$C37,[1]DATA!$E:$E,[1]집계최종!AH$29,[1]DATA!$AB:$AB,[1]집계최종!$AD$28) -> 0 | AI37: =COUNTIFS([1]DATA!$AA:$AA,[1]집계최종!$C37,[1]DATA!$E:$E,[1]집계최종!AI$29,[1]DATA!$AB:$AB,[1]집계최종!$AD$28) -> 0 | AJ37: =SUM(AK37:AQ37) -> 12 | AK37: =COUNTIFS([1]DATA!$AA:$AA,[1]집계최종!$C37,[1]DATA!$E:$E,[1]집계최종!AK$29,[1]DATA!$AB:$AB,[1]집계최종!$AL$28) -> 12 | AL37: =COUNTIFS([1]DATA!$AA:$AA,[1]집계최종!$C37,[1]DATA!$E:$E,[1]집계최종!AL$29,[1]DATA!$AB:$AB,[1]집계최종!$AL$28) -> 0 | AM37: =COUNTIFS([1]DATA!$AA:$AA,[1]집계최종!$C37,[1]DATA!$E:$E,[1]집계최종!AM$29,[1]DATA!$AB:$AB,[1]집계최종!$AL$28) -> 0 | AN37: =COUNTIFS([1]DATA!$AA:$AA,[1]집계최종!$C37,[1]DATA!$E:$E,[1]집계최종!AN$29,[1]DATA!$AB:$AB,[1]집계최종!$AL$28) -> 0 | AO37: =COUNTIFS([1]DATA!$AA:$AA,[1]집계최종!$C37,[1]DATA!$E:$E,[1]집계최종!AO$29,[1]DATA!$AB:$AB,[1]집계최종!$AL$28) -> 0 | AP37: =COUNTIFS([1]DATA!$AA:$AA,[1]집계최종!$C37,[1]DATA!$E:$E,[1]집계최종!AP$29,[1]DATA!$AB:$AB,[1]집계최종!$AL$28) -> 0 | AQ37: =COUNTIFS([1]DATA!$AA:$AA,[1]집계최종!$C37,[1]DATA!$E:$E,[1]집계최종!AQ$29,[1]DATA!$AB:$AB,[1]집계최종!$AL$28) -> 0
B38: 의회사무국 | C38: 의회사무국 | D38: =SUM(E38:K38) -> 6 | E38: =COUNTIFS([1]DATA!$AA:$AA,[1]집계최종!$B11,[1]DATA!$E:$E,[1]집계최종!E$29) -> 3 | F38: =COUNTIFS([1]DATA!$AA:$AA,[1]집계최종!$B11,[1]DATA!$E:$E,[1]집계최종!F$29) -> 2 | G38: =COUNTIFS([1]DATA!$AA:$AA,[1]집계최종!$B11,[1]DATA!$E:$E,[1]집계최종!G$29) -> 1 | H38: =COUNTIFS([1]DATA!$AA:$AA,[1]집계최종!$B11,[1]DATA!$E:$E,[1]집계최종!H$29) -> 0 | I38: =COUNTIFS([1]DATA!$AA:$AA,[1]집계최종!$B11,[1]DATA!$E:$E,[1]집계최종!I$29) -> 0 | J38: =COUNTIFS([1]DATA!$AA:$AA,[1]집계최종!$B11,[1]DATA!$E:$E,[1]집계최종!J$29) -> 0 | K38: =COUNTIFS([1]DATA!$AA:$AA,[1]집계최종!$B11,[1]DATA!$E:$E,[1]집계최종!K$29) -> 0 | L38: =SUM(M38:S38) -> 4 | M38: =COUNTIFS([1]DATA!$AA:$AA,[1]집계최종!$B38,[1]DATA!$E:$E,[1]집계최종!E$29,[1]DATA!$AB:$AB,[1]집계최종!$N$28) -> 1 | N38: =COUNTIFS([1]DATA!$AA:$AA,[1]집계최종!$B38,[1]DATA!$E:$E,[1]집계최종!F$29,[1]DATA!$AB:$AB,[1]집계최종!$N$28) -> 2 | O38: =COUNTIFS([1]DATA!$AA:$AA,[1]집계최종!$B38,[1]DATA!$E:$E,[1]집계최종!G$29,[1]DATA!$AB:$AB,[1]집계최종!$N$28) -> 1 | P38: =COUNTIFS([1]DATA!$AA:$AA,[1]집계최종!$B38,[1]DATA!$E:$E,[1]집계최종!H$29,[1]DATA!$AB:$AB,[1]집계최종!$N$28) -> 0 | Q38: =COUNTIFS([1]DATA!$AA:$AA,[1]집계최종!$B38,[1]DATA!$E:$E,[1]집계최종!I$29,[1]DATA!$AB:$AB,[1]집계최종!$N$28) -> 0 | R38: =COUNTIFS([1]DATA!$AA:$AA,[1]집계최종!$B38,[1]DATA!$E:$E,[1]집계최종!J$29,[1]DATA!$AB:$AB,[1]집계최종!$N$28) -> 0 | S38: =COUNTIFS([1]DATA!$AA:$AA,[1]집계최종!$B38,[1]DATA!$E:$E,[1]집계최종!K$29,[1]DATA!$AB:$AB,[1]집계최종!$N$28) -> 0 | T38: =SUM(U38:AA38) -> 2 | U38: =COUNTIFS([1]DATA!$AA:$AA,[1]집계최종!$B38,[1]DATA!$E:$E,[1]집계최종!U$29,[1]DATA!$AB:$AB,[1]집계최종!$V$28) -> 2 | V38: =COUNTIFS([1]DATA!$AA:$AA,[1]집계최종!$B38,[1]DATA!$E:$E,[1]집계최종!V$29,[1]DATA!$AB:$AB,[1]집계최종!$V$28) -> 0 | W38: =COUNTIFS([1]DATA!$AA:$AA,[1]집계최종!$B38,[1]DATA!$E:$E,[1]집계최종!W$29,[1]DATA!$AB:$AB,[1]집계최종!$V$28) -> 0 | X38: =COUNTIFS([1]DATA!$AA:$AA,[1]집계최종!$B38,[1]DATA!$E:$E,[1]집계최종!X$29,[1]DATA!$AB:$AB,[1]집계최종!$V$28) -> 0 | Y38: =COUNTIFS([1]DATA!$AA:$AA,[1]집계최종!$B38,[1]DATA!$E:$E,[1]집계최종!Y$29,[1]DATA!$AB:$AB,[1]집계최종!$V$28) -> 0 | Z38: =COUNTIFS([1]DATA!$AA:$AA,[1]집계최종!$B38,[1]DATA!$E:$E,[1]집계최종!Z$29,[1]DATA!$AB:$AB,[1]집계최종!$V$28) -> 0 | AA38: =COUNTIFS([1]DATA!$AA:$AA,[1]집계최종!$B38,[1]DATA!$E:$E,[1]집계최종!AA$29,[1]DATA!$AB:$AB,[1]집계최종!$V$28) -> 0 | AB38: =SUM(AC38:AI38) -> 0 | AC38: =COUNTIFS([1]DATA!$AA:$AA,[1]집계최종!$B38,[1]DATA!$E:$E,[1]집계최종!AC$29,[1]DATA!$AB:$AB,[1]집계최종!$AD$28) -> 0 | AD38: =COUNTIFS([1]DATA!$AA:$AA,[1]집계최종!$B38,[1]DATA!$E:$E,[1]집계최종!AD$29,[1]DATA!$AB:$AB,[1]집계최종!$AD$28) -> 0 | AE38: =COUNTIFS([1]DATA!$AA:$AA,[1]집계최종!$B38,[1]DATA!$E:$E,[1]집계최종!AE$29,[1]DATA!$AB:$AB,[1]집계최종!$AD$28) -> 0 | AF38: =COUNTIFS([1]DATA!$AA:$AA,[1]집계최종!$B38,[1]DATA!$E:$E,[1]집계최종!AF$29,[1]DATA!$AB:$AB,[1]집계최종!$AD$28) -> 0 | AG38: =COUNTIFS([1]DATA!$AA:$AA,[1]집계최종!$B38,[1]DATA!$E:$E,[1]집계최종!AG$29,[1]DATA!$AB:$AB,[1]집계최종!$AD$28) -> 0 | AH38: =COUNTIFS([1]DATA!$AA:$AA,[1]집계최종!$B38,[1]DATA!$E:$E,[1]집계최종!AH$29,[1]DATA!$AB:$AB,[1]집계최종!$AD$28) -> 0 | AI38: =COUNTIFS([1]DATA!$AA:$AA,[1]집계최종!$B38,[1]DATA!$E:$E,[1]집계최종!AI$29,[1]DATA!$AB:$AB,[1]집계최종!$AD$28) -> 0 | AJ38: =SUM(AK38:AQ38) -> 0 | AK38: =COUNTIFS([1]DATA!$AA:$AA,[1]집계최종!$B38,[1]DATA!$E:$E,[1]집계최종!AK$29,[1]DATA!$AB:$AB,[1]집계최종!$AL$28) -> 0 | AL38: =COUNTIFS([1]DATA!$AA:$AA,[1]집계최종!$B38,[1]DATA!$E:$E,[1]집계최종!AL$29,[1]DATA!$AB:$AB,[1]집계최종!$AL$28) -> 0 | AM38: =COUNTIFS([1]DATA!$AA:$AA,[1]집계최종!$B38,[1]DATA!$E:$E,[1]집계최종!AM$29,[1]DATA!$AB:$AB,[1]집계최종!$AL$28) -> 0 | AN38: =COUNTIFS([1]DATA!$AA:$AA,[1]집계최종!$B38,[1]DATA!$E:$E,[1]집계최종!AN$29,[1]DATA!$AB:$AB,[1]집계최종!$AL$28) -> 0 | AO38: =COUNTIFS([1]DATA!$AA:$AA,[1]집계최종!$B38,[1]DATA!$E:$E,[1]집계최종!AO$29,[1]DATA!$AB:$AB,[1]집계최종!$AL$28) -> 0 | AP38: =COUNTIFS([1]DATA!$AA:$AA,[1]집계최종!$B38,[1]DATA!$E:$E,[1]집계최종!AP$29,[1]DATA!$AB:$AB,[1]집계최종!$AL$28) -> 0 | AQ38: =COUNTIFS([1]DATA!$AA:$AA,[1]집계최종!$B38,[1]DATA!$E:$E,[1]집계최종!AQ$29,[1]DATA!$AB:$AB,[1]집계최종!$AL$28) -> 0
B39: 사업소 | C39: 소계 | D39: =SUM(E39:K39) -> 119 | E39: =SUM(E40:E48) -> 58 | F39: =SUM(F40:F48) -> 13 | G39: =SUM(G40:G48) -> 29 | H39: =SUM(H40:H48) -> 14 | I39: =SUM(I40:I48) -> 2 | J39: =SUM(J40:J48) -> 0 | K39: =SUM(K40:K48) -> 3 | L39: =SUM(M39:S39) -> 69 | M39: =SUM(M40:M48) -> 14 | N39: =SUM(N40:N48) -> 13 | O39: =SUM(O40:O48) -> 26 | P39: =SUM(P40:P48) -> 14 | Q39: =SUM(Q40:Q48) -> 2 | R39: =SUM(R40:R48) -> 0 | S39: =SUM(S40:S48) -> 0 | T39: =SUM(U39:AA39) -> 0 | U39: =SUM(U40:U48) -> 0 | V39: =SUM(V40:V48) -> 0 | W39: =SUM(W40:W48) -> 0 | X39: =SUM(X40:X48) -> 0 | Y39: =SUM(Y40:Y48) -> 0 | Z39: =SUM(Z40:Z48) -> 0 | AA39: =SUM(AA40:AA48) -> 0 | AB39: =SUM(AC39:AI39) -> 42 | AC39: =SUM(AC40:AC48) -> 36 | AD39: =SUM(AD40:AD48) -> 0 | AE39: =SUM(AE40:AE48) -> 3 | AF39: =SUM(AF40:AF48) -> 0 | AG39: =SUM(AG40:AG48) -> 0 | AH39: =SUM(AH40:AH48) -> 0 | AI39: =SUM(AI40:AI48) -> 3 | AJ39: =SUM(AK39:AQ39) -> 8 | AK39: =SUM(AK40:AK48) -> 8 | AL39: =SUM(AL40:AL48) -> 0 | AM39: =SUM(AM40:AM48) -> 0 | AN39: =SUM(AN40:AN48) -> 0 | AO39: =SUM(AO40:AO48) -> 0 | AP39: =SUM(AP40:AP48) -> 0 | AQ39: =SUM(AQ40:AQ48) -> 0
